{"text_format":"1","workbook":"xlsx","n_sheets":8,"sheets":["INGRESO DE DATOS","Global Ultimate Health  Plan","Global Elite Health  Plan","Global Premier Health  Plan","Global Select Health  Plan","Global Major Medical Health  Pl","Resumen tarifas","Tablas"],"not_rendered":{"charts":0,"images":19,"macros":1,"external_links":0,"defined_names":6,"comments":1,"pivot_tables":0},"unopened":[],"bounds":{"document_bytes":16777216,"sheet_cells":100000,"rows_first":2000,"rows_last":500,"rows_between":2000,"halvings":0,"cell_chars":16384,"cell_head_chars":4096},"cells_cut":0,"cells_raw":0,"read":"whole","date_system":"1900"}

{"sheet":"INGRESO DE DATOS","index":0,"n_rows":53,"n_cols":9,"rows_kept":53,"cut":false,"hidden":false,"merged":[[50,3,50,4],[50,6,50,7],[17,0,17,12],[25,5,25,6],[21,1,21,2],[23,1,23,2],[21,3,21,7],[23,5,23,6],[25,1,25,2],[27,3,27,7]]}
[]
[null,null,null,null,null,null,null," "," "]
[]
[]
[]
[null,null,null,null,null,null,null," "," "]
[]
[]
[]
[]
[]
[]
[]
[]
[]
[]
[]
[]
[]
["1. LLENE LA INFORMACIÓN DEL ASEGURADO PROPUESTO:"]
[]
[null,"Nombre del Asegurado Titular",null,"JOHN DOE"]
[]
[null,"Número de adultos en la póliza",null,2,null,"Número de niños en la póliza",null,2]
[]
[null,"Edad del Asegurado Titular",null,32,null,"Edad del/la cónyuge ",null,46]
[]
[null,null,"Cotizador por","NOMBRE DEL AGENTE"]
[]
[]
[]
["2. SELECCIONE EL PRODUCTO PARA VER LA COTIZACIÓN CORRESPONDIENTE: "]
[]
[]
[]
[]
[]
[]
[]
[]
[]
[]
[]
[]
[]
[]
[]
[]
[]
[]
[]
[]
[null,1,null,1]

{"sheet":"Global Ultimate Health  Plan","index":1,"n_rows":87,"n_cols":10,"rows_kept":87,"cut":false,"hidden":false,"merged":[[19,0,20,1],[20,3,20,4],[20,5,20,8],[27,0,27,1],[26,3,26,4],[19,3,19,4],[19,5,19,8],[22,3,22,4],[24,3,24,4],[42,0,42,1],[32,4,32,7],[41,4,41,5],[82,4,82,5],[43,4,43,7],[55,4,55,7],[70,4,70,7],[47,0,47,1],[63,0,63,1],[67,0,67,1],[74,4,74,5],[75,4,75,5],[81,4,81,5],[48,0,49,0],[48,1,49,1],[53,4,53,5],[59,4,59,5],[66,4,66,5],[60,4,60,5],[110,0,110,1],[78,0,79,1],[96,0,96,1],[83,0,83,1],[86,4,88,7],[85,4,85,7]]}
[]
[]
[null,null,null,null,null,null,null," "," "," "]
[]
[]
[]
[null,null,null,null,null,null,null," "," "," "]
[]
[]
[]
[]
[]
[]
[]
[]
[]
[]
[]
[]
["Global Ultimate Health Plan",null,null,"Nombre del Asegurado Titular",null,{"$f":"+'INGRESO DE DATOS'!$D$22","v":"JOHN DOE"}]
[null,null,null,"Cotizado por",null,{"$f":"+'INGRESO DE DATOS'!$D$28","v":"NOMBRE DEL AGENTE"}]
[]
[null,null,null,"Número de adultos en la póliza",null,{"$f":"+'INGRESO DE DATOS'!$D$24","v":2},null,"Edad del Asegurado Titular",{"$f":"+'INGRESO DE DATOS'!$D$26","v":32}]
[]
[null,null,null,"Número de niños en la póliza",null,{"$f":"+'INGRESO DE DATOS'!$H$24","v":2},null,"Edad del/la conyuge",{"$f":"+'INGRESO DE DATOS'!$H$26","v":46}]
[null,null,null,null,null,null,null," "," "]
[null,null,null,"Número de niños menores de 16 años",null,{"$f":"+'INGRESO DE DATOS'!$B$53","v":1},"Fecha de la cotización :",{"$f":"NOW()","v":"2021-11-18T04:56:41.600"}]
[null,null,null,null,null,null," ",false,null," "]
[null,null,null,null,"Deducibles",null,"PLAN 1","PLAN 2"]
[null,null,null,null,"En el país de residencia",null,0,1000]
[null,null,null,null,"Fuera del país de residencia",null,0,1000]
[]
[null,null,null,null,"Tarifas Anuales"]
[null,null,null,null,"Prima para Asegurado Titular",null,{"$f":"(VLOOKUP($I$23,Tablas!$A$905:$G$971,3,TRUE))*1.1494*0.9","v":20879.540640000003},{"$f":"(VLOOKUP($I$23,Tablas!$A$905:$G$971,4,TRUE))*1.1494*0.9","v":13472.80704}]
[null,null,null,null,"Prima para conyuge",null,{"$f":"(IF($F$23=1,0,(VLOOKUP($I$25,Tablas!$A$905:$G$971,3,TRUE))))*1.1494*0.9","v":29297.976119999999},{"$f":"(IF($F$23=1,0,(VLOOKUP($I$25,Tablas!$A$905:$G$971,4,TRUE))))*1.1494*0.9","v":18903.722039999997}]
[null,null,null,null,"Prima para hijo (s)",null,{"$f":"((IF(('INGRESO DE DATOS'!H24-'INGRESO DE DATOS'!B53)<=0,0,IF(('INGRESO DE DATOS'!H24-'INGRESO DE DATOS'!B53)=Tablas!A972,Tablas!C972,IF(('INGRESO DE DATOS'!H24-'INGRESO DE DATOS'!B53)=Tablas!A973,Tablas!C973,Tablas!C974))))*1.1494)*0.9","v":7340.5281599999998},{"$f":"((IF(('INGRESO DE DATOS'!H24 - 'INGRESO DE DATOS'!B53)<=0,0,IF(('INGRESO DE DATOS'!H24 - 'INGRESO DE DATOS'!B53)=Tablas!A972,Tablas!D972,IF(('INGRESO DE DATOS'!H24 - 'INGRESO DE DATOS'!B53)=Tablas!A973,Tablas!D973,Tablas!D974))))*1.1494)*0.9","v":4736.79234}]
[null,null,null,null,"Total de Prima neta",null,{"$f":"(SUM(G34:G36))","v":57518.04492},{"$f":"(SUM(H34:H36))","v":37113.321419999993}]
[null,null,null,null,"Costo administrativo anual",null,86,86]
[null,null,null,null,"Impuesto (14.49%)",null,{"$f":"(G38)*0%","v":0},{"$f":"(H38)*0%","v":0}]
[]
[null,null,null,null,"TOTAL ANUAL",null,{"$f":"SUM(G37:G39)","v":57604.04492},{"$f":"SUM(H37:H39)","v":37199.321419999993}]
[null,null,null,null,"Ahorros en tarifas de prima para niños",null,{"$f":"(IF(('INGRESO DE DATOS'!H24 - 'INGRESO DE DATOS'!B53) < 0, NA(), (IF('INGRESO DE DATOS'!H24<=0,0,IF('INGRESO DE DATOS'!H24=Tablas!A972,Tablas!C972,IF('INGRESO DE DATOS'!H24=Tablas!A973,Tablas!C973,Tablas!C974))) - IF(('INGRESO DE DATOS'!H24 - 'INGRESO DE DATOS'!B53)<=0,0,IF(('INGRESO DE DATOS'!H24 - 'INGRESO DE DATOS'!B53)=Tablas!A972,Tablas!C972,IF(('INGRESO DE DATOS'!H24 - 'INGRESO DE DATOS'!B53)=Tablas!A973,Tablas!C973,Tablas!C974))))))*1.1494","v":5709.0698000000002},{"$f":"(IF(('INGRESO DE DATOS'!H24 - 'INGRESO DE DATOS'!B53) < 0, NA(), (IF('INGRESO DE DATOS'!H24<=0,0,IF('INGRESO DE DATOS'!H24=Tablas!A972,Tablas!D972,IF('INGRESO DE DATOS'!H24=Tablas!A973,Tablas!D973,Tablas!D974))) - IF(('INGRESO DE DATOS'!H24 - 'INGRESO DE DATOS'!B53)<=0,0,IF(('INGRESO DE DATOS'!H24 - 'INGRESO DE DATOS'!B53)=Tablas!A972,Tablas!D972,IF(('INGRESO DE DATOS'!H24 - 'INGRESO DE DATOS'!B53)=Tablas!A973,Tablas!D973,Tablas!D974))))))*1.1494","v":3683.8269999999998}]
[]
[null,null,null,null,"Tarifas Semianuales"]
[null,null,null,null,"Prima para Asegurado Titular",null,{"$f":"(VLOOKUP($I$23,Tablas!$A$1428:$G$1494,3,TRUE))*1.1494","v":11599.7448},{"$f":"(VLOOKUP($I$23,Tablas!$A$1428:$G$1494,4,TRUE))*1.1494","v":7484.8927999999996}]
[null,null,null,null,"Prima para conyuge",null,{"$f":"(IF($F$23=1,0,(VLOOKUP($I$25,Tablas!$A$1428:$G$1494,3,TRUE))))*1.1494","v":16276.653399999999},{"$f":"(IF($F$23=1,0,(VLOOKUP($I$25,Tablas!$A$1428:$G$1494,4,TRUE))))*1.1494","v":10502.067799999999}]
[null,null,null,null,"Prima para hijo (s)",null,{"$f":"G36*Tablas!K4","v":3670.2640799999999},{"$f":"H36*Tablas!K4","v":2368.39617}]
[null,null,null,null,"Total de Prima neta",null,{"$f":"(SUM(G45:G47))","v":31546.66228},{"$f":"(SUM(H45:H47))","v":20355.356769999999}]
[null,null,null,null,"Costo administrativo annual",null,86,86]
[null,null,null,null,"Impuesto (14.49%)",null,{"$f":"(G49)*0%","v":0},{"$f":"(H49)*0%","v":0}]
[null,null,null,null,"TOTAL de primera cuota",null,{"$f":"SUM(G48:G50)","v":31632.66228},{"$f":"SUM(H48:H50)","v":20441.356769999999}]
[null,null,null,null,"Costo de segunda cuota",null,{"$f":"G48+G50","v":31546.66228},{"$f":"H48+H50","v":20355.356769999999}]
[null,null,null,null,"TOTAL ANUAL",null,{"$f":"G51+G52","v":63179.324560000001},{"$f":"H51+H52","v":40796.713539999997}]
[null,null,null,null,"Ahorros en tarifas de prima para niños",null,{"$f":"G42*Tablas!K4*2","v":5709.0698000000002},{"$f":"H42*Tablas!K4*2","v":3683.8269999999998}]
[]
[null,null,null,null,"Tarifas Trimestrales"]
[null,null,null,null,"Prima para Asegurado Titular",null,{"$f":"(VLOOKUP($I$23,Tablas!$A$1054:$G$1120,3,TRUE))*1.1494","v":5799.8724000000002},{"$f":"(VLOOKUP($I$23,Tablas!$A$1054:$G$1120,4,TRUE))*1.1494","v":3742.4463999999998}]
[null,null,null,null,"Prima para conyuge",null,{"$f":"(IF($F$23=1,0,(VLOOKUP($I$25,Tablas!$A$1054:$G$1120,3,TRUE))))*1.1494","v":8138.3266999999996},{"$f":"(IF($F$23=1,0,(VLOOKUP($I$25,Tablas!$A$1054:$G$1120,4,TRUE))))*1.1494","v":5251.0338999999994}]
[null,null,null,null,"Prima para hijo (s)",null,{"$f":"G36*1.111*Tablas!K3","v":2038.8316964399999},{"$f":"H36*1.111*Tablas!K3","v":1315.644072435}]
[null,null,null,null,"Total de Prima neta",null,{"$f":"(SUM(G57:G59))","v":15977.03079644},{"$f":"(SUM(H57:H59))","v":10309.124372434999}]
[null,null,null,null,"Costo administrativo annual",null,86,86]
[null,null,null,null,"Impuesto (14.49%)",null,{"$f":"(G61)*0%","v":0},{"$f":"(H61)*0%","v":0}]
[]
[null,null,null,null,"TOTAL de primera cuota",null,{"$f":"SUM(G60:G62)","v":16063.03079644},{"$f":"SUM(H60:H62)","v":10395.124372434999}]
[null,null,null,null,"Tres (3) cuotas adicionales, cada una de:",null,{"$f":"G60+G62","v":15977.03079644},{"$f":"H60+H62","v":10309.124372434999}]
[null,null,null,null,"TOTAL ANUAL",null,{"$f":"G64+(G65*3)","v":63994.12318576},{"$f":"H64+(H65*3)","v":41322.497489739995}]
[null,null,null,null,"Ahorros en tarifas de prima para niños",null,{"$f":"G42*Tablas!K3*4","v":5709.0698000000002},{"$f":"H42*Tablas!K3*4","v":3683.8269999999998}]
[]
[]
[]
[null,null,null,null,"Tarifas Mensuales"]
[null,null,null,null,"Prima para Asegurado Titular",null,{"$f":"(VLOOKUP($I$23,Tablas!$A$979:$G$1045,3,TRUE))*1.1494","v":2165.2856959999999},{"$f":"(VLOOKUP($I$23,Tablas!$A$979:$G$1045,4,TRUE))*1.1494","v":1397.1799893333334}]
[null,null,null,null,"Prima para conyuge",null,{"$f":"(IF($F$23=1,0,(VLOOKUP($I$25,Tablas!$A$979:$G$1045,3,TRUE))))*1.1494","v":3038.3086346666669},{"$f":"(IF($F$23=1,0,(VLOOKUP($I$25,Tablas!$A$979:$G$1045,4,TRUE))))*1.1494","v":1960.3859893333336}]
[null,null,null,null,"Prima para hijo (s)",null,{"$f":"G36*Tablas!K2","v":685.11596159999999},{"$f":"H36*Tablas!K2","v":442.10061840000003}]
[null,null,null,null,"Total de Prima neta",null,{"$f":"(SUM(G72:G74))","v":5888.7102922666672},{"$f":"(SUM(H72:H74))","v":3799.6665970666672}]
[null,null,null,null,"Costo administrativo anual",null,86,86]
[null,null,null,null,"Impuesto (14.49%)",null,{"$f":"(G76)*0%","v":0},{"$f":"(H76)*0%","v":0}]
[]
[null,null,null,null,"TOTAL de primera cuota",null,{"$f":"SUM(G75:G77)","v":5974.7102922666672},{"$f":"SUM(H75:H77)","v":3885.6665970666672}]
[null,null,null,null,"Once (11) cuotas mensuales cada una de:",null,{"$f":"G75+G77","v":5888.7102922666672},{"$f":"H75+H77","v":3799.6665970666672}]
[null,null,null,null,"TOTAL ANUAL",null,{"$f":"G79+(G80*11)","v":70750.523507200007},{"$f":"H79+(H80*11)","v":45681.999164800007}]
[null,null,null,null,"Ahorros en tarifas de prima para niños",null,{"$f":"(IF($F$23=1,IF($F$25=0,0,IF($F$27=0,0,IF($F$27=1,(VLOOKUP(1,Tablas!$A$1046:$G$1048,3,TRUE)),(VLOOKUP(2,Tablas!$A$1046:$G$1048,3,TRUE))))),\nIF($F$25=0,0,IF($F$27=0,0,IF($F$27=1,(VLOOKUP(1,Tablas!$A$1046:$G$1048,4,TRUE)),IF($F$27=2,(VLOOKUP(2,Tablas!$A$1046:$G$1048,4,TRUE)), (VLOOKUP(3,Tablas!$A$1046:$G$1048,4,TRUE))))))))*1.1494","v":491.22290933333335},{"$f":"(IF($F$23=1,IF($F$25=0,0,IF($F$27=0,0,IF($F$27=1,(VLOOKUP(1,Tablas!$A$1046:$G$1048,4,TRUE)),(VLOOKUP(2,Tablas!$A$1046:$G$1048,4,TRUE))))),\nIF($F$25=0,0,IF($F$27=0,0,IF($F$27=1,(VLOOKUP(1,Tablas!$A$1046:$G$1048,4,TRUE)),IF($F$27=2,(VLOOKUP(2,Tablas!$A$1046:$G$1048,4,TRUE)), (VLOOKUP(3,Tablas!$A$1046:$G$1048,4,TRUE))))))))*1.1494","v":491.22290933333335}]
[null,null,null,null,"Ahorros en tarifas de prima para niños",null,{"$f":"G42*Tablas!K2*12","v":6394.1581760000008},{"$f":"H42*Tablas!K2*12","v":4125.8862399999998}]
[]
[]
[null,null,null,null,"Tarifas en US$ -  Efectivas a partir del 1ro. de Enero de 2020"]
[null,null,null,null,"Este presupuesto solamente tiene carácter informativo y en ningún momento expresa compromiso legal para suministrarle cobertura de seguro. La emisión de una póliza de seguro Bupa está sujeta a todas las evaluaciones de riesgo por parte de Bupa y a la recepción de todos los pagos de prima requeridos."]

{"sheet":"Global Elite Health  Plan","index":2,"n_rows":84,"n_cols":11,"rows_kept":84,"cut":false,"hidden":false,"merged":[[18,0,19,1],[19,5,19,8],[73,4,73,5],[72,4,72,5],[79,4,79,5],[68,4,68,10],[26,0,26,1],[41,0,41,1],[67,0,67,1],[79,0,79,1],[31,4,31,10],[40,4,40,5],[52,4,52,5],[65,4,65,5],[58,4,58,5],[59,4,59,5],[42,4,42,10],[54,4,54,10],[25,3,25,4],[23,3,23,4],[18,5,18,8],[18,3,18,4],[21,3,21,4],[83,0,83,1],[93,0,93,1],[46,0,46,1],[63,0,63,1],[83,4,84,10],[82,4,82,10]]}
[]
[]
[null,null,null,null,null,null,null," "," "," "]
[]
[]
[]
[null,null,null,null,null,null,null," "," "," "]
[]
[]
[]
[]
[]
[]
[]
[]
[]
[]
[]
["Bupa Global Elite Health Plan",null,null,"Nombre del Asegurado Titular",null,{"$f":"+'INGRESO DE DATOS'!$D$22","v":"JOHN DOE"}]
[null,null,null,null,"Cotizado por",{"$f":"+'INGRESO DE DATOS'!$D$28","v":"NOMBRE DEL AGENTE"}]
[]
[null,null,null,"Número de adultos en la póliza",null,{"$f":"+'INGRESO DE DATOS'!$D$24","v":2},null,"Edad del Asegurado Titular",{"$f":"+'INGRESO DE DATOS'!$D$26","v":32}]
[]
[null,null,null,"Número de niños en la póliza",null,{"$f":"+'INGRESO DE DATOS'!$H$24","v":2},null,"Edad del/la conyuge",{"$f":"+'INGRESO DE DATOS'!$H$26","v":46}]
[null,null,null,null,null,null,null," "," "]
[null,null,null,"Número de niños menores de 10 años",null,{"$f":"+'INGRESO DE DATOS'!$D$53","v":1},"Fecha de la cotización :",{"$f":"NOW()","v":"2021-11-18T04:56:41.600"}]
[null,null,null,null,null,null," ",false,null," "]
[null,null,null,null,"Deducibles",null,"PLAN 1","PLAN 2","PLAN 3","PLAN 4","PLAN 5"]
[null,null,null,null,"En el país de residencia",null,250,2000,3500,5000,10000]
[null,null,null,null,"Fuera del país de residencia",null,5000,2000,3500,5000,10000]
[]
[null,null,null,null,"Tarifas Anuales"]
[null,null,null,null,"Prima para Asegurado Titular",null,{"$f":"(VLOOKUP($I$22,Tablas!$A$6:$G$72,3,TRUE))*1.1494*0.9","v":7599.7121130000005},{"$f":"(VLOOKUP($I$22,Tablas!$A$6:$G$72,4,TRUE))*1.1494*0.9","v":6661.5086159999992},{"$f":"(VLOOKUP($I$22,Tablas!$A$6:$G$72,5,TRUE))*1.1494*0.9","v":5556.2398290000001},{"$f":"(VLOOKUP($I$22,Tablas!$A$6:$G$72,6,TRUE))*1.1494*0.9","v":4816.7560979999998},{"$f":"(VLOOKUP($I$22,Tablas!$A$6:$G$72,7,TRUE))*1.1494*0.9","v":3736.1074590000003}]
[null,null,null,null,"Prima para conyuge",null,{"$f":"(IF($F$22=1,0,(VLOOKUP($I$24,Tablas!$A$6:$G$72,3,TRUE))))*1.1494*0.9","v":10634.145354},{"$f":"(IF($F$22=1,0,(VLOOKUP($I$24,Tablas!$A$6:$G$72,4,TRUE))))*1.1494*0.9","v":9320.4845999999998},{"$f":"(IF($F$22=1,0,(VLOOKUP($I$24,Tablas!$A$6:$G$72,5,TRUE))))*1.1494*0.9","v":7670.9346839999998},{"$f":"(IF($F$22=1,0,(VLOOKUP($I$24,Tablas!$A$6:$G$72,6,TRUE))))*1.1494*0.9","v":6650.9571239999996},{"$f":"(IF($F$22=1,0,(VLOOKUP($I$24,Tablas!$A$6:$G$72,7,TRUE))))*1.1494*0.9","v":5157.9210059999987}]
[null,null,null,null,"Prima para hijo (s)",null,{"$f":"((IF(('INGRESO DE DATOS'!$H$24 - 'INGRESO DE DATOS'!$D$53)<=0,0,IF(('INGRESO DE DATOS'!$H$24 - 'INGRESO DE DATOS'!$D$53)=Tablas!$A$73,Tablas!C73,IF(('INGRESO DE DATOS'!$H$24 - 'INGRESO DE DATOS'!$D$53)=Tablas!$A$74,Tablas!C74,Tablas!C75))))*1.1494)*0.9","v":2703.819825},{"$f":"((IF(('INGRESO DE DATOS'!$H$24 - 'INGRESO DE DATOS'!$D$53)<=0,0,IF(('INGRESO DE DATOS'!$H$24 - 'INGRESO DE DATOS'!$D$53)=Tablas!$A$73,Tablas!D73,IF(('INGRESO DE DATOS'!$H$24 - 'INGRESO DE DATOS'!$D$53)=Tablas!$A$74,Tablas!D74,Tablas!D75))))*1.1494)*0.9","v":2369.689245},{"$f":"((IF(('INGRESO DE DATOS'!$H$24 - 'INGRESO DE DATOS'!$D$53)<=0,0,IF(('INGRESO DE DATOS'!$H$24 - 'INGRESO DE DATOS'!$D$53)=Tablas!$A$73,Tablas!E73,IF(('INGRESO DE DATOS'!$H$24 - 'INGRESO DE DATOS'!$D$53)=Tablas!$A$74,Tablas!E74,Tablas!E75))))*1.1494)*0.9","v":2017.093554},{"$f":"((IF(('INGRESO DE DATOS'!$H$24 - 'INGRESO DE DATOS'!$D$53)<=0,0,IF(('INGRESO DE DATOS'!$H$24 - 'INGRESO DE DATOS'!$D$53)=Tablas!$A$73,Tablas!F73,IF(('INGRESO DE DATOS'!$H$24 - 'INGRESO DE DATOS'!$D$53)=Tablas!$A$74,Tablas!F74,Tablas!F75))))*1.1494)*0.9","v":1749.78909},{"$f":"((IF(('INGRESO DE DATOS'!$H$24 - 'INGRESO DE DATOS'!$D$53)<=0,0,IF(('INGRESO DE DATOS'!$H$24 - 'INGRESO DE DATOS'!$D$53)=Tablas!$A$73,Tablas!G73,IF(('INGRESO DE DATOS'!$H$24 - 'INGRESO DE DATOS'!$D$53)=Tablas!$A$74,Tablas!G74,Tablas!G75))))*1.1494)*0.9","v":1356.7460129999999}]
[null,null,null,null,"Total de Prima neta",null,{"$f":"(SUM(G33:G35))","v":20937.677292},{"$f":"(SUM(H33:H35))","v":18351.682461},{"$f":"(SUM(I33:I35))","v":15244.268067000001},{"$f":"(SUM(J33:J35))","v":13217.502311999999},{"$f":"(SUM(K33:K35))","v":10250.774477999999}]
[null,null,null,null,"Costo Administrativo Anual",null,86,86,86,86,86]
[null,null,null,null,"IVA (14.49%)",null,{"$f":"(G37)*0%","v":0},{"$f":"(H37)*0%","v":0},{"$f":"(I37)*0%","v":0},{"$f":"(J37)*0%","v":0},{"$f":"(K37)*0%","v":0}]
[]
[null,null,null,null,"TOTAL ANUAL",null,{"$f":"SUM(G36:G38)","v":21023.677292},{"$f":"SUM(H36:H38)","v":18437.682461},{"$f":"SUM(I36:I38)","v":15330.268067000001},{"$f":"SUM(J36:J38)","v":13303.502311999999},{"$f":"SUM(K36:K38)","v":10336.774477999999}]
[null,null,null,null,"Ahorros en tarifas de prima para niños",null,{"$f":"(IF(('INGRESO DE DATOS'!$H$24 - 'INGRESO DE DATOS'!$D$53) < 0, NA(), (IF('INGRESO DE DATOS'!$H$24<=0,0,IF('INGRESO DE DATOS'!$H$24=Tablas!$A$73,Tablas!C73,IF('INGRESO DE DATOS'!$H$24=Tablas!$A$74,Tablas!C74,Tablas!C75))) - IF(('INGRESO DE DATOS'!$H$24 - 'INGRESO DE DATOS'!$D$53)<=0,0,IF(('INGRESO DE DATOS'!$H$24 - 'INGRESO DE DATOS'!$D$53)=Tablas!$A$73,Tablas!C73,IF(('INGRESO DE DATOS'!$H$24 - 'INGRESO DE DATOS'!$D$53)=Tablas!$A$74,Tablas!C74,Tablas!C75))))))*1.1494","v":2100.5284999999999},{"$f":"(IF(('INGRESO DE DATOS'!$H$24 - 'INGRESO DE DATOS'!$D$53) < 0, NA(), (IF('INGRESO DE DATOS'!$H$24<=0,0,IF('INGRESO DE DATOS'!$H$24=Tablas!$A$73,Tablas!D73,IF('INGRESO DE DATOS'!$H$24=Tablas!$A$74,Tablas!D74,Tablas!D75))) - IF(('INGRESO DE DATOS'!$H$24 - 'INGRESO DE DATOS'!$D$53)<=0,0,IF(('INGRESO DE DATOS'!$H$24 - 'INGRESO DE DATOS'!$D$53)=Tablas!$A$73,Tablas!D73,IF(('INGRESO DE DATOS'!$H$24 - 'INGRESO DE DATOS'!$D$53)=Tablas!$A$74,Tablas!D74,Tablas!D75))))))*1.1494","v":1842.6031399999999},{"$f":"(IF(('INGRESO DE DATOS'!$H$24 - 'INGRESO DE DATOS'!$D$53) < 0, NA(), (IF('INGRESO DE DATOS'!$H$24<=0,0,IF('INGRESO DE DATOS'!$H$24=Tablas!$A$73,Tablas!E73,IF('INGRESO DE DATOS'!$H$24=Tablas!$A$74,Tablas!E74,Tablas!E75))) - IF(('INGRESO DE DATOS'!$H$24 - 'INGRESO DE DATOS'!$D$53)<=0,0,IF(('INGRESO DE DATOS'!$H$24 - 'INGRESO DE DATOS'!$D$53)=Tablas!$A$73,Tablas!E73,IF(('INGRESO DE DATOS'!$H$24 - 'INGRESO DE DATOS'!$D$53)=Tablas!$A$74,Tablas!E74,Tablas!E75))))))*1.1494","v":1569.0459400000002},{"$f":"(IF(('INGRESO DE DATOS'!$H$24 - 'INGRESO DE DATOS'!$D$53) < 0, NA(), (IF('INGRESO DE DATOS'!$H$24<=0,0,IF('INGRESO DE DATOS'!$H$24=Tablas!$A$73,Tablas!F73,IF('INGRESO DE DATOS'!$H$24=Tablas!$A$74,Tablas!F74,Tablas!F75))) - IF(('INGRESO DE DATOS'!$H$24 - 'INGRESO DE DATOS'!$D$53)<=0,0,IF(('INGRESO DE DATOS'!$H$24 - 'INGRESO DE DATOS'!$D$53)=Tablas!$A$73,Tablas!F73,IF(('INGRESO DE DATOS'!$H$24 - 'INGRESO DE DATOS'!$D$53)=Tablas!$A$74,Tablas!F74,Tablas!F75))))))*1.1494","v":1360.9470699999997},{"$f":"(IF(('INGRESO DE DATOS'!$H$24 - 'INGRESO DE DATOS'!$D$53) < 0, NA(), (IF('INGRESO DE DATOS'!$H$24<=0,0,IF('INGRESO DE DATOS'!$H$24=Tablas!$A$73,Tablas!G73,IF('INGRESO DE DATOS'!$H$24=Tablas!$A$74,Tablas!G74,Tablas!G75))) - IF(('INGRESO DE DATOS'!$H$24 - 'INGRESO DE DATOS'!$D$53)<=0,0,IF(('INGRESO DE DATOS'!$H$24 - 'INGRESO DE DATOS'!$D$53)=Tablas!$A$73,Tablas!G73,IF(('INGRESO DE DATOS'!$H$24 - 'INGRESO DE DATOS'!$D$53)=Tablas!$A$74,Tablas!G74,Tablas!G75))))))*1.1494","v":1055.1491999999996}]
[]
[null,null,null,null,"Tarifas Semianuales"]
[null,null,null,null,"Prima para Asegurado Titular",null,{"$f":"(VLOOKUP($I$22,Tablas!$A$455:$G$521,3,TRUE))*1.1494","v":4222.062285},{"$f":"(VLOOKUP($I$22,Tablas!$A$455:$G$521,4,TRUE))*1.1494","v":3700.8381199999994},{"$f":"(VLOOKUP($I$22,Tablas!$A$455:$G$521,5,TRUE))*1.1494","v":3086.7999049999999},{"$f":"(VLOOKUP($I$22,Tablas!$A$455:$G$521,6,TRUE))*1.1494","v":2675.97561},{"$f":"(VLOOKUP($I$22,Tablas!$A$455:$G$521,7,TRUE))*1.1494","v":2075.6152550000002}]
[null,null,null,null,"Prima para conyuge",null,{"$f":"(IF($F$22=1,0,(VLOOKUP($I$24,Tablas!$A$455:$G$521,3,TRUE))))*1.1494","v":5907.8585299999995},{"$f":"(IF($F$22=1,0,(VLOOKUP($I$24,Tablas!$A$455:$G$521,4,TRUE))))*1.1494","v":5178.0469999999996},{"$f":"(IF($F$22=1,0,(VLOOKUP($I$24,Tablas!$A$455:$G$521,5,TRUE))))*1.1494","v":4261.6303799999996},{"$f":"(IF($F$22=1,0,(VLOOKUP($I$24,Tablas!$A$455:$G$521,6,TRUE))))*1.1494","v":3694.9761799999997},{"$f":"(IF($F$22=1,0,(VLOOKUP($I$24,Tablas!$A$455:$G$521,7,TRUE))))*1.1494","v":2865.5116699999994}]
[null,null,null,null,"Prima para hijo (s)",null,{"$f":"(G35*1.111)*Tablas!$K$4","v":1501.9719127875001},{"$f":"H35*1.111*Tablas!$K$4","v":1316.3623755975},{"$f":"I35*Tablas!$K$4","v":1008.546777},{"$f":"J35*Tablas!$K$4","v":874.89454499999999},{"$f":"K35*Tablas!$K$4","v":678.37300649999997}]
[null,null,null,null,"Total de Prima neta",null,{"$f":"(SUM(G44:G46))","v":11631.892727787499},{"$f":"(SUM(H44:H46))","v":10195.247495597499},{"$f":"(SUM(I44:I46))","v":8356.9770619999999},{"$f":"(SUM(J44:J46))","v":7245.8463349999993},{"$f":"(SUM(K44:K46))","v":5619.4999314999995}]
[null,null,null,null,"Costo Administrativo Anual",null,86,86,86,86,86]
[null,null,null,null,"IVA (14.49%)",null,{"$f":"(G48)*0%","v":0},{"$f":"(H48)*0%","v":0},{"$f":"(I48)*0%","v":0},{"$f":"(J48)*0%","v":0},{"$f":"(K48)*0%","v":0}]
[null,null,null,null,"TOTAL de primera cuota",null,{"$f":"SUM(G47:G49)","v":11717.892727787499},{"$f":"SUM(H47:H49)","v":10281.247495597499},{"$f":"SUM(I47:I49)","v":8442.9770619999999},{"$f":"SUM(J47:J49)","v":7331.8463349999993},{"$f":"SUM(K47:K49)","v":5705.4999314999995}]
[null,null,null,null,"Costo de segunda cuota",null,{"$f":"G47+G49","v":11631.892727787499},{"$f":"H47+H49","v":10195.247495597499},{"$f":"I47+I49","v":8356.9770619999999},{"$f":"J47+J49","v":7245.8463349999993},{"$f":"K47+K49","v":5619.4999314999995}]
[null,null,null,null,"TOTAL ANUAL",null,{"$f":"G50+G51","v":23349.785455574998},{"$f":"H50+H51","v":20476.494991194999},16799.954124,{"$f":"J50+J51","v":14577.692669999999},11324.999862999999]
[null,null,null,null,"Ahorros en tarifas de prima para niños",null,{"$f":"G41*Tablas!$K$4*2","v":2100.5284999999999},{"$f":"H41*Tablas!$K$4*2","v":1842.6031399999999},{"$f":"I41*Tablas!$K$4*2","v":1569.0459400000002},{"$f":"J41*Tablas!$K$4*2","v":1360.9470699999997},{"$f":"K41*Tablas!$K$4*2","v":1055.1491999999996}]
[]
[null,null,null,null,"Tarifas Trimestrales"]
[null,null,null,null,"Prima para Asegurado Titular",null,{"$f":"(VLOOKUP($I$22,Tablas!$A$680:$G$746,3,TRUE))*1.1494","v":2111.0311425},{"$f":"(VLOOKUP($I$22,Tablas!$A$680:$G$746,4,TRUE))*1.1494","v":1850.4190599999997},{"$f":"(VLOOKUP($I$22,Tablas!$A$680:$G$746,5,TRUE))*1.1494","v":1543.3999524999999},{"$f":"(VLOOKUP($I$22,Tablas!$A$680:$G$746,6,TRUE))*1.1494","v":1337.987805},{"$f":"(VLOOKUP($I$22,Tablas!$A$680:$G$746,7,TRUE))*1.1494","v":1037.8076275000001}]
[null,null,null,null,"Prima para conyuge",null,{"$f":"(IF($F$22=1,0,(VLOOKUP($I$24,Tablas!$A$680:$G$746,3,TRUE))))*1.1494","v":2953.9292649999998},{"$f":"(IF($F$22=1,0,(VLOOKUP($I$24,Tablas!$A$680:$G$746,4,TRUE))))*1.1494","v":2589.0234999999998},{"$f":"(IF($F$22=1,0,(VLOOKUP($I$24,Tablas!$A$680:$G$746,5,TRUE))))*1.1494","v":2130.8151899999998},{"$f":"(IF($F$22=1,0,(VLOOKUP($I$24,Tablas!$A$680:$G$746,6,TRUE))))*1.1494","v":1847.4880899999998},{"$f":"(IF($F$22=1,0,(VLOOKUP($I$24,Tablas!$A$680:$G$746,7,TRUE))))*1.1494","v":1432.7558349999997}]
[null,null,null,null,"Prima para hijo (s)",null,{"$f":"G35*Tablas!$K$3","v":675.95495625000001},{"$f":"H35*Tablas!$K$3","v":592.42231125000001},{"$f":"I35*Tablas!$K$3","v":504.27338850000001},{"$f":"J35*Tablas!$K$3","v":437.4472725},{"$f":"K35*Tablas!$K$3","v":339.18650324999999}]
[null,null,null,null,"Total de Prima neta",null,{"$f":"(SUM(G56:G58))","v":5740.9153637499994},{"$f":"(SUM(H56:H58))","v":5031.8648712499999},{"$f":"(SUM(I56:I58))","v":4178.488531},{"$f":"(SUM(J56:J58))","v":3622.9231674999996},{"$f":"(SUM(K56:K58))","v":2809.7499657499998}]
[null,null,null,null,"Costo Administrativo Anual",null,86,86,86,86,86]
[null,null,null,null,"IVA (14.49%)",null,{"$f":"(G60)*0%","v":0},{"$f":"(H60)*0%","v":0},{"$f":"(I60)*0%","v":0},{"$f":"(J60)*0%","v":0},{"$f":"(K60)*0%","v":0}]
[]
[null,null,null,null,"TOTAL de primera cuota",null,{"$f":"SUM(G59:G61)","v":5826.9153637499994},{"$f":"SUM(H59:H61)","v":5117.8648712499999},{"$f":"SUM(I59:I61)","v":4264.488531},{"$f":"SUM(J59:J61)","v":3708.9231674999996},{"$f":"SUM(K59:K61)","v":2895.7499657499998}]
[null,null,null,null,"Tres (3) cuotas adicionales, cada una de:",null,{"$f":"G59+G61","v":5740.9153637499994},{"$f":"H59+H61","v":5031.8648712499999},{"$f":"I59+I61","v":4178.488531},{"$f":"J59+J61","v":3622.9231674999996},{"$f":"K59+K61","v":2809.7499657499998}]
[null,null,null,null,"TOTAL ANUAL",null,{"$f":"G63+(G64*3)","v":23049.661454999998},{"$f":"H63+(H64*3)","v":20213.459484999999},16799.954124,{"$f":"J63+(J64*3)","v":14577.692669999999},11324.999862999999]
[null,null,null,null,"Ahorros en tarifas de prima para niños",null,{"$f":"G41*Tablas!$K$3*4","v":2100.5284999999999},{"$f":"H41*Tablas!$K$3*4","v":1842.6031399999999},{"$f":"I41*Tablas!$K$3*4","v":1569.0459400000002},{"$f":"J41*Tablas!$K$3*4","v":1360.9470699999997},{"$f":"K41*Tablas!$K$3*4","v":1055.1491999999996}]
[]
[]
[null,null,null,null,"Tarifas Mensuales"]
[null,null,null,null,"Prima para Asegurado Titular",null,{"$f":"(VLOOKUP($I$22,Tablas!$A$80:$G$146,3,TRUE))*1.1494","v":788.11829319999993},{"$f":"(VLOOKUP($I$22,Tablas!$A$80:$G$146,4,TRUE))*1.1494","v":690.82311573333322},{"$f":"(VLOOKUP($I$22,Tablas!$A$80:$G$146,5,TRUE))*1.1494","v":576.20264893333331},{"$f":"(VLOOKUP($I$22,Tablas!$A$80:$G$146,6,TRUE))*1.1494","v":499.51544720000004},{"$f":"(VLOOKUP($I$22,Tablas!$A$80:$G$146,7,TRUE))*1.1494","v":387.44818093333333}]
[null,null,null,null,"Prima para conyuge",null,{"$f":"(IF($F$22=1,0,(VLOOKUP($I$24,Tablas!$A$80:$G$146,3,TRUE))))*1.1494","v":1102.8002589333335},{"$f":"(IF($F$22=1,0,(VLOOKUP($I$24,Tablas!$A$80:$G$146,4,TRUE))))*1.1494","v":966.56877333333341},{"$f":"(IF($F$22=1,0,(VLOOKUP($I$24,Tablas!$A$80:$G$146,5,TRUE))))*1.1494","v":795.50433759999999},{"$f":"(IF($F$22=1,0,(VLOOKUP($I$24,Tablas!$A$80:$G$146,6,TRUE))))*1.1494","v":689.72888693333323},{"$f":"(IF($F$22=1,0,(VLOOKUP($I$24,Tablas!$A$80:$G$146,7,TRUE))))*1.1494","v":534.89551173333325}]
[null,null,null,null,"Prima para hijo (s)",null,{"$f":"G35*Tablas!$K$2","v":252.35651700000003},{"$f":"H35*Tablas!$K$2","v":221.17099620000002},{"$f":"I35*Tablas!$K$2","v":188.26206504000001},{"$f":"J35*Tablas!$K$2","v":163.31364840000001},{"$f":"K35*Tablas!$K$2","v":126.62962788}]
[null,null,null,null,"Total de Prima neta",null,{"$f":"(SUM(G70:G72))","v":2143.2750691333335},{"$f":"(SUM(H70:H72))","v":1878.5628852666666},{"$f":"(SUM(I70:I72))","v":1559.9690515733332},{"$f":"(SUM(J70:J72))","v":1352.5579825333332},{"$f":"(SUM(K70:K72))","v":1048.9733205466666}]
[null,null,null,null,"Costo Administrativo Anual",null,86,86,86,86,86]
[null,null,null,null,"IVA (14.49%)",null,{"$f":"(G74)*0%","v":0},{"$f":"(H74)*0%","v":0},{"$f":"(I74)*0%","v":0},{"$f":"(J74)*0%","v":0},{"$f":"(K74)*0%","v":0}]
[]
[null,null,null,null,"TOTAL de primera cuota",null,{"$f":"SUM(G73:G75)","v":2229.2750691333335},{"$f":"SUM(H73:H75)","v":1964.5628852666666},{"$f":"SUM(I73:I75)","v":1645.9690515733332},{"$f":"SUM(J73:J75)","v":1438.5579825333332},{"$f":"SUM(K73:K75)","v":1134.9733205466666}]
[null,null,null,null,"Once (11) cuotas mensuales cada una de:",null,{"$f":"G73+G75","v":2143.2750691333335},{"$f":"H73+H75","v":1878.5628852666666},{"$f":"I73+I75","v":1559.9690515733332},{"$f":"J73+J75","v":1352.5579825333332},{"$f":"K73+K75","v":1048.9733205466666}]
[null,null,null,null,"TOTAL ANUAL",null,{"$f":"G77+(G78*11)","v":25805.300829600004},{"$f":"H77+(H78*11)","v":22628.754623199999},{"$f":"I77+(I78*11)","v":18805.62861888},{"$f":"J77+(J78*11)","v":16316.695790399999},{"$f":"K77+(K78*11)","v":12673.67984656}]
[null,null,null,null,"Ahorros en tarifas de prima para niños",null,{"$f":"G41*Tablas!$K$2*12","v":2352.5919199999998},{"$f":"H41*Tablas!$K$2*12","v":2063.7155167999999},{"$f":"I41*Tablas!$K$2*12","v":1757.3314528000005},{"$f":"J41*Tablas!$K$2*12","v":1524.2607183999996},{"$f":"K41*Tablas!$K$2*12","v":1181.7671039999996}]
[]
[]
[null,null,null,null,"Tarifas en US$ -  Efectivas a partir del 1ro. de Enero de 2021"]
[null,null,null,null,"Este presupuesto solamente tiene carácter informativo y en ningún momento expresa compromiso legal para suministrarle cobertura de seguro. La emisión de una póliza de seguro Bupa está sujeta a todas las evaluaciones de riesgo por parte de Bupa y a la recepción de todos los pagos de prima requeridos."]

{"sheet":"Global Premier Health  Plan","index":3,"n_rows":84,"n_cols":10,"rows_kept":84,"cut":false,"hidden":false,"merged":[[30,0,30,1],[45,0,45,1],[50,0,50,1],[51,1,52,1],[51,0,52,0],[96,0,96,1],[22,3,22,4],[25,3,25,4],[27,3,27,4],[22,5,22,8],[22,0,23,1],[23,5,23,8],[60,4,60,5],[61,4,61,5],[73,4,73,5],[74,4,74,5],[35,4,35,9],[45,4,45,9],[56,4,56,9],[69,4,69,9],[67,0,67,1],[82,4,82,9],[83,4,84,9],[71,0,71,1],[82,0,82,1],[86,0,86,1]]}
[]
[]
[null,null,null,null,null,null,null," "," "," "]
[]
[]
[]
[null,null,null,null,null,null,null," "," "," "]
[]
[]
[]
[]
[]
[]
[]
[]
[]
[]
[]
[]
[]
[]
[]
["Global Premier Health Plan",null,null,"Nombre del Asegurado Titular",null,{"$f":"+'INGRESO DE DATOS'!$D$22","v":"JOHN DOE"}]
[null,null,null,null,"Cotizado por",{"$f":"+'INGRESO DE DATOS'!$D$28","v":"NOMBRE DEL AGENTE"}]
[]
[null,null,null,"Número de adultos en la póliza",null,{"$f":"+'INGRESO DE DATOS'!$D$24","v":2},null,"Edad del Asegurado Titular",{"$f":"+'INGRESO DE DATOS'!$D$26","v":32}]
[]
[null,null,null,"Número de niños en la póliza",null,{"$f":"+'INGRESO DE DATOS'!$H$24","v":2},null,"Edad del/la conyuge",{"$f":"+'INGRESO DE DATOS'!$H$26","v":46}]
[null,null,null,null,null,null,null," "," "]
[null,null,null,null,null,"Fecha de la cotización :",{"$f":"NOW()","v":"2021-11-18T04:56:41.600"}]
[null,null,null,null,null,null," ",false,null," "]
[null,null,null,null,"Deducibles",null,"PLAN 1","PLAN 2","PLAN 3","PLAN 4"]
[null,null,null,null,"En el país de residencia",null,250,2000,5000,10000]
[null,null,null,null,"Fuera del país de residencia",null,5000,2000,5000,10000]
[]
[null,null,null,null,"Tarifas Anuales"]
[null,null,null,null,"Prima para Asegurado Titular",null,{"$f":"(VLOOKUP($I$26,Tablas!$A$155:$G$221,3,TRUE))*1.1494*0.9","v":4996.1314619999994},{"$f":"(VLOOKUP($I$26,Tablas!$A$155:$G$221,4,TRUE))*1.1494*0.9","v":4534.5036869999994},{"$f":"(VLOOKUP($I$26,Tablas!$A$155:$G$221,5,TRUE))*1.1494*0.9","v":3389.6668049999998},{"$f":"(VLOOKUP($I$26,Tablas!$A$155:$G$221,6,TRUE))*1.1494*0.9","v":2520.9272969999997}]
[null,null,null,null,"Prima para conyuge",null,{"$f":"(IF($F$26=1,0,(VLOOKUP($I$28,Tablas!$A$155:$G$221,3,TRUE))))*1.1494*0.9","v":6988.6048680000004},{"$f":"(IF($F$26=1,0,(VLOOKUP($I$28,Tablas!$A$155:$G$221,4,TRUE))))*1.1494*0.9","v":6343.2052739999999},{"$f":"(IF($F$26=1,0,(VLOOKUP($I$28,Tablas!$A$155:$G$221,5,TRUE))))*1.1494*0.9","v":4633.8635699999995},{"$f":"(IF($F$26=1,0,(VLOOKUP($I$28,Tablas!$A$155:$G$221,6,TRUE))))*1.1494*0.9","v":3446.8207200000002}]
[null,null,null,null,"Prima para hijo (s)",null,{"$f":"(IF($F$28=0,0,(VLOOKUP($F$28,Tablas!$A$222:$G$224,3,TRUE))))*1.1494*0.9","v":3020.3645850000003},{"$f":"(IF($F$28=0,0,(VLOOKUP($F$28,Tablas!$A$222:$G$224,4,TRUE))))*1.1494*0.9","v":2741.6293379999997},{"$f":"(IF($F$28=0,0,(VLOOKUP($F$28,Tablas!$A$222:$G$224,5,TRUE))))*1.1494*0.9","v":2123.4877649999999},{"$f":"(IF($F$28=0,0,(VLOOKUP($F$28,Tablas!$A$222:$G$224,6,TRUE))))*1.1494*0.9","v":1580.0859270000001}]
[null,null,null,null,"Total de Prima neta",null,{"$f":"(SUM(G37:G39))","v":15005.100914999999},{"$f":"(SUM(H37:H39))","v":13619.338298999999},{"$f":"(SUM(I37:I39))","v":10147.01814},{"$f":"(SUM(J37:J39))","v":7547.833944}]
[null,null,null,null,"Costo Administrativo Anual",null,86,86,86,86]
[null,null,null,null," IVA (14.49%) ",null,{"$f":"(G41)*0%","v":0},{"$f":"(H41)*0%","v":0},{"$f":"(I41)*0%","v":0},{"$f":"(J41)*0%","v":0}]
[]
[null,null,null,null,"TOTAL ANUAL",null,{"$f":"SUM(G40:G42)","v":15091.100914999999},{"$f":"SUM(H40:H42)","v":13705.338298999999},{"$f":"SUM(I40:I42)","v":10233.01814},{"$f":"SUM(J40:J42)","v":7633.833944}]
[]
[null,null,null,null,"Tarifas Semianuales"]
[null,null,null,null,"Prima para Asegurado Titular",null,{"$f":"(VLOOKUP($I$26,Tablas!$A$530:$G$596,3,TRUE))*1.1494","v":2775.6285899999998},{"$f":"(VLOOKUP($I$26,Tablas!$A$530:$G$596,4,TRUE))*1.1494","v":2519.1687149999998},{"$f":"(VLOOKUP($I$26,Tablas!$A$530:$G$596,5,TRUE))*1.1494","v":1883.1482249999999},{"$f":"(VLOOKUP($I$26,Tablas!$A$530:$G$596,6,TRUE))*1.1494","v":1400.5151649999998}]
[null,null,null,null,"Prima para conyuge",null,{"$f":"(IF($F$26=1,0,(VLOOKUP($I$28,Tablas!$A$530:$G$596,3,TRUE))))*1.1494","v":3882.5582600000002},{"$f":"(IF($F$26=1,0,(VLOOKUP($I$28,Tablas!$A$530:$G$596,4,TRUE))))*1.1494","v":3524.0029299999997},{"$f":"(IF($F$26=1,0,(VLOOKUP($I$28,Tablas!$A$530:$G$596,5,TRUE))))*1.1494","v":2574.3686499999999},{"$f":"(IF($F$26=1,0,(VLOOKUP($I$28,Tablas!$A$530:$G$596,6,TRUE))))*1.1494","v":1914.9004}]
[null,null,null,null,"Prima para hijo (s)",null,{"$f":"(IF($F$28=0,0,(VLOOKUP($F$28,Tablas!$A$597:$G$599,3,TRUE))))*1.1494","v":1677.980325},{"$f":"(IF($F$28=0,0,(VLOOKUP($F$28,Tablas!$A$597:$G$599,4,TRUE))))*1.1494","v":1523.1274099999998},{"$f":"(IF($F$28=0,0,(VLOOKUP($F$28,Tablas!$A$597:$G$599,5,TRUE))))*1.1494","v":1179.7154249999999},{"$f":"(IF($F$28=0,0,(VLOOKUP($F$28,Tablas!$A$597:$G$599,6,TRUE))))*1.1494","v":877.825515}]
[null,null,null,null,"Total de Prima neta",null,{"$f":"(SUM(G47:G49))","v":8336.1671750000005},{"$f":"(SUM(H47:H49))","v":7566.2990549999995},{"$f":"(SUM(I47:I49))","v":5637.2322999999997},{"$f":"(SUM(J47:J49))","v":4193.2410799999998}]
[null,null,null,null,"Costo Administrativo Anual",null,86,86,86,86]
[null,null,null,null," IVA (14.49%) ",null,{"$f":"(G51)*0%","v":0},{"$f":"(H51)*0%","v":0},{"$f":"(I51)*0%","v":0},{"$f":"(J51)*0%","v":0}]
[null,null,null,null,"TOTAL de primera cuota",null,{"$f":"SUM(G50:G52)","v":8422.1671750000005},{"$f":"SUM(H50:H52)","v":7652.2990549999995},{"$f":"SUM(I50:I52)","v":5723.2322999999997},{"$f":"SUM(J50:J52)","v":4279.2410799999998}]
[null,null,null,null,"Costo de segunda cuota",null,{"$f":"G50+G52","v":8336.1671750000005},{"$f":"H50+H52","v":7566.2990549999995},{"$f":"I50+I52","v":5637.2322999999997},{"$f":"J50+J52","v":4193.2410799999998}]
[null,null,null,null,"TOTAL ANUAL",null,{"$f":"G53+G54","v":16758.334350000001},{"$f":"H53+H54","v":15218.598109999999},11360.464599999999,{"$f":"J53+J54","v":8472.4821599999996}]
[]
[null,null,null,null,"Tarifas Trimestrales"]
[null,null,null,null,"Prima para Asegurado Titular",null,{"$f":"(VLOOKUP($I$26,Tablas!$A$755:$G$821,3,TRUE))*1.1494","v":1387.8142949999999},{"$f":"(VLOOKUP($I$26,Tablas!$A$755:$G$821,4,TRUE))*1.1494","v":1259.5843574999999},{"$f":"(VLOOKUP($I$26,Tablas!$A$755:$G$821,5,TRUE))*1.1494","v":941.57411249999996},{"$f":"(VLOOKUP($I$26,Tablas!$A$755:$G$821,6,TRUE))*1.1494","v":700.2575824999999}]
[null,null,null,null,"Prima para conyuge",null,{"$f":"(IF($F$26=1,0,(VLOOKUP($I$28,Tablas!$A$755:$G$821,3,TRUE))))*1.1494","v":1941.2791300000001},{"$f":"(IF($F$26=1,0,(VLOOKUP($I$28,Tablas!$A$755:$G$821,4,TRUE))))*1.1494","v":1762.0014649999998},{"$f":"(IF($F$26=1,0,(VLOOKUP($I$28,Tablas!$A$755:$G$821,5,TRUE))))*1.1494","v":1287.1843249999999},{"$f":"(IF($F$26=1,0,(VLOOKUP($I$28,Tablas!$A$755:$G$821,6,TRUE))))*1.1494","v":957.4502}]
[null,null,null,null,"Prima para hijo (s)",null,{"$f":"(IF($F$28=0,0,(VLOOKUP($F$28,Tablas!$A$822:$G$824,3,TRUE))))*1.1494","v":838.9901625},{"$f":"(IF($F$28=0,0,(VLOOKUP($F$28,Tablas!$A$822:$G$824,4,TRUE))))*1.1494","v":761.56370499999991},{"$f":"(IF($F$28=0,0,(VLOOKUP($F$28,Tablas!$A$822:$G$824,5,TRUE))))*1.1494","v":589.85771249999993},{"$f":"(IF($F$28=0,0,(VLOOKUP($F$28,Tablas!$A$822:$G$824,6,TRUE))))*1.1494","v":438.9127575}]
[null,null,null,null,"Total de Prima neta",null,{"$f":"(SUM(G58:G60))","v":4168.0835875000002},{"$f":"(SUM(H58:H60))","v":3783.1495274999997},{"$f":"(SUM(I58:I60))","v":2818.6161499999998},{"$f":"(SUM(J58:J60))","v":2096.6205399999999}]
[null,null,null,null,"Costo Administrativo Anual",null,86,86,86,86]
[null,null,null,null," IVA (14.49%) ",null,{"$f":"(G62)*0%","v":0},{"$f":"(H62)*0%","v":0},{"$f":"(I62)*0%","v":0},{"$f":"(J62)*0%","v":0}]
[]
[null,null,null,null,"TOTAL de primera cuota",null,{"$f":"SUM(G61:G63)","v":4254.0835875000002},{"$f":"SUM(H61:H63)","v":3869.1495274999997},{"$f":"SUM(I61:I63)","v":2904.6161499999998},{"$f":"SUM(J61:J63)","v":2182.6205399999999}]
[null,null,null,null,"Tres (3) cuotas adicionales, cada una de:",null,{"$f":"G61+G63","v":4168.0835875000002},{"$f":"H61+H63","v":3783.1495274999997},{"$f":"I61+I63","v":2818.6161499999998},{"$f":"J61+J63","v":2096.6205399999999}]
[null,null,null,null,"TOTAL ANUAL",null,{"$f":"G65+(G66*3)","v":16758.334350000001},{"$f":"H65+(H66*3)","v":15218.598109999999},11360.464599999999,{"$f":"J65+(J66*3)","v":8472.4821599999996}]
[]
[]
[null,null,null,null,"Tarifas Mensuales"]
[null,null,null,null,"Prima para Asegurado Titular",null,{"$f":"(VLOOKUP($I$26,Tablas!$A$229:$G$295,3,TRUE))*1.1494","v":518.11733679999998},{"$f":"(VLOOKUP($I$26,Tablas!$A$229:$G$295,4,TRUE))*1.1494","v":470.2448268},{"$f":"(VLOOKUP($I$26,Tablas!$A$229:$G$295,5,TRUE))*1.1494","v":351.52100200000007},{"$f":"(VLOOKUP($I$26,Tablas!$A$229:$G$295,6,TRUE))*1.1494","v":261.42949746666665}]
[null,null,null,null,"Prima para conyuge",null,{"$f":"(IF($F$26=1,0,(VLOOKUP($I$28,Tablas!$A$229:$G$295,3,TRUE))))*1.1494","v":724.74420853333334},{"$f":"(IF($F$26=1,0,(VLOOKUP($I$28,Tablas!$A229:$G$295,4,TRUE))))*1.1494","v":657.81388026666662},{"$f":"(IF($F$26=1,0,(VLOOKUP($I$28,Tablas!$A$229:$G$295,5,TRUE))))*1.1494","v":480.54881466666671},{"$f":"(IF($F$26=1,0,(VLOOKUP($I$28,Tablas!$A$229:$G$295,6,TRUE))))*1.1494","v":357.44807466666668}]
[null,null,null,null,"Prima para hijo (s)",null,{"$f":"(IF($F$28=0,0,(VLOOKUP($F$28,Tablas!$A$296:$G$298,3,TRUE))))*1.1494","v":313.22299399999997},{"$f":"(IF($F$28=0,0,(VLOOKUP($F$28,Tablas!$A$296:$G$298,4,TRUE))))*1.1494","v":284.31711653333332},{"$f":"(IF($F$28=0,0,(VLOOKUP($F$28,Tablas!$A$296:$G$298,5,TRUE))))*1.1494","v":220.21354600000001},{"$f":"(IF($F$28=0,0,(VLOOKUP($F$28,Tablas!$A$296:$G$298,6,TRUE))))*1.1494","v":163.8607628}]
[null,null,null,null,"Total de Prima neta",null,{"$f":"SUM(G71:G73)","v":1556.0845393333332},{"$f":"SUM(H71:H73)","v":1412.3758235999999},{"$f":"SUM(I71:I73)","v":1052.2833626666668},{"$f":"SUM(J71:J73)","v":782.73833493333336}]
[null,null,null,null,"Costo Administrativo Anual",null,86,86,86,86]
[null,null,null,null," IVA (14.49%) ",null,{"$f":"(G75)*0%","v":0},{"$f":"(H75)*0%","v":0},{"$f":"(I75)*0%","v":0},{"$f":"(J75)*0%","v":0}]
[]
[null,null,null,null,"TOTAL de primera cuota",null,{"$f":"SUM(G74:G76)","v":1642.0845393333332},{"$f":"SUM(H74:H76)","v":1498.3758235999999},{"$f":"SUM(I74:I76)","v":1138.2833626666668},{"$f":"SUM(J74:J76)","v":868.73833493333336}]
[null,null,null,null,"Once (11) cuotas mensuales cada una de:",null,{"$f":"G74+G76","v":1556.0845393333332},{"$f":"H74+H76","v":1412.3758235999999},{"$f":"I74+I76","v":1052.2833626666668},{"$f":"J74+J76","v":782.73833493333336}]
[null,null,null,null,"TOTAL ANUAL",null,{"$f":"G78+(G79*11)","v":18759.014471999999},{"$f":"H78+(H79*11)","v":17034.5098832},{"$f":"I78+(I79*11)","v":12713.400352000002},{"$f":"J78+(J79*11)","v":9478.8600192000013}]
[]
[]
[null,null,null,null,"Tarifas en US$ -  Efectivas a partir del 1ro. de Enero de 2020"]
[null,null,null,null,"Este presupuesto solamente tiene carácter informativo y en ningún momento expresa compromiso legal para suministrarle cobertura de seguro. La emisión de una póliza de seguro Bupa está sujeta a todas las evaluaciones de riesgo por parte de Bupa y a la recepción de todos los pagos de prima requeridos."]

{"sheet":"Global Select Health  Plan","index":4,"n_rows":84,"n_cols":10,"rows_kept":84,"cut":false,"hidden":false,"merged":[[22,3,22,4],[25,3,25,4],[22,5,22,8],[22,0,23,1],[23,5,23,8],[51,1,52,1],[51,0,52,0],[28,3,28,4],[61,4,61,5],[62,4,62,5],[30,0,30,1],[45,0,45,1],[50,0,50,1],[67,0,67,1],[71,0,71,1],[82,0,82,1],[86,0,86,1],[96,0,96,1],[83,4,84,9],[36,4,36,9],[46,4,46,9],[57,4,57,9],[70,4,70,9],[82,4,82,9],[74,4,74,5],[75,4,75,5]]}
[]
[]
[null,null,null,null,null,null,null," "," "," "]
[]
[]
[]
[null,null,null,null,null,null,null," "," "," "]
[]
[]
[]
[]
[]
[]
[]
[]
[]
[]
[]
[]
[]
[]
[]
["Global Select Health Plan",null,null,"Nombre del Asegurado Titular",null,{"$f":"+'INGRESO DE DATOS'!$D$22","v":"JOHN DOE"}]
[null,null,null,null,"Cotizado por",{"$f":"+'INGRESO DE DATOS'!$D$28","v":"NOMBRE DEL AGENTE"}]
[]
[null,null,null,"Número de adultos en la póliza",null,{"$f":"+'INGRESO DE DATOS'!$D$24","v":2},null,"Edad del Asegurado Titular",{"$f":"+'INGRESO DE DATOS'!$D$26","v":32}]
[]
[null,null,null,null,null,null,null,"Edad del/la conyuge",{"$f":"+'INGRESO DE DATOS'!$H$26","v":46}]
[null,null,null,"Número de niños en la póliza",null,{"$f":"+'INGRESO DE DATOS'!$H$24","v":2},null," "," "]
[]
[null,null,null,null,null,"Fecha de la cotización:",{"$f":"NOW()","v":"2021-11-18T04:56:41.600"}]
[null,null,null,null,null,null," ",false,null," "]
[null,null,null,null,"Deducibles",null,"PLAN 1","PLAN 2","PLAN 3","PLAN 4"]
[null,null,null,null,"En el país de residencia",null,250,2000,5000,10000]
[null,null,null,null,"Fuera del país de residencia",null,5000,2000,5000,10000]
[]
[null,null,null,null,"Tarifas Anuales"]
[null,null,null,null,"Prima para Asegurado Titular",null,{"$f":"(VLOOKUP($I$26,Tablas!$A$305:$G$371,3,TRUE))*1.1494*0.9","v":3330.7543079999996},{"$f":"(VLOOKUP($I$26,Tablas!$A$305:$G$371,4,TRUE))*1.1494*0.9","v":3194.4642029999995},{"$f":"(VLOOKUP($I$26,Tablas!$A$305:$G$371,5,TRUE))*1.1494*0.9","v":2396.0679749999999},{"$f":"(VLOOKUP($I$26,Tablas!$A$305:$G$371,6,TRUE))*1.1494*0.9","v":1782.3228569999999}]
[null,null,null,null,"Prima para conyuge",null,{"$f":"(IF($F$26=1,0,(VLOOKUP($I$28,Tablas!$A$305:$G$371,3,TRUE))))*1.1494*0.9","v":4837.8590819999999},{"$f":"(IF($F$26=1,0,(VLOOKUP($I$28,Tablas!$A$305:$G$371,4,TRUE))))*1.1494*0.9","v":4640.8978980000002},{"$f":"(IF($F$26=1,0,(VLOOKUP($I$28,Tablas!$A$305:$G$371,5,TRUE))))*1.1494*0.9","v":3396.701133},{"$f":"(IF($F$26=1,0,(VLOOKUP($I$28,Tablas!$A$305:$G$371,6,TRUE))))*1.1494*0.9","v":2527.0823340000002}]
[null,null,null,null,"Prima para hijo (s)",null,{"$f":"(IF($F$29=0,0,(VLOOKUP($F$29,Tablas!$A$372:$G$374,3,TRUE))))*1.1494*0.9","v":2168.3316059999997},{"$f":"(IF($F$29=0,0,(VLOOKUP($F$29,Tablas!$A$372:$G$374,4,TRUE))))*1.1494*0.9","v":2080.4025059999999},{"$f":"(IF($F$29=0,0,(VLOOKUP($F$29,Tablas!$A$372:$G$374,5,TRUE))))*1.1494*0.9","v":1622.2918950000001},{"$f":"(IF($F$29=0,0,(VLOOKUP($F$29,Tablas!$A$372:$G$374,6,TRUE))))*1.1494*0.9","v":1207.266543}]
[null,null,null,null,"Total de Prima neta",null,{"$f":"(SUM(G38:G40))","v":10336.944995999998},{"$f":"(SUM(H38:H40))","v":9915.7646069999992},{"$f":"(SUM(I38:I40))","v":7415.0610030000007},{"$f":"(SUM(J38:J40))","v":5516.6717339999996}]
[null,null,null,null,"Costo Administrativo Anual",null,86,86,86,86]
[null,null,null,null,"  IVA (14.49%)  ",null,{"$f":"(G42)*0%","v":0},{"$f":"(H42)*0%","v":0},{"$f":"(I42)*0%","v":0},{"$f":"(J42)*0%","v":0}]
[]
[null,null,null,null,"TOTAL ANUAL",null,{"$f":"SUM(G41:G43)","v":10422.944995999998},{"$f":"SUM(H41:H43)","v":10001.764606999999},{"$f":"SUM(I41:I43)","v":7501.0610030000007},{"$f":"SUM(J41:J43)","v":5602.6717339999996}]
[]
[null,null,null,null,"Tarifas Semianuales"]
[null,null,null,null,"Prima para Asegurado Titular",null,{"$f":"(VLOOKUP($I$26,Tablas!$A$605:$G$671,3,TRUE))*1.1494","v":1850.4190599999997},{"$f":"(VLOOKUP($I$26,Tablas!$A$605:$G$671,4,TRUE))*1.1494","v":1774.7023349999997},{"$f":"(VLOOKUP($I$26,Tablas!$A$605:$G$671,5,TRUE))*1.1494","v":1331.1488749999999},{"$f":"(VLOOKUP($I$26,Tablas!$A$605:$G$671,6,TRUE))*1.1494","v":990.17936499999996}]
[null,null,null,null,"Prima para conyuge",null,{"$f":"(IF($F$26=1,0,(VLOOKUP($I$28,Tablas!$A$605:$G$671,3,TRUE))))*1.1494","v":2687.69949},{"$f":"(IF($F$26=1,0,(VLOOKUP($I$28,Tablas!$A$605:$G$671,4,TRUE))))*1.1494","v":2578.2766099999999},{"$f":"(IF($F$26=1,0,(VLOOKUP($I$28,Tablas!$A$605:$G$671,5,TRUE))))*1.1494","v":1887.0561849999999},{"$f":"(IF($F$26=1,0,(VLOOKUP($I$28,Tablas!$A$605:$G$671,6,TRUE))))*1.1494","v":1403.93463}]
[null,null,null,null,"Prima para hijo (s)",null,{"$f":"(IF($F$29=0,0,(VLOOKUP($F$29,Tablas!$A$672:$G$674,3,TRUE))))*1.1494","v":1204.6286699999998},{"$f":"(IF($F$29=0,0,(VLOOKUP($F$29,Tablas!$A$672:$G$674,4,TRUE))))*1.1494","v":1155.77917},{"$f":"(IF($F$29=0,0,(VLOOKUP($F$29,Tablas!$A$672:$G$674,5,TRUE))))*1.1494","v":901.27327500000001},{"$f":"(IF($F$29=0,0,(VLOOKUP($F$29,Tablas!$A$672:$G$674,6,TRUE))))*1.1494","v":670.70363499999996}]
[null,null,null,null,"Total de Prima neta",null,{"$f":"(SUM(G48:G50))","v":5742.7472199999993},{"$f":"(SUM(H48:H50))","v":5508.7581149999996},{"$f":"(SUM(I48:I50))","v":4119.4783349999998},{"$f":"(SUM(J48:J50))","v":3064.8176299999996}]
[null,null,null,null,"Costo Administrativo Anual",null,86,86,86,86]
[null,null,null,null,"  IVA (14.49%)  ",null,{"$f":"(G52)*0%","v":0},{"$f":"(H52)*0%","v":0},{"$f":"(I52)*0%","v":0}]
[null,null,null,null,"TOTAL de primera cuota",null,{"$f":"SUM(G51:G53)","v":5828.7472199999993},{"$f":"SUM(H51:H53)","v":5594.7581149999996},{"$f":"SUM(I51:I53)","v":4205.4783349999998},{"$f":"SUM(J51:J53)","v":3150.8176299999996}]
[null,null,null,null,"Costo de segunda cuota",null,{"$f":"G51+G53","v":5742.7472199999993},{"$f":"H51+H53","v":5508.7581149999996},{"$f":"I51+I53","v":4119.4783349999998},{"$f":"J51+J53","v":3064.8176299999996}]
[null,null,null,null,"TOTAL ANUAL",null,{"$f":"G54+G55","v":11571.494439999999},{"$f":"H54+H55","v":11103.516229999999},8324.9566699999996,6215.6352599999991]
[]
[null,null,null,null,"Tarifas Trimestrales"]
[null,null,null,null,"Prima para Asegurado Titular",null,{"$f":"(VLOOKUP($I$26,Tablas!$A$830:$G$896,3,TRUE))*1.1494","v":925.20952999999986},{"$f":"(VLOOKUP($I$26,Tablas!$A$830:$G$896,4,TRUE))*1.1494","v":887.35116749999986},{"$f":"(VLOOKUP($I$26,Tablas!$A$830:$G$896,5,TRUE))*1.1494","v":665.57443749999993},{"$f":"(VLOOKUP($I$26,Tablas!$A$830:$G$896,6,TRUE))*1.1494","v":495.08968249999998}]
[null,null,null,null,"Prima para conyuge",null,{"$f":"(IF($F$26=1,0,(VLOOKUP($I$28,Tablas!$A$830:$G$896,3,TRUE))))*1.1494","v":1343.849745},{"$f":"(IF($F$26=1,0,(VLOOKUP($I$28,Tablas!$A$830:$G$896,4,TRUE))))*1.1494","v":1289.1383049999999},{"$f":"(IF($F$26=1,0,(VLOOKUP($I$28,Tablas!$A$830:$G$896,5,TRUE))))*1.1494","v":943.52809249999996},{"$f":"(IF($F$26=1,0,(VLOOKUP($I$28,Tablas!$A$830:$G$896,6,TRUE))))*1.1494","v":701.96731499999999}]
[null,null,null,null,"Prima para hijo (s)",null,{"$f":"(IF($F$29=0,0,(VLOOKUP($F$29,Tablas!$A$897:$G$899,3,TRUE))))*1.1494","v":602.31433499999991},{"$f":"(IF($F$29=0,0,(VLOOKUP($F$29,Tablas!$A$897:$G$899,4,TRUE))))*1.1494","v":577.88958500000001},{"$f":"(IF($F$29=0,0,(VLOOKUP($F$29,Tablas!$A$897:$G$899,5,TRUE))))*1.1494","v":450.63663750000001},{"$f":"(IF($F$29=0,0,(VLOOKUP($F$29,Tablas!$A$897:$G$899,6,TRUE))))*1.1494","v":335.35181749999998}]
[null,null,null,null,"Total de Prima neta",null,{"$f":"(SUM(G59:G61))","v":2871.3736099999996},{"$f":"(SUM(H59:H61))","v":2754.3790574999998},{"$f":"(SUM(I59:I61))","v":2059.7391674999999},{"$f":"(SUM(J59:J61))","v":1532.4088149999998}]
[null,null,null,null,"Costo Administrativo Anual",null,86,86,86,86]
[null,null,null,null,"  IVA (14.49%)  ",null,{"$f":"(G63)*0%","v":0},{"$f":"(H63)*0%","v":0},{"$f":"(I63)*0%","v":0},{"$f":"(J63)*0%","v":0}]
[]
[null,null,null,null,"TOTAL de primera cuota",null,{"$f":"SUM(G62:G64)","v":2957.3736099999996},{"$f":"SUM(H62:H64)","v":2840.3790574999998},{"$f":"SUM(I62:I64)","v":2145.7391674999999},{"$f":"SUM(J62:J64)","v":1618.4088149999998}]
[null,null,null,null,"Tres (3) cuotas adicionales, cada una de:",null,{"$f":"G62+G64","v":2871.3736099999996},{"$f":"H62+H64","v":2754.3790574999998},{"$f":"I62+I64","v":2059.7391674999999},{"$f":"J62+J64","v":1532.4088149999998}]
[null,null,null,null,"TOTAL ANUAL",null,{"$f":"G66+(G67*3)","v":11571.494439999999},{"$f":"H66+(H67*3)","v":11103.516229999999},8324.9566699999996,{"$f":"J66+(J67*3)","v":6215.6352599999991}]
[]
[]
[null,null,null,null,"Tarifas Mensuales"]
[null,null,null,null,"Prima para Asegurado Titular",null,{"$f":"(VLOOKUP($I$26,Tablas!$A$379:$G$445,3,TRUE))*1.1494","v":345.41155786666661},{"$f":"(VLOOKUP($I$26,Tablas!$A$379:$G$445,4,TRUE))*1.1494","v":331.27776919999997},{"$f":"(VLOOKUP($I$26,Tablas!$A$379:$G$445,5,TRUE))*1.1494","v":248.48112333333333},{"$f":"(VLOOKUP($I$26,Tablas!$A$379:$G$445,6,TRUE))*1.1494","v":184.83348146666668}]
[null,null,null,null,"Prima para conyuge",null,{"$f":"(IF($F$26=1,0,(VLOOKUP($I$28,Tablas!$A$379:$G$445,3,TRUE))))*1.1494","v":501.70390480000003},{"$f":"(IF($F$26=1,0,(VLOOKUP($I$28,Tablas!$A$379:$G$445,4,TRUE))))*1.1494","v":481.27830053333332},{"$f":"(IF($F$26=1,0,(VLOOKUP($I$28,Tablas!$A$379:$G$445,5,TRUE))))*1.1494","v":352.25048786666662},{"$f":"(IF($F$26=1,0,(VLOOKUP($I$28,Tablas!$A$379:$G$445,6,TRUE))))*1.1494","v":262.06779760000001}]
[null,null,null,null,"Prima para hijo (s)",null,{"$f":"(IF($F$29=0,0,(VLOOKUP($F$29,Tablas!$A$446:$G$448,3,TRUE))))*1.1494","v":224.86401839999999},{"$f":"(IF($F$29=0,0,(VLOOKUP($F$29,Tablas!$A$446:$G$448,4,TRUE))))*1.1494","v":215.74544506666666},{"$f":"(IF($F$29=0,0,(VLOOKUP($F$29,Tablas!$A$446:$G$448,5,TRUE))))*1.1494","v":168.23767799999999},{"$f":"(IF($F$29=0,0,(VLOOKUP($F$29,Tablas!$A$446:$G$448,6,TRUE))))*1.1494","v":125.19801186666666}]
[null,null,null,null,"Total de Prima neta",null,{"$f":"(SUM(G72:G74))","v":1071.9794810666667},{"$f":"(SUM(H72:H74))","v":1028.3015147999999},{"$f":"(SUM(I72:I74))","v":768.96928919999993},{"$f":"(SUM(J72:J74))","v":572.09929093333335}]
[null,null,null,null,"Costo Administrativo Anual",null,86,86,86,86]
[null,null,null,null,"  IVA (14.49%)  ",null,{"$f":"(G76)*0%","v":0},{"$f":"(H76)*0%","v":0},{"$f":"(I76)*0%","v":0},{"$f":"(J76)*0%","v":0}]
[]
[null,null,null,null,"TOTAL de primera cuota",null,{"$f":"SUM(G75:G77)","v":1157.9794810666667},{"$f":"SUM(H75:H77)","v":1114.3015147999999},{"$f":"SUM(I75:I77)","v":854.96928919999993},{"$f":"SUM(J75:J77)","v":658.09929093333335}]
[null,null,null,null,"Once (11) cuotas mensuales cada una de:",null,{"$f":"G75+G77","v":1071.9794810666667},{"$f":"H75+H77","v":1028.3015147999999},{"$f":"I75+I77","v":768.96928919999993},{"$f":"J75+J77","v":572.09929093333335}]
[null,null,null,null,"TOTAL ANUAL",null,{"$f":"G79+(G80*11)","v":12949.753772800001},{"$f":"H79+(H80*11)","v":12425.618177599999},{"$f":"I79+(I80*11)","v":9313.6314703999997},{"$f":"J79+(J80*11)","v":6951.1914912000002}]
[]
[null,null,null,null,"Tarifas en US$ -  Efectivas a partir del 1ro. de Enero de 2021"]
[null,null,null,null,"Este presupuesto solamente tiene carácter informativo y en ningún momento expresa compromiso legal para suministrarle cobertura de seguro. La emisión de una póliza de seguro Bupa está sujeta a todas las evaluaciones de riesgo por parte de Bupa y a la recepción de todos los pagos de prima requeridos."]

{"sheet":"Global Major Medical Health  Pl","index":5,"n_rows":82,"n_cols":10,"rows_kept":82,"cut":false,"hidden":false,"merged":[[22,0,23,1],[23,5,23,8],[30,0,30,1],[45,0,45,1],[56,4,56,7],[27,3,27,4],[22,3,22,4],[22,5,22,8],[25,3,25,4],[45,4,45,7],[35,4,35,7],[81,4,83,7],[80,4,80,7],[60,4,60,5],[61,4,61,5],[72,4,72,5],[73,4,73,5],[68,4,68,7],[96,0,96,1],[50,0,50,1],[67,0,67,1],[71,0,71,1],[82,0,82,1],[86,0,86,1],[51,0,52,0],[51,1,52,1]]}
[]
[]
[null,null,null,null,null,null,null," "," "," "]
[]
[]
[]
[null,null,null,null,null,null,null," "," "," "]
[]
[]
[]
[]
[]
[]
[]
[]
[]
[]
[]
[]
[]
[]
[]
["Global Major Medical Health Plan",null,null,"Nombre del Asegurado Titular",null,{"$f":"+'INGRESO DE DATOS'!$D$22","v":"JOHN DOE"}]
[null,null,null,null,"Cotizado Por",{"$f":"+'INGRESO DE DATOS'!$D$28","v":"NOMBRE DEL AGENTE"}]
[]
[null,null,null,"Número de adultos en la póliza",null,{"$f":"+'INGRESO DE DATOS'!$D$24","v":2},null,"Edad del Asegurado Titular",{"$f":"+'INGRESO DE DATOS'!$D$26","v":32}]
[]
[null,null,null,"Número de niños en la póliza",null,{"$f":"+'INGRESO DE DATOS'!$H$24","v":2},null,"Edad del/la conyuge",{"$f":"+'INGRESO DE DATOS'!$H$26","v":46}]
[null,null,null,null,null,null,null," "," "]
[null,null,null,null,null,"Fecha de la cotización:",{"$f":"NOW()","v":"2021-11-18T04:56:41.600"}]
[null,null,null,null,null,null," ",false,null," "]
[null,null,null,null,"Deducibles",null,"PLAN 1","PLAN 2"]
[null,null,null,null,"En el país de residencia",null,10000,20000]
[null,null,null,null,"Fuera del país de residencia",null,10000,20000]
[]
[null,null,null,null,"Tarifas Anuales"]
[null,null,null,null,"Prima para Asegurado Titular",null,{"$f":"(VLOOKUP($I$26,Tablas!$A$1129:$G$1195,3,TRUE))*1.1494*0.9","v":2134.9185480000001},{"$f":"(VLOOKUP($I$26,Tablas!$A$1129:$G$1195,4,TRUE))*1.1494*0.9","v":1627.5676409999999}]
[null,null,null,null,"Prima para conyuge",null,{"$f":"(IF($F$26=1,0,(VLOOKUP($I$28,Tablas!$A$1129:$G$1195,3,TRUE))))*1.1494*0.9","v":2994.8651460000001},{"$f":"(IF($F$26=1,0,(VLOOKUP($I$28,Tablas!$A$1129:$G$1195,4,TRUE))))*1.1494*0.9","v":2276.4843989999999}]
[null,null,null,null,"Prima para hijo (s)",null,{"$f":"(IF($F$28=0,0,(VLOOKUP($F$28,Tablas!$A$1196:$G$1198,3,TRUE))))*1.1494*0.9","v":1283.76486},{"$f":"(IF($F$28=0,0,(VLOOKUP($F$28,Tablas!$A$1196:$G$1198,4,TRUE))))*1.1494*0.9","v":1008.546777}]
[null,null,null,null,"Total de Prima neta",null,{"$f":"(SUM(G37:G39))","v":6413.548554},{"$f":"(SUM(H37:H39))","v":4912.5988170000001}]
[null,null,null,null,"Costo Administrativo Anual",null,86,86]
[null,null,null,null,"IVA (14.49%)",null,{"$f":"(G41)*0%","v":0},{"$f":"(H41)*0%","v":0}]
[]
[null,null,null,null,"TOTAL ANUAL",null,{"$f":"SUM(G40:G42)","v":6499.548554},{"$f":"SUM(H40:H42)","v":4998.5988170000001}]
[]
[null,null,null,null,"Tarifas Semianuales"]
[null,null,null,null,"Prima para Asegurado Titular",null,{"$f":"(VLOOKUP($I$26,Tablas!$A$1353:$G$1419,3,TRUE))*1.1494","v":1186.0658599999999},{"$f":"(VLOOKUP($I$26,Tablas!$A$1353:$G$1419,4,TRUE))*1.1494","v":904.2042449999999}]
[null,null,null,null,"Prima para conyuge",null,{"$f":"(IF($F$26=1,0,(VLOOKUP($I$28,Tablas!$A$1353:$G$1419,3,TRUE))))*1.1494","v":1663.8139699999999},{"$f":"(IF($F$26=1,0,(VLOOKUP($I$28,Tablas!$A$1353:$G$1419,4,TRUE))))*1.1494","v":1264.713555}]
[null,null,null,null,"Prima para hijo (s)",null,{"$f":"(IF($F$28=0,0,(VLOOKUP($F$28,Tablas!$A$1420:$G$1422,3,TRUE))))*1.1494","v":713.20269999999994},{"$f":"(IF($F$28=0,0,(VLOOKUP($F$28,Tablas!$A$1420:$G$1422,4,TRUE))))*1.1494","v":560.303765}]
[null,null,null,null,"Total de Prima neta",null,{"$f":"(SUM(G47:G49))","v":3563.0825299999997},{"$f":"(SUM(H47:H49))","v":2729.2215650000003}]
[null,null,null,null,"Costo Administrativo Anual",null,86,86]
[null,null,null,null,"IVA (14.49%)",null,{"$f":"(G51)*0%","v":0},{"$f":"(H51)*0%","v":0}]
[null,null,null,null,"TOTAL de primera cuota",null,{"$f":"SUM(G50:G52)","v":3649.0825299999997},{"$f":"SUM(H50:H52)","v":2815.2215650000003}]
[null,null,null,null,"Costo de segunda cuota",null,{"$f":"G50+G52","v":3563.0825299999997},{"$f":"H50+H52","v":2729.2215650000003}]
[null,null,null,null,"TOTAL ANUAL",null,{"$f":"G53+G54","v":7212.1650599999994},{"$f":"H53+H54","v":5544.4431300000006}]
[]
[null,null,null,null,"Tarifas Trimestrales"]
[null,null,null,null,"Prima para Asegurado Titular",null,{"$f":"(VLOOKUP($I$26,Tablas!$A$1278:$G$1344,3,TRUE))*1.1494","v":593.03292999999996},{"$f":"(VLOOKUP($I$26,Tablas!$A$1278:$G$1344,4,TRUE))*1.1494","v":452.10212249999995}]
[null,null,null,null,"Prima para conyuge",null,{"$f":"(IF($F$26=1,0,(VLOOKUP($I$28,Tablas!$A$1278:$G$1344,3,TRUE))))*1.1494","v":831.90698499999996},{"$f":"(IF($F$26=1,0,(VLOOKUP($I$28,Tablas!$A$1278:$G$1344,4,TRUE))))*1.1494","v":632.35677750000002}]
[null,null,null,null,"Prima para hijo (s)",null,{"$f":"(IF($F$28=0,0,(VLOOKUP($F$28,Tablas!$A$1345:$G$1347,3,TRUE))))*1.1494","v":356.60134999999997},{"$f":"(IF($F$28=0,0,(VLOOKUP($F$28,Tablas!$A$1345:$G$1347,4,TRUE))))*1.1494","v":280.1518825}]
[null,null,null,null,"Total de Prima neta",null,{"$f":"(SUM(G58:G60))","v":1781.5412649999998},{"$f":"(SUM(H58:H60))","v":1364.6107825000001}]
[null,null,null,null,"Costo Administrativo Anual",null,86,86]
[null,null,null,null,"IVA (14.49%)",null,{"$f":"(G62)*0%","v":0},{"$f":"(H62)*0%","v":0}]
[]
[null,null,null,null,"TOTAL de primera cuota",null,{"$f":"SUM(G61:G63)","v":1867.5412649999998},{"$f":"SUM(H61:H63)","v":1450.6107825000001}]
[null,null,null,null,"Tres (3) cuotas adicionales, cada una de:",null,{"$f":"G61+G63","v":1781.5412649999998},{"$f":"H61+H63","v":1364.6107825000001}]
[null,null,null,null,"TOTAL ANUAL",null,{"$f":"G65+(G66*3)","v":7212.1650599999994},{"$f":"H65+(H66*3)","v":5544.4431300000006}]
[]
[null,null,null,null,"Tarifas Mensuales"]
[null,null,null,null,"Prima para Asegurado Titular",null,{"$f":"(VLOOKUP($I$26,Tablas!$A$1203:$G$1269,3,TRUE))*1.1494","v":221.39896053333331},{"$f":"(VLOOKUP($I$26,Tablas!$A$1203:$G$1269,4,TRUE))*1.1494","v":168.78479240000001}]
[null,null,null,null,"Prima para conyuge",null,{"$f":"(IF($F$26=1,0,(VLOOKUP($I$28,Tablas!$A$1203:$G$1269,3,TRUE))))*1.1494","v":310.57860773333334},{"$f":"(IF($F$26=1,0,(VLOOKUP($I$28,Tablas!$A$1203:$G$1269,4,TRUE))))*1.1494","v":236.07986360000001}]
[null,null,null,null,"Prima para hijo (s)",null,{"$f":"(IF($F$28=0,0,(VLOOKUP($F$28,Tablas!$A$1270:$G$1272,3,TRUE))))*1.1494","v":133.13117066666666},{"$f":"(IF($F$28=0,0,(VLOOKUP($F$28,Tablas!$A$1270:$G$1272,4,TRUE))))*1.1494","v":104.59003613333333}]
[null,null,null,null,"Total de Prima neta",null,{"$f":"(SUM(G70:G72))","v":665.10873893333326},{"$f":"(SUM(H70:H72))","v":509.45469213333337}]
[null,null,null,null,"Costo Administrativo Anual",null,86,86]
[null,null,null,null,"IVA (14.49%)",null,{"$f":"(G74)*0%","v":0},{"$f":"(H74)*0%","v":0}]
[]
[null,null,null,null,"TOTAL de primera cuota",null,{"$f":"SUM(G73:G75)","v":751.10873893333326},{"$f":"SUM(H73:H75)","v":595.45469213333331}]
[null,null,null,null,"Once (11) cuotas mensuales cada una de:",null,{"$f":"G73+G75","v":665.10873893333326},{"$f":"H73+H75","v":509.45469213333337}]
[null,null,null,null,"TOTAL ANUAL",null,{"$f":"G77+(G78*11)","v":8067.3048671999995},{"$f":"H77+(H78*11)","v":6199.4563055999997}]
[]
[null,null,null,null,"Tarifas en US$ -  Efectivas a partir del 1ro. de Enero de 2021"]
[null,null,null,null,"Este presupuesto solamente tiene carácter informativo y en ningún momento expresa compromiso legal para suministrarle cobertura de seguro. La emisión de una póliza de seguro Bupa está sujeta a todas las evaluaciones de riesgo por parte de Bupa y a la recepción de todos los pagos de prima requeridos."]

{"sheet":"Resumen tarifas","index":6,"n_rows":106,"n_cols":8,"rows_kept":106,"cut":false,"hidden":false,"merged":[[61,0,61,1],[69,0,69,1],[64,0,64,1],[65,0,65,1],[66,0,66,1],[67,0,67,1],[68,0,68,1],[19,0,19,6],[46,0,46,1],[21,2,21,6],[24,4,24,5],[27,4,27,5],[32,0,32,1],[33,0,33,1],[36,0,36,1],[37,0,37,1],[38,0,38,1],[39,0,39,1],[40,0,40,1],[44,0,44,1],[36,2,36,3],[21,0,21,1],[24,0,24,1],[105,0,107,6],[87,0,87,1],[90,0,90,1],[79,0,79,1],[86,0,86,2],[90,2,90,3],[82,0,82,1],[80,0,80,1],[81,0,81,1],[93,0,93,1],[102,0,102,1],[92,2,92,3],[94,2,94,3],[94,0,94,1],[95,0,95,1],[96,2,96,3],[22,2,22,6],[58,0,58,2],[53,0,53,1],[54,0,54,1],[55,0,55,1],[38,2,38,3],[40,2,40,3],[41,0,41,1],[27,0,27,1],[50,0,50,1],[51,0,51,1],[42,2,42,3],[52,0,52,1],[56,3,56,7],[64,4,64,7],[66,4,66,7],[68,4,68,7],[50,3,50,7],[52,3,52,7],[54,3,54,7],[104,0,104,7],[70,4,70,7],[77,4,77,7],[79,4,79,7],[81,4,81,7],[83,4,83,7],[78,0,78,1],[91,0,91,1],[92,0,92,1],[74,1,74,3],[77,0,77,1],[101,0,101,3],[100,0,100,3]]}
[]
[null,null,null,null," "," "]
[]
[]
[]
[null,null,null,null," "," "," "]
[]
[]
[]
[]
[]
[]
[]
[]
[]
[]
[]
[]
[]
["Cotización de Seguro Médico - Global Health Plans"]
[]
["Nombre del Asegurado Titular",null,{"$f":"+'INGRESO DE DATOS'!$D$22","v":"JOHN DOE"}]
[null,"Cotizado por",{"$f":"+'INGRESO DE DATOS'!$D$28","v":"NOMBRE DEL AGENTE"}]
[]
["Número de adultos en la póliza",null,{"$f":"+'INGRESO DE DATOS'!$D$24","v":2},null,"Edad del Asegurado Titular",null,{"$f":"+'INGRESO DE DATOS'!$D$26","v":32}]
[]
[]
["Número de niños en la póliza",null,{"$f":"+'INGRESO DE DATOS'!$H$24","v":2},null,"Edad del/la cónyuge ",null,{"$f":"+'INGRESO DE DATOS'!$H$26","v":46}]
[]
[]
[null,null,"Fecha de la Cotización:",{"$f":"NOW()","v":"2021-11-18T04:56:41.600"}]
[]
["Bupa Global Ultimtate Health Plan"]
["Deducibles",null,"PLAN 1","PLAN 2"]
["En el país de residencia",null,0,1000]
["Fuera del país de residencia",null,0,1000]
[null,null,"Tarifas Anuales"]
[null,null,{"$f":"'Global Ultimate Health  Plan'!G41","v":57604.04492},{"$f":"'Global Ultimate Health  Plan'!H41","v":37199.321419999993}]
[null,null,"Tarifas Semi-anuales"]
[null,null,{"$f":"'Global Ultimate Health  Plan'!G52","v":31546.66228},{"$f":"'Global Ultimate Health  Plan'!H52","v":20355.356769999999}]
[null,null,"Tarifas Trimestrales"]
[null,null,{"$f":"'Global Ultimate Health  Plan'!G65","v":15977.03079644},{"$f":"'Global Ultimate Health  Plan'!H65","v":10309.124372434999}]
[null,null,"Tarifas Mensuales"]
[null,null,{"$f":"'Global Ultimate Health  Plan'!G80","v":5888.7102922666672},{"$f":"'Global Ultimate Health  Plan'!H80","v":3799.6665970666672}]
["Ahorros en tarifas de prima para niños*",null,{"$f":"'Global Ultimate Health  Plan'!G42","v":5709.0698000000002},{"$f":"'Global Ultimate Health  Plan'!H42","v":3683.8269999999998}]
[]
["Bupa Global Elite Health Plan"]
["Deducibles",null,null,"PLAN 1","PLAN 2","PLAN 3","PLAN 4","PLAN 5"]
["En el país de residencia",null,null,250,2000,3500,5000,10000]
["Fuera del país de residencia",null,null,5000,2000,3500,5000,10000]
[null,null,null,"Tarifas Anuales"]
[null,null,null,{"$f":"+'Global Elite Health  Plan'!G40","v":21023.677292},{"$f":"+'Global Elite Health  Plan'!H40","v":18437.682461},{"$f":"+'Global Elite Health  Plan'!I40","v":15330.268067000001},{"$f":"+'Global Elite Health  Plan'!J40","v":13303.502311999999},{"$f":"+'Global Elite Health  Plan'!K40","v":10336.774477999999}]
[null,null,null,"Tarifas Semi-anuales"]
[null,null,null,{"$f":"+'Global Elite Health  Plan'!G51","v":11631.892727787499},{"$f":"+'Global Elite Health  Plan'!H51","v":10195.247495597499},{"$f":"+'Global Elite Health  Plan'!I51","v":8356.9770619999999},{"$f":"+'Global Elite Health  Plan'!J51","v":7245.8463349999993},{"$f":"+'Global Elite Health  Plan'!K51","v":5619.4999314999995}]
[null,null,null,"Tarifas Trimestrales"]
[null,null,null,{"$f":"+'Global Elite Health  Plan'!G64","v":5740.9153637499994},{"$f":"+'Global Elite Health  Plan'!H64","v":5031.8648712499999},{"$f":"+'Global Elite Health  Plan'!I64","v":4178.488531},{"$f":"+'Global Elite Health  Plan'!J64","v":3622.9231674999996},{"$f":"+'Global Elite Health  Plan'!K64","v":2809.7499657499998}]
[null,null,null,"Tarifas Mensuales"]
[null,null,null,{"$f":"+'Global Elite Health  Plan'!G78","v":2143.2750691333335},{"$f":"+'Global Elite Health  Plan'!H78","v":1878.5628852666666},{"$f":"+'Global Elite Health  Plan'!I78","v":1559.9690515733332},{"$f":"+'Global Elite Health  Plan'!J78","v":1352.5579825333332},{"$f":"+'Global Elite Health  Plan'!K78","v":1048.9733205466666}]
["Ahorros en tarifas de prima para niños*",null,null,{"$f":"+'Global Elite Health  Plan'!G41","v":2100.5284999999999},{"$f":"+'Global Elite Health  Plan'!H41","v":1842.6031399999999},{"$f":"+'Global Elite Health  Plan'!I41","v":1569.0459400000002},{"$f":"+'Global Elite Health  Plan'!J41","v":1360.9470699999997},{"$f":"+'Global Elite Health  Plan'!K41","v":1055.1491999999996}]
[]
["Bupa Global Premier Health Plan"]
["Deducibles",null,null,null,"PLAN 1","PLAN 2","PLAN 3","PLAN 4"]
["En el país de residencia",null,null,null,250,2000,5000,10000]
["Fuera del país de residencia",null,null,null,5000,2000,5000,10000]
[null,null,null,null,"Tarifas Anuales"]
[null,null,null,null,{"$f":"+'Global Premier Health  Plan'!G44","v":15091.100914999999},{"$f":"+'Global Premier Health  Plan'!H44","v":13705.338298999999},{"$f":"+'Global Premier Health  Plan'!I44","v":10233.01814},{"$f":"+'Global Premier Health  Plan'!J44","v":7633.833944}]
[null,null,null,null,"Tarifas Semi-anuales"]
[null,null,null,null,{"$f":"+'Global Premier Health  Plan'!G54","v":8336.1671750000005},{"$f":"+'Global Premier Health  Plan'!H54","v":7566.2990549999995},{"$f":"+'Global Premier Health  Plan'!I54","v":5637.2322999999997},{"$f":"+'Global Premier Health  Plan'!J54","v":4193.2410799999998}]
[null,null,null,null,"Tarifas Trimestrales"]
[null,null,null,null,{"$f":"+'Global Premier Health  Plan'!G66","v":4168.0835875000002},{"$f":"+'Global Premier Health  Plan'!H66","v":3783.1495274999997},{"$f":"+'Global Premier Health  Plan'!I66","v":2818.6161499999998},{"$f":"+'Global Premier Health  Plan'!J66","v":2096.6205399999999}]
[null,null,null,null,"Tarifas Mensuales"]
[null,null,null,null,{"$f":"+'Global Premier Health  Plan'!G79","v":1556.0845393333332},{"$f":"+'Global Premier Health  Plan'!H79","v":1412.3758235999999},{"$f":"+'Global Premier Health  Plan'!I79","v":1052.2833626666668},{"$f":"+'Global Premier Health  Plan'!J79","v":782.73833493333336}]
[]
["Bupa Global Select Health Plan"]
["Deducibles",null,null,null,"PLAN 1","PLAN 2","PLAN 3","PLAN 4"]
[" En el país de residencia ",null,null,null,250,2000,5000,10000]
[" Fuera del país de residencia ",null,null,null,5000,2000,5000,10000]
[null,null,null,null,"Tarifas Anuales"]
[null,null,null,null,{"$f":"+'Global Select Health  Plan'!G45","v":10422.944995999998},{"$f":"+'Global Select Health  Plan'!H45","v":10001.764606999999},{"$f":"+'Global Select Health  Plan'!I45","v":7501.0610030000007},{"$f":"+'Global Select Health  Plan'!J45","v":5602.6717339999996}]
[null,null,null,null,"Tarifas Semi-anuales"]
[null,null,null,null,{"$f":"+'Global Select Health  Plan'!G55","v":5742.7472199999993},{"$f":"+'Global Select Health  Plan'!H55","v":5508.7581149999996},{"$f":"+'Global Select Health  Plan'!I55","v":4119.4783349999998},{"$f":"+'Global Select Health  Plan'!J55","v":3064.8176299999996}]
[null,null,null,null,"Tarifas Trimestrales"]
[null,null,null,null,{"$f":"+'Global Select Health  Plan'!G67","v":2871.3736099999996},{"$f":"+'Global Select Health  Plan'!H67","v":2754.3790574999998},{"$f":"+'Global Select Health  Plan'!I67","v":2059.7391674999999},{"$f":"+'Global Select Health  Plan'!J67","v":1532.4088149999998}]
[null,null,null,null,"Tarifas Mensuales"]
[null,null,null,null,{"$f":"+'Global Select Health  Plan'!G80","v":1071.9794810666667},{"$f":"+'Global Select Health  Plan'!H80","v":1028.3015147999999},{"$f":"+'Global Select Health  Plan'!I80","v":768.96928919999993},{"$f":"+'Global Select Health  Plan'!J80","v":572.09929093333335}]
[]
["Bupa Global Major Medical Health Plan"]
["Deducibles",null,"PLAN 1","PLAN 2"]
[" En el país de residencia ",null,10000,20000]
[" Fuera del país de residencia ",null,10000,20000]
[null,null,"Tarifas Anuales"]
[null,null,{"$f":"'Global Major Medical Health  Pl'!G44","v":6499.548554},{"$f":"'Global Major Medical Health  Pl'!H44","v":4998.5988170000001}]
[null,null,"Tarifas Semi-anuales"]
[null,null,{"$f":"'Global Major Medical Health  Pl'!G54","v":3563.0825299999997},{"$f":"'Global Major Medical Health  Pl'!H54","v":2729.2215650000003}]
[null,null,"Tarifas Trimestrales"]
[null,null,{"$f":"'Global Major Medical Health  Pl'!G66","v":1781.5412649999998},{"$f":"'Global Major Medical Health  Pl'!H66","v":1364.6107825000001}]
[null,null,"Tarifas Mensuales"]
[null,null,{"$f":"'Global Major Medical Health  Pl'!G78","v":665.10873893333326},{"$f":"'Global Major Medical Health  Pl'!H78","v":509.45469213333337}]
[]
["Notas:"]
["Primas anuales incluyen US$86.00 por Costo Administrativo Anual"]
["Costo administrativo anual incluido en el primer pago de los pagos semestrales, trimestrales y mensuales"]
["*Basado en un modo de pago anual"]
[]
["Tarifas en US$ -  Efectivas a partir del 1ro. de Enero de 2021"]
["Este presupuesto solamente tiene carácter informativo y en ningún momento expresa compromiso legal para suministrarle cobertura de seguro. La emisión de una póliza de seguro Bupa está sujeta a todas las evaluaciones de riesgo por parte de Bupa y a la recepción de todos los pagos de prima requeridos."]

{"sheet":"Tablas","index":7,"n_rows":1497,"n_cols":19,"rows_kept":1497,"cut":false,"hidden":true,"merged":[[752,0,752,1],[752,2,752,6],[825,0,825,6],[826,0,826,6],[827,0,827,1],[827,2,827,6],[751,0,751,6],[675,0,675,6],[676,0,676,6],[677,0,677,1],[677,2,677,6],[750,0,750,6],[527,0,527,1],[527,2,527,6],[600,0,600,6],[601,0,601,6],[602,0,602,1],[602,2,602,6],[526,0,526,6],[450,0,450,6],[451,0,451,6],[452,0,452,1],[452,2,452,6],[525,0,525,6],[376,0,376,1],[376,2,376,6],[150,0,150,6],[151,0,151,6],[152,0,152,1],[152,2,152,6],[225,0,225,6],[226,0,226,1],[375,0,375,6],[226,2,226,6],[300,0,300,6],[301,0,301,6],[302,0,302,1],[302,2,302,6],[1,0,1,6],[2,0,2,6],[77,0,77,1],[77,2,77,6],[76,0,76,6],[3,0,3,1],[3,2,3,6],[900,0,900,6],[901,0,901,6],[902,0,902,1],[902,2,902,6],[975,0,975,6],[976,0,976,1],[976,2,976,6],[1049,0,1049,6],[1050,0,1050,6],[1051,0,1051,1],[1051,2,1051,6],[1124,0,1124,6],[1125,0,1125,6],[1126,0,1126,1],[1126,2,1126,6],[1199,0,1199,6],[1200,0,1200,1],[1200,2,1200,6],[1273,0,1273,6],[1274,0,1274,6],[1275,0,1275,1],[1275,2,1275,6],[1424,0,1424,6],[1425,0,1425,1],[1425,2,1425,6],[1348,0,1348,6],[1349,0,1349,6],[1350,0,1350,1],[1350,2,1350,6],[1423,0,1423,6]]}
[]
["BUPA GLOBAL ELITE",null,null,null,null,null,null,null,"FACTOR MENSUAL:",null,9.3333333333333338E-2,9.3333333333333338E-2,9.3333333333333338E-2,9.3333333333333338E-2,9.3333333333333338E-2,9.3333333333333338E-2]
["TARIFAS ANUALES",null,null,null,null,null,null,null,"FACTOR TRIMESTRAL:",null,0.25,0.27500000000000002,0.27500000000000002,0.27500000000000002,0.27500000000000002,0.27500000000000002]
["EDAD",null,null,null,null,null,null,null,"FACTOR SEMIANUAL:",null,0.5,0.53,0.53,0.53,0.53,0.53]
[" "," ",250,2000,3500,5000,10000]
[18,null,{"$f":"O6","v":6183.75},{"$f":"P6","v":5418.75},4581.5,3974.6,3082.1,null,7275,6375,5390,4676,3626,null,{"$f":"(I6)*0.85","v":6183.75},{"$f":"(J6)*0.85","v":5418.75},4581.5,3974.6,3082.1]
[19,null,{"$f":"O7","v":6183.75},{"$f":"P7","v":5418.75},{"$f":"Q7","v":4581.5},{"$f":"R7","v":3974.6},{"$f":"S7","v":3082.1},null,7275,6375,5390,4676,3626,null,{"$f":"(I7)*0.85","v":6183.75},{"$f":"(J7)*0.85","v":5418.75},{"$f":"(K7)*0.85","v":4581.5},{"$f":"(L7)*0.85","v":3974.6},{"$f":"(M7)*0.85","v":3082.1}]
[20,null,6183.75,5418.75,4581.5,3974.6,3082.1,null,7275,6375,5390,4676,3626,null,6183.75,5418.75,4581.5,3974.6,3082.1]
[21,null,6183.75,5418.75,4581.5,3974.6,3082.1,null,7275,6375,5390,4676,3626,null,6183.75,5418.75,4581.5,3974.6,3082.1]
[22,null,6183.75,5418.75,4581.5,3974.6,3082.1,null,7275,6375,5390,4676,3626,null,6183.75,5418.75,4581.5,3974.6,3082.1]
[23,null,6183.75,5418.75,4581.5,3974.6,3082.1,null,7275,6375,5390,4676,3626,null,6183.75,5418.75,4581.5,3974.6,3082.1]
[24,null,6183.75,5418.75,4581.5,3974.6,3082.1,null,7275,6375,5390,4676,3626,null,6183.75,5418.75,4581.5,3974.6,3082.1]
[25,null,6606.2,5790.2,4866.25,4219.3999999999996,3273.35,null,7772,6812,5725,4964,3851,null,6606.2,5790.2,4866.25,4219.3999999999996,3273.35]
[26,null,6606.2,5790.2,4866.25,4219.3999999999996,3273.35,null,7772,6812,5725,4964,3851,null,6606.2,5790.2,4866.25,4219.3999999999996,3273.35]
[27,null,6606.2,5790.2,4866.25,4219.3999999999996,3273.35,null,7772,6812,5725,4964,3851,null,6606.2,5790.2,4866.25,4219.3999999999996,3273.35]
[28,null,6606.2,5790.2,4866.25,4219.3999999999996,3273.35,null,7772,6812,5725,4964,3851,null,6606.2,5790.2,4866.25,4219.3999999999996,3273.35]
[29,null,6606.2,5790.2,4866.25,4219.3999999999996,3273.35,null,7772,6812,5725,4964,3851,null,6606.2,5790.2,4866.25,4219.3999999999996,3273.35]
[30,null,7346.55,6439.5999999999995,5371.15,4656.3,3611.65,null,8643,7576,6319,5478,4249,null,7346.55,6439.5999999999995,5371.15,4656.3,3611.65]
[31,null,7346.55,6439.5999999999995,5371.15,4656.3,3611.65,null,8643,7576,6319,5478,4249,null,7346.55,6439.5999999999995,5371.15,4656.3,3611.65]
[32,null,7346.55,6439.5999999999995,5371.15,4656.3,3611.65,null,8643,7576,6319,5478,4249,null,7346.55,6439.5999999999995,5371.15,4656.3,3611.65]
[33,null,7346.55,6439.5999999999995,5371.15,4656.3,3611.65,null,8643,7576,6319,5478,4249,null,7346.55,6439.5999999999995,5371.15,4656.3,3611.65]
[34,null,7346.55,6439.5999999999995,5371.15,4656.3,3611.65,null,8643,7576,6319,5478,4249,null,7346.55,6439.5999999999995,5371.15,4656.3,3611.65]
[35,null,8201.65,7186.75,5960.2,5168.8499999999995,4008.6,null,9649,8455,7012,6081,4716,null,8201.65,7186.75,5960.2,5168.8499999999995,4008.6]
[36,null,8201.65,7186.75,5960.2,5168.8499999999995,4008.6,null,9649,8455,7012,6081,4716,null,8201.65,7186.75,5960.2,5168.8499999999995,4008.6]
[37,null,8201.65,7186.75,5960.2,5168.8499999999995,4008.6,null,9649,8455,7012,6081,4716,null,8201.65,7186.75,5960.2,5168.8499999999995,4008.6]
[38,null,8201.65,7186.75,5960.2,5168.8499999999995,4008.6,null,9649,8455,7012,6081,4716,null,8201.65,7186.75,5960.2,5168.8499999999995,4008.6]
[39,null,8201.65,7186.75,5960.2,5168.8499999999995,4008.6,null,9649,8455,7012,6081,4716,null,8201.65,7186.75,5960.2,5168.8499999999995,4008.6]
[40,null,9185.9499999999989,8050.3499999999995,6646.15,5763,4471,null,10807,9471,7819,6780,5260,null,9185.9499999999989,8050.3499999999995,6646.15,5763,4471]
[41,null,9185.9499999999989,8050.3499999999995,6646.15,5763,4471,null,10807,9471,7819,6780,5260,null,9185.9499999999989,8050.3499999999995,6646.15,5763,4471]
[42,null,9185.9499999999989,8050.3499999999995,6646.15,5763,4471,null,10807,9471,7819,6780,5260,null,9185.9499999999989,8050.3499999999995,6646.15,5763,4471]
[43,null,9185.9499999999989,8050.3499999999995,6646.15,5763,4471,null,10807,9471,7819,6780,5260,null,9185.9499999999989,8050.3499999999995,6646.15,5763,4471]
[44,null,9185.9499999999989,8050.3499999999995,6646.15,5763,4471,null,10807,9471,7819,6780,5260,null,9185.9499999999989,8050.3499999999995,6646.15,5763,4471]
[45,null,10279.9,9010,7415.4,6429.4,4986.0999999999995,null,12094,10600,8724,7564,5866,null,10279.9,9010,7415.4,6429.4,4986.0999999999995]
[46,null,10279.9,9010,7415.4,6429.4,4986.0999999999995,null,12094,10600,8724,7564,5866,null,10279.9,9010,7415.4,6429.4,4986.0999999999995]
[47,null,10279.9,9010,7415.4,6429.4,4986.0999999999995,null,12094,10600,8724,7564,5866,null,10279.9,9010,7415.4,6429.4,4986.0999999999995]
[48,null,10279.9,9010,7415.4,6429.4,4986.0999999999995,null,12094,10600,8724,7564,5866,null,10279.9,9010,7415.4,6429.4,4986.0999999999995]
[49,null,10279.9,9010,7415.4,6429.4,4986.0999999999995,null,12094,10600,8724,7564,5866,null,10279.9,9010,7415.4,6429.4,4986.0999999999995]
[50,null,11509.85,10089.5,8283.25,7183.3499999999995,5570.9,null,13541,11870,9745,8451,6554,null,11509.85,10089.5,8283.25,7183.3499999999995,5570.9]
[51,null,11509.85,10089.5,8283.25,7183.3499999999995,5570.9,null,13541,11870,9745,8451,6554,null,11509.85,10089.5,8283.25,7183.3499999999995,5570.9]
[52,null,11509.85,10089.5,8283.25,7183.3499999999995,5570.9,null,13541,11870,9745,8451,6554,null,11509.85,10089.5,8283.25,7183.3499999999995,5570.9]
[53,null,11509.85,10089.5,8283.25,7183.3499999999995,5570.9,null,13541,11870,9745,8451,6554,null,11509.85,10089.5,8283.25,7183.3499999999995,5570.9]
[54,null,11509.85,10089.5,8283.25,7183.3499999999995,5570.9,null,13541,11870,9745,8451,6554,null,11509.85,10089.5,8283.25,7183.3499999999995,5570.9]
[55,null,12867.3,11279.5,9248,8019.75,6220.3,null,15138,13270,10880,9435,7318,null,12867.3,11279.5,9248,8019.75,6220.3]
[56,null,12867.3,11279.5,9248,8019.75,6220.3,null,15138,13270,10880,9435,7318,null,12867.3,11279.5,9248,8019.75,6220.3]
[57,null,12867.3,11279.5,9248,8019.75,6220.3,null,15138,13270,10880,9435,7318,null,12867.3,11279.5,9248,8019.75,6220.3]
[58,null,12867.3,11279.5,9248,8019.75,6220.3,null,15138,13270,10880,9435,7318,null,12867.3,11279.5,9248,8019.75,6220.3]
[59,null,12867.3,11279.5,9248,8019.75,6220.3,null,15138,13270,10880,9435,7318,null,12867.3,11279.5,9248,8019.75,6220.3]
[60,null,13771.699999999999,12071.699999999999,9889.75,8575.65,6650.4,null,16202,14202,11635,10089,7824,null,13771.699999999999,12071.699999999999,9889.75,8575.65,6650.4]
[61,null,15345.9,13452.1,11015.15,9553.15,7407.75,null,18054,15826,12959,11239,8715,null,15345.9,13452.1,11015.15,9553.15,7407.75]
[62,null,17049.3,14943.85,12234.9,10608,8226.2999999999993,null,20058,17581,14394,12480,9678,null,17049.3,14943.85,12234.9,10608,8226.2999999999993]
[63,null,18878.5,16549.5,13549,11747.85,9111.15,null,22210,19470,15940,13821,10719,null,18878.5,16549.5,13549,11747.85,9111.15]
[64,null,20839.45,18264.8,14956.6,12969.3,10057.199999999999,null,24517,21488,17596,15258,11832,null,20839.45,18264.8,14956.6,12969.3,10057.199999999999]
[65,null,22926.2,20096.55,16461.099999999999,14274.05,11070.4,null,26972,23643,19366,16793,13024,null,22926.2,20096.55,16461.099999999999,14274.05,11070.4]
[66,null,25143.85,22039.649999999998,18059.95,15660.4,12146.5,null,29581,25929,21247,18424,14290,null,25143.85,22039.649999999998,18059.95,15660.4,12146.5]
[67,null,27489,24094.1,19755.7,17130.05,13285.5,null,32340,28346,23242,20153,15630,null,27489,24094.1,19755.7,17130.05,13285.5]
[68,null,29961.649999999998,26262.45,21545.8,18683,14489.949999999999,null,35249,30897,25348,21980,17047,null,29961.649999999998,26262.45,21545.8,18683,14489.949999999999]
[69,null,32565.200000000001,28543,23431.95,20319.25,15758.15,null,38312,33580,27567,23905,18539,null,32565.200000000001,28543,23431.95,20319.25,15758.15]
[70,null,35294.549999999996,30936.6,25411.599999999999,22036.25,17089.25,null,41523,36396,29896,25925,20105,null,35294.549999999996,30936.6,25411.599999999999,22036.25,17089.25]
[71,null,38153.1,33442.400000000001,27489,23836.55,18485.8,null,44886,39344,32340,28043,21748,null,38153.1,33442.400000000001,27489,23836.55,18485.8]
[72,null,41140.85,36062.949999999997,29659.899999999998,25717.599999999999,19945.25,null,48401,42427,34894,30256,23465,null,41140.85,36062.949999999997,29659.899999999998,25717.599999999999,19945.25]
[73,null,44257.799999999996,38793.15,31928.55,27684.5,21470.149999999998,null,52068,45639,37563,32570,25259,null,44257.799999999996,38793.15,31928.55,27684.5,21470.149999999998]
[74,null,47503.1,41636.400000000001,34289.85,29733,23058.799999999999,null,55886,48984,40341,34980,27128,null,47503.1,41636.400000000001,34289.85,29733,23058.799999999999]
[75,null,50875.9,44593.549999999996,36746.35,31863.1,24710.35,null,59854,52463,43231,37486,29071,null,50875.9,44593.549999999996,36746.35,31863.1,24710.35]
[76,null,50875.9,44593.549999999996,36746.35,31863.1,24710.35,null,59854,52463,43231,37486,29071,null,50875.9,44593.549999999996,36746.35,31863.1,24710.35]
[77,null,50875.9,44593.549999999996,36746.35,31863.1,24710.35,null,59854,52463,43231,37486,29071,null,50875.9,44593.549999999996,36746.35,31863.1,24710.35]
[78,null,50875.9,44593.549999999996,36746.35,31863.1,24710.35,null,59854,52463,43231,37486,29071,null,50875.9,44593.549999999996,36746.35,31863.1,24710.35]
[79,null,50875.9,44593.549999999996,36746.35,31863.1,24710.35,null,59854,52463,43231,37486,29071,null,50875.9,44593.549999999996,36746.35,31863.1,24710.35]
[80,null,50875.9,44593.549999999996,36746.35,31863.1,24710.35,null,59854,52463,43231,37486,29071,null,50875.9,44593.549999999996,36746.35,31863.1,24710.35]
[81,null,50875.9,44593.549999999996,36746.35,31863.1,24710.35,null,59854,52463,43231,37486,29071,null,50875.9,44593.549999999996,36746.35,31863.1,24710.35]
[82,null,50875.9,44593.549999999996,36746.35,31863.1,24710.35,null,59854,52463,43231,37486,29071,null,50875.9,44593.549999999996,36746.35,31863.1,24710.35]
[83,null,{"$f":"O71","v":50875.9},{"$f":"P71","v":44593.549999999996},{"$f":"Q71","v":36746.35},{"$f":"R71","v":31863.1},{"$f":"S71","v":24710.35},null,59854,52463,43231,37486,29071,null,{"$f":"(I71)*0.85","v":50875.9},{"$f":"(J71)*0.85","v":44593.549999999996},{"$f":"(K71)*0.85","v":36746.35},{"$f":"(L71)*0.85","v":31863.1},{"$f":"(M71)*0.85","v":24710.35}]
[84,"o más",50875.9,44593.549999999996,36746.35,31863.1,24710.35,null,59854,52463,43231,37486,29071,null,50875.9,44593.549999999996,36746.35,31863.1,24710.35]
[1,"Hijo",{"$f":"O73","v":2613.75},{"$f":"P73","v":2290.75},{"$f":"Q73","v":1949.8999999999999},{"$f":"R73","v":1691.5},{"$f":"S73","v":1311.55},null,3075,2695,2294,1990,1543,null,{"$f":"I73*0.85","v":2613.75},{"$f":"J73*0.85","v":2290.75},{"$f":"K73*0.85","v":1949.8999999999999},{"$f":"L73*0.85","v":1691.5},{"$f":"M73*0.85","v":1311.55}]
[2,"Hijos",4441.25,3893.85,3315,2875.5499999999997,2229.5499999999997,null,5225,4581,3900,3383,2623,null,{"$f":"I74*0.85","v":4441.25},{"$f":"J74*0.85","v":3893.85},{"$f":"K74*0.85","v":3315},{"$f":"L74*0.85","v":2875.5499999999997},{"$f":"M74*0.85","v":2229.5499999999997}]
[3,"Hijos o más",6271.3,5496.0999999999995,4679.25,4057.9,3147.5499999999997,null,7378,6466,5505,4774,3703,null,6271.3,5496.0999999999995,4679.25,4057.9,3147.5499999999997]
[]
["BUPA GLOBAL ELITE - MENSUALES"]
["EDAD"]
[" "," ",1000,2000,3500]
[18,null,{"$f":"C6*$K$2","v":577.15},{"$f":"D6*$K$2","v":505.75},427.60666666666668,370.96266666666668,287.66266666666667,null,{"$f":"I6*$K$2","v":679},{"$f":"J6*$K$2","v":595},503.06666666666666,436.42666666666668,338.42666666666668,null,{"$f":"I80*0.85","v":577.15},{"$f":"J80*0.85","v":505.75},427.60666666666663,370.96266666666668,287.66266666666667]
[19,null,{"$f":"C7*$K$2","v":577.15},505.75,427.60666666666668,370.96266666666668,287.66266666666667,null,{"$f":"I7*$K$2","v":679},595,503.06666666666666,436.42666666666668,338.42666666666668,null,{"$f":"I81*0.85","v":577.15},{"$f":"J81*0.85","v":505.75},{"$f":"K81*0.85","v":427.60666666666663},{"$f":"L81*0.85","v":370.96266666666668},{"$f":"M81*0.85","v":287.66266666666667}]
[20,null,{"$f":"C8*$K$2","v":577.15},505.75,427.60666666666668,370.96266666666668,287.66266666666667,null,679,595,503.06666666666666,436.42666666666668,338.42666666666668,null,577.15,505.75,427.60666666666663,370.96266666666668,287.66266666666667]
[21,null,{"$f":"C9*$K$2","v":577.15},505.75,427.60666666666668,370.96266666666668,287.66266666666667,null,679,595,503.06666666666666,436.42666666666668,338.42666666666668,null,577.15,505.75,427.60666666666663,370.96266666666668,287.66266666666667]
[22,null,{"$f":"C10*$K$2","v":577.15},505.75,427.60666666666668,370.96266666666668,287.66266666666667,null,679,595,503.06666666666666,436.42666666666668,338.42666666666668,null,577.15,505.75,427.60666666666663,370.96266666666668,287.66266666666667]
[23,null,{"$f":"C11*$K$2","v":577.15},505.75,427.60666666666668,370.96266666666668,287.66266666666667,null,679,595,503.06666666666666,436.42666666666668,338.42666666666668,null,577.15,505.75,427.60666666666663,370.96266666666668,287.66266666666667]
[24,null,{"$f":"C12*$K$2","v":577.15},505.75,427.60666666666668,370.96266666666668,287.66266666666667,null,679,595,503.06666666666666,436.42666666666668,338.42666666666668,null,577.15,505.75,427.60666666666663,370.96266666666668,287.66266666666667]
[25,null,{"$f":"C13*$K$2","v":616.57866666666666},540.4186666666667,454.18333333333334,393.81066666666663,305.51266666666669,null,725.38666666666666,635.78666666666675,534.33333333333337,463.30666666666667,359.42666666666668,null,616.57866666666666,540.4186666666667,454.18333333333334,393.81066666666663,305.51266666666669]
[26,null,{"$f":"C14*$K$2","v":616.57866666666666},540.4186666666667,454.18333333333334,393.81066666666663,305.51266666666669,null,725.38666666666666,635.78666666666675,534.33333333333337,463.30666666666667,359.42666666666668,null,616.57866666666666,540.4186666666667,454.18333333333334,393.81066666666663,305.51266666666669]
[27,null,{"$f":"C15*$K$2","v":616.57866666666666},540.4186666666667,454.18333333333334,393.81066666666663,305.51266666666669,null,725.38666666666666,635.78666666666675,534.33333333333337,463.30666666666667,359.42666666666668,null,616.57866666666666,540.4186666666667,454.18333333333334,393.81066666666663,305.51266666666669]
[28,null,{"$f":"C16*$K$2","v":616.57866666666666},540.4186666666667,454.18333333333334,393.81066666666663,305.51266666666669,null,725.38666666666666,635.78666666666675,534.33333333333337,463.30666666666667,359.42666666666668,null,616.57866666666666,540.4186666666667,454.18333333333334,393.81066666666663,305.51266666666669]
[29,null,{"$f":"C17*$K$2","v":616.57866666666666},540.4186666666667,454.18333333333334,393.81066666666663,305.51266666666669,null,725.38666666666666,635.78666666666675,534.33333333333337,463.30666666666667,359.42666666666668,null,616.57866666666666,540.4186666666667,454.18333333333334,393.81066666666663,305.51266666666669]
[30,null,{"$f":"C18*$K$2","v":685.678},601.02933333333328,501.3073333333333,434.58800000000002,337.08733333333333,null,806.68000000000006,707.09333333333336,589.77333333333331,511.28000000000003,396.57333333333332,null,685.678,601.0293333333334,501.3073333333333,434.58800000000002,337.08733333333333]
[31,null,{"$f":"C19*$K$2","v":685.678},601.02933333333328,501.3073333333333,434.58800000000002,337.08733333333333,null,806.68000000000006,707.09333333333336,589.77333333333331,511.28000000000003,396.57333333333332,null,685.678,601.0293333333334,501.3073333333333,434.58800000000002,337.08733333333333]
[32,null,{"$f":"C20*$K$2","v":685.678},601.02933333333328,501.3073333333333,434.58800000000002,337.08733333333333,null,806.68000000000006,707.09333333333336,589.77333333333331,511.28000000000003,396.57333333333332,null,685.678,601.0293333333334,501.3073333333333,434.58800000000002,337.08733333333333]
[33,null,{"$f":"C21*$K$2","v":685.678},601.02933333333328,501.3073333333333,434.58800000000002,337.08733333333333,null,806.68000000000006,707.09333333333336,589.77333333333331,511.28000000000003,396.57333333333332,null,685.678,601.0293333333334,501.3073333333333,434.58800000000002,337.08733333333333]
[34,null,{"$f":"C22*$K$2","v":685.678},601.02933333333328,501.3073333333333,434.58800000000002,337.08733333333333,null,806.68000000000006,707.09333333333336,589.77333333333331,511.28000000000003,396.57333333333332,null,685.678,601.0293333333334,501.3073333333333,434.58800000000002,337.08733333333333]
[35,null,{"$f":"C23*$K$2","v":765.48733333333337},670.76333333333332,556.28533333333337,482.42599999999999,374.13600000000002,null,900.57333333333338,789.13333333333333,654.45333333333338,567.56000000000006,440.16,null,765.48733333333337,670.76333333333332,556.28533333333337,482.42600000000004,374.13600000000002]
[36,null,{"$f":"C24*$K$2","v":765.48733333333337},670.76333333333332,556.28533333333337,482.42599999999999,374.13600000000002,null,900.57333333333338,789.13333333333333,654.45333333333338,567.56000000000006,440.16,null,765.48733333333337,670.76333333333332,556.28533333333337,482.42600000000004,374.13600000000002]
[37,null,{"$f":"C25*$K$2","v":765.48733333333337},670.76333333333332,556.28533333333337,482.42599999999999,374.13600000000002,null,900.57333333333338,789.13333333333333,654.45333333333338,567.56000000000006,440.16,null,765.48733333333337,670.76333333333332,556.28533333333337,482.42600000000004,374.13600000000002]
[38,null,{"$f":"C26*$K$2","v":765.48733333333337},670.76333333333332,556.28533333333337,482.42599999999999,374.13600000000002,null,900.57333333333338,789.13333333333333,654.45333333333338,567.56000000000006,440.16,null,765.48733333333337,670.76333333333332,556.28533333333337,482.42600000000004,374.13600000000002]
[39,null,{"$f":"C27*$K$2","v":765.48733333333337},670.76333333333332,556.28533333333337,482.42599999999999,374.13600000000002,null,900.57333333333338,789.13333333333333,654.45333333333338,567.56000000000006,440.16,null,765.48733333333337,670.76333333333332,556.28533333333337,482.42600000000004,374.13600000000002]
[40,null,{"$f":"C28*$K$2","v":857.35533333333331},751.36599999999999,620.3073333333333,537.88,417.29333333333335,null,1008.6533333333334,883.96,729.77333333333331,632.80000000000007,490.93333333333334,null,857.35533333333342,751.36599999999999,620.3073333333333,537.88,417.29333333333335]
[41,null,{"$f":"C29*$K$2","v":857.35533333333331},751.36599999999999,620.3073333333333,537.88,417.29333333333335,null,1008.6533333333334,883.96,729.77333333333331,632.80000000000007,490.93333333333334,null,857.35533333333342,751.36599999999999,620.3073333333333,537.88,417.29333333333335]
[42,null,{"$f":"C30*$K$2","v":857.35533333333331},751.36599999999999,620.3073333333333,537.88,417.29333333333335,null,1008.6533333333334,883.96,729.77333333333331,632.80000000000007,490.93333333333334,null,857.35533333333342,751.36599999999999,620.3073333333333,537.88,417.29333333333335]
[43,null,{"$f":"C31*$K$2","v":857.35533333333331},751.36599999999999,620.3073333333333,537.88,417.29333333333335,null,1008.6533333333334,883.96,729.77333333333331,632.80000000000007,490.93333333333334,null,857.35533333333342,751.36599999999999,620.3073333333333,537.88,417.29333333333335]
[44,null,{"$f":"C32*$K$2","v":857.35533333333331},751.36599999999999,620.3073333333333,537.88,417.29333333333335,null,1008.6533333333334,883.96,729.77333333333331,632.80000000000007,490.93333333333334,null,857.35533333333342,751.36599999999999,620.3073333333333,537.88,417.29333333333335]
[45,null,{"$f":"C33*$K$2","v":959.45733333333339},840.93333333333339,692.10400000000004,600.07733333333329,465.36933333333332,null,1128.7733333333333,989.33333333333337,814.24,705.97333333333336,547.49333333333334,null,959.45733333333328,840.93333333333339,692.10400000000004,600.07733333333329,465.36933333333332]
[46,null,{"$f":"C34*$K$2","v":959.45733333333339},840.93333333333339,692.10400000000004,600.07733333333329,465.36933333333332,null,1128.7733333333333,989.33333333333337,814.24,705.97333333333336,547.49333333333334,null,959.45733333333328,840.93333333333339,692.10400000000004,600.07733333333329,465.36933333333332]
[47,null,{"$f":"C35*$K$2","v":959.45733333333339},840.93333333333339,692.10400000000004,600.07733333333329,465.36933333333332,null,1128.7733333333333,989.33333333333337,814.24,705.97333333333336,547.49333333333334,null,959.45733333333328,840.93333333333339,692.10400000000004,600.07733333333329,465.36933333333332]
[48,null,{"$f":"C36*$K$2","v":959.45733333333339},840.93333333333339,692.10400000000004,600.07733333333329,465.36933333333332,null,1128.7733333333333,989.33333333333337,814.24,705.97333333333336,547.49333333333334,null,959.45733333333328,840.93333333333339,692.10400000000004,600.07733333333329,465.36933333333332]
[49,null,{"$f":"C37*$K$2","v":959.45733333333339},840.93333333333339,692.10400000000004,600.07733333333329,465.36933333333332,null,1128.7733333333333,989.33333333333337,814.24,705.97333333333336,547.49333333333334,null,959.45733333333328,840.93333333333339,692.10400000000004,600.07733333333329,465.36933333333332]
[50,null,{"$f":"C38*$K$2","v":1074.2526666666668},941.68666666666672,773.10333333333335,670.44600000000003,519.95066666666662,null,1263.8266666666668,1107.8666666666668,909.53333333333342,788.76,611.70666666666671,null,1074.2526666666668,941.68666666666672,773.10333333333335,670.44600000000003,519.95066666666673]
[51,null,{"$f":"C39*$K$2","v":1074.2526666666668},941.68666666666672,773.10333333333335,670.44600000000003,519.95066666666662,null,1263.8266666666668,1107.8666666666668,909.53333333333342,788.76,611.70666666666671,null,1074.2526666666668,941.68666666666672,773.10333333333335,670.44600000000003,519.95066666666673]
[52,null,{"$f":"C40*$K$2","v":1074.2526666666668},941.68666666666672,773.10333333333335,670.44600000000003,519.95066666666662,null,1263.8266666666668,1107.8666666666668,909.53333333333342,788.76,611.70666666666671,null,1074.2526666666668,941.68666666666672,773.10333333333335,670.44600000000003,519.95066666666673]
[53,null,{"$f":"C41*$K$2","v":1074.2526666666668},941.68666666666672,773.10333333333335,670.44600000000003,519.95066666666662,null,1263.8266666666668,1107.8666666666668,909.53333333333342,788.76,611.70666666666671,null,1074.2526666666668,941.68666666666672,773.10333333333335,670.44600000000003,519.95066666666673]
[54,null,{"$f":"C42*$K$2","v":1074.2526666666668},941.68666666666672,773.10333333333335,670.44600000000003,519.95066666666662,null,1263.8266666666668,1107.8666666666668,909.53333333333342,788.76,611.70666666666671,null,1074.2526666666668,941.68666666666672,773.10333333333335,670.44600000000003,519.95066666666673]
[55,null,{"$f":"C43*$K$2","v":1200.9480000000001},1052.7533333333333,863.14666666666676,748.51,580.56133333333332,null,1412.88,1238.5333333333333,1015.4666666666667,880.6,683.01333333333332,null,1200.9480000000001,1052.7533333333333,863.14666666666665,748.51,580.56133333333332]
[56,null,{"$f":"C44*$K$2","v":1200.9480000000001},1052.7533333333333,863.14666666666676,748.51,580.56133333333332,null,1412.88,1238.5333333333333,1015.4666666666667,880.6,683.01333333333332,null,1200.9480000000001,1052.7533333333333,863.14666666666665,748.51,580.56133333333332]
[57,null,{"$f":"C45*$K$2","v":1200.9480000000001},1052.7533333333333,863.14666666666676,748.51,580.56133333333332,null,1412.88,1238.5333333333333,1015.4666666666667,880.6,683.01333333333332,null,1200.9480000000001,1052.7533333333333,863.14666666666665,748.51,580.56133333333332]
[58,null,{"$f":"C46*$K$2","v":1200.9480000000001},1052.7533333333333,863.14666666666676,748.51,580.56133333333332,null,1412.88,1238.5333333333333,1015.4666666666667,880.6,683.01333333333332,null,1200.9480000000001,1052.7533333333333,863.14666666666665,748.51,580.56133333333332]
[59,null,{"$f":"C47*$K$2","v":1200.9480000000001},1052.7533333333333,863.14666666666676,748.51,580.56133333333332,null,1412.88,1238.5333333333333,1015.4666666666667,880.6,683.01333333333332,null,1200.9480000000001,1052.7533333333333,863.14666666666665,748.51,580.56133333333332]
[60,null,{"$f":"C48*$K$2","v":1285.3586666666665},1126.692,923.04333333333341,800.39400000000001,620.70399999999995,null,1512.1866666666667,1325.52,1085.9333333333334,941.64,730.24,null,1285.3586666666667,1126.692,923.04333333333341,800.39400000000001,620.70399999999995]
[61,null,{"$f":"C49*$K$2","v":1432.2840000000001},1255.5293333333334,1028.0806666666667,891.62733333333335,691.39,null,1685.04,1477.0933333333335,1209.5066666666667,1048.9733333333334,813.40000000000009,null,1432.2839999999999,1255.5293333333334,1028.0806666666667,891.62733333333335,691.3900000000001]
[62,null,{"$f":"C50*$K$2","v":1591.268},1394.7593333333334,1141.924,990.08,767.78800000000001,null,1872.0800000000002,1640.8933333333334,1343.44,1164.8,903.28000000000009,null,1591.268,1394.7593333333334,1141.924,990.07999999999993,767.78800000000001]
[63,null,{"$f":"C51*$K$2","v":1761.9933333333333},1544.6200000000001,1264.5733333333335,1096.4660000000001,850.37400000000002,null,2072.9333333333334,1817.2,1487.7333333333333,1289.96,1000.44,null,1761.9933333333333,1544.62,1264.5733333333333,1096.4659999999999,850.37400000000002]
[64,null,{"$f":"C52*$K$2","v":1945.0153333333335},1704.7146666666667,1395.9493333333335,1210.4680000000001,938.67199999999991,null,2288.2533333333336,2005.5466666666669,1642.2933333333335,1424.0800000000002,1104.3200000000002,null,1945.0153333333335,1704.7146666666667,1395.9493333333335,1210.4680000000001,938.67200000000014]
[65,null,{"$f":"C53*$K$2","v":2139.778666666667},1875.6780000000001,1536.3693333333333,1332.2446666666667,1033.2373333333333,null,2517.3866666666668,2206.6800000000003,1807.4933333333333,1567.3466666666668,1215.5733333333335,null,2139.7786666666666,1875.6780000000001,1536.3693333333333,1332.2446666666667,1033.2373333333335]
[66,null,{"$f":"C54*$K$2","v":2346.7593333333334},2057.0340000000001,1685.5953333333334,1461.6373333333333,1133.6733333333334,null,2760.8933333333334,2420.04,1983.0533333333335,1719.5733333333335,{"$f":"M54*$K$2","v":1333.7333333333333},null,2346.7593333333334,2057.0340000000001,1685.5953333333334,1461.6373333333333,1133.6733333333334]
[67,null,{"$f":"C55*$K$2","v":2565.6400000000003},2248.7826666666665,1843.8653333333334,1598.8046666666667,1239.98,null,3018.4,2645.626666666667,2169.2533333333336,1880.9466666666667,1458.8,null,2565.64,2248.782666666667,1843.8653333333334,1598.8046666666667,1239.98]
[68,null,{"$f":"C56*$K$2","v":2796.4206666666664},2451.1620000000003,2010.9413333333334,1743.7466666666667,1352.3953333333334,null,3289.9066666666668,2883.7200000000003,2365.8133333333335,2051.4666666666667,1591.0533333333335,null,2796.4206666666669,2451.1620000000003,2010.9413333333334,1743.7466666666667,1352.3953333333334]
[69,null,{"$f":"C57*$K$2","v":3039.4186666666669},2664.0133333333333,2186.982,1896.4633333333334,1470.7606666666668,null,3575.7866666666669,3134.1333333333337,2572.92,2231.1333333333332,1730.3066666666668,null,3039.4186666666669,2664.0133333333333,2186.982,1896.4633333333331,1470.7606666666668]
[70,null,{"$f":"C58*$K$2","v":3294.1579999999999},2887.4160000000002,2371.7493333333332,2056.7166666666667,1594.9966666666667,null,3875.48,3396.96,2790.2933333333335,2419.666666666667,1876.4666666666667,null,3294.1579999999999,2887.4160000000002,2371.7493333333337,2056.7166666666667,1594.9966666666667]
[71,null,{"$f":"C59*$K$2","v":3560.9560000000001},3121.2906666666668,2565.6400000000003,2224.7446666666665,1725.3413333333333,null,4189.3600000000006,3672.106666666667,3018.4,2617.3466666666668,2029.8133333333335,null,3560.9560000000006,3121.2906666666668,2565.64,2224.7446666666669,1725.3413333333335]
[72,null,{"$f":"C60*$K$2","v":3839.8126666666667},3365.8753333333334,2768.2573333333335,2400.3093333333331,1861.5566666666668,null,4517.4266666666672,3959.8533333333335,3256.7733333333335,2823.8933333333334,2190.0666666666666,null,3839.8126666666672,3365.8753333333334,2768.2573333333335,2400.3093333333331,1861.5566666666666]
[73,null,{"$f":"C61*$K$2","v":4130.7280000000001},3620.6940000000004,2979.998,2583.8866666666668,2003.8806666666665,null,4859.68,4259.6400000000003,3505.88,3039.8666666666668,2357.5066666666667,null,4130.7280000000001,3620.694,2979.998,2583.8866666666668,2003.8806666666667]
[74,null,{"$f":"C62*$K$2","v":4433.6226666666671},3886.0640000000003,3200.386,2775.08,2152.1546666666668,null,5216.0266666666666,4571.84,3765.1600000000003,3264.8,2531.9466666666667,null,4433.6226666666662,3886.0639999999999,3200.386,2775.08,2152.1546666666668]
[75,null,{"$f":"C63*$K$2","v":4748.4173333333338},4162.0646666666662,3429.6593333333335,2973.8893333333335,2306.2993333333334,null,5586.3733333333339,4896.5466666666671,4034.8933333333334,3498.6933333333336,2713.2933333333335,null,4748.4173333333338,4162.0646666666671,3429.6593333333335,2973.8893333333335,2306.2993333333334]
[76,null,{"$f":"C64*$K$2","v":4748.4173333333338},4162.0646666666662,3429.6593333333335,2973.8893333333335,2306.2993333333334,null,5586.3733333333339,4896.5466666666671,4034.8933333333334,3498.6933333333336,2713.2933333333335,null,4748.4173333333338,4162.0646666666671,3429.6593333333335,2973.8893333333335,2306.2993333333334]
[77,null,{"$f":"C65*$K$2","v":4748.4173333333338},4162.0646666666662,3429.6593333333335,2973.8893333333335,2306.2993333333334,null,5586.3733333333339,4896.5466666666671,4034.8933333333334,3498.6933333333336,2713.2933333333335,null,4748.4173333333338,4162.0646666666671,3429.6593333333335,2973.8893333333335,2306.2993333333334]
[78,null,{"$f":"C66*$K$2","v":4748.4173333333338},4162.0646666666662,3429.6593333333335,2973.8893333333335,2306.2993333333334,null,5586.3733333333339,4896.5466666666671,4034.8933333333334,3498.6933333333336,2713.2933333333335,null,4748.4173333333338,4162.0646666666671,3429.6593333333335,2973.8893333333335,2306.2993333333334]
[79,null,{"$f":"C67*$K$2","v":4748.4173333333338},4162.0646666666662,3429.6593333333335,2973.8893333333335,2306.2993333333334,null,5586.3733333333339,4896.5466666666671,4034.8933333333334,3498.6933333333336,2713.2933333333335,null,4748.4173333333338,4162.0646666666671,3429.6593333333335,2973.8893333333335,2306.2993333333334]
[80,null,{"$f":"C68*$K$2","v":4748.4173333333338},4162.0646666666662,3429.6593333333335,2973.8893333333335,2306.2993333333334,null,5586.3733333333339,4896.5466666666671,4034.8933333333334,3498.6933333333336,2713.2933333333335,null,4748.4173333333338,4162.0646666666671,3429.6593333333335,2973.8893333333335,2306.2993333333334]
[81,null,{"$f":"C69*$K$2","v":4748.4173333333338},4162.0646666666662,3429.6593333333335,2973.8893333333335,2306.2993333333334,null,5586.3733333333339,4896.5466666666671,4034.8933333333334,3498.6933333333336,2713.2933333333335,null,4748.4173333333338,4162.0646666666671,3429.6593333333335,2973.8893333333335,2306.2993333333334]
[82,null,{"$f":"C70*$K$2","v":4748.4173333333338},4162.0646666666662,3429.6593333333335,2973.8893333333335,2306.2993333333334,null,5586.3733333333339,{"$f":"J70*$K$2","v":4896.5466666666671},4034.8933333333334,3498.6933333333336,2713.2933333333335,null,4748.4173333333338,4162.0646666666671,3429.6593333333335,2973.8893333333335,2306.2993333333334]
[83,null,{"$f":"C71*$K$2","v":4748.4173333333338},4162.0646666666662,3429.6593333333335,2973.8893333333335,2306.2993333333334,null,{"$f":"I71*$K$2","v":5586.3733333333339},4896.5466666666671,4034.8933333333334,3498.6933333333336,2713.2933333333335,null,{"$f":"I145*0.85","v":4748.4173333333338},{"$f":"J145*0.85","v":4162.0646666666671},{"$f":"K145*0.85","v":3429.6593333333335},{"$f":"L145*0.85","v":2973.8893333333335},{"$f":"M145*0.85","v":2306.2993333333334}]
[84,"o más",{"$f":"C72*$K$2","v":4748.4173333333338},4162.0646666666662,3429.6593333333335,2973.8893333333335,2306.2993333333334,null,5586.3733333333339,4896.5466666666671,4034.8933333333334,3498.6933333333336,2713.2933333333335,null,{"$f":"I146*0.85","v":4748.4173333333338},{"$f":"J146*0.85","v":4162.0646666666671},{"$f":"K146*0.85","v":3429.6593333333335},{"$f":"L146*0.85","v":2973.8893333333335},{"$f":"M146*0.85","v":2306.2993333333334}]
[1,"Hijo",{"$f":"C73*$K$2","v":243.95000000000002},213.80333333333334,181.99066666666667,157.87333333333333,122.41133333333333,null,287,251.53333333333333,214.10666666666668,185.73333333333335,144.01333333333335,null,{"$f":"I147*0.85","v":243.95},213.80333333333331,181.99066666666667,157.87333333333333,122.41133333333335]
[2,"Hijos",{"$f":"C74*$K$2","v":414.51666666666671},363.42599999999999,309.40000000000003,268.38466666666665,208.09133333333332,null,487.66666666666669,427.56,364,315.74666666666667,244.81333333333333,null,{"$f":"I148*0.85","v":414.51666666666665},{"$f":"J148*0.85","v":363.42599999999999},{"$f":"K148*0.85","v":309.39999999999998},{"$f":"L148*0.85","v":268.38466666666665},{"$f":"M148*0.85","v":208.09133333333332}]
[3,"Hijos o más",{"$f":"C75*$K$2","v":585.32133333333343},512.96933333333334,436.73,378.73733333333337,293.7713333333333,null,688.61333333333334,603.49333333333334,513.80000000000007,445.57333333333338,345.61333333333334,null,585.32133333333331,512.96933333333334,436.73,378.73733333333337,293.77133333333336]
[]
["BUPA GLOBAL PREMIER"]
["TARIFAS ANUALES"]
["EDAD"]
[" "," ",250,2000,5000,10000]
[18,null,{"$f":"O155","v":4063.85},{"$f":"P155","v":3686.45},2822.85,2099.5,null,null,4781,4337,3321,2470,null,null,{"$f":"I155*0.85","v":4063.85},{"$f":"J155*0.85","v":3686.45},2822.85,2099.5]
[19,null,{"$f":"O156","v":4063.85},{"$f":"P156","v":3686.45},{"$f":"Q156","v":2822.85},{"$f":"R156","v":2099.5},null,null,4781,4337,3321,2470,null,null,{"$f":"I156*0.85","v":4063.85},{"$f":"J156*0.85","v":3686.45},{"$f":"K156*0.85","v":2822.85},{"$f":"L156*0.85","v":2099.5}]
[20,null,4063.85,3686.45,2822.85,2099.5,null,null,4781,4337,3321,2470,null,null,4063.85,3686.45,2822.85,2099.5]
[21,null,4063.85,3686.45,2822.85,2099.5,null,null,4781,4337,3321,2470,null,null,4063.85,3686.45,2822.85,2099.5]
[22,null,4063.85,3686.45,2822.85,2099.5,null,null,4781,4337,3321,2470,null,null,4063.85,3686.45,2822.85,2099.5]
[23,null,4063.85,3686.45,2822.85,2099.5,null,null,4781,4337,3321,2470,null,null,4063.85,3686.45,2822.85,2099.5]
[24,null,4063.85,3686.45,2822.85,2099.5,null,null,4781,4337,3321,2470,null,null,4063.85,3686.45,2822.85,2099.5]
[25,null,4343.5,3939.75,2984.35,2220.1999999999998,null,null,5110,4635,3511,2612,null,null,4343.5,3939.75,2984.35,2220.1999999999998]
[26,null,4343.5,3939.75,2984.35,2220.1999999999998,null,null,5110,4635,3511,2612,null,null,4343.5,3939.75,2984.35,2220.1999999999998]
[27,null,4343.5,3939.75,2984.35,2220.1999999999998,null,null,5110,4635,3511,2612,null,null,4343.5,3939.75,2984.35,2220.1999999999998]
[28,null,4343.5,3939.75,2984.35,2220.1999999999998,null,null,5110,4635,3511,2612,null,null,4343.5,3939.75,2984.35,2220.1999999999998]
[29,null,4343.5,3939.75,2984.35,2220.1999999999998,null,null,5110,4635,3511,2612,null,null,4343.5,3939.75,2984.35,2220.1999999999998]
[30,null,4829.7,4383.45,3276.75,2436.9499999999998,null,null,5682,5157,3855,2867,null,null,4829.7,4383.45,3276.75,2436.9499999999998]
[31,null,4829.7,4383.45,3276.75,2436.9499999999998,null,null,5682,5157,3855,2867,null,null,4829.7,4383.45,3276.75,2436.9499999999998]
[32,null,4829.7,4383.45,3276.75,2436.9499999999998,null,null,5682,5157,3855,2867,null,null,4829.7,4383.45,3276.75,2436.9499999999998]
[33,null,4829.7,4383.45,3276.75,2436.9499999999998,null,null,5682,5157,3855,2867,null,null,4829.7,4383.45,3276.75,2436.9499999999998]
[34,null,4829.7,4383.45,3276.75,2436.9499999999998,null,null,5682,5157,3855,2867,null,null,4829.7,4383.45,3276.75,2436.9499999999998]
[35,null,5389.8499999999995,4891.75,3621.85,2693.65,null,null,6341,5755,4261,3169,null,null,5389.8499999999995,4891.75,3621.85,2693.65]
[36,null,5389.8499999999995,4891.75,3621.85,2693.65,null,null,6341,5755,4261,3169,null,null,5389.8499999999995,4891.75,3621.85,2693.65]
[37,null,5389.8499999999995,4891.75,3621.85,2693.65,null,null,6341,5755,4261,3169,null,null,5389.8499999999995,4891.75,3621.85,2693.65]
[38,null,5389.8499999999995,4891.75,3621.85,2693.65,null,null,6341,5755,4261,3169,null,null,5389.8499999999995,4891.75,3621.85,2693.65]
[39,null,5389.8499999999995,4891.75,3621.85,2693.65,null,null,6341,5755,4261,3169,null,null,5389.8499999999995,4891.75,3621.85,2693.65]
[40,null,6036.7,5479.0999999999995,4024.75,2994.5499999999997,null,null,7102,6446,4735,3523,null,null,6036.7,5479.0999999999995,4024.75,2994.5499999999997]
[41,null,6036.7,5479.0999999999995,4024.75,2994.5499999999997,null,null,7102,6446,4735,3523,null,null,6036.7,5479.0999999999995,4024.75,2994.5499999999997]
[42,null,6036.7,5479.0999999999995,4024.75,2994.5499999999997,null,null,7102,6446,4735,3523,null,null,6036.7,5479.0999999999995,4024.75,2994.5499999999997]
[43,null,6036.7,5479.0999999999995,4024.75,2994.5499999999997,null,null,7102,6446,4735,3523,null,null,6036.7,5479.0999999999995,4024.75,2994.5499999999997]
[44,null,6036.7,5479.0999999999995,4024.75,2994.5499999999997,null,null,7102,6446,4735,3523,null,null,6036.7,5479.0999999999995,4024.75,2994.5499999999997]
[45,null,6755.8,6131.9,4479.5,3332,null,null,7948,7214,5270,3920,null,null,6755.8,6131.9,4479.5,3332]
[46,null,6755.8,6131.9,4479.5,3332,null,null,7948,7214,5270,3920,null,null,6755.8,6131.9,4479.5,3332]
[47,null,6755.8,6131.9,4479.5,3332,null,null,7948,7214,5270,3920,null,null,6755.8,6131.9,4479.5,3332]
[48,null,6755.8,6131.9,4479.5,3332,null,null,7948,7214,5270,3920,null,null,6755.8,6131.9,4479.5,3332]
[49,null,6755.8,6131.9,4479.5,3332,null,null,7948,7214,5270,3920,null,null,6755.8,6131.9,4479.5,3332]
[50,null,7566.7,6866.3,4997.1499999999996,3717.9,null,null,8902,8078,5879,4374,null,null,7566.7,6866.3,4997.1499999999996,3717.9]
[51,null,7566.7,6866.3,4997.1499999999996,3717.9,null,null,8902,8078,5879,4374,null,null,7566.7,6866.3,4997.1499999999996,3717.9]
[52,null,7566.7,6866.3,4997.1499999999996,3717.9,null,null,8902,8078,5879,4374,null,null,7566.7,6866.3,4997.1499999999996,3717.9]
[53,null,7566.7,6866.3,4997.1499999999996,3717.9,null,null,8902,8078,5879,4374,null,null,7566.7,6866.3,4997.1499999999996,3717.9]
[54,null,7566.7,6866.3,4997.1499999999996,3717.9,null,null,8902,8078,5879,4374,null,null,7566.7,6866.3,4997.1499999999996,3717.9]
[55,null,8457.5,7676.3499999999995,5571.75,4145.45,null,null,9950,9031,6555,4877,null,null,8457.5,7676.3499999999995,5571.75,4145.45]
[56,null,8457.5,7676.3499999999995,5571.75,4145.45,null,null,9950,9031,6555,4877,null,null,8457.5,7676.3499999999995,5571.75,4145.45]
[57,null,8457.5,7676.3499999999995,5571.75,4145.45,null,null,9950,9031,6555,4877,null,null,8457.5,7676.3499999999995,5571.75,4145.45]
[58,null,8457.5,7676.3499999999995,5571.75,4145.45,null,null,9950,9031,6555,4877,null,null,8457.5,7676.3499999999995,5571.75,4145.45]
[59,null,8457.5,7676.3499999999995,5571.75,4145.45,null,null,9950,9031,6555,4877,null,null,8457.5,7676.3499999999995,5571.75,4145.45]
[60,null,9052.5,8213.5499999999993,5955.95,4429.3499999999995,null,null,10650,9663,7007,5211,null,null,9052.5,8213.5499999999993,5955.95,4429.3499999999995]
[61,null,10085.25,9151.9499999999989,6628.3,4930.8499999999995,null,null,11865,10767,7798,5801,null,null,10085.25,9151.9499999999989,6628.3,4930.8499999999995]
[62,null,11203.85,10169.4,7361.8499999999995,5476.55,null,null,13181,11964,8661,6443,null,null,11203.85,10169.4,7361.8499999999995,5476.55]
[63,null,12408.3,11260.8,8152.3499999999995,6063.05,null,null,14598,13248,9591,7133,null,null,12408.3,11260.8,8152.3499999999995,6063.05]
[64,null,13696.05,12429.55,9001.5,6695.45,null,null,16113,14623,10590,7877,null,null,13696.05,12429.55,9001.5,6695.45]
[65,null,15068.8,13674.8,9909.2999999999993,7371.2,null,null,17728,16088,11658,8672,null,null,15068.8,13674.8,9909.2999999999993,7371.2]
[66,null,16525.7,14995.699999999999,10875.75,8090.3,null,null,19442,17642,12795,9518,null,null,16525.7,14995.699999999999,10875.75,8090.3]
[67,null,18066.75,16395.649999999998,11901.699999999999,8854.4499999999989,null,null,21255,19289,14002,10417,null,null,18066.75,16395.649999999998,11901.699999999999,8854.4499999999989]
[68,null,19691.099999999999,17869.55,12985.449999999999,9659.4,null,null,23166,21023,15277,11364,null,null,19691.099999999999,17869.55,12985.449999999999,9659.4]
[69,null,21402.149999999998,19423.349999999999,14128.699999999999,10510.25,null,null,25179,22851,16622,12365,null,null,21402.149999999998,19423.349999999999,14128.699999999999,10510.25]
[70,null,23197.35,21052.799999999999,15328.9,11402.75,null,null,27291,24768,18034,13415,null,null,23197.35,21052.799999999999,15328.9,11402.75]
[71,null,25076.7,22756.2,16590.3,12341.15,null,null,29502,26772,19518,14519,null,null,25076.7,22756.2,16590.3,12341.15]
[72,null,27039.35,24538.649999999998,17908.649999999998,13322.05,null,null,31811,28869,21069,15673,null,null,27039.35,24538.649999999998,17908.649999999998,13322.05]
[73,null,29087,26397.599999999999,19286.5,14346.3,null,null,34220,31056,22690,16878,null,null,29087,26397.599999999999,19286.5,14346.3]
[74,null,31219.649999999998,28332.2,20723.849999999999,15415.6,null,null,36729,33332,24381,18136,null,null,31219.649999999998,28332.2,20723.849999999999,15415.6]
[75,null,33435.599999999999,30345,22219,16528.25,null,null,39336,35700,26140,19445,null,null,33435.599999999999,30345,22219,16528.25]
[76,null,33435.599999999999,30345,22219,16528.25,null,null,39336,35700,26140,19445,null,null,33435.599999999999,30345,22219,16528.25]
[77,null,33435.599999999999,30345,22219,16528.25,null,null,39336,35700,26140,19445,null,null,33435.599999999999,30345,22219,16528.25]
[78,null,33435.599999999999,30345,22219,16528.25,null,null,39336,35700,26140,19445,null,null,33435.599999999999,30345,22219,16528.25]
[79,null,33435.599999999999,30345,22219,16528.25,null,null,39336,35700,26140,19445,null,null,33435.599999999999,30345,22219,16528.25]
[80,null,33435.599999999999,30345,22219,16528.25,null,null,39336,35700,26140,19445,null,null,33435.599999999999,30345,22219,16528.25]
[81,null,33435.599999999999,30345,22219,16528.25,null,null,39336,35700,26140,19445,null,null,33435.599999999999,30345,22219,16528.25]
[82,null,33435.599999999999,30345,22219,16528.25,null,null,39336,35700,26140,19445,null,null,33435.599999999999,30345,22219,16528.25]
[83,null,{"$f":"O220","v":33435.599999999999},{"$f":"P220","v":30345},{"$f":"Q220","v":22219},{"$f":"R220","v":16528.25},null,null,39336,35700,26140,19445,null,null,{"$f":"I220*0.85","v":33435.599999999999},{"$f":"J220*0.85","v":30345},{"$f":"K220*0.85","v":22219},{"$f":"L220*0.85","v":16528.25}]
[84,"o más",33435.599999999999,30345,22219,16528.25,null,null,39336,35700,26140,19445,null,null,33435.599999999999,30345,22219,16528.25]
[1,"Hijo",1717.85,1558.05,1208.7,898.44999999999993,null,null,2021,1833,1422,1057,null,null,{"$f":"I222*0.85","v":1717.85},1558.05,1208.7,898.44999999999993]
[2,"Hijos",2919.75,2650.2999999999997,2052.75,1527.45,null,null,3435,3118,2415,1797,null,null,{"$f":"I223*0.85","v":2919.75},{"$f":"J223*0.85","v":2650.2999999999997},{"$f":"K223*0.85","v":2052.75},{"$f":"L223*0.85","v":1527.45}]
[3,"Hijos o más",4120.8,3740,2897.65,2155.6,null,null,4848,4400,3409,2536,null,null,4120.8,3740,2897.65,2155.6]
[]
["BUPA GLOBAL PREMIER - MENSUALES"]
["EDAD"]
[" "," ",2000,3500,5000]
[18,null,{"$f":"C155*$K$2","v":379.29266666666666},{"$f":"D155*$K$2","v":344.06866666666667},263.46600000000001,195.95333333333335,0,null,{"$f":"I155*$K$2","v":446.22666666666669},{"$f":"J155*$K$2","v":404.78666666666669},309.96000000000004,230.53333333333333,null,null,{"$f":"I229*0.85","v":379.29266666666666},{"$f":"J229*0.85","v":344.06866666666667},263.46600000000001,195.95333333333332]
[19,null,{"$f":"C156*$K$2","v":379.29266666666666},344.06866666666667,263.46600000000001,195.95333333333335,0,null,{"$f":"I156*$K$2","v":446.22666666666669},404.78666666666669,309.96000000000004,230.53333333333333,null,null,{"$f":"I230*0.85","v":379.29266666666666},{"$f":"J230*0.85","v":344.06866666666667},{"$f":"K230*0.85","v":263.46600000000001},{"$f":"L230*0.85","v":195.95333333333332}]
[20,null,{"$f":"C157*$K$2","v":379.29266666666666},344.06866666666667,263.46600000000001,195.95333333333335,0,null,446.22666666666669,404.78666666666669,309.96000000000004,230.53333333333333,null,null,379.29266666666666,344.06866666666667,263.46600000000001,195.95333333333332]
[21,null,{"$f":"C158*$K$2","v":379.29266666666666},344.06866666666667,263.46600000000001,195.95333333333335,0,null,446.22666666666669,404.78666666666669,309.96000000000004,230.53333333333333,null,null,379.29266666666666,344.06866666666667,263.46600000000001,195.95333333333332]
[22,null,{"$f":"C159*$K$2","v":379.29266666666666},344.06866666666667,263.46600000000001,195.95333333333335,0,null,446.22666666666669,404.78666666666669,309.96000000000004,230.53333333333333,null,null,379.29266666666666,344.06866666666667,263.46600000000001,195.95333333333332]
[23,null,{"$f":"C160*$K$2","v":379.29266666666666},344.06866666666667,263.46600000000001,195.95333333333335,0,null,446.22666666666669,404.78666666666669,309.96000000000004,230.53333333333333,null,null,379.29266666666666,344.06866666666667,263.46600000000001,195.95333333333332]
[24,null,{"$f":"C161*$K$2","v":379.29266666666666},344.06866666666667,263.46600000000001,195.95333333333335,0,null,446.22666666666669,404.78666666666669,309.96000000000004,230.53333333333333,null,null,379.29266666666666,344.06866666666667,263.46600000000001,195.95333333333332]
[25,null,{"$f":"C162*$K$2","v":405.39333333333337},367.71000000000004,278.53933333333333,207.21866666666665,0,null,476.93333333333334,432.6,327.69333333333333,243.78666666666669,null,null,405.39333333333332,367.71000000000004,278.53933333333333,207.21866666666668]
[26,null,{"$f":"C163*$K$2","v":405.39333333333337},367.71000000000004,278.53933333333333,207.21866666666665,0,null,476.93333333333334,432.6,327.69333333333333,243.78666666666669,null,null,405.39333333333332,367.71000000000004,278.53933333333333,207.21866666666668]
[27,null,{"$f":"C164*$K$2","v":405.39333333333337},367.71000000000004,278.53933333333333,207.21866666666665,0,null,476.93333333333334,432.6,327.69333333333333,243.78666666666669,null,null,405.39333333333332,367.71000000000004,278.53933333333333,207.21866666666668]
[28,null,{"$f":"C165*$K$2","v":405.39333333333337},367.71000000000004,278.53933333333333,207.21866666666665,0,null,476.93333333333334,432.6,327.69333333333333,243.78666666666669,null,null,405.39333333333332,367.71000000000004,278.53933333333333,207.21866666666668]
[29,null,{"$f":"C166*$K$2","v":405.39333333333337},367.71000000000004,278.53933333333333,207.21866666666665,0,null,476.93333333333334,432.6,327.69333333333333,243.78666666666669,null,null,405.39333333333332,367.71000000000004,278.53933333333333,207.21866666666668]
[30,null,{"$f":"C167*$K$2","v":450.77199999999999},409.12200000000001,305.83000000000004,227.44866666666667,0,null,530.32000000000005,481.32000000000005,359.8,267.5866666666667,null,null,450.77200000000005,409.12200000000001,305.83,227.4486666666667]
[31,null,{"$f":"C168*$K$2","v":450.77199999999999},409.12200000000001,305.83000000000004,227.44866666666667,0,null,530.32000000000005,481.32000000000005,359.8,267.5866666666667,null,null,450.77200000000005,409.12200000000001,305.83,227.4486666666667]
[32,null,{"$f":"C169*$K$2","v":450.77199999999999},409.12200000000001,305.83000000000004,227.44866666666667,0,null,530.32000000000005,481.32000000000005,359.8,267.5866666666667,null,null,450.77200000000005,409.12200000000001,305.83,227.4486666666667]
[33,null,{"$f":"C170*$K$2","v":450.77199999999999},409.12200000000001,305.83000000000004,227.44866666666667,0,null,530.32000000000005,481.32000000000005,359.8,267.5866666666667,null,null,450.77200000000005,409.12200000000001,305.83,227.4486666666667]
[34,null,{"$f":"C171*$K$2","v":450.77199999999999},409.12200000000001,305.83000000000004,227.44866666666667,0,null,530.32000000000005,481.32000000000005,359.8,267.5866666666667,null,null,450.77200000000005,409.12200000000001,305.83,227.4486666666667]
[35,null,{"$f":"C172*$K$2","v":503.05266666666665},456.56333333333333,338.03933333333333,251.40733333333336,0,null,591.82666666666671,537.13333333333333,397.69333333333333,295.77333333333337,null,null,503.05266666666671,456.56333333333333,338.03933333333333,251.40733333333336]
[36,null,{"$f":"C173*$K$2","v":503.05266666666665},456.56333333333333,338.03933333333333,251.40733333333336,0,null,591.82666666666671,537.13333333333333,397.69333333333333,295.77333333333337,null,null,503.05266666666671,456.56333333333333,338.03933333333333,251.40733333333336]
[37,null,{"$f":"C174*$K$2","v":503.05266666666665},456.56333333333333,338.03933333333333,251.40733333333336,0,null,591.82666666666671,537.13333333333333,397.69333333333333,295.77333333333337,null,null,503.05266666666671,456.56333333333333,338.03933333333333,251.40733333333336]
[38,null,{"$f":"C175*$K$2","v":503.05266666666665},456.56333333333333,338.03933333333333,251.40733333333336,0,null,591.82666666666671,537.13333333333333,397.69333333333333,295.77333333333337,null,null,503.05266666666671,456.56333333333333,338.03933333333333,251.40733333333336]
[39,null,{"$f":"C176*$K$2","v":503.05266666666665},456.56333333333333,338.03933333333333,251.40733333333336,0,null,591.82666666666671,537.13333333333333,397.69333333333333,295.77333333333337,null,null,503.05266666666671,456.56333333333333,338.03933333333333,251.40733333333336]
[40,null,{"$f":"C177*$K$2","v":563.42533333333336},511.38266666666664,375.64333333333337,279.49133333333333,0,null,662.85333333333335,601.62666666666667,441.93333333333334,328.81333333333333,null,null,563.42533333333336,511.38266666666664,375.64333333333332,279.49133333333333]
[41,null,{"$f":"C178*$K$2","v":563.42533333333336},511.38266666666664,375.64333333333337,279.49133333333333,0,null,662.85333333333335,601.62666666666667,441.93333333333334,328.81333333333333,null,null,563.42533333333336,511.38266666666664,375.64333333333332,279.49133333333333]
[42,null,{"$f":"C179*$K$2","v":563.42533333333336},511.38266666666664,375.64333333333337,279.49133333333333,0,null,662.85333333333335,601.62666666666667,441.93333333333334,328.81333333333333,null,null,563.42533333333336,511.38266666666664,375.64333333333332,279.49133333333333]
[43,null,{"$f":"C180*$K$2","v":563.42533333333336},511.38266666666664,375.64333333333337,279.49133333333333,0,null,662.85333333333335,601.62666666666667,441.93333333333334,328.81333333333333,null,null,563.42533333333336,511.38266666666664,375.64333333333332,279.49133333333333]
[44,null,{"$f":"C181*$K$2","v":563.42533333333336},511.38266666666664,375.64333333333337,279.49133333333333,0,null,662.85333333333335,601.62666666666667,441.93333333333334,328.81333333333333,null,null,563.42533333333336,511.38266666666664,375.64333333333332,279.49133333333333]
[45,null,{"$f":"C182*$K$2","v":630.54133333333334},572.31066666666663,418.0866666666667,310.98666666666668,0,null,741.81333333333339,673.30666666666673,491.86666666666667,365.86666666666667,null,null,630.54133333333334,572.31066666666675,418.08666666666664,310.98666666666668]
[46,null,{"$f":"C183*$K$2","v":630.54133333333334},572.31066666666663,418.0866666666667,310.98666666666668,0,null,741.81333333333339,673.30666666666673,491.86666666666667,365.86666666666667,null,null,630.54133333333334,572.31066666666675,418.08666666666664,310.98666666666668]
[47,null,{"$f":"C184*$K$2","v":630.54133333333334},572.31066666666663,418.0866666666667,310.98666666666668,0,null,741.81333333333339,673.30666666666673,491.86666666666667,365.86666666666667,null,null,630.54133333333334,572.31066666666675,418.08666666666664,310.98666666666668]
[48,null,{"$f":"C185*$K$2","v":630.54133333333334},572.31066666666663,418.0866666666667,310.98666666666668,0,null,741.81333333333339,673.30666666666673,491.86666666666667,365.86666666666667,null,null,630.54133333333334,572.31066666666675,418.08666666666664,310.98666666666668]
[49,null,{"$f":"C186*$K$2","v":630.54133333333334},572.31066666666663,418.0866666666667,310.98666666666668,0,null,741.81333333333339,673.30666666666673,491.86666666666667,365.86666666666667,null,null,630.54133333333334,572.31066666666675,418.08666666666664,310.98666666666668]
[50,null,{"$f":"C187*$K$2","v":706.22533333333331},640.85466666666673,466.40066666666667,347.00400000000002,0,null,830.85333333333335,753.94666666666672,548.70666666666671,408.24,null,null,706.22533333333331,640.85466666666673,466.40066666666667,347.00400000000002]
[51,null,{"$f":"C188*$K$2","v":706.22533333333331},640.85466666666673,466.40066666666667,347.00400000000002,0,null,830.85333333333335,753.94666666666672,548.70666666666671,408.24,null,null,706.22533333333331,640.85466666666673,466.40066666666667,347.00400000000002]
[52,null,{"$f":"C189*$K$2","v":706.22533333333331},640.85466666666673,466.40066666666667,347.00400000000002,0,null,830.85333333333335,753.94666666666672,548.70666666666671,408.24,null,null,706.22533333333331,640.85466666666673,466.40066666666667,347.00400000000002]
[53,null,{"$f":"C190*$K$2","v":706.22533333333331},640.85466666666673,466.40066666666667,347.00400000000002,0,null,830.85333333333335,753.94666666666672,548.70666666666671,408.24,null,null,706.22533333333331,640.85466666666673,466.40066666666667,347.00400000000002]
[54,null,{"$f":"C191*$K$2","v":706.22533333333331},640.85466666666673,466.40066666666667,347.00400000000002,0,null,830.85333333333335,753.94666666666672,548.70666666666671,408.24,null,null,706.22533333333331,640.85466666666673,466.40066666666667,347.00400000000002]
[55,null,{"$f":"C192*$K$2","v":789.36666666666667},716.45933333333335,520.03,386.90866666666665,0,null,928.66666666666674,842.89333333333332,611.80000000000007,455.18666666666667,null,null,789.36666666666667,716.45933333333335,520.03000000000009,386.90866666666665]
[56,null,{"$f":"C193*$K$2","v":789.36666666666667},716.45933333333335,520.03,386.90866666666665,0,null,928.66666666666674,842.89333333333332,611.80000000000007,455.18666666666667,null,null,789.36666666666667,716.45933333333335,520.03000000000009,386.90866666666665]
[57,null,{"$f":"C194*$K$2","v":789.36666666666667},716.45933333333335,520.03,386.90866666666665,0,null,928.66666666666674,842.89333333333332,611.80000000000007,455.18666666666667,null,null,789.36666666666667,716.45933333333335,520.03000000000009,386.90866666666665]
[58,null,{"$f":"C195*$K$2","v":789.36666666666667},716.45933333333335,520.03,386.90866666666665,0,null,928.66666666666674,842.89333333333332,611.80000000000007,455.18666666666667,null,null,789.36666666666667,716.45933333333335,520.03000000000009,386.90866666666665]
[59,null,{"$f":"C196*$K$2","v":789.36666666666667},716.45933333333335,520.03,386.90866666666665,0,null,928.66666666666674,842.89333333333332,611.80000000000007,455.18666666666667,null,null,789.36666666666667,716.45933333333335,520.03000000000009,386.90866666666665]
[60,null,{"$f":"C197*$K$2","v":844.90000000000009},766.59799999999996,555.88866666666672,413.40599999999995,0,null,994,901.88,653.98666666666668,486.36,null,null,844.9,766.59799999999996,555.88866666666661,413.40600000000001]
[61,null,{"$f":"C198*$K$2","v":941.29000000000008},854.1819999999999,618.64133333333336,460.21266666666662,0,null,1107.4000000000001,1004.9200000000001,727.81333333333339,541.42666666666673,null,null,941.29000000000008,854.18200000000002,618.64133333333336,460.21266666666673]
[62,null,{"$f":"C199*$K$2","v":1045.6926666666668},949.14400000000001,687.10599999999999,511.14466666666669,0,null,1230.2266666666667,1116.6400000000001,808.36,601.34666666666669,null,null,1045.6926666666666,949.14400000000001,687.10599999999999,511.14466666666669]
[63,null,{"$f":"C200*$K$2","v":1158.1079999999999},1051.008,760.88599999999997,565.8846666666667,0,null,1362.48,1236.48,895.16000000000008,665.74666666666667,null,null,1158.1079999999999,1051.008,760.88600000000008,565.8846666666667]
[64,null,{"$f":"C201*$K$2","v":1278.298},1160.0913333333333,840.14,624.9086666666667,0,null,1503.88,1364.8133333333335,988.40000000000009,735.18666666666672,null,null,1278.298,1160.0913333333335,840.1400000000001,624.9086666666667]
[65,null,{"$f":"C202*$K$2","v":1406.4213333333332},1276.3146666666667,924.86799999999994,687.97866666666664,0,null,1654.6133333333335,1501.5466666666666,1088.0800000000002,809.38666666666666,null,null,1406.4213333333335,1276.3146666666667,924.86800000000005,687.97866666666664]
[66,null,{"$f":"C203*$K$2","v":1542.3986666666667},1399.5986666666665,1015.07,755.09466666666674,0,null,1814.5866666666668,1646.5866666666668,1194.2,888.34666666666669,null,null,1542.3986666666667,1399.5986666666668,1015.07,755.09466666666663]
[67,null,{"$f":"C204*$K$2","v":1686.23},1530.2606666666666,1110.8253333333332,826.41533333333325,0,null,1983.8000000000002,1800.3066666666668,1306.8533333333335,972.25333333333333,null,null,1686.23,1530.2606666666668,1110.8253333333334,826.41533333333336]
[68,null,{"$f":"C205*$K$2","v":1837.836},1667.8246666666666,1211.9753333333333,901.54399999999998,0,null,2162.1600000000003,1962.1466666666668,1425.8533333333335,1060.6400000000001,null,null,1837.8360000000002,1667.8246666666666,1211.9753333333333,901.5440000000001]
[69,null,{"$f":"C206*$K$2","v":1997.5339999999999},1812.846,1318.6786666666667,980.95666666666671,0,null,2350.04,2132.7600000000002,1551.3866666666668,1154.0666666666666,null,null,1997.5339999999999,1812.8460000000002,1318.6786666666667,980.95666666666659]
[70,null,{"$f":"C207*$K$2","v":2165.0859999999998},1964.9280000000001,1430.6973333333333,1064.2566666666667,0,null,2547.1600000000003,2311.6800000000003,1683.1733333333334,1252.0666666666668,null,null,2165.0860000000002,1964.9280000000001,1430.6973333333333,1064.2566666666669]
[71,null,{"$f":"C208*$K$2","v":2340.4920000000002},2123.9120000000003,1548.4280000000001,1151.8406666666667,0,null,2753.52,2498.7200000000003,1821.68,1355.1066666666668,null,null,2340.4919999999997,2123.9120000000003,1548.4280000000001,1151.8406666666667]
[72,null,{"$f":"C209*$K$2","v":2523.6726666666668},2290.2739999999999,1671.4739999999999,1243.3913333333333,0,null,2969.0266666666666,2694.44,1966.44,1462.8133333333335,null,null,2523.6726666666664,2290.2739999999999,1671.4739999999999,1243.3913333333335]
[73,null,{"$f":"C210*$K$2","v":2714.7866666666669},2463.7759999999998,1800.0733333333335,1338.9880000000001,0,null,3193.8666666666668,2898.56,2117.7333333333336,1575.28,null,null,2714.7866666666669,2463.7759999999998,1800.0733333333335,1338.9879999999998]
[74,null,{"$f":"C211*$K$2","v":2913.8339999999998},2644.338666666667,1934.2259999999999,1438.7893333333334,0,null,3428.04,3110.9866666666667,2275.56,1692.6933333333334,null,null,2913.8339999999998,2644.3386666666665,1934.2259999999999,1438.7893333333334]
[75,null,{"$f":"C212*$K$2","v":3120.6559999999999},2832.2000000000003,2073.7733333333335,1542.6366666666668,0,null,3671.36,3332,2439.7333333333336,1814.8666666666668,null,null,3120.6559999999999,2832.2,2073.7733333333335,1542.6366666666668]
[76,null,{"$f":"C213*$K$2","v":3120.6559999999999},2832.2000000000003,2073.7733333333335,1542.6366666666668,0,null,3671.36,3332,2439.7333333333336,1814.8666666666668,null,null,3120.6559999999999,2832.2,2073.7733333333335,1542.6366666666668]
[77,null,{"$f":"C214*$K$2","v":3120.6559999999999},2832.2000000000003,2073.7733333333335,1542.6366666666668,0,null,3671.36,3332,2439.7333333333336,1814.8666666666668,null,null,3120.6559999999999,2832.2,2073.7733333333335,1542.6366666666668]
[78,null,{"$f":"C215*$K$2","v":3120.6559999999999},2832.2000000000003,2073.7733333333335,1542.6366666666668,0,null,3671.36,3332,2439.7333333333336,1814.8666666666668,null,null,3120.6559999999999,2832.2,2073.7733333333335,1542.6366666666668]
[79,null,{"$f":"C216*$K$2","v":3120.6559999999999},2832.2000000000003,2073.7733333333335,1542.6366666666668,0,null,3671.36,3332,2439.7333333333336,1814.8666666666668,null,null,3120.6559999999999,2832.2,2073.7733333333335,1542.6366666666668]
[80,null,{"$f":"C217*$K$2","v":3120.6559999999999},2832.2000000000003,2073.7733333333335,1542.6366666666668,null,null,3671.36,3332,2439.7333333333336,1814.8666666666668,null,null,3120.6559999999999,2832.2,2073.7733333333335,1542.6366666666668]
[81,null,{"$f":"C218*$K$2","v":3120.6559999999999},2832.2000000000003,2073.7733333333335,1542.6366666666668,null,null,3671.36,3332,2439.7333333333336,1814.8666666666668,null,null,3120.6559999999999,2832.2,2073.7733333333335,1542.6366666666668]
[82,null,{"$f":"C219*$K$2","v":3120.6559999999999},2832.2000000000003,2073.7733333333335,1542.6366666666668,null,null,3671.36,3332,2439.7333333333336,{"$f":"L219*$K$2","v":1814.8666666666668},null,null,3120.6559999999999,2832.2,2073.7733333333335,1542.6366666666668]
[83,null,{"$f":"C220*$K$2","v":3120.6559999999999},2832.2000000000003,2073.7733333333335,1542.6366666666668,null,null,{"$f":"I220*$K$2","v":3671.36},3332,2439.7333333333336,1814.8666666666668,null,null,{"$f":"I294*0.85","v":3120.6559999999999},{"$f":"J294*0.85","v":2832.2},{"$f":"K294*0.85","v":2073.7733333333335},{"$f":"L294*0.85","v":1542.6366666666668}]
[84,"o más",{"$f":"C221*$K$2","v":3120.6559999999999},2832.2000000000003,2073.7733333333335,1542.6366666666668,0,null,3671.36,3332,2439.7333333333336,1814.8666666666668,null,null,3120.6559999999999,2832.2,2073.7733333333335,1542.6366666666668]
[1,"Hijo",{"$f":"C222*$K$2","v":160.33266666666665},145.41800000000001,112.81200000000001,83.855333333333334,0,null,188.62666666666667,171.08,132.72,98.653333333333336,null,null,{"$f":"I296*0.85","v":160.33266666666665},145.41800000000001,112.812,83.855333333333334]
[2,"Hijos",{"$f":"C223*$K$2","v":272.51},247.36133333333331,191.59,142.56200000000001,0,null,320.60000000000002,291.01333333333332,225.4,167.72,null,null,{"$f":"I297*0.85","v":272.51},{"$f":"J297*0.85","v":247.36133333333331},{"$f":"K297*0.85","v":191.59},{"$f":"L297*0.85","v":142.56199999999998}]
[3,"Hijos o más",{"$f":"C224*$K$2","v":384.60800000000006},349.06666666666666,270.44733333333335,201.18933333333334,0,null,452.48,410.66666666666669,318.17333333333335,236.69333333333336,null,null,384.608,349.06666666666666,270.44733333333335,201.18933333333334]
[]
[]
["BUPA GLOBAL SELECT"]
["TARIFAS ANUALES"]
["EDAD"]
[" "," ",250,2000,5000]
[18,null,{"$f":"O305","v":2645.2},{"$f":"P305","v":2537.25},1951.6,1451.8,null,null,3112,2985,2296,1708,null,null,{"$f":"I305*0.85","v":2645.2},{"$f":"J305*0.85","v":2537.25},1951.6,1451.8]
[19,null,{"$f":"O306","v":2645.2},{"$f":"P306","v":2537.25},{"$f":"Q306","v":1951.6},{"$f":"R306","v":1451.8},null,null,3112,2985,2296,1708,null,null,{"$f":"I306*0.85","v":2645.2},{"$f":"J306*0.85","v":2537.25},{"$f":"K306*0.85","v":1951.6},{"$f":"L306*0.85","v":1451.8}]
[20,null,2645.2,2537.25,1951.6,1451.8,null,null,3112,2985,2296,1708,null,null,2645.2,2537.25,1951.6,1451.8]
[21,null,2645.2,2537.25,1951.6,1451.8,null,null,3112,2985,2296,1708,null,null,2645.2,2537.25,1951.6,1451.8]
[22,null,2645.2,2537.25,1951.6,1451.8,null,null,3112,2985,2296,1708,null,null,2645.2,2537.25,1951.6,1451.8]
[23,null,2645.2,2537.25,1951.6,1451.8,null,null,3112,2985,2296,1708,null,null,2645.2,2537.25,1951.6,1451.8]
[24,null,2645.2,2537.25,1951.6,1451.8,null,null,3112,2985,2296,1708,null,null,2645.2,2537.25,1951.6,1451.8]
[25,null,2853.45,2737.85,2083.35,1550.3999999999999,null,null,3357,3221,2451,1824,null,null,2853.45,2737.85,2083.35,1550.3999999999999]
[26,null,2853.45,2737.85,2083.35,1550.3999999999999,null,null,3357,3221,2451,1824,null,null,2853.45,2737.85,2083.35,1550.3999999999999]
[27,null,2853.45,2737.85,2083.35,1550.3999999999999,null,null,3357,3221,2451,1824,null,null,2853.45,2737.85,2083.35,1550.3999999999999]
[28,null,2853.45,2737.85,2083.35,1550.3999999999999,null,null,3357,3221,2451,1824,null,null,2853.45,2737.85,2083.35,1550.3999999999999]
[29,null,2853.45,2737.85,2083.35,1550.3999999999999,null,null,3357,3221,2451,1824,null,null,2853.45,2737.85,2083.35,1550.3999999999999]
[30,null,3219.7999999999997,3088.0499999999997,2316.25,1722.95,null,null,3788,3633,2725,2027,null,null,3219.7999999999997,3088.0499999999997,2316.25,1722.95]
[31,null,3219.7999999999997,3088.0499999999997,2316.25,1722.95,null,null,3788,3633,2725,2027,null,null,3219.7999999999997,3088.0499999999997,2316.25,1722.95]
[32,null,3219.7999999999997,3088.0499999999997,2316.25,1722.95,null,null,3788,3633,2725,2027,null,null,3219.7999999999997,3088.0499999999997,2316.25,1722.95]
[33,null,3219.7999999999997,3088.0499999999997,2316.25,1722.95,null,null,3788,3633,2725,2027,null,null,3219.7999999999997,3088.0499999999997,2316.25,1722.95]
[34,null,3219.7999999999997,3088.0499999999997,2316.25,1722.95,null,null,3788,3633,2725,2027,null,null,3219.7999999999997,3088.0499999999997,2316.25,1722.95]
[35,null,3643.1,3495.2,2593.35,1930.35,null,null,4286,4112,3051,2271,null,null,3643.1,3495.2,2593.35,1930.35]
[36,null,3643.1,3495.2,2593.35,1930.35,null,null,4286,4112,3051,2271,null,null,3643.1,3495.2,2593.35,1930.35]
[37,null,3643.1,3495.2,2593.35,1930.35,null,null,4286,4112,3051,2271,null,null,3643.1,3495.2,2593.35,1930.35]
[38,null,3643.1,3495.2,2593.35,1930.35,null,null,4286,4112,3051,2271,null,null,3643.1,3495.2,2593.35,1930.35]
[39,null,3643.1,3495.2,2593.35,1930.35,null,null,4286,4112,3051,2271,null,null,3643.1,3495.2,2593.35,1930.35]
[40,null,4131.8499999999995,3964.4,2917.2,2170.0499999999997,null,null,4861,4664,3432,2553,null,null,4131.8499999999995,3964.4,2917.2,2170.0499999999997]
[41,null,4131.8499999999995,3964.4,2917.2,2170.0499999999997,null,null,4861,4664,3432,2553,null,null,4131.8499999999995,3964.4,2917.2,2170.0499999999997]
[42,null,4131.8499999999995,3964.4,2917.2,2170.0499999999997,null,null,4861,4664,3432,2553,null,null,4131.8499999999995,3964.4,2917.2,2170.0499999999997]
[43,null,4131.8499999999995,3964.4,2917.2,2170.0499999999997,null,null,4861,4664,3432,2553,null,null,4131.8499999999995,3964.4,2917.2,2170.0499999999997]
[44,null,4131.8499999999995,3964.4,2917.2,2170.0499999999997,null,null,4861,4664,3432,2553,null,null,4131.8499999999995,3964.4,2917.2,2170.0499999999997]
[45,null,4676.7,4486.3,3283.5499999999997,2442.9,null,null,5502,5278,3863,2874,null,null,4676.7,4486.3,3283.5499999999997,2442.9]
[46,null,4676.7,4486.3,3283.5499999999997,2442.9,null,null,5502,5278,3863,2874,null,null,4676.7,4486.3,3283.5499999999997,2442.9]
[47,null,4676.7,4486.3,3283.5499999999997,2442.9,null,null,5502,5278,3863,2874,null,null,4676.7,4486.3,3283.5499999999997,2442.9]
[48,null,4676.7,4486.3,3283.5499999999997,2442.9,null,null,5502,5278,3863,2874,null,null,4676.7,4486.3,3283.5499999999997,2442.9]
[49,null,4676.7,4486.3,3283.5499999999997,2442.9,null,null,5502,5278,3863,2874,null,null,4676.7,4486.3,3283.5499999999997,2442.9]
[50,null,5290.4,5075.3499999999995,3699.2,2752.2999999999997,null,null,6224,5971,4352,3238,null,null,5290.4,5075.3499999999995,3699.2,2752.2999999999997]
[51,null,5290.4,5075.3499999999995,3699.2,2752.2999999999997,null,null,6224,5971,4352,3238,null,null,5290.4,5075.3499999999995,3699.2,2752.2999999999997]
[52,null,5290.4,5075.3499999999995,3699.2,2752.2999999999997,null,null,6224,5971,4352,3238,null,null,5290.4,5075.3499999999995,3699.2,2752.2999999999997]
[53,null,5290.4,5075.3499999999995,3699.2,2752.2999999999997,null,null,6224,5971,4352,3238,null,null,5290.4,5075.3499999999995,3699.2,2752.2999999999997]
[54,null,5290.4,5075.3499999999995,3699.2,2752.2999999999997,null,null,6224,5971,4352,3238,null,null,5290.4,5075.3499999999995,3699.2,2752.2999999999997]
[55,null,5967,5725.5999999999995,4162.45,3096.5499999999997,null,null,7020,6736,4897,3643,null,null,5967,5725.5999999999995,4162.45,3096.5499999999997]
[56,null,5967,5725.5999999999995,4162.45,3096.5499999999997,null,null,7020,6736,4897,3643,null,null,5967,5725.5999999999995,4162.45,3096.5499999999997]
[57,null,5967,5725.5999999999995,4162.45,3096.5499999999997,null,null,7020,6736,4897,3643,null,null,5967,5725.5999999999995,4162.45,3096.5499999999997]
[58,null,5967,5725.5999999999995,4162.45,3096.5499999999997,null,null,7020,6736,4897,3643,null,null,5967,5725.5999999999995,4162.45,3096.5499999999997]
[59,null,5967,5725.5999999999995,4162.45,3096.5499999999997,null,null,7020,6736,4897,3643,null,null,5967,5725.5999999999995,4162.45,3096.5499999999997]
[60,null,6417.5,6157.4,4473.55,3326.9,null,null,7550,7244,5263,3914,null,null,6417.5,6157.4,4473.55,3326.9]
[61,null,7203.75,6911.3499999999995,5015.8499999999995,3731.5,null,null,8475,8131,5901,4390,null,null,7203.75,6911.3499999999995,5015.8499999999995,3731.5]
[62,null,8053.75,7727.3499999999995,5607.45,4170.0999999999995,null,null,9475,9091,6597,4906,null,null,8053.75,7727.3499999999995,5607.45,4170.0999999999995]
[63,null,8970.0499999999993,8607.1,6244.95,4645.25,null,null,10553,10126,7347,5465,null,null,8970.0499999999993,8607.1,6244.95,4645.25]
[64,null,9949.25,9547.1999999999989,6930.05,5155.25,null,null,11705,11232,8153,6065,null,null,9949.25,9547.1999999999989,6930.05,5155.25]
[65,null,10995.6,10550.199999999999,7664.45,5701.8,null,null,12936,12412,9017,6708,null,null,10995.6,10550.199999999999,7664.45,5701.8]
[66,null,12104.85,11614.4,8444.75,6281.5,null,null,14241,13664,9935,7390,null,null,12104.85,11614.4,8444.75,6281.5]
[67,null,13280.4,12741.5,9272.65,6897.75,null,null,15624,14990,10909,8115,null,null,13280.4,12741.5,9272.65,6897.75]
[68,null,14519.699999999999,13930.65,10147.299999999999,7548.8499999999995,null,null,17082,16389,11938,8881,null,null,14519.699999999999,13930.65,10147.299999999999,7548.8499999999995]
[69,null,15822.75,15181.85,11071.25,8235.65,null,null,18615,17861,13025,9689,null,null,15822.75,15181.85,11071.25,8235.65]
[70,null,17192.099999999999,16495.099999999999,12041.949999999999,8957.2999999999993,null,null,20226,19406,14167,10538,null,null,17192.099999999999,16495.099999999999,12041.949999999999,8957.2999999999993]
[71,null,18624.349999999999,17869.55,13061.949999999999,9715.5,null,null,21911,21023,15367,11430,null,null,18624.349999999999,17869.55,13061.949999999999,9715.5]
[72,null,20123.75,19307.75,14127,10509.4,null,null,23675,22715,16620,12364,null,null,20123.75,19307.75,14127,10509.4]
[73,null,21686.05,20806.3,15240.5,11336.449999999999,null,null,25513,24478,17930,13337,null,null,21686.05,20806.3,15240.5,11336.449999999999]
[74,null,23312.95,22369.45,16399.899999999998,12200.05,null,null,27427,26317,19294,14353,null,null,23312.95,22369.45,16399.899999999998,12200.05]
[75,null,25005.3,23992.95,17610.3,13100.199999999999,null,null,29418,28227,20718,15412,null,null,25005.3,23992.95,17610.3,13100.199999999999]
[76,null,25005.3,23992.95,17610.3,13100.199999999999,null,null,29418,28227,20718,15412,null,null,25005.3,23992.95,17610.3,13100.199999999999]
[77,null,25005.3,23992.95,17610.3,13100.199999999999,null,null,29418,28227,20718,15412,null,null,25005.3,23992.95,17610.3,13100.199999999999]
[78,null,25005.3,23992.95,17610.3,13100.199999999999,null,null,29418,28227,20718,15412,null,null,25005.3,23992.95,17610.3,13100.199999999999]
[79,null,25005.3,23992.95,17610.3,13100.199999999999,null,null,29418,28227,20718,15412,null,null,25005.3,23992.95,17610.3,13100.199999999999]
[80,null,25005.3,23992.95,17610.3,13100.199999999999,null,null,29418,28227,20718,15412,null,null,25005.3,23992.95,17610.3,13100.199999999999]
[81,null,25005.3,23992.95,17610.3,13100.199999999999,null,null,29418,28227,20718,15412,null,null,25005.3,23992.95,17610.3,13100.199999999999]
[82,null,25005.3,23992.95,17610.3,13100.199999999999,null,null,29418,28227,20718,15412,null,null,25005.3,23992.95,17610.3,13100.199999999999]
[83,null,{"$f":"O370","v":25005.3},{"$f":"P370","v":23992.95},{"$f":"Q370","v":17610.3},{"$f":"R370","v":13100.199999999999},null,null,29418,28227,20718,15412,null,null,{"$f":"I370*0.85","v":25005.3},{"$f":"J370*0.85","v":23992.95},{"$f":"K370*0.85","v":17610.3},{"$f":"L370*0.85","v":13100.199999999999}]
[84,"o más",25005.3,23992.95,17610.3,13100.199999999999,null,null,29418,28227,20718,15412,null,null,{"$f":"I371*0.85","v":25005.3},{"$f":"J371*0.85","v":23992.95},{"$f":"K371*0.85","v":17610.3},{"$f":"L371*0.85","v":13100.199999999999}]
[1,"Hijo",1234.2,1184.05,923.94999999999993,687.65,null,null,1452,1393,1087,809,null,null,{"$f":"I372*0.85","v":1234.2},1184.05,923.94999999999993,687.65]
[2,"Hijos",2096.1,2011.1,1568.25,1167.05,null,null,2466,2366,1845,1373,null,null,{"$f":"I373*0.85","v":2096.1},{"$f":"J373*0.85","v":2011.1},{"$f":"K373*0.85","v":1568.25},{"$f":"L373*0.85","v":1167.05}]
[3,"Hijos o más",2959.7,2839,2214.25,1647.3,null,null,3482,3340,2605,1938,null,null,2959.7,2839,2214.25,1647.3]
[]
["BUPA GLOBAL SELECT - MENSUALES"]
["EDAD"]
[" "," ",2000,3500,5000]
[18,null,{"$f":"C305*$K$2","v":246.88533333333334},{"$f":"D305*$K$2","v":236.81},182.14933333333335,135.50133333333335,0,null,{"$f":"I305*$K$2","v":290.45333333333332},{"$f":"J305*$K$2","v":278.60000000000002},214.29333333333335,159.41333333333333,null,null,{"$f":"I379*0.85","v":246.88533333333331},{"$f":"J379*0.85","v":236.81},182.14933333333335,135.50133333333332]
[19,null,{"$f":"C306*$K$2","v":246.88533333333334},236.81,182.14933333333335,135.50133333333335,0,null,{"$f":"I306*$K$2","v":290.45333333333332},278.60000000000002,214.29333333333335,159.41333333333333,null,null,{"$f":"I380*0.85","v":246.88533333333331},{"$f":"J380*0.85","v":236.81},{"$f":"K380*0.85","v":182.14933333333335},{"$f":"L380*0.85","v":135.50133333333332}]
[20,null,{"$f":"C307*$K$2","v":246.88533333333334},236.81,182.14933333333335,135.50133333333335,0,null,290.45333333333332,278.60000000000002,214.29333333333335,159.41333333333333,null,null,246.88533333333331,236.81,182.14933333333335,135.50133333333332]
[21,null,{"$f":"C308*$K$2","v":246.88533333333334},236.81,182.14933333333335,135.50133333333335,0,null,290.45333333333332,278.60000000000002,214.29333333333335,159.41333333333333,null,null,246.88533333333331,236.81,182.14933333333335,135.50133333333332]
[22,null,{"$f":"C309*$K$2","v":246.88533333333334},236.81,182.14933333333335,135.50133333333335,0,null,290.45333333333332,278.60000000000002,214.29333333333335,159.41333333333333,null,null,246.88533333333331,236.81,182.14933333333335,135.50133333333332]
[23,null,{"$f":"C310*$K$2","v":246.88533333333334},236.81,182.14933333333335,135.50133333333335,0,null,290.45333333333332,278.60000000000002,214.29333333333335,159.41333333333333,null,null,246.88533333333331,236.81,182.14933333333335,135.50133333333332]
[24,null,{"$f":"C311*$K$2","v":246.88533333333334},236.81,182.14933333333335,135.50133333333335,0,null,290.45333333333332,278.60000000000002,214.29333333333335,159.41333333333333,null,null,246.88533333333331,236.81,182.14933333333335,135.50133333333332]
[25,null,{"$f":"C312*$K$2","v":266.322},255.53266666666667,194.446,144.70400000000001,0,null,313.32,300.62666666666667,228.76000000000002,170.24,null,null,266.322,255.53266666666667,194.446,144.70400000000001]
[26,null,{"$f":"C313*$K$2","v":266.322},255.53266666666667,194.446,144.70400000000001,0,null,313.32,300.62666666666667,228.76000000000002,170.24,null,null,266.322,255.53266666666667,194.446,144.70400000000001]
[27,null,{"$f":"C314*$K$2","v":266.322},255.53266666666667,194.446,144.70400000000001,0,null,313.32,300.62666666666667,228.76000000000002,170.24,null,null,266.322,255.53266666666667,194.446,144.70400000000001]
[28,null,{"$f":"C315*$K$2","v":266.322},255.53266666666667,194.446,144.70400000000001,0,null,313.32,300.62666666666667,228.76000000000002,170.24,null,null,266.322,255.53266666666667,194.446,144.70400000000001]
[29,null,{"$f":"C316*$K$2","v":266.322},255.53266666666667,194.446,144.70400000000001,0,null,313.32,300.62666666666667,228.76000000000002,170.24,null,null,266.322,255.53266666666667,194.446,144.70400000000001]
[30,null,{"$f":"C317*$K$2","v":300.51466666666664},288.21799999999996,216.18333333333334,160.80866666666668,0,null,353.54666666666668,339.08000000000004,254.33333333333334,189.18666666666667,null,null,300.5146666666667,288.21800000000002,216.18333333333334,160.80866666666665]
[31,null,{"$f":"C318*$K$2","v":300.51466666666664},288.21799999999996,216.18333333333334,160.80866666666668,0,null,353.54666666666668,339.08000000000004,254.33333333333334,189.18666666666667,null,null,300.5146666666667,288.21800000000002,216.18333333333334,160.80866666666665]
[32,null,{"$f":"C319*$K$2","v":300.51466666666664},288.21799999999996,216.18333333333334,160.80866666666668,0,null,353.54666666666668,339.08000000000004,254.33333333333334,189.18666666666667,null,null,300.5146666666667,288.21800000000002,216.18333333333334,160.80866666666665]
[33,null,{"$f":"C320*$K$2","v":300.51466666666664},288.21799999999996,216.18333333333334,160.80866666666668,0,null,353.54666666666668,339.08000000000004,254.33333333333334,189.18666666666667,null,null,300.5146666666667,288.21800000000002,216.18333333333334,160.80866666666665]
[34,null,{"$f":"C321*$K$2","v":300.51466666666664},288.21799999999996,216.18333333333334,160.80866666666668,0,null,353.54666666666668,339.08000000000004,254.33333333333334,189.18666666666667,null,null,300.5146666666667,288.21800000000002,216.18333333333334,160.80866666666665]
[35,null,{"$f":"C322*$K$2","v":340.02266666666668},326.21866666666665,242.04599999999999,180.166,0,null,400.0266666666667,383.78666666666669,284.76,211.96,null,null,340.02266666666668,326.21866666666671,242.04599999999999,180.166]
[36,null,{"$f":"C323*$K$2","v":340.02266666666668},326.21866666666665,242.04599999999999,180.166,0,null,400.0266666666667,383.78666666666669,284.76,211.96,null,null,340.02266666666668,326.21866666666671,242.04599999999999,180.166]
[37,null,{"$f":"C324*$K$2","v":340.02266666666668},326.21866666666665,242.04599999999999,180.166,0,null,400.0266666666667,383.78666666666669,284.76,211.96,null,null,340.02266666666668,326.21866666666671,242.04599999999999,180.166]
[38,null,{"$f":"C325*$K$2","v":340.02266666666668},326.21866666666665,242.04599999999999,180.166,0,null,400.0266666666667,383.78666666666669,284.76,211.96,null,null,340.02266666666668,326.21866666666671,242.04599999999999,180.166]
[39,null,{"$f":"C326*$K$2","v":340.02266666666668},326.21866666666665,242.04599999999999,180.166,0,null,400.0266666666667,383.78666666666669,284.76,211.96,null,null,340.02266666666668,326.21866666666671,242.04599999999999,180.166]
[40,null,{"$f":"C327*$K$2","v":385.6393333333333},370.01066666666668,272.27199999999999,202.53799999999998,0,null,453.69333333333333,435.30666666666667,320.32,238.28,null,null,385.6393333333333,370.01066666666668,272.27199999999999,202.53799999999998]
[41,null,{"$f":"C328*$K$2","v":385.6393333333333},370.01066666666668,272.27199999999999,202.53799999999998,0,null,453.69333333333333,435.30666666666667,320.32,238.28,null,null,385.6393333333333,370.01066666666668,272.27199999999999,202.53799999999998]
[42,null,{"$f":"C329*$K$2","v":385.6393333333333},370.01066666666668,272.27199999999999,202.53799999999998,0,null,453.69333333333333,435.30666666666667,320.32,238.28,null,null,385.6393333333333,370.01066666666668,272.27199999999999,202.53799999999998]
[43,null,{"$f":"C330*$K$2","v":385.6393333333333},370.01066666666668,272.27199999999999,202.53799999999998,0,null,453.69333333333333,435.30666666666667,320.32,238.28,null,null,385.6393333333333,370.01066666666668,272.27199999999999,202.53799999999998]
[44,null,{"$f":"C331*$K$2","v":385.6393333333333},370.01066666666668,272.27199999999999,202.53799999999998,0,null,453.69333333333333,435.30666666666667,320.32,238.28,null,null,385.6393333333333,370.01066666666668,272.27199999999999,202.53799999999998]
[45,null,{"$f":"C332*$K$2","v":436.49200000000002},418.72133333333335,306.46466666666663,228.00400000000002,0,null,513.52,492.61333333333334,360.54666666666668,268.24,null,null,436.49199999999996,418.72133333333335,306.46466666666669,228.00399999999999]
[46,null,{"$f":"C333*$K$2","v":436.49200000000002},418.72133333333335,306.46466666666663,228.00400000000002,0,null,513.52,492.61333333333334,360.54666666666668,268.24,null,null,436.49199999999996,418.72133333333335,306.46466666666669,228.00399999999999]
[47,null,{"$f":"C334*$K$2","v":436.49200000000002},418.72133333333335,306.46466666666663,228.00400000000002,0,null,513.52,492.61333333333334,360.54666666666668,268.24,null,null,436.49199999999996,418.72133333333335,306.46466666666669,228.00399999999999]
[48,null,{"$f":"C335*$K$2","v":436.49200000000002},418.72133333333335,306.46466666666663,228.00400000000002,0,null,513.52,492.61333333333334,360.54666666666668,268.24,null,null,436.49199999999996,418.72133333333335,306.46466666666669,228.00399999999999]
[49,null,{"$f":"C336*$K$2","v":436.49200000000002},418.72133333333335,306.46466666666663,228.00400000000002,0,null,513.52,492.61333333333334,360.54666666666668,268.24,null,null,436.49199999999996,418.72133333333335,306.46466666666669,228.00399999999999]
[50,null,{"$f":"C337*$K$2","v":493.77066666666667},473.6993333333333,345.25866666666667,256.88133333333332,0,null,580.90666666666664,557.29333333333341,406.18666666666667,302.21333333333337,null,null,493.77066666666661,473.69933333333336,345.25866666666667,256.88133333333337]
[51,null,{"$f":"C338*$K$2","v":493.77066666666667},473.6993333333333,345.25866666666667,256.88133333333332,0,null,580.90666666666664,557.29333333333341,406.18666666666667,302.21333333333337,null,null,493.77066666666661,473.69933333333336,345.25866666666667,256.88133333333337]
[52,null,{"$f":"C339*$K$2","v":493.77066666666667},473.6993333333333,345.25866666666667,256.88133333333332,0,null,580.90666666666664,557.29333333333341,406.18666666666667,302.21333333333337,null,null,493.77066666666661,473.69933333333336,345.25866666666667,256.88133333333337]
[53,null,{"$f":"C340*$K$2","v":493.77066666666667},473.6993333333333,345.25866666666667,256.88133333333332,0,null,580.90666666666664,557.29333333333341,406.18666666666667,302.21333333333337,null,null,493.77066666666661,473.69933333333336,345.25866666666667,256.88133333333337]
[54,null,{"$f":"C341*$K$2","v":493.77066666666667},473.6993333333333,345.25866666666667,256.88133333333332,0,null,580.90666666666664,557.29333333333341,406.18666666666667,302.21333333333337,null,null,493.77066666666661,473.69933333333336,345.25866666666667,256.88133333333337]
[55,null,{"$f":"C342*$K$2","v":556.92000000000007},534.3893333333333,388.49533333333335,289.01133333333331,0,null,655.20000000000005,628.69333333333338,457.05333333333334,340.01333333333332,null,null,556.92000000000007,534.38933333333341,388.49533333333335,289.01133333333331]
[56,null,{"$f":"C343*$K$2","v":556.92000000000007},534.3893333333333,388.49533333333335,289.01133333333331,0,null,655.20000000000005,628.69333333333338,457.05333333333334,340.01333333333332,null,null,556.92000000000007,534.38933333333341,388.49533333333335,289.01133333333331]
[57,null,{"$f":"C344*$K$2","v":556.92000000000007},534.3893333333333,388.49533333333335,289.01133333333331,0,null,655.20000000000005,628.69333333333338,457.05333333333334,340.01333333333332,null,null,556.92000000000007,534.38933333333341,388.49533333333335,289.01133333333331]
[58,null,{"$f":"C345*$K$2","v":556.92000000000007},534.3893333333333,388.49533333333335,289.01133333333331,0,null,655.20000000000005,628.69333333333338,457.05333333333334,340.01333333333332,null,null,556.92000000000007,534.38933333333341,388.49533333333335,289.01133333333331]
[59,null,{"$f":"C346*$K$2","v":556.92000000000007},534.3893333333333,388.49533333333335,289.01133333333331,0,null,655.20000000000005,628.69333333333338,457.05333333333334,340.01333333333332,null,null,556.92000000000007,534.38933333333341,388.49533333333335,289.01133333333331]
[60,null,{"$f":"C347*$K$2","v":598.9666666666667},574.69066666666663,417.53133333333335,310.51066666666668,0,null,704.66666666666674,676.10666666666668,491.21333333333337,365.30666666666667,null,null,598.9666666666667,574.69066666666663,417.53133333333335,310.51066666666668]
[61,null,{"$f":"C348*$K$2","v":672.35},645.05933333333326,468.14599999999996,348.27333333333337,0,null,791,758.89333333333332,550.76,409.73333333333335,null,null,672.35,645.05933333333326,468.14599999999996,348.27333333333331]
[62,null,{"$f":"C349*$K$2","v":751.68333333333339},721.21933333333334,523.36199999999997,389.20933333333329,0,null,884.33333333333337,848.49333333333334,615.72,457.89333333333337,null,null,751.68333333333339,721.21933333333334,523.36199999999997,389.20933333333335]
[63,null,{"$f":"C350*$K$2","v":837.20466666666664},803.32933333333335,582.86199999999997,433.55666666666667,0,null,984.94666666666672,945.09333333333336,685.72,510.06666666666666,null,null,837.20466666666664,803.32933333333335,582.86199999999997,433.55666666666667]
[64,null,{"$f":"C351*$K$2","v":928.59666666666669},891.07199999999989,646.80466666666666,481.15666666666669,0,null,1092.4666666666667,1048.32,760.94666666666672,566.06666666666672,null,null,928.59666666666669,891.07199999999989,646.80466666666666,481.15666666666669]
[65,null,{"$f":"C352*$K$2","v":1026.2560000000001},984.68533333333323,715.34866666666665,532.16800000000001,0,null,1207.3600000000001,1158.4533333333334,841.5866666666667,626.08000000000004,null,null,1026.2560000000001,984.68533333333335,715.34866666666665,532.16800000000001]
[66,null,{"$f":"C353*$K$2","v":1129.7860000000001},1084.0106666666668,788.17666666666673,586.27333333333331,0,null,1329.16,1275.3066666666666,927.26666666666677,689.73333333333335,null,null,1129.7860000000001,1084.0106666666666,788.17666666666673,586.27333333333331]
[67,null,{"$f":"C354*$K$2","v":1239.5040000000001},1189.2066666666667,865.44733333333329,643.79000000000008,0,null,1458.24,1399.0666666666668,1018.1733333333334,757.40000000000009,null,null,1239.5039999999999,1189.2066666666667,865.4473333333334,643.79000000000008]
[68,null,{"$f":"C355*$K$2","v":1355.172},1300.194,947.0813333333333,704.55933333333337,0,null,1594.3200000000002,1529.64,1114.2133333333334,828.89333333333332,null,null,1355.172,1300.194,947.0813333333333,704.55933333333326]
[69,null,{"$f":"C356*$K$2","v":1476.79},1416.9726666666668,1033.3166666666666,768.66066666666666,0,null,1737.4,1667.0266666666666,1215.6666666666667,904.30666666666673,null,null,1476.79,1416.9726666666666,1033.3166666666666,768.66066666666666]
[70,null,{"$f":"C357*$K$2","v":1604.596},1539.5426666666665,1123.9153333333334,836.01466666666659,0,null,1887.76,1811.2266666666667,1322.2533333333333,983.54666666666674,null,null,1604.596,1539.5426666666667,1123.9153333333334,836.0146666666667]
[71,null,{"$f":"C358*$K$2","v":1738.2726666666665},1667.8246666666666,1219.1153333333332,906.78000000000009,0,null,2045.0266666666669,1962.1466666666668,1434.2533333333333,1066.8,null,null,1738.2726666666667,1667.8246666666666,1219.1153333333334,906.78]
[72,null,{"$f":"C359*$K$2","v":1878.2166666666667},1802.0566666666668,1318.52,980.87733333333335,0,null,2209.666666666667,2120.0666666666666,1551.2,1153.9733333333334,null,null,1878.2166666666669,1802.0566666666666,1318.52,980.87733333333335]
[73,null,{"$f":"C360*$K$2","v":2024.0313333333334},1941.9213333333335,1422.4466666666667,1058.0686666666666,0,null,2381.2133333333336,2284.6133333333332,1673.4666666666667,1244.7866666666666,null,null,2024.0313333333336,1941.9213333333332,1422.4466666666667,1058.0686666666666]
[74,null,{"$f":"C361*$K$2","v":2175.8753333333334},2087.8153333333335,1530.6573333333331,1138.6713333333332,0,null,2559.8533333333335,2456.2533333333336,1800.7733333333333,1339.6133333333335,null,null,2175.8753333333334,2087.8153333333335,1530.6573333333333,1138.6713333333335]
[75,null,{"$f":"C362*$K$2","v":2333.828},2239.3420000000001,1643.6279999999999,1222.6853333333333,0,null,2745.6800000000003,2634.52,1933.68,1438.4533333333334,null,null,2333.828,2239.3420000000001,1643.6279999999999,1222.6853333333333]
[76,null,{"$f":"C363*$K$2","v":2333.828},2239.3420000000001,1643.6279999999999,1222.6853333333333,0,null,2745.6800000000003,2634.52,1933.68,1438.4533333333334,null,null,2333.828,2239.3420000000001,1643.6279999999999,1222.6853333333333]
[77,null,{"$f":"C364*$K$2","v":2333.828},2239.3420000000001,1643.6279999999999,1222.6853333333333,0,null,2745.6800000000003,2634.52,1933.68,1438.4533333333334,null,null,2333.828,2239.3420000000001,1643.6279999999999,1222.6853333333333]
[78,null,{"$f":"C365*$K$2","v":2333.828},2239.3420000000001,1643.6279999999999,1222.6853333333333,0,null,2745.6800000000003,2634.52,1933.68,1438.4533333333334,null,null,2333.828,2239.3420000000001,1643.6279999999999,1222.6853333333333]
[79,null,{"$f":"C366*$K$2","v":2333.828},2239.3420000000001,1643.6279999999999,1222.6853333333333,0,null,2745.6800000000003,2634.52,1933.68,1438.4533333333334,null,null,2333.828,2239.3420000000001,1643.6279999999999,1222.6853333333333]
[80,null,{"$f":"C367*$K$2","v":2333.828},2239.3420000000001,1643.6279999999999,1222.6853333333333,null,null,2745.6800000000003,2634.52,1933.68,1438.4533333333334,null,null,2333.828,2239.3420000000001,1643.6279999999999,1222.6853333333333]
[81,null,{"$f":"C368*$K$2","v":2333.828},2239.3420000000001,1643.6279999999999,1222.6853333333333,null,null,2745.6800000000003,2634.52,1933.68,1438.4533333333334,null,null,2333.828,2239.3420000000001,1643.6279999999999,1222.6853333333333]
[82,null,{"$f":"C369*$K$2","v":2333.828},2239.3420000000001,1643.6279999999999,1222.6853333333333,null,null,2745.6800000000003,2634.52,1933.68,{"$f":"L369*$K$2","v":1438.4533333333334},null,null,2333.828,2239.3420000000001,1643.6279999999999,1222.6853333333333]
[83,null,{"$f":"C370*$K$2","v":2333.828},2239.3420000000001,1643.6279999999999,1222.6853333333333,null,null,{"$f":"I370*$K$2","v":2745.6800000000003},2634.52,1933.68,1438.4533333333334,null,null,{"$f":"I444*0.85","v":2333.828},{"$f":"J444*0.85","v":2239.3420000000001},{"$f":"K444*0.85","v":1643.6279999999999},{"$f":"L444*0.85","v":1222.6853333333333}]
[84,"o más",{"$f":"C371*$K$2","v":2333.828},2239.3420000000001,1643.6279999999999,1222.6853333333333,0,null,2745.6800000000003,2634.52,1933.68,1438.4533333333334,null,null,2333.828,2239.3420000000001,1643.6279999999999,1222.6853333333333]
[1,"Hijo",{"$f":"C372*$K$2","v":115.19200000000001},110.51133333333334,86.23533333333333,64.180666666666667,null,null,135.52000000000001,130.01333333333335,101.45333333333333,75.506666666666675,null,null,{"$f":"I446*0.85","v":115.19200000000001},110.51133333333334,86.23533333333333,64.180666666666667]
[2,"Hijos",{"$f":"C373*$K$2","v":195.636},187.70266666666666,146.37,108.92466666666667,null,null,230.16,220.82666666666668,172.20000000000002,128.14666666666668,null,null,{"$f":"I447*0.85","v":195.636},{"$f":"J447*0.85","v":187.70266666666669},{"$f":"K447*0.85","v":146.37},{"$f":"L447*0.85","v":108.92466666666667}]
[3,"Hijos o más",{"$f":"C374*$K$2","v":276.23866666666669},264.97333333333336,206.66333333333336,153.74799999999999,null,null,324.98666666666668,311.73333333333335,243.13333333333335,180.88,null,null,276.23866666666669,264.97333333333336,206.66333333333336,153.74799999999999]
[]
[]
["BUPA GLOBAL ELITE"]
["TARIFAS SEMESTRALES"]
["EDAD"]
[" "," ",1000,2000,3500]
[18,null,{"$f":"C6*$K$4","v":3091.875},{"$f":"D6*$K$4","v":2709.375},2290.75,1987.3,1541.05,null,{"$f":"I6*$K$4","v":3637.5},{"$f":"J6*$K$4","v":3187.5},2695,2338,1813,null,{"$f":"I455*0.85","v":3091.875},{"$f":"J455*0.85","v":2709.375},2290.75,1987.3,1541.05]
[19,null,{"$f":"C7*$K$4","v":3091.875},2709.375,2290.75,1987.3,1541.05,null,{"$f":"I7*$K$4","v":3637.5},3187.5,2695,2338,1813,null,{"$f":"I456*0.85","v":3091.875},{"$f":"J456*0.85","v":2709.375},{"$f":"K456*0.85","v":2290.75},{"$f":"L456*0.85","v":1987.3},1541.05]
[20,null,{"$f":"C8*$K$4","v":3091.875},2709.375,2290.75,1987.3,1541.05,null,3637.5,3187.5,2695,2338,1813,null,3091.875,2709.375,2290.75,1987.3,1541.05]
[21,null,{"$f":"C9*$K$4","v":3091.875},2709.375,2290.75,1987.3,1541.05,null,3637.5,3187.5,2695,2338,1813,null,3091.875,2709.375,2290.75,1987.3,1541.05]
[22,null,{"$f":"C10*$K$4","v":3091.875},2709.375,2290.75,1987.3,1541.05,null,3637.5,3187.5,2695,2338,1813,null,3091.875,2709.375,2290.75,1987.3,1541.05]
[23,null,{"$f":"C11*$K$4","v":3091.875},2709.375,2290.75,1987.3,1541.05,null,3637.5,3187.5,2695,2338,1813,null,3091.875,2709.375,2290.75,1987.3,1541.05]
[24,null,{"$f":"C12*$K$4","v":3091.875},2709.375,2290.75,1987.3,1541.05,null,3637.5,3187.5,2695,2338,1813,null,3091.875,2709.375,2290.75,1987.3,1541.05]
[25,null,{"$f":"C13*$K$4","v":3303.1},2895.1,2433.125,2109.6999999999998,1636.675,null,3886,3406,2862.5,2482,1925.5,null,3303.1,2895.1,2433.125,2109.6999999999998,1636.675]
[26,null,{"$f":"C14*$K$4","v":3303.1},2895.1,2433.125,2109.6999999999998,1636.675,null,3886,3406,2862.5,2482,1925.5,null,3303.1,2895.1,2433.125,2109.6999999999998,1636.675]
[27,null,{"$f":"C15*$K$4","v":3303.1},2895.1,2433.125,2109.6999999999998,1636.675,null,3886,3406,2862.5,2482,1925.5,null,3303.1,2895.1,2433.125,2109.6999999999998,1636.675]
[28,null,{"$f":"C16*$K$4","v":3303.1},2895.1,2433.125,2109.6999999999998,1636.675,null,3886,3406,2862.5,2482,1925.5,null,3303.1,2895.1,2433.125,2109.6999999999998,1636.675]
[29,null,{"$f":"C17*$K$4","v":3303.1},2895.1,2433.125,2109.6999999999998,1636.675,null,3886,3406,2862.5,2482,1925.5,null,3303.1,2895.1,2433.125,2109.6999999999998,1636.675]
[30,null,{"$f":"C18*$K$4","v":3673.2750000000001},3219.7999999999997,2685.5749999999998,2328.15,1805.825,null,4321.5,3788,3159.5,2739,2124.5,null,3673.2750000000001,3219.7999999999997,2685.5749999999998,2328.15,1805.825]
[31,null,{"$f":"C19*$K$4","v":3673.2750000000001},3219.7999999999997,2685.5749999999998,2328.15,1805.825,null,4321.5,3788,3159.5,2739,2124.5,null,3673.2750000000001,3219.7999999999997,2685.5749999999998,2328.15,1805.825]
[32,null,{"$f":"C20*$K$4","v":3673.2750000000001},3219.7999999999997,2685.5749999999998,2328.15,1805.825,null,4321.5,3788,3159.5,2739,2124.5,null,3673.2750000000001,3219.7999999999997,2685.5749999999998,2328.15,1805.825]
[33,null,{"$f":"C21*$K$4","v":3673.2750000000001},3219.7999999999997,2685.5749999999998,2328.15,1805.825,null,4321.5,3788,3159.5,2739,2124.5,null,3673.2750000000001,3219.7999999999997,2685.5749999999998,2328.15,1805.825]
[34,null,{"$f":"C22*$K$4","v":3673.2750000000001},3219.7999999999997,2685.5749999999998,2328.15,1805.825,null,4321.5,3788,3159.5,2739,2124.5,null,3673.2750000000001,3219.7999999999997,2685.5749999999998,2328.15,1805.825]
[35,null,{"$f":"C23*$K$4","v":4100.8249999999998},3593.375,2980.1,2584.4249999999997,2004.3,null,4824.5,4227.5,3506,3040.5,2358,null,4100.8249999999998,3593.375,2980.1,2584.4249999999997,2004.3]
[36,null,{"$f":"C24*$K$4","v":4100.8249999999998},3593.375,2980.1,2584.4249999999997,2004.3,null,4824.5,4227.5,3506,3040.5,2358,null,4100.8249999999998,3593.375,2980.1,2584.4249999999997,2004.3]
[37,null,{"$f":"C25*$K$4","v":4100.8249999999998},3593.375,2980.1,2584.4249999999997,2004.3,null,4824.5,4227.5,3506,3040.5,2358,null,4100.8249999999998,3593.375,2980.1,2584.4249999999997,2004.3]
[38,null,{"$f":"C26*$K$4","v":4100.8249999999998},3593.375,2980.1,2584.4249999999997,2004.3,null,4824.5,4227.5,3506,3040.5,2358,null,4100.8249999999998,3593.375,2980.1,2584.4249999999997,2004.3]
[39,null,{"$f":"C27*$K$4","v":4100.8249999999998},3593.375,2980.1,2584.4249999999997,2004.3,null,4824.5,4227.5,3506,3040.5,2358,null,4100.8249999999998,3593.375,2980.1,2584.4249999999997,2004.3]
[40,null,{"$f":"C28*$K$4","v":4592.9749999999995},4025.1749999999997,3323.0749999999998,2881.5,2235.5,null,5403.5,4735.5,3909.5,3390,2630,null,4592.9749999999995,4025.1749999999997,3323.0749999999998,2881.5,2235.5]
[41,null,{"$f":"C29*$K$4","v":4592.9749999999995},4025.1749999999997,3323.0749999999998,2881.5,2235.5,null,5403.5,4735.5,3909.5,3390,2630,null,4592.9749999999995,4025.1749999999997,3323.0749999999998,2881.5,2235.5]
[42,null,{"$f":"C30*$K$4","v":4592.9749999999995},4025.1749999999997,3323.0749999999998,2881.5,2235.5,null,5403.5,4735.5,3909.5,3390,2630,null,4592.9749999999995,4025.1749999999997,3323.0749999999998,2881.5,2235.5]
[43,null,{"$f":"C31*$K$4","v":4592.9749999999995},4025.1749999999997,3323.0749999999998,2881.5,2235.5,null,5403.5,4735.5,3909.5,3390,2630,null,4592.9749999999995,4025.1749999999997,3323.0749999999998,2881.5,2235.5]
[44,null,{"$f":"C32*$K$4","v":4592.9749999999995},4025.1749999999997,3323.0749999999998,2881.5,2235.5,null,5403.5,4735.5,3909.5,3390,2630,null,4592.9749999999995,4025.1749999999997,3323.0749999999998,2881.5,2235.5]
[45,null,{"$f":"C33*$K$4","v":5139.95},4505,3707.7,3214.7,2493.0499999999997,null,6047,5300,4362,3782,2933,null,5139.95,4505,3707.7,3214.7,2493.0499999999997]
[46,null,{"$f":"C34*$K$4","v":5139.95},4505,3707.7,3214.7,2493.0499999999997,null,6047,5300,4362,3782,2933,null,5139.95,4505,3707.7,3214.7,2493.0499999999997]
[47,null,{"$f":"C35*$K$4","v":5139.95},4505,3707.7,3214.7,2493.0499999999997,null,6047,5300,4362,3782,2933,null,5139.95,4505,3707.7,3214.7,2493.0499999999997]
[48,null,{"$f":"C36*$K$4","v":5139.95},4505,3707.7,3214.7,2493.0499999999997,null,6047,5300,4362,3782,2933,null,5139.95,4505,3707.7,3214.7,2493.0499999999997]
[49,null,{"$f":"C37*$K$4","v":5139.95},4505,3707.7,3214.7,2493.0499999999997,null,6047,5300,4362,3782,2933,null,5139.95,4505,3707.7,3214.7,2493.0499999999997]
[50,null,{"$f":"C38*$K$4","v":5754.9250000000002},5044.75,4141.625,3591.6749999999997,2785.45,null,6770.5,5935,4872.5,4225.5,3277,null,5754.9250000000002,5044.75,4141.625,3591.6749999999997,2785.45]
[51,null,{"$f":"C39*$K$4","v":5754.9250000000002},5044.75,4141.625,3591.6749999999997,2785.45,null,6770.5,5935,4872.5,4225.5,3277,null,5754.9250000000002,5044.75,4141.625,3591.6749999999997,2785.45]
[52,null,{"$f":"C40*$K$4","v":5754.9250000000002},5044.75,4141.625,3591.6749999999997,2785.45,null,6770.5,5935,4872.5,4225.5,3277,null,5754.9250000000002,5044.75,4141.625,3591.6749999999997,2785.45]
[53,null,{"$f":"C41*$K$4","v":5754.9250000000002},5044.75,4141.625,3591.6749999999997,2785.45,null,6770.5,5935,4872.5,4225.5,3277,null,5754.9250000000002,5044.75,4141.625,3591.6749999999997,2785.45]
[54,null,{"$f":"C42*$K$4","v":5754.9250000000002},5044.75,4141.625,3591.6749999999997,2785.45,null,6770.5,5935,4872.5,4225.5,3277,null,5754.9250000000002,5044.75,4141.625,3591.6749999999997,2785.45]
[55,null,{"$f":"C43*$K$4","v":6433.65},5639.75,4624,4009.875,3110.15,null,7569,6635,5440,4717.5,3659,null,6433.65,5639.75,4624,4009.875,3110.15]
[56,null,{"$f":"C44*$K$4","v":6433.65},5639.75,4624,4009.875,3110.15,null,7569,6635,5440,4717.5,3659,null,6433.65,5639.75,4624,4009.875,3110.15]
[57,null,{"$f":"C45*$K$4","v":6433.65},5639.75,4624,4009.875,3110.15,null,7569,6635,5440,4717.5,3659,null,6433.65,5639.75,4624,4009.875,3110.15]
[58,null,{"$f":"C46*$K$4","v":6433.65},5639.75,4624,4009.875,3110.15,null,7569,6635,5440,4717.5,3659,null,6433.65,5639.75,4624,4009.875,3110.15]
[59,null,{"$f":"C47*$K$4","v":6433.65},5639.75,4624,4009.875,3110.15,null,7569,6635,5440,4717.5,3659,null,6433.65,5639.75,4624,4009.875,3110.15]
[60,null,{"$f":"C48*$K$4","v":6885.8499999999995},6035.8499999999995,4944.875,4287.8249999999998,3325.2,null,8101,7101,5817.5,5044.5,3912,null,6885.8499999999995,6035.8499999999995,4944.875,4287.8249999999998,3325.2]
[61,null,{"$f":"C49*$K$4","v":7672.95},6726.05,5507.5749999999998,4776.5749999999998,3703.875,null,9027,7913,6479.5,5619.5,4357.5,null,7672.95,6726.05,5507.5749999999998,4776.5749999999998,3703.875]
[62,null,{"$f":"C50*$K$4","v":8524.65},7471.9250000000002,6117.45,5304,4113.1499999999996,null,10029,8790.5,7197,6240,4839,null,8524.65,7471.9250000000002,6117.45,5304,4113.1499999999996]
[63,null,{"$f":"C51*$K$4","v":9439.25},8274.75,6774.5,5873.9250000000002,4555.5749999999998,null,11105,9735,7970,6910.5,5359.5,null,9439.25,8274.75,6774.5,5873.9250000000002,4555.5749999999998]
[64,null,{"$f":"C52*$K$4","v":10419.725},9132.4,7478.3,6484.65,5028.5999999999995,null,12258.5,10744,8798,7629,5916,null,10419.725,9132.4,7478.3,6484.65,5028.5999999999995]
[65,null,{"$f":"C53*$K$4","v":11463.1},10048.275,8230.5499999999993,7137.0249999999996,5535.2,null,13486,11821.5,9683,8396.5,6512,null,11463.1,10048.275,8230.5499999999993,7137.0249999999996,5535.2]
[66,null,{"$f":"C54*$K$4","v":12571.924999999999},11019.824999999999,9029.9750000000004,7830.2,6073.25,null,14790.5,12964.5,10623.5,9212,{"$f":"M54*$K$4","v":7145},null,12571.924999999999,11019.824999999999,9029.9750000000004,7830.2,6073.25]
[67,null,{"$f":"C55*$K$4","v":13744.5},12047.05,9877.85,8565.0249999999996,6642.75,null,16170,14173,11621,10076.5,7815,null,13744.5,12047.05,9877.85,8565.0249999999996,6642.75]
[68,null,{"$f":"C56*$K$4","v":14980.824999999999},13131.225,10772.9,9341.5,7244.9749999999995,null,17624.5,15448.5,12674,10990,8523.5,null,14980.824999999999,13131.225,10772.9,9341.5,7244.9749999999995]
[69,null,{"$f":"C57*$K$4","v":16282.6},14271.5,11715.975,10159.625,7879.0749999999998,null,19156,16790,13783.5,11952.5,9269.5,null,16282.6,14271.5,11715.975,10159.625,7879.0749999999998]
[70,null,{"$f":"C58*$K$4","v":17647.274999999998},15468.3,12705.8,11018.125,8544.625,null,20761.5,18198,14948,12962.5,10052.5,null,17647.274999999998,15468.3,12705.8,11018.125,8544.625]
[71,null,{"$f":"C59*$K$4","v":19076.55},16721.2,13744.5,11918.275,9242.9,null,22443,19672,16170,14021.5,10874,null,19076.55,16721.2,13744.5,11918.275,9242.9]
[72,null,{"$f":"C60*$K$4","v":20570.424999999999},18031.474999999999,14829.949999999999,12858.8,9972.625,null,24200.5,21213.5,17447,15128,11732.5,null,20570.424999999999,18031.474999999999,14829.949999999999,12858.8,9972.625]
[73,null,{"$f":"C61*$K$4","v":22128.899999999998},19396.575000000001,15964.275,13842.25,10735.074999999999,null,26034,22819.5,18781.5,16285,12629.5,null,22128.899999999998,19396.575000000001,15964.275,13842.25,10735.074999999999]
[74,null,{"$f":"C62*$K$4","v":23751.55},20818.2,17144.924999999999,14866.5,11529.4,null,27943,24492,20170.5,17490,13564,null,23751.55,20818.2,17144.924999999999,14866.5,11529.4]
[75,null,{"$f":"C63*$K$4","v":25437.95},22296.774999999998,18373.174999999999,15931.55,12355.174999999999,null,29927,26231.5,21615.5,18743,14535.5,null,25437.95,22296.774999999998,18373.174999999999,15931.55,12355.174999999999]
[76,null,{"$f":"C64*$K$4","v":25437.95},22296.774999999998,18373.174999999999,15931.55,12355.174999999999,null,29927,26231.5,21615.5,18743,14535.5,null,25437.95,22296.774999999998,18373.174999999999,15931.55,12355.174999999999]
[77,null,{"$f":"C65*$K$4","v":25437.95},22296.774999999998,18373.174999999999,15931.55,12355.174999999999,null,29927,26231.5,21615.5,18743,14535.5,null,25437.95,22296.774999999998,18373.174999999999,15931.55,12355.174999999999]
[78,null,{"$f":"C66*$K$4","v":25437.95},22296.774999999998,18373.174999999999,15931.55,12355.174999999999,null,29927,26231.5,21615.5,18743,14535.5,null,25437.95,22296.774999999998,18373.174999999999,15931.55,12355.174999999999]
[79,null,{"$f":"C67*$K$4","v":25437.95},22296.774999999998,18373.174999999999,15931.55,12355.174999999999,null,29927,26231.5,21615.5,18743,14535.5,null,25437.95,22296.774999999998,18373.174999999999,15931.55,12355.174999999999]
[80,null,{"$f":"C68*$K$4","v":25437.95},22296.774999999998,18373.174999999999,15931.55,12355.174999999999,null,29927,26231.5,21615.5,18743,14535.5,null,25437.95,22296.774999999998,18373.174999999999,15931.55,12355.174999999999]
[81,null,{"$f":"C69*$K$4","v":25437.95},22296.774999999998,18373.174999999999,15931.55,12355.174999999999,null,29927,26231.5,21615.5,18743,14535.5,null,25437.95,22296.774999999998,18373.174999999999,15931.55,12355.174999999999]
[82,null,{"$f":"C70*$K$4","v":25437.95},22296.774999999998,18373.174999999999,15931.55,12355.174999999999,null,29927,{"$f":"J70*$K$4","v":26231.5},21615.5,18743,14535.5,null,25437.95,22296.774999999998,18373.174999999999,15931.55,12355.174999999999]
[83,null,{"$f":"C71*$K$4","v":25437.95},22296.774999999998,18373.174999999999,15931.55,12355.174999999999,null,{"$f":"I71*$K$4","v":29927},26231.5,21615.5,18743,14535.5,null,{"$f":"I520*0.85","v":25437.95},{"$f":"J520*0.85","v":22296.774999999998},{"$f":"K520*0.85","v":18373.174999999999},{"$f":"L520*0.85","v":15931.55},12355.174999999999]
[84,"o más",{"$f":"C72*$K$4","v":25437.95},22296.774999999998,18373.174999999999,15931.55,12355.174999999999,null,29927,26231.5,21615.5,18743,14535.5,null,{"$f":"I521*0.85","v":25437.95},22296.774999999998,18373.174999999999,15931.55,12355.174999999999]
[1,"Hijo",{"$f":"C73*$K$4","v":1306.875},1145.375,974.94999999999993,845.75,655.77499999999998,null,1537.5,1347.5,1147,995,771.5,null,{"$f":"I522*0.85","v":1306.875},1145.375,974.94999999999993,845.75,655.77499999999998]
[2,"Hijos",{"$f":"C74*$K$4","v":2220.625},1946.925,1657.5,1437.7749999999999,1114.7749999999999,null,2612.5,2290.5,1950,1691.5,1311.5,null,{"$f":"I523*0.85","v":2220.625},{"$f":"J523*0.85","v":1946.925},{"$f":"K523*0.85","v":1657.5},{"$f":"L523*0.85","v":1437.7749999999999},{"$f":"M523*0.85","v":1114.7749999999999}]
[3,"Hijos o más",{"$f":"C75*$K$4","v":3135.65},2748.0499999999997,2339.625,2028.95,1573.7749999999999,null,3689,3233,2752.5,2387,1851.5,null,3135.65,2748.0499999999997,2339.625,2028.95,1573.7749999999999]
[]
["BUPA GLOBAL PREMIER"]
["TARIFAS SEMESTRALES"]
["EDAD"]
[" "," ",2000,3500,5000]
[18,null,{"$f":"C155*$K$4","v":2031.925},{"$f":"D155*$K$4","v":1843.2249999999999},1411.425,1049.75,0,null,{"$f":"I155*$K$4","v":2390.5},{"$f":"J155*$K$4","v":2168.5},1660.5,1235,null,{"$f":"I530*0.85","v":2031.925},{"$f":"J530*0.85","v":1843.2249999999999},1411.425,1049.75]
[19,null,{"$f":"C156*$K$4","v":2031.925},1843.2249999999999,1411.425,1049.75,0,null,{"$f":"I156*$K$4","v":2390.5},2168.5,1660.5,1235,null,{"$f":"I531*0.85","v":2031.925},{"$f":"J531*0.85","v":1843.2249999999999},{"$f":"K531*0.85","v":1411.425},{"$f":"L531*0.85","v":1049.75}]
[20,null,{"$f":"C157*$K$4","v":2031.925},1843.2249999999999,1411.425,1049.75,0,null,2390.5,2168.5,1660.5,1235,null,2031.925,1843.2249999999999,1411.425,1049.75]
[21,null,{"$f":"C158*$K$4","v":2031.925},1843.2249999999999,1411.425,1049.75,0,null,2390.5,2168.5,1660.5,1235,null,2031.925,1843.2249999999999,1411.425,1049.75]
[22,null,{"$f":"C159*$K$4","v":2031.925},1843.2249999999999,1411.425,1049.75,0,null,2390.5,2168.5,1660.5,1235,null,2031.925,1843.2249999999999,1411.425,1049.75]
[23,null,{"$f":"C160*$K$4","v":2031.925},1843.2249999999999,1411.425,1049.75,0,null,2390.5,2168.5,1660.5,1235,null,2031.925,1843.2249999999999,1411.425,1049.75]
[24,null,{"$f":"C161*$K$4","v":2031.925},1843.2249999999999,1411.425,1049.75,0,null,2390.5,2168.5,1660.5,1235,null,2031.925,1843.2249999999999,1411.425,1049.75]
[25,null,{"$f":"C162*$K$4","v":2171.75},1969.875,1492.175,1110.0999999999999,0,null,2555,2317.5,1755.5,1306,null,2171.75,1969.875,1492.175,1110.0999999999999]
[26,null,{"$f":"C163*$K$4","v":2171.75},1969.875,1492.175,1110.0999999999999,0,null,2555,2317.5,1755.5,1306,null,2171.75,1969.875,1492.175,1110.0999999999999]
[27,null,{"$f":"C164*$K$4","v":2171.75},1969.875,1492.175,1110.0999999999999,0,null,2555,2317.5,1755.5,1306,null,2171.75,1969.875,1492.175,1110.0999999999999]
[28,null,{"$f":"C165*$K$4","v":2171.75},1969.875,1492.175,1110.0999999999999,0,null,2555,2317.5,1755.5,1306,null,2171.75,1969.875,1492.175,1110.0999999999999]
[29,null,{"$f":"C166*$K$4","v":2171.75},1969.875,1492.175,1110.0999999999999,0,null,2555,2317.5,1755.5,1306,null,2171.75,1969.875,1492.175,1110.0999999999999]
[30,null,{"$f":"C167*$K$4","v":2414.85},2191.7249999999999,1638.375,1218.4749999999999,0,null,2841,2578.5,1927.5,1433.5,null,2414.85,2191.7249999999999,1638.375,1218.4749999999999]
[31,null,{"$f":"C168*$K$4","v":2414.85},2191.7249999999999,1638.375,1218.4749999999999,0,null,2841,2578.5,1927.5,1433.5,null,2414.85,2191.7249999999999,1638.375,1218.4749999999999]
[32,null,{"$f":"C169*$K$4","v":2414.85},2191.7249999999999,1638.375,1218.4749999999999,0,null,2841,2578.5,1927.5,1433.5,null,2414.85,2191.7249999999999,1638.375,1218.4749999999999]
[33,null,{"$f":"C170*$K$4","v":2414.85},2191.7249999999999,1638.375,1218.4749999999999,0,null,2841,2578.5,1927.5,1433.5,null,2414.85,2191.7249999999999,1638.375,1218.4749999999999]
[34,null,{"$f":"C171*$K$4","v":2414.85},2191.7249999999999,1638.375,1218.4749999999999,0,null,2841,2578.5,1927.5,1433.5,null,2414.85,2191.7249999999999,1638.375,1218.4749999999999]
[35,null,{"$f":"C172*$K$4","v":2694.9249999999997},2445.875,1810.925,1346.825,0,null,3170.5,2877.5,2130.5,1584.5,null,2694.9249999999997,2445.875,1810.925,1346.825]
[36,null,{"$f":"C173*$K$4","v":2694.9249999999997},2445.875,1810.925,1346.825,0,null,3170.5,2877.5,2130.5,1584.5,null,2694.9249999999997,2445.875,1810.925,1346.825]
[37,null,{"$f":"C174*$K$4","v":2694.9249999999997},2445.875,1810.925,1346.825,0,null,3170.5,2877.5,2130.5,1584.5,null,2694.9249999999997,2445.875,1810.925,1346.825]
[38,null,{"$f":"C175*$K$4","v":2694.9249999999997},2445.875,1810.925,1346.825,0,null,3170.5,2877.5,2130.5,1584.5,null,2694.9249999999997,2445.875,1810.925,1346.825]
[39,null,{"$f":"C176*$K$4","v":2694.9249999999997},2445.875,1810.925,1346.825,0,null,3170.5,2877.5,2130.5,1584.5,null,2694.9249999999997,2445.875,1810.925,1346.825]
[40,null,{"$f":"C177*$K$4","v":3018.35},2739.5499999999997,2012.375,1497.2749999999999,0,null,3551,3223,2367.5,1761.5,null,3018.35,2739.5499999999997,2012.375,1497.2749999999999]
[41,null,{"$f":"C178*$K$4","v":3018.35},2739.5499999999997,2012.375,1497.2749999999999,0,null,3551,3223,2367.5,1761.5,null,3018.35,2739.5499999999997,2012.375,1497.2749999999999]
[42,null,{"$f":"C179*$K$4","v":3018.35},2739.5499999999997,2012.375,1497.2749999999999,0,null,3551,3223,2367.5,1761.5,null,3018.35,2739.5499999999997,2012.375,1497.2749999999999]
[43,null,{"$f":"C180*$K$4","v":3018.35},2739.5499999999997,2012.375,1497.2749999999999,0,null,3551,3223,2367.5,1761.5,null,3018.35,2739.5499999999997,2012.375,1497.2749999999999]
[44,null,{"$f":"C181*$K$4","v":3018.35},2739.5499999999997,2012.375,1497.2749999999999,0,null,3551,3223,2367.5,1761.5,null,3018.35,2739.5499999999997,2012.375,1497.2749999999999]
[45,null,{"$f":"C182*$K$4","v":3377.9},3065.95,2239.75,1666,0,null,3974,3607,2635,1960,null,3377.9,3065.95,2239.75,1666]
[46,null,{"$f":"C183*$K$4","v":3377.9},3065.95,2239.75,1666,0,null,3974,3607,2635,1960,null,3377.9,3065.95,2239.75,1666]
[47,null,{"$f":"C184*$K$4","v":3377.9},3065.95,2239.75,1666,0,null,3974,3607,2635,1960,null,3377.9,3065.95,2239.75,1666]
[48,null,{"$f":"C185*$K$4","v":3377.9},3065.95,2239.75,1666,0,null,3974,3607,2635,1960,null,3377.9,3065.95,2239.75,1666]
[49,null,{"$f":"C186*$K$4","v":3377.9},3065.95,2239.75,1666,0,null,3974,3607,2635,1960,null,3377.9,3065.95,2239.75,1666]
[50,null,{"$f":"C187*$K$4","v":3783.35},3433.15,2498.5749999999998,1858.95,0,null,4451,4039,2939.5,2187,null,3783.35,3433.15,2498.5749999999998,1858.95]
[51,null,{"$f":"C188*$K$4","v":3783.35},3433.15,2498.5749999999998,1858.95,0,null,4451,4039,2939.5,2187,null,3783.35,3433.15,2498.5749999999998,1858.95]
[52,null,{"$f":"C189*$K$4","v":3783.35},3433.15,2498.5749999999998,1858.95,0,null,4451,4039,2939.5,2187,null,3783.35,3433.15,2498.5749999999998,1858.95]
[53,null,{"$f":"C190*$K$4","v":3783.35},3433.15,2498.5749999999998,1858.95,0,null,4451,4039,2939.5,2187,null,3783.35,3433.15,2498.5749999999998,1858.95]
[54,null,{"$f":"C191*$K$4","v":3783.35},3433.15,2498.5749999999998,1858.95,0,null,4451,4039,2939.5,2187,null,3783.35,3433.15,2498.5749999999998,1858.95]
[55,null,{"$f":"C192*$K$4","v":4228.75},3838.1749999999997,2785.875,2072.7249999999999,0,null,4975,4515.5,3277.5,2438.5,null,4228.75,3838.1749999999997,2785.875,2072.7249999999999]
[56,null,{"$f":"C193*$K$4","v":4228.75},3838.1749999999997,2785.875,2072.7249999999999,0,null,4975,4515.5,3277.5,2438.5,null,4228.75,3838.1749999999997,2785.875,2072.7249999999999]
[57,null,{"$f":"C194*$K$4","v":4228.75},3838.1749999999997,2785.875,2072.7249999999999,0,null,4975,4515.5,3277.5,2438.5,null,4228.75,3838.1749999999997,2785.875,2072.7249999999999]
[58,null,{"$f":"C195*$K$4","v":4228.75},3838.1749999999997,2785.875,2072.7249999999999,0,null,4975,4515.5,3277.5,2438.5,null,4228.75,3838.1749999999997,2785.875,2072.7249999999999]
[59,null,{"$f":"C196*$K$4","v":4228.75},3838.1749999999997,2785.875,2072.7249999999999,0,null,4975,4515.5,3277.5,2438.5,null,4228.75,3838.1749999999997,2785.875,2072.7249999999999]
[60,null,{"$f":"C197*$K$4","v":4526.25},4106.7749999999996,2977.9749999999999,2214.6749999999997,0,null,5325,4831.5,3503.5,2605.5,null,4526.25,4106.7749999999996,2977.9749999999999,2214.6749999999997]
[61,null,{"$f":"C198*$K$4","v":5042.625},4575.9749999999995,3314.15,2465.4249999999997,0,null,5932.5,5383.5,3899,2900.5,null,5042.625,4575.9749999999995,3314.15,2465.4249999999997]
[62,null,{"$f":"C199*$K$4","v":5601.9250000000002},5084.7,3680.9249999999997,2738.2750000000001,0,null,6590.5,5982,4330.5,3221.5,null,5601.9250000000002,5084.7,3680.9249999999997,2738.2750000000001]
[63,null,{"$f":"C200*$K$4","v":6204.15},5630.4,4076.1749999999997,3031.5250000000001,0,null,7299,6624,4795.5,3566.5,null,6204.15,5630.4,4076.1749999999997,3031.5250000000001]
[64,null,{"$f":"C201*$K$4","v":6848.0249999999996},6214.7749999999996,4500.75,3347.7249999999999,0,null,8056.5,7311.5,5295,3938.5,null,6848.0249999999996,6214.7749999999996,4500.75,3347.7249999999999]
[65,null,{"$f":"C202*$K$4","v":7534.4},6837.4,4954.6499999999996,3685.6,0,null,8864,8044,5829,4336,null,7534.4,6837.4,4954.6499999999996,3685.6]
[66,null,{"$f":"C203*$K$4","v":8262.85},7497.8499999999995,5437.875,4045.15,0,null,9721,8821,6397.5,4759,null,8262.85,7497.8499999999995,5437.875,4045.15]
[67,null,{"$f":"C204*$K$4","v":9033.375},8197.8249999999989,5950.8499999999995,4427.2249999999995,0,null,10627.5,9644.5,7001,5208.5,null,9033.375,8197.8249999999989,5950.8499999999995,4427.2249999999995]
[68,null,{"$f":"C205*$K$4","v":9845.5499999999993},8934.7749999999996,6492.7249999999995,4829.7,0,null,11583,10511.5,7638.5,5682,null,9845.5499999999993,8934.7749999999996,6492.7249999999995,4829.7]
[69,null,{"$f":"C206*$K$4","v":10701.074999999999},9711.6749999999993,7064.3499999999995,5255.125,0,null,12589.5,11425.5,8311,6182.5,null,10701.074999999999,9711.6749999999993,7064.3499999999995,5255.125]
[70,null,{"$f":"C207*$K$4","v":11598.674999999999},10526.4,7664.45,5701.375,0,null,13645.5,12384,9017,6707.5,null,11598.674999999999,10526.4,7664.45,5701.375]
[71,null,{"$f":"C208*$K$4","v":12538.35},11378.1,8295.15,6170.5749999999998,0,null,14751,13386,9759,7259.5,null,12538.35,11378.1,8295.15,6170.5749999999998]
[72,null,{"$f":"C209*$K$4","v":13519.674999999999},12269.324999999999,8954.3249999999989,6661.0249999999996,0,null,15905.5,14434.5,10534.5,7836.5,null,13519.674999999999,12269.324999999999,8954.3249999999989,6661.0249999999996]
[73,null,{"$f":"C210*$K$4","v":14543.5},13198.8,9643.25,7173.15,0,null,17110,15528,11345,8439,null,14543.5,13198.8,9643.25,7173.15]
[74,null,{"$f":"C211*$K$4","v":15609.824999999999},14166.1,10361.924999999999,7707.8,0,null,18364.5,16666,12190.5,9068,null,15609.824999999999,14166.1,10361.924999999999,7707.8]
[75,null,{"$f":"C212*$K$4","v":16717.8},15172.5,11109.5,8264.125,0,null,19668,17850,13070,9722.5,null,16717.8,15172.5,11109.5,8264.125]
[76,null,{"$f":"C213*$K$4","v":16717.8},15172.5,11109.5,8264.125,0,null,19668,17850,13070,9722.5,null,16717.8,15172.5,11109.5,8264.125]
[77,null,{"$f":"C214*$K$4","v":16717.8},15172.5,11109.5,8264.125,0,null,19668,17850,13070,9722.5,null,16717.8,15172.5,11109.5,8264.125]
[78,null,{"$f":"C215*$K$4","v":16717.8},15172.5,11109.5,8264.125,0,null,19668,17850,13070,9722.5,null,16717.8,15172.5,11109.5,8264.125]
[79,null,{"$f":"C216*$K$4","v":16717.8},15172.5,11109.5,8264.125,0,null,19668,17850,13070,9722.5,null,16717.8,15172.5,11109.5,8264.125]
[80,null,{"$f":"C217*$K$4","v":16717.8},15172.5,11109.5,8264.125,0,null,19668,17850,13070,9722.5,null,16717.8,15172.5,11109.5,8264.125]
[81,null,{"$f":"C218*$K$4","v":16717.8},15172.5,11109.5,8264.125,0,null,19668,17850,13070,9722.5,null,16717.8,15172.5,11109.5,8264.125]
[82,null,{"$f":"C219*$K$4","v":16717.8},15172.5,11109.5,8264.125,0,null,19668,17850,13070,{"$f":"L219*$K$4","v":9722.5},null,16717.8,15172.5,11109.5,8264.125]
[83,null,{"$f":"C220*$K$4","v":16717.8},15172.5,11109.5,8264.125,0,null,{"$f":"I220*$K$4","v":19668},17850,13070,9722.5,null,{"$f":"I595*0.85","v":16717.8},{"$f":"J595*0.85","v":15172.5},{"$f":"K595*0.85","v":11109.5},{"$f":"L595*0.85","v":8264.125}]
[84,"o más",{"$f":"C221*$K$4","v":16717.8},15172.5,11109.5,8264.125,0,null,19668,17850,13070,9722.5,null,{"$f":"I596*0.85","v":16717.8},{"$f":"J596*0.85","v":15172.5},{"$f":"K596*0.85","v":11109.5},{"$f":"L596*0.85","v":8264.125}]
[1,"Hijo",{"$f":"C222*$K$4","v":858.92499999999995},779.02499999999998,604.35,449.22499999999997,0,null,1010.5,916.5,711,528.5,null,{"$f":"I597*0.85","v":858.92499999999995},779.02499999999998,604.35,449.22499999999997]
[2,"Hijos",{"$f":"C223*$K$4","v":1459.875},1325.1499999999999,1026.375,763.72500000000002,0,null,1717.5,1559,1207.5,898.5,null,{"$f":"I598*0.85","v":1459.875},{"$f":"J598*0.85","v":1325.1499999999999},{"$f":"K598*0.85","v":1026.375},{"$f":"L598*0.85","v":763.72500000000002}]
[3,"Hijos o más",{"$f":"C224*$K$4","v":2060.4},1870,1448.825,1077.8,0,null,2424,2200,1704.5,1268,null,2060.4,1870,1448.825,1077.8]
[]
["BUPA GLOBAL SELECT"]
["TARIFAS SEMESTRALES"]
["EDAD"]
[" "," ",2000,3500,5000]
[18,null,{"$f":"C305*$K$4","v":1322.6},{"$f":"D305*$K$4","v":1268.625},975.8,725.9,0,null,{"$f":"I305*$K$4","v":1556},{"$f":"J305*$K$4","v":1492.5},1148,854,null,{"$f":"I605*0.85","v":1322.6},{"$f":"J605*0.85","v":1268.625},975.8,725.9]
[19,null,{"$f":"C306*$K$4","v":1322.6},1268.625,975.8,725.9,0,null,{"$f":"I306*$K$4","v":1556},1492.5,1148,854,null,{"$f":"I606*0.85","v":1322.6},{"$f":"J606*0.85","v":1268.625},{"$f":"K606*0.85","v":975.8},{"$f":"L606*0.85","v":725.9}]
[20,null,{"$f":"C307*$K$4","v":1322.6},1268.625,975.8,725.9,0,null,1556,1492.5,1148,854,null,1322.6,1268.625,975.8,725.9]
[21,null,{"$f":"C308*$K$4","v":1322.6},1268.625,975.8,725.9,0,null,1556,1492.5,1148,854,null,1322.6,1268.625,975.8,725.9]
[22,null,{"$f":"C309*$K$4","v":1322.6},1268.625,975.8,725.9,0,null,1556,1492.5,1148,854,null,1322.6,1268.625,975.8,725.9]
[23,null,{"$f":"C310*$K$4","v":1322.6},1268.625,975.8,725.9,0,null,1556,1492.5,1148,854,null,1322.6,1268.625,975.8,725.9]
[24,null,{"$f":"C311*$K$4","v":1322.6},1268.625,975.8,725.9,0,null,1556,1492.5,1148,854,null,1322.6,1268.625,975.8,725.9]
[25,null,{"$f":"C312*$K$4","v":1426.7249999999999},1368.925,1041.675,775.19999999999993,0,null,1678.5,1610.5,1225.5,912,null,1426.7249999999999,1368.925,1041.675,775.19999999999993]
[26,null,{"$f":"C313*$K$4","v":1426.7249999999999},1368.925,1041.675,775.19999999999993,0,null,1678.5,1610.5,1225.5,912,null,1426.7249999999999,1368.925,1041.675,775.19999999999993]
[27,null,{"$f":"C314*$K$4","v":1426.7249999999999},1368.925,1041.675,775.19999999999993,0,null,1678.5,1610.5,1225.5,912,null,1426.7249999999999,1368.925,1041.675,775.19999999999993]
[28,null,{"$f":"C315*$K$4","v":1426.7249999999999},1368.925,1041.675,775.19999999999993,0,null,1678.5,1610.5,1225.5,912,null,1426.7249999999999,1368.925,1041.675,775.19999999999993]
[29,null,{"$f":"C316*$K$4","v":1426.7249999999999},1368.925,1041.675,775.19999999999993,0,null,1678.5,1610.5,1225.5,912,null,1426.7249999999999,1368.925,1041.675,775.19999999999993]
[30,null,{"$f":"C317*$K$4","v":1609.8999999999999},1544.0249999999999,1158.125,861.47500000000002,0,null,1894,1816.5,1362.5,1013.5,null,1609.8999999999999,1544.0249999999999,1158.125,861.47500000000002]
[31,null,{"$f":"C318*$K$4","v":1609.8999999999999},1544.0249999999999,1158.125,861.47500000000002,0,null,1894,1816.5,1362.5,1013.5,null,1609.8999999999999,1544.0249999999999,1158.125,861.47500000000002]
[32,null,{"$f":"C319*$K$4","v":1609.8999999999999},1544.0249999999999,1158.125,861.47500000000002,0,null,1894,1816.5,1362.5,1013.5,null,1609.8999999999999,1544.0249999999999,1158.125,861.47500000000002]
[33,null,{"$f":"C320*$K$4","v":1609.8999999999999},1544.0249999999999,1158.125,861.47500000000002,0,null,1894,1816.5,1362.5,1013.5,null,1609.8999999999999,1544.0249999999999,1158.125,861.47500000000002]
[34,null,{"$f":"C321*$K$4","v":1609.8999999999999},1544.0249999999999,1158.125,861.47500000000002,0,null,1894,1816.5,1362.5,1013.5,null,1609.8999999999999,1544.0249999999999,1158.125,861.47500000000002]
[35,null,{"$f":"C322*$K$4","v":1821.55},1747.6,1296.675,965.17499999999995,0,null,2143,2056,1525.5,1135.5,null,1821.55,1747.6,1296.675,965.17499999999995]
[36,null,{"$f":"C323*$K$4","v":1821.55},1747.6,1296.675,965.17499999999995,0,null,2143,2056,1525.5,1135.5,null,1821.55,1747.6,1296.675,965.17499999999995]
[37,null,{"$f":"C324*$K$4","v":1821.55},1747.6,1296.675,965.17499999999995,0,null,2143,2056,1525.5,1135.5,null,1821.55,1747.6,1296.675,965.17499999999995]
[38,null,{"$f":"C325*$K$4","v":1821.55},1747.6,1296.675,965.17499999999995,0,null,2143,2056,1525.5,1135.5,null,1821.55,1747.6,1296.675,965.17499999999995]
[39,null,{"$f":"C326*$K$4","v":1821.55},1747.6,1296.675,965.17499999999995,0,null,2143,2056,1525.5,1135.5,null,1821.55,1747.6,1296.675,965.17499999999995]
[40,null,{"$f":"C327*$K$4","v":2065.9249999999997},1982.2,1458.6,1085.0249999999999,0,null,2430.5,2332,1716,1276.5,null,2065.9249999999997,1982.2,1458.6,1085.0249999999999]
[41,null,{"$f":"C328*$K$4","v":2065.9249999999997},1982.2,1458.6,1085.0249999999999,0,null,2430.5,2332,1716,1276.5,null,2065.9249999999997,1982.2,1458.6,1085.0249999999999]
[42,null,{"$f":"C329*$K$4","v":2065.9249999999997},1982.2,1458.6,1085.0249999999999,0,null,2430.5,2332,1716,1276.5,null,2065.9249999999997,1982.2,1458.6,1085.0249999999999]
[43,null,{"$f":"C330*$K$4","v":2065.9249999999997},1982.2,1458.6,1085.0249999999999,0,null,2430.5,2332,1716,1276.5,null,2065.9249999999997,1982.2,1458.6,1085.0249999999999]
[44,null,{"$f":"C331*$K$4","v":2065.9249999999997},1982.2,1458.6,1085.0249999999999,0,null,2430.5,2332,1716,1276.5,null,2065.9249999999997,1982.2,1458.6,1085.0249999999999]
[45,null,{"$f":"C332*$K$4","v":2338.35},2243.15,1641.7749999999999,1221.45,0,null,2751,2639,1931.5,1437,null,2338.35,2243.15,1641.7749999999999,1221.45]
[46,null,{"$f":"C333*$K$4","v":2338.35},2243.15,1641.7749999999999,1221.45,0,null,2751,2639,1931.5,1437,null,2338.35,2243.15,1641.7749999999999,1221.45]
[47,null,{"$f":"C334*$K$4","v":2338.35},2243.15,1641.7749999999999,1221.45,0,null,2751,2639,1931.5,1437,null,2338.35,2243.15,1641.7749999999999,1221.45]
[48,null,{"$f":"C335*$K$4","v":2338.35},2243.15,1641.7749999999999,1221.45,0,null,2751,2639,1931.5,1437,null,2338.35,2243.15,1641.7749999999999,1221.45]
[49,null,{"$f":"C336*$K$4","v":2338.35},2243.15,1641.7749999999999,1221.45,0,null,2751,2639,1931.5,1437,null,2338.35,2243.15,1641.7749999999999,1221.45]
[50,null,{"$f":"C337*$K$4","v":2645.2},2537.6749999999997,1849.6,1376.1499999999999,0,null,3112,2985.5,2176,1619,null,2645.2,2537.6749999999997,1849.6,1376.1499999999999]
[51,null,{"$f":"C338*$K$4","v":2645.2},2537.6749999999997,1849.6,1376.1499999999999,0,null,3112,2985.5,2176,1619,null,2645.2,2537.6749999999997,1849.6,1376.1499999999999]
[52,null,{"$f":"C339*$K$4","v":2645.2},2537.6749999999997,1849.6,1376.1499999999999,0,null,3112,2985.5,2176,1619,null,2645.2,2537.6749999999997,1849.6,1376.1499999999999]
[53,null,{"$f":"C340*$K$4","v":2645.2},2537.6749999999997,1849.6,1376.1499999999999,0,null,3112,2985.5,2176,1619,null,2645.2,2537.6749999999997,1849.6,1376.1499999999999]
[54,null,{"$f":"C341*$K$4","v":2645.2},2537.6749999999997,1849.6,1376.1499999999999,0,null,3112,2985.5,2176,1619,null,2645.2,2537.6749999999997,1849.6,1376.1499999999999]
[55,null,{"$f":"C342*$K$4","v":2983.5},2862.7999999999997,2081.2249999999999,1548.2749999999999,0,null,3510,3368,2448.5,1821.5,null,2983.5,2862.7999999999997,2081.2249999999999,1548.2749999999999]
[56,null,{"$f":"C343*$K$4","v":2983.5},2862.7999999999997,2081.2249999999999,1548.2749999999999,0,null,3510,3368,2448.5,1821.5,null,2983.5,2862.7999999999997,2081.2249999999999,1548.2749999999999]
[57,null,{"$f":"C344*$K$4","v":2983.5},2862.7999999999997,2081.2249999999999,1548.2749999999999,0,null,3510,3368,2448.5,1821.5,null,2983.5,2862.7999999999997,2081.2249999999999,1548.2749999999999]
[58,null,{"$f":"C345*$K$4","v":2983.5},2862.7999999999997,2081.2249999999999,1548.2749999999999,0,null,3510,3368,2448.5,1821.5,null,2983.5,2862.7999999999997,2081.2249999999999,1548.2749999999999]
[59,null,{"$f":"C346*$K$4","v":2983.5},2862.7999999999997,2081.2249999999999,1548.2749999999999,0,null,3510,3368,2448.5,1821.5,null,2983.5,2862.7999999999997,2081.2249999999999,1548.2749999999999]
[60,null,{"$f":"C347*$K$4","v":3208.75},3078.7,2236.7750000000001,1663.45,0,null,3775,3622,2631.5,1957,null,3208.75,3078.7,2236.7750000000001,1663.45]
[61,null,{"$f":"C348*$K$4","v":3601.875},3455.6749999999997,2507.9249999999997,1865.75,0,null,4237.5,4065.5,2950.5,2195,null,3601.875,3455.6749999999997,2507.9249999999997,1865.75]
[62,null,{"$f":"C349*$K$4","v":4026.875},3863.6749999999997,2803.7249999999999,2085.0499999999997,0,null,4737.5,4545.5,3298.5,2453,null,4026.875,3863.6749999999997,2803.7249999999999,2085.0499999999997]
[63,null,{"$f":"C350*$K$4","v":4485.0249999999996},4303.55,3122.4749999999999,2322.625,0,null,5276.5,5063,3673.5,2732.5,null,4485.0249999999996,4303.55,3122.4749999999999,2322.625]
[64,null,{"$f":"C351*$K$4","v":4974.625},4773.5999999999995,3465.0250000000001,2577.625,0,null,5852.5,5616,4076.5,3032.5,null,4974.625,4773.5999999999995,3465.0250000000001,2577.625]
[65,null,{"$f":"C352*$K$4","v":5497.8},5275.0999999999995,3832.2249999999999,2850.9,0,null,6468,6206,4508.5,3354,null,5497.8,5275.0999999999995,3832.2249999999999,2850.9]
[66,null,{"$f":"C353*$K$4","v":6052.4250000000002},5807.2,4222.375,3140.75,0,null,7120.5,6832,4967.5,3695,null,6052.4250000000002,5807.2,4222.375,3140.75]
[67,null,{"$f":"C354*$K$4","v":6640.2},6370.75,4636.3249999999998,3448.875,0,null,7812,7495,5454.5,4057.5,null,6640.2,6370.75,4636.3249999999998,3448.875]
[68,null,{"$f":"C355*$K$4","v":7259.8499999999995},6965.3249999999998,5073.6499999999996,3774.4249999999997,0,null,8541,8194.5,5969,4440.5,null,7259.8499999999995,6965.3249999999998,5073.6499999999996,3774.4249999999997]
[69,null,{"$f":"C356*$K$4","v":7911.375},7590.9250000000002,5535.625,4117.8249999999998,0,null,9307.5,8930.5,6512.5,4844.5,null,7911.375,7590.9250000000002,5535.625,4117.8249999999998]
[70,null,{"$f":"C357*$K$4","v":8596.0499999999993},8247.5499999999993,6020.9749999999995,4478.6499999999996,0,null,10113,9703,7083.5,5269,null,8596.0499999999993,8247.5499999999993,6020.9749999999995,4478.6499999999996]
[71,null,{"$f":"C358*$K$4","v":9312.1749999999993},8934.7749999999996,6530.9749999999995,4857.75,0,null,10955.5,10511.5,7683.5,5715,null,9312.1749999999993,8934.7749999999996,6530.9749999999995,4857.75]
[72,null,{"$f":"C359*$K$4","v":10061.875},9653.875,7063.5,5254.7,0,null,11837.5,11357.5,8310,6182,null,10061.875,9653.875,7063.5,5254.7]
[73,null,{"$f":"C360*$K$4","v":10843.025},10403.15,7620.25,5668.2249999999995,0,null,12756.5,12239,8965,6668.5,null,10843.025,10403.15,7620.25,5668.2249999999995]
[74,null,{"$f":"C361*$K$4","v":11656.475},11184.725,8199.9499999999989,6100.0249999999996,0,null,13713.5,13158.5,9647,7176.5,null,11656.475,11184.725,8199.9499999999989,6100.0249999999996]
[75,null,{"$f":"C362*$K$4","v":12502.65},11996.475,8805.15,6550.0999999999995,0,null,14709,14113.5,10359,7706,null,12502.65,11996.475,8805.15,6550.0999999999995]
[76,null,{"$f":"C363*$K$4","v":12502.65},11996.475,8805.15,6550.0999999999995,0,null,14709,14113.5,10359,7706,null,12502.65,11996.475,8805.15,6550.0999999999995]
[77,null,{"$f":"C364*$K$4","v":12502.65},11996.475,8805.15,6550.0999999999995,0,null,14709,14113.5,10359,7706,null,12502.65,11996.475,8805.15,6550.0999999999995]
[78,null,{"$f":"C365*$K$4","v":12502.65},11996.475,8805.15,6550.0999999999995,0,null,14709,14113.5,10359,7706,null,12502.65,11996.475,8805.15,6550.0999999999995]
[79,null,{"$f":"C366*$K$4","v":12502.65},11996.475,8805.15,6550.0999999999995,0,null,14709,14113.5,10359,7706,null,12502.65,11996.475,8805.15,6550.0999999999995]
[80,null,{"$f":"C367*$K$4","v":12502.65},11996.475,8805.15,6550.0999999999995,0,null,14709,14113.5,10359,7706,null,12502.65,11996.475,8805.15,6550.0999999999995]
[81,null,{"$f":"C368*$K$4","v":12502.65},11996.475,8805.15,6550.0999999999995,0,null,14709,14113.5,10359,7706,null,12502.65,11996.475,8805.15,6550.0999999999995]
[82,null,{"$f":"C369*$K$4","v":12502.65},11996.475,8805.15,6550.0999999999995,0,null,14709,14113.5,10359,{"$f":"L369*$K$4","v":7706},null,12502.65,11996.475,8805.15,6550.0999999999995]
[83,null,{"$f":"C370*$K$4","v":12502.65},11996.475,8805.15,6550.0999999999995,0,null,{"$f":"I370*$K$4","v":14709},14113.5,10359,7706,null,{"$f":"I670*0.85","v":12502.65},{"$f":"J670*0.85","v":11996.475},{"$f":"K670*0.85","v":8805.15},{"$f":"L670*0.85","v":6550.0999999999995}]
[84,"o más",{"$f":"C371*$K$4","v":12502.65},11996.475,8805.15,6550.0999999999995,0,null,14709,14113.5,10359,7706,null,12502.65,11996.475,8805.15,6550.0999999999995]
[1,"Hijo",{"$f":"C372*$K$4","v":617.1},592.02499999999998,461.97499999999997,343.82499999999999,0,null,726,696.5,543.5,404.5,null,{"$f":"I672*0.85","v":617.1},592.02499999999998,461.97499999999997,343.82499999999999]
[2,"Hijos",{"$f":"C373*$K$4","v":1048.05},1005.55,784.125,583.52499999999998,0,null,1233,1183,922.5,686.5,null,{"$f":"I673*0.85","v":1048.05},{"$f":"J673*0.85","v":1005.55},{"$f":"K673*0.85","v":784.125},{"$f":"L673*0.85","v":583.52499999999998}]
[3,"Hijos o más",{"$f":"C374*$K$4","v":1479.85},1419.5,1107.125,823.65,0,null,1741,1670,1302.5,969,null,1479.85,1419.5,1107.125,823.65]
[]
["BUPA GLOBAL ELITE"]
["TARIFAS TRIMESTRALES"]
["EDAD"]
[" "," ",1000,2000,3500]
[18,null,{"$f":"C6*$K$3","v":1545.9375},{"$f":"D6*$K$3","v":1354.6875},1145.375,993.65,770.52499999999998,null,{"$f":"I6*$K$3","v":1818.75},{"$f":"J6*$K$3","v":1593.75},1347.5,1169,906.5,null,{"$f":"I680*0.85","v":1545.9375},{"$f":"J680*0.85","v":1354.6875},1145.375,993.65,770.52499999999998]
[19,null,{"$f":"C7*$K$3","v":1545.9375},1354.6875,1145.375,993.65,770.52499999999998,null,{"$f":"I7*$K$3","v":1818.75},1593.75,1347.5,1169,906.5,null,{"$f":"I681*0.85","v":1545.9375},{"$f":"J681*0.85","v":1354.6875},{"$f":"K681*0.85","v":1145.375},{"$f":"L681*0.85","v":993.65},{"$f":"M681*0.85","v":770.52499999999998}]
[20,null,{"$f":"C8*$K$3","v":1545.9375},1354.6875,1145.375,993.65,770.52499999999998,null,1818.75,1593.75,1347.5,1169,906.5,null,1545.9375,1354.6875,1145.375,993.65,770.52499999999998]
[21,null,{"$f":"C9*$K$3","v":1545.9375},1354.6875,1145.375,993.65,770.52499999999998,null,1818.75,1593.75,1347.5,1169,906.5,null,1545.9375,1354.6875,1145.375,993.65,770.52499999999998]
[22,null,{"$f":"C10*$K$3","v":1545.9375},1354.6875,1145.375,993.65,770.52499999999998,null,1818.75,1593.75,1347.5,1169,906.5,null,1545.9375,1354.6875,1145.375,993.65,770.52499999999998]
[23,null,{"$f":"C11*$K$3","v":1545.9375},1354.6875,1145.375,993.65,770.52499999999998,null,1818.75,1593.75,1347.5,1169,906.5,null,1545.9375,1354.6875,1145.375,993.65,770.52499999999998]
[24,null,{"$f":"C12*$K$3","v":1545.9375},1354.6875,1145.375,993.65,770.52499999999998,null,1818.75,1593.75,1347.5,1169,906.5,null,1545.9375,1354.6875,1145.375,993.65,770.52499999999998]
[25,null,{"$f":"C13*$K$3","v":1651.55},1447.55,1216.5625,1054.8499999999999,818.33749999999998,null,1943,1703,1431.25,1241,962.75,null,1651.55,1447.55,1216.5625,1054.8499999999999,818.33749999999998]
[26,null,{"$f":"C14*$K$3","v":1651.55},1447.55,1216.5625,1054.8499999999999,818.33749999999998,null,1943,1703,1431.25,1241,962.75,null,1651.55,1447.55,1216.5625,1054.8499999999999,818.33749999999998]
[27,null,{"$f":"C15*$K$3","v":1651.55},1447.55,1216.5625,1054.8499999999999,818.33749999999998,null,1943,1703,1431.25,1241,962.75,null,1651.55,1447.55,1216.5625,1054.8499999999999,818.33749999999998]
[28,null,{"$f":"C16*$K$3","v":1651.55},1447.55,1216.5625,1054.8499999999999,818.33749999999998,null,1943,1703,1431.25,1241,962.75,null,1651.55,1447.55,1216.5625,1054.8499999999999,818.33749999999998]
[29,null,{"$f":"C17*$K$3","v":1651.55},1447.55,1216.5625,1054.8499999999999,818.33749999999998,null,1943,1703,1431.25,1241,962.75,null,1651.55,1447.55,1216.5625,1054.8499999999999,818.33749999999998]
[30,null,{"$f":"C18*$K$3","v":1836.6375},1609.8999999999999,1342.7874999999999,1164.075,902.91250000000002,null,2160.75,1894,1579.75,1369.5,1062.25,null,1836.6375,1609.8999999999999,1342.7874999999999,1164.075,902.91250000000002]
[31,null,{"$f":"C19*$K$3","v":1836.6375},1609.8999999999999,1342.7874999999999,1164.075,902.91250000000002,null,2160.75,1894,1579.75,1369.5,1062.25,null,1836.6375,1609.8999999999999,1342.7874999999999,1164.075,902.91250000000002]
[32,null,{"$f":"C20*$K$3","v":1836.6375},1609.8999999999999,1342.7874999999999,1164.075,902.91250000000002,null,2160.75,1894,1579.75,1369.5,1062.25,null,1836.6375,1609.8999999999999,1342.7874999999999,1164.075,902.91250000000002]
[33,null,{"$f":"C21*$K$3","v":1836.6375},1609.8999999999999,1342.7874999999999,1164.075,902.91250000000002,null,2160.75,1894,1579.75,1369.5,1062.25,null,1836.6375,1609.8999999999999,1342.7874999999999,1164.075,902.91250000000002]
[34,null,{"$f":"C22*$K$3","v":1836.6375},1609.8999999999999,1342.7874999999999,1164.075,902.91250000000002,null,2160.75,1894,1579.75,1369.5,1062.25,null,1836.6375,1609.8999999999999,1342.7874999999999,1164.075,902.91250000000002]
[35,null,{"$f":"C23*$K$3","v":2050.4124999999999},1796.6875,1490.05,1292.2124999999999,1002.15,null,2412.25,2113.75,1753,1520.25,1179,null,2050.4124999999999,1796.6875,1490.05,1292.2124999999999,1002.15]
[36,null,{"$f":"C24*$K$3","v":2050.4124999999999},1796.6875,1490.05,1292.2124999999999,1002.15,null,2412.25,2113.75,1753,1520.25,1179,null,2050.4124999999999,1796.6875,1490.05,1292.2124999999999,1002.15]
[37,null,{"$f":"C25*$K$3","v":2050.4124999999999},1796.6875,1490.05,1292.2124999999999,1002.15,null,2412.25,2113.75,1753,1520.25,1179,null,2050.4124999999999,1796.6875,1490.05,1292.2124999999999,1002.15]
[38,null,{"$f":"C26*$K$3","v":2050.4124999999999},1796.6875,1490.05,1292.2124999999999,1002.15,null,2412.25,2113.75,1753,1520.25,1179,null,2050.4124999999999,1796.6875,1490.05,1292.2124999999999,1002.15]
[39,null,{"$f":"C27*$K$3","v":2050.4124999999999},1796.6875,1490.05,1292.2124999999999,1002.15,null,2412.25,2113.75,1753,1520.25,1179,null,2050.4124999999999,1796.6875,1490.05,1292.2124999999999,1002.15]
[40,null,{"$f":"C28*$K$3","v":2296.4874999999997},2012.5874999999999,1661.5374999999999,1440.75,1117.75,null,2701.75,2367.75,1954.75,1695,1315,null,2296.4874999999997,2012.5874999999999,1661.5374999999999,1440.75,1117.75]
[41,null,{"$f":"C29*$K$3","v":2296.4874999999997},2012.5874999999999,1661.5374999999999,1440.75,1117.75,null,2701.75,2367.75,1954.75,1695,1315,null,2296.4874999999997,2012.5874999999999,1661.5374999999999,1440.75,1117.75]
[42,null,{"$f":"C30*$K$3","v":2296.4874999999997},2012.5874999999999,1661.5374999999999,1440.75,1117.75,null,2701.75,2367.75,1954.75,1695,1315,null,2296.4874999999997,2012.5874999999999,1661.5374999999999,1440.75,1117.75]
[43,null,{"$f":"C31*$K$3","v":2296.4874999999997},2012.5874999999999,1661.5374999999999,1440.75,1117.75,null,2701.75,2367.75,1954.75,1695,1315,null,2296.4874999999997,2012.5874999999999,1661.5374999999999,1440.75,1117.75]
[44,null,{"$f":"C32*$K$3","v":2296.4874999999997},2012.5874999999999,1661.5374999999999,1440.75,1117.75,null,2701.75,2367.75,1954.75,1695,1315,null,2296.4874999999997,2012.5874999999999,1661.5374999999999,1440.75,1117.75]
[45,null,{"$f":"C33*$K$3","v":2569.9749999999999},2252.5,1853.85,1607.35,1246.5249999999999,null,3023.5,2650,2181,1891,1466.5,null,2569.9749999999999,2252.5,1853.85,1607.35,1246.5249999999999]
[46,null,{"$f":"C34*$K$3","v":2569.9749999999999},2252.5,1853.85,1607.35,1246.5249999999999,null,3023.5,2650,2181,1891,1466.5,null,2569.9749999999999,2252.5,1853.85,1607.35,1246.5249999999999]
[47,null,{"$f":"C35*$K$3","v":2569.9749999999999},2252.5,1853.85,1607.35,1246.5249999999999,null,3023.5,2650,2181,1891,1466.5,null,2569.9749999999999,2252.5,1853.85,1607.35,1246.5249999999999]
[48,null,{"$f":"C36*$K$3","v":2569.9749999999999},2252.5,1853.85,1607.35,1246.5249999999999,null,3023.5,2650,2181,1891,1466.5,null,2569.9749999999999,2252.5,1853.85,1607.35,1246.5249999999999]
[49,null,{"$f":"C37*$K$3","v":2569.9749999999999},2252.5,1853.85,1607.35,1246.5249999999999,null,3023.5,2650,2181,1891,1466.5,null,2569.9749999999999,2252.5,1853.85,1607.35,1246.5249999999999]
[50,null,{"$f":"C38*$K$3","v":2877.4625000000001},2522.375,2070.8125,1795.8374999999999,1392.7249999999999,null,3385.25,2967.5,2436.25,2112.75,1638.5,null,2877.4625000000001,2522.375,2070.8125,1795.8374999999999,1392.7249999999999]
[51,null,{"$f":"C39*$K$3","v":2877.4625000000001},2522.375,2070.8125,1795.8374999999999,1392.7249999999999,null,3385.25,2967.5,2436.25,2112.75,1638.5,null,2877.4625000000001,2522.375,2070.8125,1795.8374999999999,1392.7249999999999]
[52,null,{"$f":"C40*$K$3","v":2877.4625000000001},2522.375,2070.8125,1795.8374999999999,1392.7249999999999,null,3385.25,2967.5,2436.25,2112.75,1638.5,null,2877.4625000000001,2522.375,2070.8125,1795.8374999999999,1392.7249999999999]
[53,null,{"$f":"C41*$K$3","v":2877.4625000000001},2522.375,2070.8125,1795.8374999999999,1392.7249999999999,null,3385.25,2967.5,2436.25,2112.75,1638.5,null,2877.4625000000001,2522.375,2070.8125,1795.8374999999999,1392.7249999999999]
[54,null,{"$f":"C42*$K$3","v":2877.4625000000001},2522.375,2070.8125,1795.8374999999999,1392.7249999999999,null,3385.25,2967.5,2436.25,2112.75,1638.5,null,2877.4625000000001,2522.375,2070.8125,1795.8374999999999,1392.7249999999999]
[55,null,{"$f":"C43*$K$3","v":3216.8249999999998},2819.875,2312,2004.9375,1555.075,null,3784.5,3317.5,2720,2358.75,1829.5,null,3216.8249999999998,2819.875,2312,2004.9375,1555.075]
[56,null,{"$f":"C44*$K$3","v":3216.8249999999998},2819.875,2312,2004.9375,1555.075,null,3784.5,3317.5,2720,2358.75,1829.5,null,3216.8249999999998,2819.875,2312,2004.9375,1555.075]
[57,null,{"$f":"C45*$K$3","v":3216.8249999999998},2819.875,2312,2004.9375,1555.075,null,3784.5,3317.5,2720,2358.75,1829.5,null,3216.8249999999998,2819.875,2312,2004.9375,1555.075]
[58,null,{"$f":"C46*$K$3","v":3216.8249999999998},2819.875,2312,2004.9375,1555.075,null,3784.5,3317.5,2720,2358.75,1829.5,null,3216.8249999999998,2819.875,2312,2004.9375,1555.075]
[59,null,{"$f":"C47*$K$3","v":3216.8249999999998},2819.875,2312,2004.9375,1555.075,null,3784.5,3317.5,2720,2358.75,1829.5,null,3216.8249999999998,2819.875,2312,2004.9375,1555.075]
[60,null,{"$f":"C48*$K$3","v":3442.9249999999997},3017.9249999999997,2472.4375,2143.9124999999999,1662.6,null,4050.5,3550.5,2908.75,2522.25,1956,null,3442.9249999999997,3017.9249999999997,2472.4375,2143.9124999999999,1662.6]
[61,null,{"$f":"C49*$K$3","v":3836.4749999999999},3363.0250000000001,2753.7874999999999,2388.2874999999999,1851.9375,null,4513.5,3956.5,3239.75,2809.75,2178.75,null,3836.4749999999999,3363.0250000000001,2753.7874999999999,2388.2874999999999,1851.9375]
[62,null,{"$f":"C50*$K$3","v":4262.3249999999998},3735.9625000000001,3058.7249999999999,2652,2056.5749999999998,null,5014.5,4395.25,3598.5,3120,2419.5,null,4262.3249999999998,3735.9625000000001,3058.7249999999999,2652,2056.5749999999998]
[63,null,{"$f":"C51*$K$3","v":4719.625},4137.375,3387.25,2936.9625000000001,2277.7874999999999,null,5552.5,4867.5,3985,3455.25,2679.75,null,4719.625,4137.375,3387.25,2936.9625000000001,2277.7874999999999]
[64,null,{"$f":"C52*$K$3","v":5209.8625000000002},4566.2,3739.15,3242.3249999999998,2514.2999999999997,null,6129.25,5372,4399,3814.5,2958,null,5209.8625000000002,4566.2,3739.15,3242.3249999999998,2514.2999999999997]
[65,null,{"$f":"C53*$K$3","v":5731.55},5024.1374999999998,4115.2749999999996,3568.5124999999998,2767.6,null,6743,5910.75,4841.5,4198.25,3256,null,5731.55,5024.1374999999998,4115.2749999999996,3568.5124999999998,2767.6]
[66,null,{"$f":"C54*$K$3","v":6285.9624999999996},5509.9124999999995,4514.9875000000002,3915.1,3036.625,null,7395.25,6482.25,5311.75,4606,{"$f":"M54*$K$3","v":3572.5},null,6285.9624999999996,5509.9124999999995,4514.9875000000002,3915.1,3036.625]
[67,null,{"$f":"C55*$K$3","v":6872.25},6023.5249999999996,4938.9250000000002,4282.5124999999998,3321.375,null,8085,7086.5,5810.5,5038.25,3907.5,null,6872.25,6023.5249999999996,4938.9250000000002,4282.5124999999998,3321.375]
[68,null,{"$f":"C56*$K$3","v":7490.4124999999995},6565.6125000000002,5386.45,4670.75,3622.4874999999997,null,8812.25,7724.25,6337,5495,4261.75,null,7490.4124999999995,6565.6125000000002,5386.45,4670.75,3622.4874999999997]
[69,null,{"$f":"C57*$K$3","v":8141.3},7135.75,5857.9875000000002,5079.8125,3939.5374999999999,null,9578,8395,6891.75,5976.25,4634.75,null,8141.3,7135.75,5857.9875000000002,5079.8125,3939.5374999999999]
[70,null,{"$f":"C58*$K$3","v":8823.6374999999989},7734.15,6352.9,5509.0625,4272.3125,null,10380.75,9099,7474,6481.25,5026.25,null,8823.6374999999989,7734.15,6352.9,5509.0625,4272.3125]
[71,null,{"$f":"C59*$K$3","v":9538.2749999999996},8360.6,6872.25,5959.1374999999998,4621.45,null,11221.5,9836,8085,7010.75,5437,null,9538.2749999999996,8360.6,6872.25,5959.1374999999998,4621.45]
[72,null,{"$f":"C60*$K$3","v":10285.2125},9015.7374999999993,7414.9749999999995,6429.4,4986.3125,null,12100.25,10606.75,8723.5,7564,5866.25,null,10285.2125,9015.7374999999993,7414.9749999999995,6429.4,4986.3125]
[73,null,{"$f":"C61*$K$3","v":11064.449999999999},9698.2875000000004,7982.1374999999998,6921.125,5367.5374999999995,null,13017,11409.75,9390.75,8142.5,6314.75,null,11064.449999999999,9698.2875000000004,7982.1374999999998,6921.125,5367.5374999999995]
[74,null,{"$f":"C62*$K$3","v":11875.775},10409.1,8572.4624999999996,7433.25,5764.7,null,13971.5,12246,10085.25,8745,6782,null,11875.775,10409.1,8572.4624999999996,7433.25,5764.7]
[75,null,{"$f":"C63*$K$3","v":12718.975},11148.387499999999,9186.5874999999996,7965.7749999999996,6177.5874999999996,null,14963.5,13115.75,10807.75,9371.5,7267.75,null,12718.975,11148.387499999999,9186.5874999999996,7965.7749999999996,6177.5874999999996]
[76,null,{"$f":"C64*$K$3","v":12718.975},11148.387499999999,9186.5874999999996,7965.7749999999996,6177.5874999999996,null,14963.5,13115.75,10807.75,9371.5,7267.75,null,12718.975,11148.387499999999,9186.5874999999996,7965.7749999999996,6177.5874999999996]
[77,null,{"$f":"C65*$K$3","v":12718.975},11148.387499999999,9186.5874999999996,7965.7749999999996,6177.5874999999996,null,14963.5,13115.75,10807.75,9371.5,7267.75,null,12718.975,11148.387499999999,9186.5874999999996,7965.7749999999996,6177.5874999999996]
[78,null,{"$f":"C66*$K$3","v":12718.975},11148.387499999999,9186.5874999999996,7965.7749999999996,6177.5874999999996,null,14963.5,13115.75,10807.75,9371.5,7267.75,null,12718.975,11148.387499999999,9186.5874999999996,7965.7749999999996,6177.5874999999996]
[79,null,{"$f":"C67*$K$3","v":12718.975},11148.387499999999,9186.5874999999996,7965.7749999999996,6177.5874999999996,null,14963.5,13115.75,10807.75,9371.5,7267.75,null,12718.975,11148.387499999999,9186.5874999999996,7965.7749999999996,6177.5874999999996]
[80,null,{"$f":"C68*$K$3","v":12718.975},11148.387499999999,9186.5874999999996,7965.7749999999996,6177.5874999999996,null,14963.5,13115.75,10807.75,9371.5,7267.75,null,12718.975,11148.387499999999,9186.5874999999996,7965.7749999999996,6177.5874999999996]
[81,null,{"$f":"C69*$K$3","v":12718.975},11148.387499999999,9186.5874999999996,7965.7749999999996,6177.5874999999996,null,14963.5,13115.75,10807.75,9371.5,7267.75,null,12718.975,11148.387499999999,9186.5874999999996,7965.7749999999996,6177.5874999999996]
[82,null,{"$f":"C70*$K$3","v":12718.975},11148.387499999999,9186.5874999999996,7965.7749999999996,6177.5874999999996,null,14963.5,{"$f":"J70*$K$3","v":13115.75},10807.75,9371.5,7267.75,null,12718.975,11148.387499999999,9186.5874999999996,7965.7749999999996,6177.5874999999996]
[83,null,{"$f":"C71*$K$3","v":12718.975},11148.387499999999,9186.5874999999996,7965.7749999999996,6177.5874999999996,null,{"$f":"I71*$K$3","v":14963.5},13115.75,10807.75,9371.5,7267.75,null,{"$f":"I745*0.85","v":12718.975},{"$f":"J745*0.85","v":11148.387499999999},{"$f":"K745*0.85","v":9186.5874999999996},{"$f":"L745*0.85","v":7965.7749999999996},{"$f":"M745*0.85","v":6177.5874999999996}]
[84,"o más",{"$f":"C72*$K$3","v":12718.975},11148.387499999999,9186.5874999999996,7965.7749999999996,6177.5874999999996,null,14963.5,13115.75,10807.75,9371.5,7267.75,null,12718.975,11148.387499999999,9186.5874999999996,7965.7749999999996,6177.5874999999996]
[1,"Hijo",{"$f":"C73*$K$3","v":653.4375},572.6875,487.47499999999997,422.875,327.88749999999999,null,768.75,673.75,573.5,497.5,385.75,null,{"$f":"I747*0.85","v":653.4375},572.6875,487.47499999999997,422.875,327.88749999999999]
[2,"Hijos",{"$f":"C74*$K$3","v":1110.3125},973.46249999999998,828.75,718.88749999999993,557.38749999999993,null,1306.25,1145.25,975,845.75,655.75,null,{"$f":"I748*0.85","v":1110.3125},{"$f":"J748*0.85","v":973.46249999999998},{"$f":"K748*0.85","v":828.75},{"$f":"L748*0.85","v":718.88749999999993},{"$f":"M748*0.85","v":557.38749999999993}]
[3,"Hijos o más",{"$f":"C75*$K$3","v":1567.825},1374.0249999999999,1169.8125,1014.475,786.88749999999993,null,1844.5,1616.5,1376.25,1193.5,925.75,null,1567.825,1374.0249999999999,1169.8125,1014.475,786.88749999999993]
[]
["BUPA GLOBAL PREMIER"]
["TARIFAS TRIMESTRALES"]
["EDAD"]
[" "," ",2000,3500,5000]
[18,null,{"$f":"C155*$K$3","v":1015.9625},{"$f":"D155*$K$3","v":921.61249999999995},705.71249999999998,524.875,0,null,{"$f":"I155*$K$3","v":1195.25},{"$f":"J155*$K$3","v":1084.25},830.25,617.5,null,{"$f":"I755*0.85","v":1015.9625},{"$f":"J755*0.85","v":921.61249999999995},705.71249999999998,524.875]
[19,null,{"$f":"C156*$K$3","v":1015.9625},921.61249999999995,705.71249999999998,524.875,0,null,{"$f":"I156*$K$3","v":1195.25},1084.25,830.25,617.5,null,{"$f":"I756*0.85","v":1015.9625},{"$f":"J756*0.85","v":921.61249999999995},{"$f":"K756*0.85","v":705.71249999999998},{"$f":"L756*0.85","v":524.875}]
[20,null,{"$f":"C157*$K$3","v":1015.9625},921.61249999999995,705.71249999999998,524.875,0,null,1195.25,1084.25,830.25,617.5,null,1015.9625,921.61249999999995,705.71249999999998,524.875]
[21,null,{"$f":"C158*$K$3","v":1015.9625},921.61249999999995,705.71249999999998,524.875,0,null,1195.25,1084.25,830.25,617.5,null,1015.9625,921.61249999999995,705.71249999999998,524.875]
[22,null,{"$f":"C159*$K$3","v":1015.9625},921.61249999999995,705.71249999999998,524.875,0,null,1195.25,1084.25,830.25,617.5,null,1015.9625,921.61249999999995,705.71249999999998,524.875]
[23,null,{"$f":"C160*$K$3","v":1015.9625},921.61249999999995,705.71249999999998,524.875,0,null,1195.25,1084.25,830.25,617.5,null,1015.9625,921.61249999999995,705.71249999999998,524.875]
[24,null,{"$f":"C161*$K$3","v":1015.9625},921.61249999999995,705.71249999999998,524.875,0,null,1195.25,1084.25,830.25,617.5,null,1015.9625,921.61249999999995,705.71249999999998,524.875]
[25,null,{"$f":"C162*$K$3","v":1085.875},984.9375,746.08749999999998,555.04999999999995,0,null,1277.5,1158.75,877.75,653,null,1085.875,984.9375,746.08749999999998,555.04999999999995]
[26,null,{"$f":"C163*$K$3","v":1085.875},984.9375,746.08749999999998,555.04999999999995,0,null,1277.5,1158.75,877.75,653,null,1085.875,984.9375,746.08749999999998,555.04999999999995]
[27,null,{"$f":"C164*$K$3","v":1085.875},984.9375,746.08749999999998,555.04999999999995,0,null,1277.5,1158.75,877.75,653,null,1085.875,984.9375,746.08749999999998,555.04999999999995]
[28,null,{"$f":"C165*$K$3","v":1085.875},984.9375,746.08749999999998,555.04999999999995,0,null,1277.5,1158.75,877.75,653,null,1085.875,984.9375,746.08749999999998,555.04999999999995]
[29,null,{"$f":"C166*$K$3","v":1085.875},984.9375,746.08749999999998,555.04999999999995,0,null,1277.5,1158.75,877.75,653,null,1085.875,984.9375,746.08749999999998,555.04999999999995]
[30,null,{"$f":"C167*$K$3","v":1207.425},1095.8625,819.1875,609.23749999999995,0,null,1420.5,1289.25,963.75,716.75,null,1207.425,1095.8625,819.1875,609.23749999999995]
[31,null,{"$f":"C168*$K$3","v":1207.425},1095.8625,819.1875,609.23749999999995,0,null,1420.5,1289.25,963.75,716.75,null,1207.425,1095.8625,819.1875,609.23749999999995]
[32,null,{"$f":"C169*$K$3","v":1207.425},1095.8625,819.1875,609.23749999999995,0,null,1420.5,1289.25,963.75,716.75,null,1207.425,1095.8625,819.1875,609.23749999999995]
[33,null,{"$f":"C170*$K$3","v":1207.425},1095.8625,819.1875,609.23749999999995,0,null,1420.5,1289.25,963.75,716.75,null,1207.425,1095.8625,819.1875,609.23749999999995]
[34,null,{"$f":"C171*$K$3","v":1207.425},1095.8625,819.1875,609.23749999999995,0,null,1420.5,1289.25,963.75,716.75,null,1207.425,1095.8625,819.1875,609.23749999999995]
[35,null,{"$f":"C172*$K$3","v":1347.4624999999999},1222.9375,905.46249999999998,673.41250000000002,0,null,1585.25,1438.75,1065.25,792.25,null,1347.4624999999999,1222.9375,905.46249999999998,673.41250000000002]
[36,null,{"$f":"C173*$K$3","v":1347.4624999999999},1222.9375,905.46249999999998,673.41250000000002,0,null,1585.25,1438.75,1065.25,792.25,null,1347.4624999999999,1222.9375,905.46249999999998,673.41250000000002]
[37,null,{"$f":"C174*$K$3","v":1347.4624999999999},1222.9375,905.46249999999998,673.41250000000002,0,null,1585.25,1438.75,1065.25,792.25,null,1347.4624999999999,1222.9375,905.46249999999998,673.41250000000002]
[38,null,{"$f":"C175*$K$3","v":1347.4624999999999},1222.9375,905.46249999999998,673.41250000000002,0,null,1585.25,1438.75,1065.25,792.25,null,1347.4624999999999,1222.9375,905.46249999999998,673.41250000000002]
[39,null,{"$f":"C176*$K$3","v":1347.4624999999999},1222.9375,905.46249999999998,673.41250000000002,0,null,1585.25,1438.75,1065.25,792.25,null,1347.4624999999999,1222.9375,905.46249999999998,673.41250000000002]
[40,null,{"$f":"C177*$K$3","v":1509.175},1369.7749999999999,1006.1875,748.63749999999993,0,null,1775.5,1611.5,1183.75,880.75,null,1509.175,1369.7749999999999,1006.1875,748.63749999999993]
[41,null,{"$f":"C178*$K$3","v":1509.175},1369.7749999999999,1006.1875,748.63749999999993,0,null,1775.5,1611.5,1183.75,880.75,null,1509.175,1369.7749999999999,1006.1875,748.63749999999993]
[42,null,{"$f":"C179*$K$3","v":1509.175},1369.7749999999999,1006.1875,748.63749999999993,0,null,1775.5,1611.5,1183.75,880.75,null,1509.175,1369.7749999999999,1006.1875,748.63749999999993]
[43,null,{"$f":"C180*$K$3","v":1509.175},1369.7749999999999,1006.1875,748.63749999999993,0,null,1775.5,1611.5,1183.75,880.75,null,1509.175,1369.7749999999999,1006.1875,748.63749999999993]
[44,null,{"$f":"C181*$K$3","v":1509.175},1369.7749999999999,1006.1875,748.63749999999993,0,null,1775.5,1611.5,1183.75,880.75,null,1509.175,1369.7749999999999,1006.1875,748.63749999999993]
[45,null,{"$f":"C182*$K$3","v":1688.95},1532.9749999999999,1119.875,833,0,null,1987,1803.5,1317.5,980,null,1688.95,1532.9749999999999,1119.875,833]
[46,null,{"$f":"C183*$K$3","v":1688.95},1532.9749999999999,1119.875,833,0,null,1987,1803.5,1317.5,980,null,1688.95,1532.9749999999999,1119.875,833]
[47,null,{"$f":"C184*$K$3","v":1688.95},1532.9749999999999,1119.875,833,0,null,1987,1803.5,1317.5,980,null,1688.95,1532.9749999999999,1119.875,833]
[48,null,{"$f":"C185*$K$3","v":1688.95},1532.9749999999999,1119.875,833,0,null,1987,1803.5,1317.5,980,null,1688.95,1532.9749999999999,1119.875,833]
[49,null,{"$f":"C186*$K$3","v":1688.95},1532.9749999999999,1119.875,833,0,null,1987,1803.5,1317.5,980,null,1688.95,1532.9749999999999,1119.875,833]
[50,null,{"$f":"C187*$K$3","v":1891.675},1716.575,1249.2874999999999,929.47500000000002,0,null,2225.5,2019.5,1469.75,1093.5,null,1891.675,1716.575,1249.2874999999999,929.47500000000002]
[51,null,{"$f":"C188*$K$3","v":1891.675},1716.575,1249.2874999999999,929.47500000000002,0,null,2225.5,2019.5,1469.75,1093.5,null,1891.675,1716.575,1249.2874999999999,929.47500000000002]
[52,null,{"$f":"C189*$K$3","v":1891.675},1716.575,1249.2874999999999,929.47500000000002,0,null,2225.5,2019.5,1469.75,1093.5,null,1891.675,1716.575,1249.2874999999999,929.47500000000002]
[53,null,{"$f":"C190*$K$3","v":1891.675},1716.575,1249.2874999999999,929.47500000000002,0,null,2225.5,2019.5,1469.75,1093.5,null,1891.675,1716.575,1249.2874999999999,929.47500000000002]
[54,null,{"$f":"C191*$K$3","v":1891.675},1716.575,1249.2874999999999,929.47500000000002,0,null,2225.5,2019.5,1469.75,1093.5,null,1891.675,1716.575,1249.2874999999999,929.47500000000002]
[55,null,{"$f":"C192*$K$3","v":2114.375},1919.0874999999999,1392.9375,1036.3625,0,null,2487.5,2257.75,1638.75,1219.25,null,2114.375,1919.0874999999999,1392.9375,1036.3625]
[56,null,{"$f":"C193*$K$3","v":2114.375},1919.0874999999999,1392.9375,1036.3625,0,null,2487.5,2257.75,1638.75,1219.25,null,2114.375,1919.0874999999999,1392.9375,1036.3625]
[57,null,{"$f":"C194*$K$3","v":2114.375},1919.0874999999999,1392.9375,1036.3625,0,null,2487.5,2257.75,1638.75,1219.25,null,2114.375,1919.0874999999999,1392.9375,1036.3625]
[58,null,{"$f":"C195*$K$3","v":2114.375},1919.0874999999999,1392.9375,1036.3625,0,null,2487.5,2257.75,1638.75,1219.25,null,2114.375,1919.0874999999999,1392.9375,1036.3625]
[59,null,{"$f":"C196*$K$3","v":2114.375},1919.0874999999999,1392.9375,1036.3625,0,null,2487.5,2257.75,1638.75,1219.25,null,2114.375,1919.0874999999999,1392.9375,1036.3625]
[60,null,{"$f":"C197*$K$3","v":2263.125},2053.3874999999998,1488.9875,1107.3374999999999,0,null,2662.5,2415.75,1751.75,1302.75,null,2263.125,2053.3874999999998,1488.9875,1107.3374999999999]
[61,null,{"$f":"C198*$K$3","v":2521.3125},2287.9874999999997,1657.075,1232.7124999999999,0,null,2966.25,2691.75,1949.5,1450.25,null,2521.3125,2287.9874999999997,1657.075,1232.7124999999999]
[62,null,{"$f":"C199*$K$3","v":2800.9625000000001},2542.35,1840.4624999999999,1369.1375,0,null,3295.25,2991,2165.25,1610.75,null,2800.9625000000001,2542.35,1840.4624999999999,1369.1375]
[63,null,{"$f":"C200*$K$3","v":3102.0749999999998},2815.2,2038.0874999999999,1515.7625,0,null,3649.5,3312,2397.75,1783.25,null,3102.0749999999998,2815.2,2038.0874999999999,1515.7625]
[64,null,{"$f":"C201*$K$3","v":3424.0124999999998},3107.3874999999998,2250.375,1673.8625,0,null,4028.25,3655.75,2647.5,1969.25,null,3424.0124999999998,3107.3874999999998,2250.375,1673.8625]
[65,null,{"$f":"C202*$K$3","v":3767.2},3418.7,2477.3249999999998,1842.8,0,null,4432,4022,2914.5,2168,null,3767.2,3418.7,2477.3249999999998,1842.8]
[66,null,{"$f":"C203*$K$3","v":4131.4250000000002},3748.9249999999997,2718.9375,2022.575,0,null,4860.5,4410.5,3198.75,2379.5,null,4131.4250000000002,3748.9249999999997,2718.9375,2022.575]
[67,null,{"$f":"C204*$K$3","v":4516.6875},4098.9124999999995,2975.4249999999997,2213.6124999999997,0,null,5313.75,4822.25,3500.5,2604.25,null,4516.6875,4098.9124999999995,2975.4249999999997,2213.6124999999997]
[68,null,{"$f":"C205*$K$3","v":4922.7749999999996},4467.3874999999998,3246.3624999999997,2414.85,0,null,5791.5,5255.75,3819.25,2841,null,4922.7749999999996,4467.3874999999998,3246.3624999999997,2414.85]
[69,null,{"$f":"C206*$K$3","v":5350.5374999999995},4855.8374999999996,3532.1749999999997,2627.5625,0,null,6294.75,5712.75,4155.5,3091.25,null,5350.5374999999995,4855.8374999999996,3532.1749999999997,2627.5625]
[70,null,{"$f":"C207*$K$3","v":5799.3374999999996},5263.2,3832.2249999999999,2850.6875,0,null,6822.75,6192,4508.5,3353.75,null,5799.3374999999996,5263.2,3832.2249999999999,2850.6875]
[71,null,{"$f":"C208*$K$3","v":6269.1750000000002},5689.05,4147.5749999999998,3085.2874999999999,0,null,7375.5,6693,4879.5,3629.75,null,6269.1750000000002,5689.05,4147.5749999999998,3085.2874999999999]
[72,null,{"$f":"C209*$K$3","v":6759.8374999999996},6134.6624999999995,4477.1624999999995,3330.5124999999998,0,null,7952.75,7217.25,5267.25,3918.25,null,6759.8374999999996,6134.6624999999995,4477.1624999999995,3330.5124999999998]
[73,null,{"$f":"C210*$K$3","v":7271.75},6599.4,4821.625,3586.5749999999998,0,null,8555,7764,5672.5,4219.5,null,7271.75,6599.4,4821.625,3586.5749999999998]
[74,null,{"$f":"C211*$K$3","v":7804.9124999999995},7083.05,5180.9624999999996,3853.9,0,null,9182.25,8333,6095.25,4534,null,7804.9124999999995,7083.05,5180.9624999999996,3853.9]
[75,null,{"$f":"C212*$K$3","v":8358.9},7586.25,5554.75,4132.0625,0,null,9834,8925,6535,4861.25,null,8358.9,7586.25,5554.75,4132.0625]
[76,null,{"$f":"C213*$K$3","v":8358.9},7586.25,5554.75,4132.0625,0,null,9834,8925,6535,4861.25,null,8358.9,7586.25,5554.75,4132.0625]
[77,null,{"$f":"C214*$K$3","v":8358.9},7586.25,5554.75,4132.0625,0,null,9834,8925,6535,4861.25,null,8358.9,7586.25,5554.75,4132.0625]
[78,null,{"$f":"C215*$K$3","v":8358.9},7586.25,5554.75,4132.0625,0,null,9834,8925,6535,4861.25,null,8358.9,7586.25,5554.75,4132.0625]
[79,null,{"$f":"C216*$K$3","v":8358.9},7586.25,5554.75,4132.0625,0,null,9834,8925,6535,4861.25,null,8358.9,7586.25,5554.75,4132.0625]
[80,null,{"$f":"C217*$K$3","v":8358.9},7586.25,5554.75,4132.0625,0,null,9834,8925,6535,4861.25,null,8358.9,7586.25,5554.75,4132.0625]
[81,null,{"$f":"C218*$K$3","v":8358.9},7586.25,5554.75,4132.0625,0,null,9834,8925,6535,4861.25,null,8358.9,7586.25,5554.75,4132.0625]
[82,null,{"$f":"C219*$K$3","v":8358.9},7586.25,5554.75,4132.0625,0,null,9834,8925,6535,{"$f":"L219*$K$3","v":4861.25},null,8358.9,7586.25,5554.75,4132.0625]
[83,null,{"$f":"C220*$K$3","v":8358.9},7586.25,5554.75,4132.0625,0,null,{"$f":"I220*$K$3","v":9834},8925,6535,4861.25,null,{"$f":"I820*0.85","v":8358.9},{"$f":"J820*0.85","v":7586.25},{"$f":"K820*0.85","v":5554.75},{"$f":"L820*0.85","v":4132.0625}]
[84,"o más",{"$f":"C221*$K$3","v":8358.9},7586.25,5554.75,4132.0625,0,null,9834,8925,6535,4861.25,null,8358.9,7586.25,5554.75,4132.0625]
[1,"Hijo",{"$f":"C222*$K$3","v":429.46249999999998},389.51249999999999,302.17500000000001,224.61249999999998,0,null,505.25,458.25,355.5,264.25,null,{"$f":"I822*0.85","v":429.46249999999998},389.51249999999999,302.17500000000001,224.61249999999998]
[2,"Hijos",{"$f":"C223*$K$3","v":729.9375},662.57499999999993,513.1875,381.86250000000001,0,null,858.75,779.5,603.75,449.25,null,{"$f":"I823*0.85","v":729.9375},{"$f":"J823*0.85","v":662.57499999999993},{"$f":"K823*0.85","v":513.1875},{"$f":"L823*0.85","v":381.86250000000001}]
[3,"Hijos o más",{"$f":"C224*$K$3","v":1030.2},935,724.41250000000002,538.9,0,null,1212,1100,852.25,634,null,1030.2,935,724.41250000000002,538.9]
[]
["BUPA GLOBAL SELECT"]
["TARIFAS TRIMESTRALES"]
["EDAD"]
[" "," ",2000,3500,5000]
[18,null,{"$f":"C305*$K$3","v":661.3},{"$f":"D305*$K$3","v":634.3125},487.9,362.95,0,null,{"$f":"I305*$K$3","v":778},{"$f":"J305*$K$3","v":746.25},574,427,null,{"$f":"I830*0.85","v":661.3},{"$f":"J830*0.85","v":634.3125},487.9,362.95]
[19,null,{"$f":"C306*$K$3","v":661.3},634.3125,487.9,362.95,0,null,{"$f":"I306*$K$3","v":778},746.25,574,427,null,{"$f":"I831*0.85","v":661.3},{"$f":"J831*0.85","v":634.3125},{"$f":"K831*0.85","v":487.9},{"$f":"L831*0.85","v":362.95}]
[20,null,{"$f":"C307*$K$3","v":661.3},634.3125,487.9,362.95,0,null,778,746.25,574,427,null,661.3,634.3125,487.9,362.95]
[21,null,{"$f":"C308*$K$3","v":661.3},634.3125,487.9,362.95,0,null,778,746.25,574,427,null,661.3,634.3125,487.9,362.95]
[22,null,{"$f":"C309*$K$3","v":661.3},634.3125,487.9,362.95,0,null,778,746.25,574,427,null,661.3,634.3125,487.9,362.95]
[23,null,{"$f":"C310*$K$3","v":661.3},634.3125,487.9,362.95,0,null,778,746.25,574,427,null,661.3,634.3125,487.9,362.95]
[24,null,{"$f":"C311*$K$3","v":661.3},634.3125,487.9,362.95,0,null,778,746.25,574,427,null,661.3,634.3125,487.9,362.95]
[25,null,{"$f":"C312*$K$3","v":713.36249999999995},684.46249999999998,520.83749999999998,387.59999999999997,0,null,839.25,805.25,612.75,456,null,713.36249999999995,684.46249999999998,520.83749999999998,387.59999999999997]
[26,null,{"$f":"C313*$K$3","v":713.36249999999995},684.46249999999998,520.83749999999998,387.59999999999997,0,null,839.25,805.25,612.75,456,null,713.36249999999995,684.46249999999998,520.83749999999998,387.59999999999997]
[27,null,{"$f":"C314*$K$3","v":713.36249999999995},684.46249999999998,520.83749999999998,387.59999999999997,0,null,839.25,805.25,612.75,456,null,713.36249999999995,684.46249999999998,520.83749999999998,387.59999999999997]
[28,null,{"$f":"C315*$K$3","v":713.36249999999995},684.46249999999998,520.83749999999998,387.59999999999997,0,null,839.25,805.25,612.75,456,null,713.36249999999995,684.46249999999998,520.83749999999998,387.59999999999997]
[29,null,{"$f":"C316*$K$3","v":713.36249999999995},684.46249999999998,520.83749999999998,387.59999999999997,0,null,839.25,805.25,612.75,456,null,713.36249999999995,684.46249999999998,520.83749999999998,387.59999999999997]
[30,null,{"$f":"C317*$K$3","v":804.94999999999993},772.01249999999993,579.0625,430.73750000000001,0,null,947,908.25,681.25,506.75,null,804.94999999999993,772.01249999999993,579.0625,430.73750000000001]
[31,null,{"$f":"C318*$K$3","v":804.94999999999993},772.01249999999993,579.0625,430.73750000000001,0,null,947,908.25,681.25,506.75,null,804.94999999999993,772.01249999999993,579.0625,430.73750000000001]
[32,null,{"$f":"C319*$K$3","v":804.94999999999993},772.01249999999993,579.0625,430.73750000000001,0,null,947,908.25,681.25,506.75,null,804.94999999999993,772.01249999999993,579.0625,430.73750000000001]
[33,null,{"$f":"C320*$K$3","v":804.94999999999993},772.01249999999993,579.0625,430.73750000000001,0,null,947,908.25,681.25,506.75,null,804.94999999999993,772.01249999999993,579.0625,430.73750000000001]
[34,null,{"$f":"C321*$K$3","v":804.94999999999993},772.01249999999993,579.0625,430.73750000000001,0,null,947,908.25,681.25,506.75,null,804.94999999999993,772.01249999999993,579.0625,430.73750000000001]
[35,null,{"$f":"C322*$K$3","v":910.77499999999998},873.8,648.33749999999998,482.58749999999998,0,null,1071.5,1028,762.75,567.75,null,910.77499999999998,873.8,648.33749999999998,482.58749999999998]
[36,null,{"$f":"C323*$K$3","v":910.77499999999998},873.8,648.33749999999998,482.58749999999998,0,null,1071.5,1028,762.75,567.75,null,910.77499999999998,873.8,648.33749999999998,482.58749999999998]
[37,null,{"$f":"C324*$K$3","v":910.77499999999998},873.8,648.33749999999998,482.58749999999998,0,null,1071.5,1028,762.75,567.75,null,910.77499999999998,873.8,648.33749999999998,482.58749999999998]
[38,null,{"$f":"C325*$K$3","v":910.77499999999998},873.8,648.33749999999998,482.58749999999998,0,null,1071.5,1028,762.75,567.75,null,910.77499999999998,873.8,648.33749999999998,482.58749999999998]
[39,null,{"$f":"C326*$K$3","v":910.77499999999998},873.8,648.33749999999998,482.58749999999998,0,null,1071.5,1028,762.75,567.75,null,910.77499999999998,873.8,648.33749999999998,482.58749999999998]
[40,null,{"$f":"C327*$K$3","v":1032.9624999999999},991.1,729.3,542.51249999999993,0,null,1215.25,1166,858,638.25,null,1032.9624999999999,991.1,729.3,542.51249999999993]
[41,null,{"$f":"C328*$K$3","v":1032.9624999999999},991.1,729.3,542.51249999999993,0,null,1215.25,1166,858,638.25,null,1032.9624999999999,991.1,729.3,542.51249999999993]
[42,null,{"$f":"C329*$K$3","v":1032.9624999999999},991.1,729.3,542.51249999999993,0,null,1215.25,1166,858,638.25,null,1032.9624999999999,991.1,729.3,542.51249999999993]
[43,null,{"$f":"C330*$K$3","v":1032.9624999999999},991.1,729.3,542.51249999999993,0,null,1215.25,1166,858,638.25,null,1032.9624999999999,991.1,729.3,542.51249999999993]
[44,null,{"$f":"C331*$K$3","v":1032.9624999999999},991.1,729.3,542.51249999999993,0,null,1215.25,1166,858,638.25,null,1032.9624999999999,991.1,729.3,542.51249999999993]
[45,null,{"$f":"C332*$K$3","v":1169.175},1121.575,820.88749999999993,610.72500000000002,0,null,1375.5,1319.5,965.75,718.5,null,1169.175,1121.575,820.88749999999993,610.72500000000002]
[46,null,{"$f":"C333*$K$3","v":1169.175},1121.575,820.88749999999993,610.72500000000002,0,null,1375.5,1319.5,965.75,718.5,null,1169.175,1121.575,820.88749999999993,610.72500000000002]
[47,null,{"$f":"C334*$K$3","v":1169.175},1121.575,820.88749999999993,610.72500000000002,0,null,1375.5,1319.5,965.75,718.5,null,1169.175,1121.575,820.88749999999993,610.72500000000002]
[48,null,{"$f":"C335*$K$3","v":1169.175},1121.575,820.88749999999993,610.72500000000002,0,null,1375.5,1319.5,965.75,718.5,null,1169.175,1121.575,820.88749999999993,610.72500000000002]
[49,null,{"$f":"C336*$K$3","v":1169.175},1121.575,820.88749999999993,610.72500000000002,0,null,1375.5,1319.5,965.75,718.5,null,1169.175,1121.575,820.88749999999993,610.72500000000002]
[50,null,{"$f":"C337*$K$3","v":1322.6},1268.8374999999999,924.8,688.07499999999993,0,null,1556,1492.75,1088,809.5,null,1322.6,1268.8374999999999,924.8,688.07499999999993]
[51,null,{"$f":"C338*$K$3","v":1322.6},1268.8374999999999,924.8,688.07499999999993,0,null,1556,1492.75,1088,809.5,null,1322.6,1268.8374999999999,924.8,688.07499999999993]
[52,null,{"$f":"C339*$K$3","v":1322.6},1268.8374999999999,924.8,688.07499999999993,0,null,1556,1492.75,1088,809.5,null,1322.6,1268.8374999999999,924.8,688.07499999999993]
[53,null,{"$f":"C340*$K$3","v":1322.6},1268.8374999999999,924.8,688.07499999999993,0,null,1556,1492.75,1088,809.5,null,1322.6,1268.8374999999999,924.8,688.07499999999993]
[54,null,{"$f":"C341*$K$3","v":1322.6},1268.8374999999999,924.8,688.07499999999993,0,null,1556,1492.75,1088,809.5,null,1322.6,1268.8374999999999,924.8,688.07499999999993]
[55,null,{"$f":"C342*$K$3","v":1491.75},1431.3999999999999,1040.6125,774.13749999999993,0,null,1755,1684,1224.25,910.75,null,1491.75,1431.3999999999999,1040.6125,774.13749999999993]
[56,null,{"$f":"C343*$K$3","v":1491.75},1431.3999999999999,1040.6125,774.13749999999993,0,null,1755,1684,1224.25,910.75,null,1491.75,1431.3999999999999,1040.6125,774.13749999999993]
[57,null,{"$f":"C344*$K$3","v":1491.75},1431.3999999999999,1040.6125,774.13749999999993,0,null,1755,1684,1224.25,910.75,null,1491.75,1431.3999999999999,1040.6125,774.13749999999993]
[58,null,{"$f":"C345*$K$3","v":1491.75},1431.3999999999999,1040.6125,774.13749999999993,0,null,1755,1684,1224.25,910.75,null,1491.75,1431.3999999999999,1040.6125,774.13749999999993]
[59,null,{"$f":"C346*$K$3","v":1491.75},1431.3999999999999,1040.6125,774.13749999999993,0,null,1755,1684,1224.25,910.75,null,1491.75,1431.3999999999999,1040.6125,774.13749999999993]
[60,null,{"$f":"C347*$K$3","v":1604.375},1539.35,1118.3875,831.72500000000002,0,null,1887.5,1811,1315.75,978.5,null,1604.375,1539.35,1118.3875,831.72500000000002]
[61,null,{"$f":"C348*$K$3","v":1800.9375},1727.8374999999999,1253.9624999999999,932.875,0,null,2118.75,2032.75,1475.25,1097.5,null,1800.9375,1727.8374999999999,1253.9624999999999,932.875]
[62,null,{"$f":"C349*$K$3","v":2013.4375},1931.8374999999999,1401.8625,1042.5249999999999,0,null,2368.75,2272.75,1649.25,1226.5,null,2013.4375,1931.8374999999999,1401.8625,1042.5249999999999]
[63,null,{"$f":"C350*$K$3","v":2242.5124999999998},2151.7750000000001,1561.2375,1161.3125,0,null,2638.25,2531.5,1836.75,1366.25,null,2242.5124999999998,2151.7750000000001,1561.2375,1161.3125]
[64,null,{"$f":"C351*$K$3","v":2487.3125},2386.7999999999997,1732.5125,1288.8125,0,null,2926.25,2808,2038.25,1516.25,null,2487.3125,2386.7999999999997,1732.5125,1288.8125]
[65,null,{"$f":"C352*$K$3","v":2748.9},2637.5499999999997,1916.1125,1425.45,0,null,3234,3103,2254.25,1677,null,2748.9,2637.5499999999997,1916.1125,1425.45]
[66,null,{"$f":"C353*$K$3","v":3026.2125000000001},2903.6,2111.1875,1570.375,0,null,3560.25,3416,2483.75,1847.5,null,3026.2125000000001,2903.6,2111.1875,1570.375]
[67,null,{"$f":"C354*$K$3","v":3320.1},3185.375,2318.1624999999999,1724.4375,0,null,3906,3747.5,2727.25,2028.75,null,3320.1,3185.375,2318.1624999999999,1724.4375]
[68,null,{"$f":"C355*$K$3","v":3629.9249999999997},3482.6624999999999,2536.8249999999998,1887.2124999999999,0,null,4270.5,4097.25,2984.5,2220.25,null,3629.9249999999997,3482.6624999999999,2536.8249999999998,1887.2124999999999]
[69,null,{"$f":"C356*$K$3","v":3955.6875},3795.4625000000001,2767.8125,2058.9124999999999,0,null,4653.75,4465.25,3256.25,2422.25,null,3955.6875,3795.4625000000001,2767.8125,2058.9124999999999]
[70,null,{"$f":"C357*$K$3","v":4298.0249999999996},4123.7749999999996,3010.4874999999997,2239.3249999999998,0,null,5056.5,4851.5,3541.75,2634.5,null,4298.0249999999996,4123.7749999999996,3010.4874999999997,2239.3249999999998]
[71,null,{"$f":"C358*$K$3","v":4656.0874999999996},4467.3874999999998,3265.4874999999997,2428.875,0,null,5477.75,5255.75,3841.75,2857.5,null,4656.0874999999996,4467.3874999999998,3265.4874999999997,2428.875]
[72,null,{"$f":"C359*$K$3","v":5030.9375},4826.9375,3531.75,2627.35,0,null,5918.75,5678.75,4155,3091,null,5030.9375,4826.9375,3531.75,2627.35]
[73,null,{"$f":"C360*$K$3","v":5421.5124999999998},5201.5749999999998,3810.125,2834.1124999999997,0,null,6378.25,6119.5,4482.5,3334.25,null,5421.5124999999998,5201.5749999999998,3810.125,2834.1124999999997]
[74,null,{"$f":"C361*$K$3","v":5828.2375000000002},5592.3625000000002,4099.9749999999995,3050.0124999999998,0,null,6856.75,6579.25,4823.5,3588.25,null,5828.2375000000002,5592.3625000000002,4099.9749999999995,3050.0124999999998]
[75,null,{"$f":"C362*$K$3","v":6251.3249999999998},5998.2375000000002,4402.5749999999998,3275.0499999999997,0,null,7354.5,7056.75,5179.5,3853,null,6251.3249999999998,5998.2375000000002,4402.5749999999998,3275.0499999999997]
[76,null,{"$f":"C363*$K$3","v":6251.3249999999998},5998.2375000000002,4402.5749999999998,3275.0499999999997,0,null,7354.5,7056.75,5179.5,3853,null,6251.3249999999998,5998.2375000000002,4402.5749999999998,3275.0499999999997]
[77,null,{"$f":"C364*$K$3","v":6251.3249999999998},5998.2375000000002,4402.5749999999998,3275.0499999999997,0,null,7354.5,7056.75,5179.5,3853,null,6251.3249999999998,5998.2375000000002,4402.5749999999998,3275.0499999999997]
[78,null,{"$f":"C365*$K$3","v":6251.3249999999998},5998.2375000000002,4402.5749999999998,3275.0499999999997,0,null,7354.5,7056.75,5179.5,3853,null,6251.3249999999998,5998.2375000000002,4402.5749999999998,3275.0499999999997]
[79,null,{"$f":"C366*$K$3","v":6251.3249999999998},5998.2375000000002,4402.5749999999998,3275.0499999999997,0,null,7354.5,7056.75,5179.5,3853,null,6251.3249999999998,5998.2375000000002,4402.5749999999998,3275.0499999999997]
[80,null,{"$f":"C367*$K$3","v":6251.3249999999998},5998.2375000000002,4402.5749999999998,3275.0499999999997,0,null,7354.5,7056.75,5179.5,3853,null,6251.3249999999998,5998.2375000000002,4402.5749999999998,3275.0499999999997]
[81,null,{"$f":"C368*$K$3","v":6251.3249999999998},5998.2375000000002,4402.5749999999998,3275.0499999999997,0,null,7354.5,7056.75,5179.5,3853,null,6251.3249999999998,5998.2375000000002,4402.5749999999998,3275.0499999999997]
[82,null,{"$f":"C369*$K$3","v":6251.3249999999998},5998.2375000000002,4402.5749999999998,3275.0499999999997,0,null,7354.5,7056.75,5179.5,{"$f":"L369*$K$3","v":3853},null,6251.3249999999998,5998.2375000000002,4402.5749999999998,3275.0499999999997]
[83,null,{"$f":"C370*$K$3","v":6251.3249999999998},5998.2375000000002,4402.5749999999998,3275.0499999999997,0,null,{"$f":"I370*$K$3","v":7354.5},7056.75,5179.5,3853,null,{"$f":"I895*0.85","v":6251.3249999999998},{"$f":"J895*0.85","v":5998.2375000000002},{"$f":"K895*0.85","v":4402.5749999999998},{"$f":"L895*0.85","v":3275.0499999999997}]
[84,"o más",{"$f":"C371*$K$3","v":6251.3249999999998},5998.2375000000002,4402.5749999999998,3275.0499999999997,0,null,7354.5,7056.75,5179.5,3853,null,6251.3249999999998,5998.2375000000002,4402.5749999999998,3275.0499999999997]
[1,"Hijo",{"$f":"C372*$K$3","v":308.55},296.01249999999999,230.98749999999998,171.91249999999999,0,null,363,348.25,271.75,202.25,null,{"$f":"I897*0.85","v":308.55},296.01249999999999,230.98749999999998,171.91249999999999]
[2,"Hijos",{"$f":"C373*$K$3","v":524.02499999999998},502.77499999999998,392.0625,291.76249999999999,0,null,616.5,591.5,461.25,343.25,null,{"$f":"I898*0.85","v":524.02499999999998},{"$f":"J898*0.85","v":502.77499999999998},{"$f":"K898*0.85","v":392.0625},{"$f":"L898*0.85","v":291.76249999999999}]
[3,"Hijos o más",{"$f":"C374*$K$3","v":739.92499999999995},709.75,553.5625,411.82499999999999,0,null,870.5,835,651.25,484.5,null,739.92499999999995,709.75,553.5625,411.82499999999999]
[]
["BUPA GLOBAL ULTIMATE"]
["TARIFAS ANUALES"]
["EDAD"]
[" "," ",0,1000,2000]
[18,null,16871,10885,null,null,null,null,null,null,null,null,null,null,0,0]
[19,null,16871,10885,null,null,null,null,null,null,null,null,null,null,0,0]
[20,null,16871,10885,null,null,null,null,null,null,null,null,null,null,0,0]
[21,null,16871,10885,null,null,null,null,null,null,null,null,null,null,0,0]
[22,null,16871,10885,null,null,null,null,null,null,null,null,null,null,0,0]
[23,null,16871,10885,null,null,null,null,null,null,null,null,null,null,0,0]
[24,null,16871,10885,null,null,null,null,null,null,null,null,null,null,0,0]
[25,null,18086,11669,null,null,null,null,null,null,null,null,null,null,0,0]
[26,null,18086,11669,null,null,null,null,null,null,null,null,null,null,0,0]
[27,null,18086,11669,null,null,null,null,null,null,null,null,null,null,0,0]
[28,null,18086,11669,null,null,null,null,null,null,null,null,null,null,0,0]
[29,null,18086,11669,null,null,null,null,null,null,null,null,null,null,0,0]
[30,null,20184,13024,null,null,null,null,null,null,null,null,null,null,0,0]
[31,null,20184,13024,null,null,null,null,null,null,null,null,null,null,0,0]
[32,null,20184,13024,null,null,null,null,null,null,null,null,null,null,0,0]
[33,null,20184,13024,null,null,null,null,null,null,null,null,null,null,0,0]
[34,null,20184,13024,null,null,null,null,null,null,null,null,null,null,0,0]
[35,null,22577,14566,null,null,null,null,null,null,null,null,null,null,0,0]
[36,null,22577,14566,null,null,null,null,null,null,null,null,null,null,0,0]
[37,null,22577,14566,null,null,null,null,null,null,null,null,null,null,0,0]
[38,null,22577,14566,null,null,null,null,null,null,null,null,null,null,0,0]
[39,null,22577,14566,null,null,null,null,null,null,null,null,null,null,0,0]
[40,null,25307,16329,null,null,null,null,null,null,null,null,null,null,0,0]
[41,null,25307,16329,null,null,null,null,null,null,null,null,null,null,0,0]
[42,null,25307,16329,null,null,null,null,null,null,null,null,null,null,0,0]
[43,null,25307,16329,null,null,null,null,null,null,null,null,null,null,0,0]
[44,null,25307,16329,null,null,null,null,null,null,null,null,null,null,0,0]
[45,null,28322,18274,null,null,null,null,null,null,null,null,null,null,0,0]
[46,null,28322,18274,null,null,null,null,null,null,null,null,null,null,0,0]
[47,null,28322,18274,null,null,null,null,null,null,null,null,null,null,0,0]
[48,null,28322,18274,null,null,null,null,null,null,null,null,null,null,0,0]
[49,null,28322,18274,null,null,null,null,null,null,null,null,null,null,0,0]
[50,null,31695,20449,null,null,null,null,null,null,null,null,null,null,0,0]
[51,null,31695,20449,null,null,null,null,null,null,null,null,null,null,0,0]
[52,null,31695,20449,null,null,null,null,null,null,null,null,null,null,0,0]
[53,null,31695,20449,null,null,null,null,null,null,null,null,null,null,0,0]
[54,null,31695,20449,null,null,null,null,null,null,null,null,null,null,0,0]
[55,null,35396,22839,null,null,null,null,null,null,null,null,null,null,0,0]
[56,null,35396,22839,null,null,null,null,null,null,null,null,null,null,0,0]
[57,null,35396,22839,null,null,null,null,null,null,null,null,null,null,0,0]
[58,null,35396,22839,null,null,null,null,null,null,null,null,null,null,0,0]
[59,null,35396,22839,null,null,null,null,null,null,null,null,null,null,0,0]
[60,null,37853,24423,null,null,null,null,null,null,null,null,null,null,0,0]
[61,null,42118,27175,null,null,null,null,null,null,null,null,null,null,0,0]
[62,null,46719,30143,null,null,null,null,null,null,null,null,null,null,0,0]
[63,null,51656,33328,null,null,null,null,null,null,null,null,null,null,0,0]
[64,null,56927,36727,null,null,null,null,null,null,null,null,null,null,0,0]
[65,null,62533,40345,null,null,null,null,null,null,null,null,null,null,0,0]
[66,null,68473,44175,null,null,null,null,null,null,null,null,null,null,0,0]
[67,null,74748,48226,null,null,null,null,null,null,null,null,null,null,0,0]
[68,null,81356,52489,null,null,null,null,null,null,null,null,null,null,0,0]
[69,null,88299,56968,null,null,null,null,null,null,null,null,null,null,0,0]
[70,null,95578,61665,null,null,null,null,null,null,null,null,null,null,0,0]
[71,null,103192,66577,null,null,null,null,null,null,null,null,null,null,0,0]
[72,null,111139,71703,null,null,null,null,null,null,null,null,null,null,0,0]
[73,null,119424,77047,null,null,null,null,null,null,null,null,null,null,0,0]
[74,null,128037,82605,null,null,null,null,null,null,null,null,null,null,0,0]
[75,null,136989,88383,null,null,null,null,null,null,null,null,null,null,0,0]
[76,null,136989,88383,null,null,null,null,null,null,null,null,null,null,0,0]
[77,null,136989,88383,null,null,null,null,null,null,null,null,null,null,0,0]
[78,null,136989,88383,null,null,null,null,null,null,null,null,null,null,0,0]
[79,null,136989,88383,null,null,null,null,null,null,null,null,null,null,0,0]
[80,null,136989,88383,null,null,null,null,null,null,null,null,null,null,0,0]
[81,null,136989,88383,null,null,null,null,null,null,null,null,null,null,0,0]
[82,null,136989,88383,null,null,null,null,null,null,null,null,null,null,0,0]
[83,null,136989,88383,null,null,null,null,null,null,null,null,null,null,0,0]
[84,"o más",136989,88383,null,null,null,null,null,null,null,null,null,null,0,0]
[1,"Hijo",7096,4579,null,null,null,null,null,null,null,null,null,null,0,0]
[2,"Hijos",12063,7784,null,null,null,null,null,null,null,null,null,null,0,0]
[3,"Hijos o más",17028,10989,null,null,null,null,null,null,null,null,null,null,0,0]
[]
["BUPA GLOBAL ULTIMATE - MENSUALES"]
["EDAD"]
[" "," ",0,1000,2000]
[18,null,{"$f":"C905*$K$2","v":1574.6266666666668},{"$f":"D905*$K$2","v":1015.9333333333334},0,0,0,null,null,null,null,null,null,null,0,0]
[19,null,{"$f":"C906*$K$2","v":1574.6266666666668},1015.9333333333334,0,0,0,null,null,null,null,null,null,null,0,0]
[20,null,1574.6266666666668,1015.9333333333334,0,0,0,null,null,null,null,null,null,null,0,0]
[21,null,1574.6266666666668,1015.9333333333334,0,0,0,null,null,null,null,null,null,null,0,0]
[22,null,1574.6266666666668,1015.9333333333334,0,0,0,null,null,null,null,null,null,null,0,0]
[23,null,1574.6266666666668,1015.9333333333334,0,0,0,null,null,null,null,null,null,null,0,0]
[24,null,1574.6266666666668,1015.9333333333334,0,0,0,null,null,null,null,null,null,null,0,0]
[25,null,1688.0266666666666,1089.1066666666668,0,0,0,null,null,null,null,null,null,null,0,0]
[26,null,1688.0266666666666,1089.1066666666668,0,0,0,null,null,null,null,null,null,null,0,0]
[27,null,1688.0266666666666,1089.1066666666668,0,0,0,null,null,null,null,null,null,null,0,0]
[28,null,1688.0266666666666,1089.1066666666668,0,0,0,null,null,null,null,null,null,null,0,0]
[29,null,1688.0266666666666,1089.1066666666668,0,0,0,null,null,null,null,null,null,null,0,0]
[30,null,1883.8400000000001,1215.5733333333335,0,0,0,null,null,null,null,null,null,null,0,0]
[31,null,1883.8400000000001,1215.5733333333335,0,0,0,null,null,null,null,null,null,null,0,0]
[32,null,1883.8400000000001,1215.5733333333335,0,0,0,null,null,null,null,null,null,null,0,0]
[33,null,1883.8400000000001,1215.5733333333335,0,0,0,null,null,null,null,null,null,null,0,0]
[34,null,1883.8400000000001,1215.5733333333335,0,0,0,null,null,null,null,null,null,null,0,0]
[35,null,2107.186666666667,1359.4933333333333,0,0,0,null,null,null,null,null,null,null,0,0]
[36,null,2107.186666666667,1359.4933333333333,0,0,0,null,null,null,null,null,null,null,0,0]
[37,null,2107.186666666667,1359.4933333333333,0,0,0,null,null,null,null,null,null,null,0,0]
[38,null,2107.186666666667,1359.4933333333333,0,0,0,null,null,null,null,null,null,null,0,0]
[39,null,2107.186666666667,1359.4933333333333,0,0,0,null,null,null,null,null,null,null,0,0]
[40,null,2361.9866666666667,1524.04,0,0,0,null,null,null,null,null,null,null,0,0]
[41,null,2361.9866666666667,1524.04,0,0,0,null,null,null,null,null,null,null,0,0]
[42,null,2361.9866666666667,1524.04,0,0,0,null,null,null,null,null,null,null,0,0]
[43,null,2361.9866666666667,1524.04,0,0,0,null,null,null,null,null,null,null,0,0]
[44,null,2361.9866666666667,1524.04,0,0,0,null,null,null,null,null,null,null,0,0]
[45,null,2643.3866666666668,1705.5733333333335,0,0,0,null,null,null,null,null,null,null,0,0]
[46,null,2643.3866666666668,1705.5733333333335,0,0,0,null,null,null,null,null,null,null,0,0]
[47,null,2643.3866666666668,1705.5733333333335,0,0,0,null,null,null,null,null,null,null,0,0]
[48,null,2643.3866666666668,1705.5733333333335,0,0,0,null,null,null,null,null,null,null,0,0]
[49,null,2643.3866666666668,1705.5733333333335,0,0,0,null,null,null,null,null,null,null,0,0]
[50,null,2958.2000000000003,1908.5733333333335,0,0,0,null,null,null,null,null,null,null,0,0]
[51,null,2958.2000000000003,1908.5733333333335,0,0,0,null,null,null,null,null,null,null,0,0]
[52,null,2958.2000000000003,1908.5733333333335,0,0,0,null,null,null,null,null,null,null,0,0]
[53,null,2958.2000000000003,1908.5733333333335,0,0,0,null,null,null,null,null,null,null,0,0]
[54,null,2958.2000000000003,1908.5733333333335,0,0,0,null,null,null,null,null,null,null,0,0]
[55,null,3303.626666666667,2131.64,0,0,0,null,null,null,null,null,null,null,0,0]
[56,null,3303.626666666667,2131.64,0,0,0,null,null,null,null,null,null,null,0,0]
[57,null,3303.626666666667,2131.64,0,0,0,null,null,null,null,null,null,null,0,0]
[58,null,3303.626666666667,2131.64,0,0,0,null,null,null,null,null,null,null,0,0]
[59,null,3303.626666666667,2131.64,0,0,0,null,null,null,null,null,null,null,0,0]
[60,null,3532.9466666666667,2279.48,0,0,0,null,null,null,null,null,null,null,0,0]
[61,null,3931.0133333333333,2536.3333333333335,0,0,0,null,null,null,null,null,null,null,0,0]
[62,null,4360.4400000000005,2813.3466666666668,0,0,0,null,null,null,null,null,null,null,0,0]
[63,null,4821.2266666666665,3110.6133333333337,0,0,0,null,null,null,null,null,null,null,0,0]
[64,null,5313.1866666666665,3427.8533333333335,0,0,0,null,null,null,null,null,null,null,0,0]
[65,null,5836.4133333333339,3765.5333333333333,0,0,0,null,null,null,null,null,null,null,0,0]
[66,null,6390.8133333333335,4123,0,0,0,null,null,null,null,null,null,null,0,0]
[67,null,6976.4800000000005,4501.0933333333332,0,0,0,null,null,null,null,null,null,null,0,0]
[68,null,7593.2266666666674,4898.9733333333334,0,0,0,null,null,null,null,null,null,null,0,0]
[69,null,8241.24,5317.0133333333333,0,0,0,null,null,null,null,null,null,null,0,0]
[70,null,8920.6133333333346,5755.4000000000005,0,0,0,null,null,null,null,null,null,null,0,0]
[71,null,9631.253333333334,6213.8533333333335,0,0,0,null,null,null,null,null,null,null,0,0]
[72,null,10372.973333333333,6692.2800000000007,0,0,0,null,null,null,null,null,null,null,0,0]
[73,null,11146.24,7191.0533333333333,0,0,0,null,null,null,null,null,null,null,0,0]
[74,null,11950.12,7709.8,0,0,0,null,null,null,null,null,null,null,0,0]
[75,null,12785.640000000001,8249.08,0,0,0,null,null,null,null,null,null,null,0,0]
[76,null,12785.640000000001,8249.08,0,0,0,null,null,null,null,null,null,null,0,0]
[77,null,12785.640000000001,8249.08,0,0,0,null,null,null,null,null,null,null,0,0]
[78,null,12785.640000000001,8249.08,0,0,0,null,null,null,null,null,null,null,0,0]
[79,null,12785.640000000001,8249.08,0,0,0,null,null,null,null,null,null,null,0,0]
[80,null,12785.640000000001,8249.08,0,null,null,null,null,null,null,null,null,null,0,0]
[81,null,12785.640000000001,8249.08,0,null,null,null,null,null,null,null,null,null,0,0]
[82,null,12785.640000000001,8249.08,0,null,null,null,null,null,null,null,null,null,0,0]
[83,null,{"$f":"C970*$K$2","v":12785.640000000001},8249.08,0,null,null,null,null,null,null,null,null,null,0,0]
[84,"o más",12785.640000000001,8249.08,0,0,0,null,null,null,null,null,null,null,0,0]
[1,"Hijo",662.29333333333341,427.37333333333333,0,0,0,null,null,null,null,null,null,null,0,0]
[2,"Hijos",1125.8800000000001,726.50666666666666,0,0,0,null,null,null,null,null,null,null,0,0]
[3,"Hijos o más",1589.28,1025.6400000000001,0,0,0,null,null,null,null,null,null,null,0,0]
[]
["BUPA GLOBAL ULTIMATE"]
["TARIFAS TRIMESTRALES"]
["EDAD"]
[" "," ",0,1000,2000]
[18,null,{"$f":"C905*$K$3","v":4217.75},{"$f":"D905*$K$3","v":2721.25},0,36.172033333333339,0,null,null,null,null,null,null,null,0,0]
[19,null,{"$f":"C906*$K$3","v":4217.75},2721.25,0,36.172033333333339,0,null,null,null,null,null,null,null,0,0]
[20,null,4217.75,2721.25,0,36.172033333333339,0,null,null,null,null,null,null,null,0,0]
[21,null,4217.75,2721.25,0,36.172033333333339,0,null,null,null,null,null,null,null,0,0]
[22,null,4217.75,2721.25,0,36.172033333333339,0,null,null,null,null,null,null,null,0,0]
[23,null,4217.75,2721.25,0,36.172033333333339,0,null,null,null,null,null,null,null,0,0]
[24,null,4217.75,2721.25,0,38.615500000000004,0,null,null,null,null,null,null,null,0,0]
[25,null,4521.5,2917.25,0,38.615500000000004,0,null,null,null,null,null,null,null,0,0]
[26,null,4521.5,2917.25,0,38.615500000000004,0,null,null,null,null,null,null,null,0,0]
[27,null,4521.5,2917.25,0,38.615500000000004,0,null,null,null,null,null,null,null,0,0]
[28,null,4521.5,2917.25,0,38.615500000000004,0,null,null,null,null,null,null,null,0,0]
[29,null,4521.5,2917.25,0,42.913383333333343,0,null,null,null,null,null,null,null,0,0]
[30,null,5046,3256,0,42.913383333333343,0,null,null,null,null,null,null,null,0,0]
[31,null,5046,3256,0,42.913383333333343,0,null,null,null,null,null,null,null,0,0]
[32,null,5046,3256,0,42.913383333333343,0,null,null,null,null,null,null,null,0,0]
[33,null,5046,3256,0,42.913383333333343,0,null,null,null,null,null,null,null,0,0]
[34,null,5046,3256,0,48.083933333333334,0,null,null,null,null,null,null,null,0,0]
[35,null,5644.25,3641.5,0,48.083933333333334,0,null,null,null,null,null,null,null,0,0]
[36,null,5644.25,3641.5,0,48.083933333333334,0,null,null,null,null,null,null,null,0,0]
[37,null,5644.25,3641.5,0,48.083933333333334,0,null,null,null,null,null,null,null,0,0]
[38,null,5644.25,3641.5,0,48.083933333333334,0,null,null,null,null,null,null,null,0,0]
[39,null,5644.25,3641.5,0,54.061700000000002,0,null,null,null,null,null,null,null,0,0]
[40,null,6326.75,4082.25,0,54.061700000000002,0,null,null,null,null,null,null,null,0,0]
[41,null,6326.75,4082.25,0,54.061700000000002,0,null,null,null,null,null,null,null,0,0]
[42,null,6326.75,4082.25,0,54.061700000000002,0,null,null,null,null,null,null,null,0,0]
[43,null,6326.75,4082.25,0,54.061700000000002,0,null,null,null,null,null,null,null,0,0]
[44,null,6326.75,4082.25,0,60.868500000000004,0,null,null,null,null,null,null,null,0,0]
[45,null,7080.5,4568.5,0,60.868500000000004,0,null,null,null,null,null,null,null,0,0]
[46,null,7080.5,4568.5,0,60.868500000000004,0,null,null,null,null,null,null,null,0,0]
[47,null,7080.5,4568.5,0,60.868500000000004,0,null,null,null,null,null,null,null,0,0]
[48,null,7080.5,4568.5,0,60.868500000000004,0,null,null,null,null,null,null,null,0,0]
[49,null,7080.5,4568.5,0,68.569783333333334,0,null,null,null,null,null,null,null,0,0]
[50,null,7923.75,5112.25,0,68.569783333333334,0,null,null,null,null,null,null,null,0,0]
[51,null,7923.75,5112.25,0,68.569783333333334,0,null,null,null,null,null,null,null,0,0]
[52,null,7923.75,5112.25,0,68.569783333333334,0,null,null,null,null,null,null,null,0,0]
[53,null,7923.75,5112.25,0,68.569783333333334,0,null,null,null,null,null,null,null,0,0]
[54,null,7923.75,5112.25,0,77.143733333333344,0,null,null,null,null,null,null,null,0,0]
[55,null,8849,5709.75,0,77.143733333333344,0,null,null,null,null,null,null,null,0,0]
[56,null,8849,5709.75,0,77.143733333333344,0,null,null,null,null,null,null,null,0,0]
[57,null,8849,5709.75,0,77.143733333333344,0,null,null,null,null,null,null,null,0,0]
[58,null,8849,5709.75,0,77.143733333333344,0,null,null,null,null,null,null,null,0,0]
[59,null,8849,5709.75,0,82.90333333333335,0,null,null,null,null,null,null,null,0,0]
[60,null,9463.25,6105.75,0,92.982633333333339,0,null,null,null,null,null,null,null,0,0]
[61,null,10529.5,6793.75,0,103.91278333333334,0,null,null,null,null,null,null,null,0,0]
[62,null,11679.75,7535.75,0,115.73741666666668,0,null,null,null,null,null,null,null,0,0]
[63,null,12914,8332,0,128.45653333333337,0,null,null,null,null,null,null,null,0,0]
[64,null,14231.75,9181.75,0,142.07013333333333,0,null,null,null,null,null,null,null,0,0]
[65,null,15633.25,10086.25,0,156.51276666666669,0,null,null,null,null,null,null,null,0,0]
[66,null,17118.25,11043.75,0,171.87170000000003,0,null,null,null,null,null,null,null,0,0]
[67,null,18687,12056.5,0,188.10330000000002,0,null,null,null,null,null,null,null,0,0]
[68,null,20339,13122.25,0,205.20756666666668,0,null,null,null,null,null,null,null,0,0]
[69,null,22074.75,14242,0,223.20631666666671,0,null,null,null,null,null,null,null,0,0]
[70,null,23894.5,15416.25,0,242.09955000000002,0,null,null,null,null,null,null,null,0,0]
[71,null,25798,16644.25,0,261.86545000000001,0,null,null,null,null,null,null,null,0,0]
[72,null,27784.75,17925.75,0,282.48220000000003,0,null,null,null,null,null,null,null,0,0]
[73,null,29856,19261.75,0,303.99343333333337,0,null,null,null,null,null,null,null,0,0]
[74,null,32009.25,20651.25,0,326.44278333333335,0,null,null,null,null,null,null,null,0,0]
[75,null,34247.25,22095.75,0,326.44278333333335,0,null,null,null,null,null,null,null,0,0]
[76,null,34247.25,22095.75,0,326.44278333333335,0,null,null,null,null,null,null,null,0,0]
[77,null,34247.25,22095.75,0,326.44278333333335,0,null,null,null,null,null,null,null,0,0]
[78,null,34247.25,22095.75,0,326.44278333333335,0,null,null,null,null,null,null,null,0,0]
[79,null,34247.25,22095.75,0,326.44278333333335,0,null,null,null,null,null,null,null,0,0]
[80,null,34247.25,22095.75,0,326.44278333333335,0,null,null,null,null,null,null,null,0,0]
[81,null,34247.25,22095.75,0,326.44278333333335,0,null,null,null,null,null,null,null,0,0]
[82,null,34247.25,22095.75,0,326.44278333333335,0,null,null,null,null,null,null,null,0,0]
[83,null,{"$f":"C970*$K$3","v":34247.25},22095.75,0,326.44278333333335,0,null,null,null,null,null,null,null,0,0]
[84,"o más",34247.25,22095.75,0,17.126083333333337,0,null,null,null,null,null,null,null,0,0]
[1,"Hijo",1774,1144.75,0,29.081616666666669,0,null,null,null,null,null,null,null,0,0]
[2,"Hijos",3015.75,1946,0,41.037150000000004,0,null,null,null,null,null,null,null,0,0]
[3,"Hijos o más",4257,2747.25,0,0,0]
[]
["BUPA GLOBAL MM"]
["TARIFAS ANUALES"]
["EDAD"]
[" "," ",10000,20000]
[18,null,{"$f":"L1129","v":1731.45},{"$f":"M1129","v":1342.1499999999999},null,null,null,null,2037,1579,null,{"$f":"I1129*0.85","v":1731.45},{"$f":"J1129*0.85","v":1342.1499999999999}]
[19,null,{"$f":"L1130","v":1731.45},{"$f":"M1130","v":1342.1499999999999},null,null,null,null,2037,1579,null,{"$f":"I1130*0.85","v":1731.45},{"$f":"J1130*0.85","v":1342.1499999999999}]
[20,null,1731.45,1342.1499999999999,null,null,null,null,2037,1579,null,1731.45,1342.1499999999999]
[21,null,1731.45,1342.1499999999999,null,null,null,null,2037,1579,null,1731.45,1342.1499999999999]
[22,null,1731.45,1342.1499999999999,null,null,null,null,2037,1579,null,1731.45,1342.1499999999999]
[23,null,1731.45,1342.1499999999999,null,null,null,null,2037,1579,null,1731.45,1342.1499999999999]
[24,null,1731.45,1342.1499999999999,null,null,null,null,2037,1579,null,1731.45,1342.1499999999999]
[25,null,1853,1424.6,null,null,null,null,2180,1676,null,1853,1424.6]
[26,null,1853,1424.6,null,null,null,null,2180,1676,null,1853,1424.6]
[27,null,1853,1424.6,null,null,null,null,2180,1676,null,1853,1424.6]
[28,null,1853,1424.6,null,null,null,null,2180,1676,null,1853,1424.6]
[29,null,1853,1424.6,null,null,null,null,2180,1676,null,1853,1424.6]
[30,null,2063.7999999999997,1573.35,null,null,null,null,2428,1851,null,2063.7999999999997,1573.35]
[31,null,2063.7999999999997,1573.35,null,null,null,null,2428,1851,null,2063.7999999999997,1573.35]
[32,null,2063.7999999999997,1573.35,null,null,null,null,2428,1851,null,2063.7999999999997,1573.35]
[33,null,2063.7999999999997,1573.35,null,null,null,null,2428,1851,null,2063.7999999999997,1573.35]
[34,null,2063.7999999999997,1573.35,null,null,null,null,2428,1851,null,2063.7999999999997,1573.35]
[35,null,2307.75,1752.7,null,null,null,null,2715,2062,null,2307.75,1752.7]
[36,null,2307.75,1752.7,null,null,null,null,2715,2062,null,2307.75,1752.7]
[37,null,2307.75,1752.7,null,null,null,null,2715,2062,null,2307.75,1752.7]
[38,null,2307.75,1752.7,null,null,null,null,2715,2062,null,2307.75,1752.7]
[39,null,2307.75,1752.7,null,null,null,null,2715,2062,null,2307.75,1752.7]
[40,null,2584.85,1961.8,null,null,null,null,3041,2308,null,2584.85,1961.8]
[41,null,2584.85,1961.8,null,null,null,null,3041,2308,null,2584.85,1961.8]
[42,null,2584.85,1961.8,null,null,null,null,3041,2308,null,2584.85,1961.8]
[43,null,2584.85,1961.8,null,null,null,null,3041,2308,null,2584.85,1961.8]
[44,null,2584.85,1961.8,null,null,null,null,3041,2308,null,2584.85,1961.8]
[45,null,2895.1,2200.65,null,null,null,null,3406,2589,null,2895.1,2200.65]
[46,null,2895.1,2200.65,null,null,null,null,3406,2589,null,2895.1,2200.65]
[47,null,2895.1,2200.65,null,null,null,null,3406,2589,null,2895.1,2200.65]
[48,null,2895.1,2200.65,null,null,null,null,3406,2589,null,2895.1,2200.65]
[49,null,2895.1,2200.65,null,null,null,null,3406,2589,null,2895.1,2200.65]
[50,null,3242.75,2469.25,null,null,null,null,3815,2905,null,3242.75,2469.25]
[51,null,3242.75,2469.25,null,null,null,null,3815,2905,null,3242.75,2469.25]
[52,null,3242.75,2469.25,null,null,null,null,3815,2905,null,3242.75,2469.25]
[53,null,3242.75,2469.25,null,null,null,null,3815,2905,null,3242.75,2469.25]
[54,null,3242.75,2469.25,null,null,null,null,3815,2905,null,3242.75,2469.25]
[55,null,3624.4,2771.85,null,null,null,null,4264,3261,null,3624.4,2771.85]
[56,null,3624.4,2771.85,null,null,null,null,4264,3261,null,3624.4,2771.85]
[57,null,3624.4,2771.85,null,null,null,null,4264,3261,null,3624.4,2771.85]
[58,null,3624.4,2771.85,null,null,null,null,4264,3261,null,3624.4,2771.85]
[59,null,3624.4,2771.85,null,null,null,null,4264,3261,null,3624.4,2771.85]
[60,null,3876.85,2973.2999999999997,null,null,null,null,4561,3498,null,3876.85,2973.2999999999997]
[61,null,4318.8499999999995,3330.2999999999997,null,null,null,null,5081,3918,null,4318.8499999999995,3330.2999999999997]
[62,null,4796.55,3717.0499999999997,null,null,null,null,5643,4373,null,4796.55,3717.0499999999997]
[63,null,5309.0999999999995,4134.3999999999996,null,null,null,null,6246,4864,null,5309.0999999999995,4134.3999999999996]
[64,null,5857.3499999999995,4585.75,null,null,null,null,6891,5395,null,5857.3499999999995,4585.75]
[65,null,6441.3,5066.8499999999995,null,null,null,null,7578,5961,null,6441.3,5066.8499999999995]
[66,null,7060.95,5581.95,null,null,null,null,8307,6567,null,7060.95,5581.95]
[67,null,7716.3,6126.8,null,null,null,null,9078,7208,null,7716.3,6126.8]
[68,null,8406.5,6704.8,null,null,null,null,9890,7888,null,8406.5,6704.8]
[69,null,9130.6999999999989,7312.55,null,null,null,null,10742,8603,null,9130.6999999999989,7312.55]
[70,null,9890.6,7952.5999999999995,null,null,null,null,11636,9356,null,9890.6,7952.5999999999995]
[71,null,10689.6,8624.9499999999989,null,null,null,null,12576,10147,null,10689.6,8624.9499999999989]
[72,null,11521.75,9329.6,null,null,null,null,13555,10976,null,11521.75,9329.6]
[73,null,12389.6,10064.85,null,null,null,null,14576,11841,null,12389.6,10064.85]
[74,null,13292.3,10832.4,null,null,null,null,15638,12744,null,13292.3,10832.4]
[75,null,14230.699999999999,11632.25,null,null,null,null,16742,13685,null,14230.699999999999,11632.25]
[76,null,14230.699999999999,11632.25,null,null,null,null,16742,13685,null,14230.699999999999,11632.25]
[77,null,14230.699999999999,11632.25,null,null,null,null,16742,13685,null,14230.699999999999,11632.25]
[78,null,14230.699999999999,11632.25,null,null,null,null,16742,13685,null,14230.699999999999,11632.25]
[79,null,14230.699999999999,11632.25,null,null,null,null,16742,13685,null,14230.699999999999,11632.25]
[80,null,14230.699999999999,11632.25,null,null,null,null,16742,13685,null,14230.699999999999,11632.25]
[81,null,14230.699999999999,11632.25,null,null,null,null,16742,13685,null,14230.699999999999,11632.25]
[82,null,14230.699999999999,11632.25,null,null,null,null,16742,13685,null,14230.699999999999,11632.25]
[83,null,{"$f":"L1194","v":14230.699999999999},{"$f":"M1194","v":11632.25},null,null,null,null,16742,13685,null,{"$f":"I1194*0.85","v":14230.699999999999},{"$f":"J1194*0.85","v":11632.25}]
[84,"o más",14230.699999999999,11632.25,null,null,null,null,16742,13685,null,14230.699999999999,11632.25]
[1,"Hijo",731,573.75,null,null,null,null,860,675,null,{"$f":"I1196*0.85","v":731},{"$f":"J1196*0.85","v":573.75}]
[2,"Hijos",1241,974.94999999999993,null,null,null,null,1460,1147,null,{"$f":"I1197*0.85","v":1241},{"$f":"J1197*0.85","v":974.94999999999993}]
[3,"Hijos o más",1752.7,1375.3,null,null,null,null,2062,1618,null,1752.7,1375.3]
[]
["BUPA GLOBAL MM - MENSUALES"]
["EDAD"]
[" "," ",10000,20000]
[18,null,{"$f":"C1129*$K$2","v":161.602},{"$f":"D1129*$K$2","v":125.26733333333333},0,0,0,null,{"$f":"I1129*$K$2","v":190.12},{"$f":"J1129*$K$2","v":147.37333333333333},null,{"$f":"I1203*0.85","v":161.602},{"$f":"J1203*0.85","v":125.26733333333333}]
[19,null,{"$f":"C1130*$K$2","v":161.602},125.26733333333333,0,0,0,null,{"$f":"I1130*$K$2","v":190.12},147.37333333333333,null,{"$f":"I1204*0.85","v":161.602},{"$f":"J1204*0.85","v":125.26733333333333}]
[20,null,{"$f":"C1131*$K$2","v":161.602},125.26733333333333,0,0,0,null,190.12,147.37333333333333,null,161.602,125.26733333333333]
[21,null,{"$f":"C1132*$K$2","v":161.602},125.26733333333333,0,0,0,null,190.12,147.37333333333333,null,161.602,125.26733333333333]
[22,null,{"$f":"C1133*$K$2","v":161.602},125.26733333333333,0,0,0,null,190.12,147.37333333333333,null,161.602,125.26733333333333]
[23,null,{"$f":"C1134*$K$2","v":161.602},125.26733333333333,0,0,0,null,190.12,147.37333333333333,null,161.602,125.26733333333333]
[24,null,{"$f":"C1135*$K$2","v":161.602},125.26733333333333,0,0,0,null,190.12,147.37333333333333,null,161.602,125.26733333333333]
[25,null,{"$f":"C1136*$K$2","v":172.94666666666669},132.96266666666668,0,0,0,null,203.46666666666667,156.42666666666668,null,172.94666666666666,132.96266666666668]
[26,null,{"$f":"C1137*$K$2","v":172.94666666666669},132.96266666666668,0,0,0,null,203.46666666666667,156.42666666666668,null,172.94666666666666,132.96266666666668]
[27,null,{"$f":"C1138*$K$2","v":172.94666666666669},132.96266666666668,0,0,0,null,203.46666666666667,156.42666666666668,null,172.94666666666666,132.96266666666668]
[28,null,{"$f":"C1139*$K$2","v":172.94666666666669},132.96266666666668,0,0,0,null,203.46666666666667,156.42666666666668,null,172.94666666666666,132.96266666666668]
[29,null,{"$f":"C1140*$K$2","v":172.94666666666669},132.96266666666668,0,0,0,null,203.46666666666667,156.42666666666668,null,172.94666666666666,132.96266666666668]
[30,null,{"$f":"C1141*$K$2","v":192.62133333333333},146.846,0,0,0,null,226.61333333333334,172.76000000000002,null,192.62133333333333,146.846]
[31,null,{"$f":"C1142*$K$2","v":192.62133333333333},146.846,0,0,0,null,226.61333333333334,172.76000000000002,null,192.62133333333333,146.846]
[32,null,{"$f":"C1143*$K$2","v":192.62133333333333},146.846,0,0,0,null,226.61333333333334,172.76000000000002,null,192.62133333333333,146.846]
[33,null,{"$f":"C1144*$K$2","v":192.62133333333333},146.846,0,0,0,null,226.61333333333334,172.76000000000002,null,192.62133333333333,146.846]
[34,null,{"$f":"C1145*$K$2","v":192.62133333333333},146.846,0,0,0,null,226.61333333333334,172.76000000000002,null,192.62133333333333,146.846]
[35,null,{"$f":"C1146*$K$2","v":215.39000000000001},163.58533333333335,0,0,0,null,253.4,192.45333333333335,null,215.39,163.58533333333335]
[36,null,{"$f":"C1147*$K$2","v":215.39000000000001},163.58533333333335,0,0,0,null,253.4,192.45333333333335,null,215.39,163.58533333333335]
[37,null,{"$f":"C1148*$K$2","v":215.39000000000001},163.58533333333335,0,0,0,null,253.4,192.45333333333335,null,215.39,163.58533333333335]
[38,null,{"$f":"C1149*$K$2","v":215.39000000000001},163.58533333333335,0,0,0,null,253.4,192.45333333333335,null,215.39,163.58533333333335]
[39,null,{"$f":"C1150*$K$2","v":215.39000000000001},163.58533333333335,0,0,0,null,253.4,192.45333333333335,null,215.39,163.58533333333335]
[40,null,{"$f":"C1151*$K$2","v":241.25266666666667},183.10133333333334,0,0,0,null,283.82666666666665,215.41333333333336,null,241.25266666666664,183.10133333333334]
[41,null,{"$f":"C1152*$K$2","v":241.25266666666667},183.10133333333334,0,0,0,null,283.82666666666665,215.41333333333336,null,241.25266666666664,183.10133333333334]
[42,null,{"$f":"C1153*$K$2","v":241.25266666666667},183.10133333333334,0,0,0,null,283.82666666666665,215.41333333333336,null,241.25266666666664,183.10133333333334]
[43,null,{"$f":"C1154*$K$2","v":241.25266666666667},183.10133333333334,0,0,0,null,283.82666666666665,215.41333333333336,null,241.25266666666664,183.10133333333334]
[44,null,{"$f":"C1155*$K$2","v":241.25266666666667},183.10133333333334,0,0,0,null,283.82666666666665,215.41333333333336,null,241.25266666666664,183.10133333333334]
[45,null,{"$f":"C1156*$K$2","v":270.20933333333335},205.39400000000001,0,0,0,null,317.89333333333337,241.64000000000001,null,270.20933333333335,205.39400000000001]
[46,null,{"$f":"C1157*$K$2","v":270.20933333333335},205.39400000000001,0,0,0,null,317.89333333333337,241.64000000000001,null,270.20933333333335,205.39400000000001]
[47,null,{"$f":"C1158*$K$2","v":270.20933333333335},205.39400000000001,0,0,0,null,317.89333333333337,241.64000000000001,null,270.20933333333335,205.39400000000001]
[48,null,{"$f":"C1159*$K$2","v":270.20933333333335},205.39400000000001,0,0,0,null,317.89333333333337,241.64000000000001,null,270.20933333333335,205.39400000000001]
[49,null,{"$f":"C1160*$K$2","v":270.20933333333335},205.39400000000001,0,0,0,null,317.89333333333337,241.64000000000001,null,270.20933333333335,205.39400000000001]
[50,null,{"$f":"C1161*$K$2","v":302.65666666666669},230.46333333333334,0,0,0,null,356.06666666666666,271.13333333333333,null,302.65666666666664,230.46333333333331]
[51,null,{"$f":"C1162*$K$2","v":302.65666666666669},230.46333333333334,0,0,0,null,356.06666666666666,271.13333333333333,null,302.65666666666664,230.46333333333331]
[52,null,{"$f":"C1163*$K$2","v":302.65666666666669},230.46333333333334,0,0,0,null,356.06666666666666,271.13333333333333,null,302.65666666666664,230.46333333333331]
[53,null,{"$f":"C1164*$K$2","v":302.65666666666669},230.46333333333334,0,0,0,null,356.06666666666666,271.13333333333333,null,302.65666666666664,230.46333333333331]
[54,null,{"$f":"C1165*$K$2","v":302.65666666666669},230.46333333333334,0,0,0,null,356.06666666666666,271.13333333333333,null,302.65666666666664,230.46333333333331]
[55,null,{"$f":"C1166*$K$2","v":338.27733333333333},258.70600000000002,0,0,0,null,397.97333333333336,304.36,null,338.27733333333333,258.70600000000002]
[56,null,{"$f":"C1167*$K$2","v":338.27733333333333},258.70600000000002,0,0,0,null,397.97333333333336,304.36,null,338.27733333333333,258.70600000000002]
[57,null,{"$f":"C1168*$K$2","v":338.27733333333333},258.70600000000002,0,0,0,null,397.97333333333336,304.36,null,338.27733333333333,258.70600000000002]
[58,null,{"$f":"C1169*$K$2","v":338.27733333333333},258.70600000000002,0,0,0,null,397.97333333333336,304.36,null,338.27733333333333,258.70600000000002]
[59,null,{"$f":"C1170*$K$2","v":338.27733333333333},258.70600000000002,0,0,0,null,397.97333333333336,304.36,null,338.27733333333333,258.70600000000002]
[60,null,{"$f":"C1171*$K$2","v":361.83933333333334},277.50799999999998,0,0,0,null,425.69333333333333,326.48,null,361.83933333333334,277.50799999999998]
[61,null,{"$f":"C1172*$K$2","v":403.09266666666662},310.82799999999997,0,0,0,null,474.22666666666669,365.68,null,403.09266666666667,310.82799999999997]
[62,null,{"$f":"C1173*$K$2","v":447.67800000000005},346.92466666666667,0,0,0,null,526.68000000000006,408.1466666666667,null,447.67800000000005,346.92466666666667]
[63,null,{"$f":"C1174*$K$2","v":495.51599999999996},385.8773333333333,0,0,0,null,582.96,453.97333333333336,null,495.51600000000002,385.87733333333335]
[64,null,{"$f":"C1175*$K$2","v":546.68599999999992},428.00333333333333,0,0,0,null,643.16000000000008,503.53333333333336,null,546.68600000000004,428.00333333333333]
[65,null,{"$f":"C1176*$K$2","v":601.18799999999999},472.90599999999995,0,0,0,null,707.28000000000009,556.36,null,601.1880000000001,472.90600000000001]
[66,null,{"$f":"C1177*$K$2","v":659.02200000000005},520.98199999999997,0,0,0,null,775.32,612.92000000000007,null,659.02200000000005,520.98200000000008]
[67,null,{"$f":"C1178*$K$2","v":720.1880000000001},571.83466666666675,0,0,0,null,847.28000000000009,672.74666666666667,null,720.1880000000001,571.83466666666664]
[68,null,{"$f":"C1179*$K$2","v":784.60666666666668},625.78133333333335,0,0,0,null,923.06666666666672,736.21333333333337,null,784.60666666666668,625.78133333333335]
[69,null,{"$f":"C1180*$K$2","v":852.19866666666655},682.50466666666671,0,0,0,null,1002.5866666666667,802.94666666666672,null,852.19866666666667,682.50466666666671]
[70,null,{"$f":"C1181*$K$2","v":923.12266666666676},742.24266666666665,0,0,0,null,1086.0266666666666,873.22666666666669,null,923.12266666666665,742.24266666666665]
[71,null,{"$f":"C1182*$K$2","v":997.69600000000003},804.99533333333329,0,0,0,null,1173.76,947.0533333333334,null,997.69599999999991,804.99533333333341]
[72,null,{"$f":"C1183*$K$2","v":1075.3633333333335},870.76266666666675,0,0,0,null,1265.1333333333334,1024.4266666666667,null,1075.3633333333335,870.76266666666675]
[73,null,{"$f":"C1184*$K$2","v":1156.3626666666667},939.38600000000008,0,0,0,null,1360.4266666666667,1105.1600000000001,null,1156.3626666666667,939.38600000000008]
[74,null,{"$f":"C1185*$K$2","v":1240.6146666666666},1011.024,0,0,0,null,1459.5466666666666,1189.44,null,1240.6146666666666,1011.024]
[75,null,{"$f":"C1186*$K$2","v":1328.1986666666667},1085.6766666666667,0,0,0,null,1562.5866666666668,1277.2666666666667,null,1328.1986666666667,1085.6766666666667]
[76,null,{"$f":"C1187*$K$2","v":1328.1986666666667},1085.6766666666667,0,0,0,null,1562.5866666666668,1277.2666666666667,null,1328.1986666666667,1085.6766666666667]
[77,null,{"$f":"C1188*$K$2","v":1328.1986666666667},1085.6766666666667,0,0,0,null,1562.5866666666668,1277.2666666666667,null,1328.1986666666667,1085.6766666666667]
[78,null,{"$f":"C1189*$K$2","v":1328.1986666666667},1085.6766666666667,0,0,0,null,1562.5866666666668,1277.2666666666667,null,1328.1986666666667,1085.6766666666667]
[79,null,{"$f":"C1190*$K$2","v":1328.1986666666667},1085.6766666666667,0,0,0,null,1562.5866666666668,1277.2666666666667,null,1328.1986666666667,1085.6766666666667]
[80,null,{"$f":"C1191*$K$2","v":1328.1986666666667},1085.6766666666667,0,null,null,null,1562.5866666666668,1277.2666666666667,null,1328.1986666666667,1085.6766666666667]
[81,null,{"$f":"C1192*$K$2","v":1328.1986666666667},1085.6766666666667,0,null,null,null,1562.5866666666668,1277.2666666666667,null,1328.1986666666667,1085.6766666666667]
[82,null,{"$f":"C1193*$K$2","v":1328.1986666666667},1085.6766666666667,0,null,null,null,1562.5866666666668,1277.2666666666667,null,1328.1986666666667,1085.6766666666667]
[83,null,{"$f":"C1194*$K$2","v":1328.1986666666667},1085.6766666666667,0,null,null,null,{"$f":"I1194*$K$2","v":1562.5866666666668},1277.2666666666667,null,{"$f":"I1268*0.85","v":1328.1986666666667},{"$f":"J1268*0.85","v":1085.6766666666667}]
[84,"o más",{"$f":"C1195*$K$2","v":1328.1986666666667},1085.6766666666667,0,0,0,null,1562.5866666666668,1277.2666666666667,null,1328.1986666666667,1085.6766666666667]
[1,"Hijo",{"$f":"C1196*$K$2","v":68.226666666666674},53.550000000000004,0,0,0,null,80.266666666666666,63,null,{"$f":"I1270*0.85","v":68.226666666666659},{"$f":"J1270*0.85","v":53.55}]
[2,"Hijos",{"$f":"C1197*$K$2","v":115.82666666666667},90.995333333333335,0,0,0,null,136.26666666666668,107.05333333333334,null,{"$f":"I1271*0.85","v":115.82666666666667},{"$f":"J1271*0.85","v":90.995333333333335}]
[3,"Hijos o más",{"$f":"C1198*$K$2","v":163.58533333333335},128.36133333333333,0,0,0,null,192.45333333333335,151.01333333333335,null,163.58533333333335,128.36133333333333]
[]
["BUPA GLOBAL MM"]
["TARIFAS TRIMESTRALES"]
["EDAD"]
[" "," ",10000,20000]
[18,null,{"$f":"C1129*$K$3","v":432.86250000000001},{"$f":"D1129*$K$3","v":335.53749999999997},0,0,0,null,{"$f":"I1129*$K$3","v":509.25},{"$f":"J1129*$K$3","v":394.75},null,{"$f":"I1278*0.85","v":432.86250000000001},{"$f":"J1278*0.85","v":335.53749999999997}]
[19,null,{"$f":"C1130*$K$3","v":432.86250000000001},335.53749999999997,0,0,0,null,{"$f":"I1130*$K$3","v":509.25},394.75,null,{"$f":"I1279*0.85","v":432.86250000000001},{"$f":"J1279*0.85","v":335.53749999999997}]
[20,null,{"$f":"C1131*$K$3","v":432.86250000000001},335.53749999999997,0,0,0,null,509.25,394.75,null,432.86250000000001,335.53749999999997]
[21,null,{"$f":"C1132*$K$3","v":432.86250000000001},335.53749999999997,0,0,0,null,509.25,394.75,null,432.86250000000001,335.53749999999997]
[22,null,{"$f":"C1133*$K$3","v":432.86250000000001},335.53749999999997,0,0,0,null,509.25,394.75,null,432.86250000000001,335.53749999999997]
[23,null,{"$f":"C1134*$K$3","v":432.86250000000001},335.53749999999997,0,0,0,null,509.25,394.75,null,432.86250000000001,335.53749999999997]
[24,null,{"$f":"C1135*$K$3","v":432.86250000000001},335.53749999999997,0,0,0,null,509.25,394.75,null,432.86250000000001,335.53749999999997]
[25,null,{"$f":"C1136*$K$3","v":463.25},356.15,0,0,0,null,545,419,null,463.25,356.15]
[26,null,{"$f":"C1137*$K$3","v":463.25},356.15,0,0,0,null,545,419,null,463.25,356.15]
[27,null,{"$f":"C1138*$K$3","v":463.25},356.15,0,0,0,null,545,419,null,463.25,356.15]
[28,null,{"$f":"C1139*$K$3","v":463.25},356.15,0,0,0,null,545,419,null,463.25,356.15]
[29,null,{"$f":"C1140*$K$3","v":463.25},356.15,0,0,0,null,545,419,null,463.25,356.15]
[30,null,{"$f":"C1141*$K$3","v":515.94999999999993},393.33749999999998,0,0,0,null,607,462.75,null,515.94999999999993,393.33749999999998]
[31,null,{"$f":"C1142*$K$3","v":515.94999999999993},393.33749999999998,0,0,0,null,607,462.75,null,515.94999999999993,393.33749999999998]
[32,null,{"$f":"C1143*$K$3","v":515.94999999999993},393.33749999999998,0,0,0,null,607,462.75,null,515.94999999999993,393.33749999999998]
[33,null,{"$f":"C1144*$K$3","v":515.94999999999993},393.33749999999998,0,0,0,null,607,462.75,null,515.94999999999993,393.33749999999998]
[34,null,{"$f":"C1145*$K$3","v":515.94999999999993},393.33749999999998,0,0,0,null,607,462.75,null,515.94999999999993,393.33749999999998]
[35,null,{"$f":"C1146*$K$3","v":576.9375},438.17500000000001,0,0,0,null,678.75,515.5,null,576.9375,438.17500000000001]
[36,null,{"$f":"C1147*$K$3","v":576.9375},438.17500000000001,0,0,0,null,678.75,515.5,null,576.9375,438.17500000000001]
[37,null,{"$f":"C1148*$K$3","v":576.9375},438.17500000000001,0,0,0,null,678.75,515.5,null,576.9375,438.17500000000001]
[38,null,{"$f":"C1149*$K$3","v":576.9375},438.17500000000001,0,0,0,null,678.75,515.5,null,576.9375,438.17500000000001]
[39,null,{"$f":"C1150*$K$3","v":576.9375},438.17500000000001,0,0,0,null,678.75,515.5,null,576.9375,438.17500000000001]
[40,null,{"$f":"C1151*$K$3","v":646.21249999999998},490.45,0,0,0,null,760.25,577,null,646.21249999999998,490.45]
[41,null,{"$f":"C1152*$K$3","v":646.21249999999998},490.45,0,0,0,null,760.25,577,null,646.21249999999998,490.45]
[42,null,{"$f":"C1153*$K$3","v":646.21249999999998},490.45,0,0,0,null,760.25,577,null,646.21249999999998,490.45]
[43,null,{"$f":"C1154*$K$3","v":646.21249999999998},490.45,0,0,0,null,760.25,577,null,646.21249999999998,490.45]
[44,null,{"$f":"C1155*$K$3","v":646.21249999999998},490.45,0,0,0,null,760.25,577,null,646.21249999999998,490.45]
[45,null,{"$f":"C1156*$K$3","v":723.77499999999998},550.16250000000002,0,0,0,null,851.5,647.25,null,723.77499999999998,550.16250000000002]
[46,null,{"$f":"C1157*$K$3","v":723.77499999999998},550.16250000000002,0,0,0,null,851.5,647.25,null,723.77499999999998,550.16250000000002]
[47,null,{"$f":"C1158*$K$3","v":723.77499999999998},550.16250000000002,0,0,0,null,851.5,647.25,null,723.77499999999998,550.16250000000002]
[48,null,{"$f":"C1159*$K$3","v":723.77499999999998},550.16250000000002,0,0,0,null,851.5,647.25,null,723.77499999999998,550.16250000000002]
[49,null,{"$f":"C1160*$K$3","v":723.77499999999998},550.16250000000002,0,0,0,null,851.5,647.25,null,723.77499999999998,550.16250000000002]
[50,null,{"$f":"C1161*$K$3","v":810.6875},617.3125,0,0,0,null,953.75,726.25,null,810.6875,617.3125]
[51,null,{"$f":"C1162*$K$3","v":810.6875},617.3125,0,0,0,null,953.75,726.25,null,810.6875,617.3125]
[52,null,{"$f":"C1163*$K$3","v":810.6875},617.3125,0,0,0,null,953.75,726.25,null,810.6875,617.3125]
[53,null,{"$f":"C1164*$K$3","v":810.6875},617.3125,0,0,0,null,953.75,726.25,null,810.6875,617.3125]
[54,null,{"$f":"C1165*$K$3","v":810.6875},617.3125,0,0,0,null,953.75,726.25,null,810.6875,617.3125]
[55,null,{"$f":"C1166*$K$3","v":906.1},692.96249999999998,0,0,0,null,1066,815.25,null,906.1,692.96249999999998]
[56,null,{"$f":"C1167*$K$3","v":906.1},692.96249999999998,0,0,0,null,1066,815.25,null,906.1,692.96249999999998]
[57,null,{"$f":"C1168*$K$3","v":906.1},692.96249999999998,0,0,0,null,1066,815.25,null,906.1,692.96249999999998]
[58,null,{"$f":"C1169*$K$3","v":906.1},692.96249999999998,0,0,0,null,1066,815.25,null,906.1,692.96249999999998]
[59,null,{"$f":"C1170*$K$3","v":906.1},692.96249999999998,0,0,0,null,1066,815.25,null,906.1,692.96249999999998]
[60,null,{"$f":"C1171*$K$3","v":969.21249999999998},743.32499999999993,0,0,0,null,1140.25,874.5,null,969.21249999999998,743.32499999999993]
[61,null,{"$f":"C1172*$K$3","v":1079.7124999999999},832.57499999999993,0,0,0,null,1270.25,979.5,null,1079.7124999999999,832.57499999999993]
[62,null,{"$f":"C1173*$K$3","v":1199.1375},929.26249999999993,0,0,0,null,1410.75,1093.25,null,1199.1375,929.26249999999993]
[63,null,{"$f":"C1174*$K$3","v":1327.2749999999999},1033.5999999999999,0,0,0,null,1561.5,1216,null,1327.2749999999999,1033.5999999999999]
[64,null,{"$f":"C1175*$K$3","v":1464.3374999999999},1146.4375,0,0,0,null,1722.75,1348.75,null,1464.3374999999999,1146.4375]
[65,null,{"$f":"C1176*$K$3","v":1610.325},1266.7124999999999,0,0,0,null,1894.5,1490.25,null,1610.325,1266.7124999999999]
[66,null,{"$f":"C1177*$K$3","v":1765.2375},1395.4875,0,0,0,null,2076.75,1641.75,null,1765.2375,1395.4875]
[67,null,{"$f":"C1178*$K$3","v":1929.075},1531.7,0,0,0,null,2269.5,1802,null,1929.075,1531.7]
[68,null,{"$f":"C1179*$K$3","v":2101.625},1676.2,0,0,0,null,2472.5,1972,null,2101.625,1676.2]
[69,null,{"$f":"C1180*$K$3","v":2282.6749999999997},1828.1375,0,0,0,null,2685.5,2150.75,null,2282.6749999999997,1828.1375]
[70,null,{"$f":"C1181*$K$3","v":2472.65},1988.1499999999999,0,0,0,null,2909,2339,null,2472.65,1988.1499999999999]
[71,null,{"$f":"C1182*$K$3","v":2672.4},2156.2374999999997,0,0,0,null,3144,2536.75,null,2672.4,2156.2374999999997]
[72,null,{"$f":"C1183*$K$3","v":2880.4375},2332.4,0,0,0,null,3388.75,2744,null,2880.4375,2332.4]
[73,null,{"$f":"C1184*$K$3","v":3097.4},2516.2125000000001,0,0,0,null,3644,2960.25,null,3097.4,2516.2125000000001]
[74,null,{"$f":"C1185*$K$3","v":3323.0749999999998},2708.1,0,0,0,null,3909.5,3186,null,3323.0749999999998,2708.1]
[75,null,{"$f":"C1186*$K$3","v":3557.6749999999997},2908.0625,0,0,0,null,4185.5,3421.25,null,3557.6749999999997,2908.0625]
[76,null,{"$f":"C1187*$K$3","v":3557.6749999999997},2908.0625,0,0,0,null,4185.5,3421.25,null,3557.6749999999997,2908.0625]
[77,null,{"$f":"C1188*$K$3","v":3557.6749999999997},2908.0625,0,0,0,null,4185.5,3421.25,null,3557.6749999999997,2908.0625]
[78,null,{"$f":"C1189*$K$3","v":3557.6749999999997},2908.0625,0,0,0,null,4185.5,3421.25,null,3557.6749999999997,2908.0625]
[79,null,{"$f":"C1190*$K$3","v":3557.6749999999997},2908.0625,0,0,0,null,4185.5,3421.25,null,3557.6749999999997,2908.0625]
[80,null,{"$f":"C1191*$K$3","v":3557.6749999999997},2908.0625,0,0,0,null,4185.5,3421.25,null,3557.6749999999997,2908.0625]
[81,null,{"$f":"C1192*$K$3","v":3557.6749999999997},2908.0625,0,0,0,null,4185.5,3421.25,null,3557.6749999999997,2908.0625]
[82,null,{"$f":"C1193*$K$3","v":3557.6749999999997},2908.0625,0,0,0,null,4185.5,3421.25,null,3557.6749999999997,2908.0625]
[83,null,{"$f":"C1194*$K$3","v":3557.6749999999997},2908.0625,0,0,0,null,{"$f":"I1194*$K$3","v":4185.5},3421.25,null,{"$f":"I1343*0.85","v":3557.6749999999997},{"$f":"J1343*0.85","v":2908.0625}]
[84,"o más",{"$f":"C1195*$K$3","v":3557.6749999999997},2908.0625,0,0,0,null,4185.5,3421.25,null,3557.6749999999997,2908.0625]
[1,"Hijo",{"$f":"C1196*$K$3","v":182.75},143.4375,0,0,0,null,215,168.75,null,{"$f":"I1345*0.85","v":182.75},{"$f":"J1345*0.85","v":143.4375}]
[2,"Hijos",{"$f":"C1197*$K$3","v":310.25},243.73749999999998,0,0,0,null,365,286.75,null,{"$f":"I1346*0.85","v":310.25},{"$f":"J1346*0.85","v":243.73749999999998}]
[3,"Hijos o más",{"$f":"C1198*$K$3","v":438.17500000000001},343.82499999999999,0,0,0,null,515.5,404.5,null,438.17500000000001,343.82499999999999]
[]
["BUPA GLOBAL MM"]
["TARIFAS SEMESTRAL"]
["EDAD"]
[" "," ",10000,20000]
[18,null,{"$f":"C1129*$K$4","v":865.72500000000002},{"$f":"D1129*$K$4","v":671.07499999999993},0,0,0,null,{"$f":"I1129*$K$4","v":1018.5},{"$f":"J1129*$K$4","v":789.5},null,{"$f":"I1353*0.85","v":865.72500000000002},{"$f":"J1353*0.85","v":671.07499999999993}]
[19,null,{"$f":"C1130*$K$4","v":865.72500000000002},671.07499999999993,0,0,0,null,{"$f":"I1130*$K$4","v":1018.5},789.5,null,{"$f":"I1354*0.85","v":865.72500000000002},{"$f":"J1354*0.85","v":671.07499999999993}]
[20,null,{"$f":"C1131*$K$4","v":865.72500000000002},671.07499999999993,0,0,0,null,1018.5,789.5,null,865.72500000000002,671.07499999999993]
[21,null,{"$f":"C1132*$K$4","v":865.72500000000002},671.07499999999993,0,0,0,null,1018.5,789.5,null,865.72500000000002,671.07499999999993]
[22,null,{"$f":"C1133*$K$4","v":865.72500000000002},671.07499999999993,0,0,0,null,1018.5,789.5,null,865.72500000000002,671.07499999999993]
[23,null,{"$f":"C1134*$K$4","v":865.72500000000002},671.07499999999993,0,0,0,null,1018.5,789.5,null,865.72500000000002,671.07499999999993]
[24,null,{"$f":"C1135*$K$4","v":865.72500000000002},671.07499999999993,0,0,0,null,1018.5,789.5,null,865.72500000000002,671.07499999999993]
[25,null,{"$f":"C1136*$K$4","v":926.5},712.3,0,0,0,null,1090,838,null,926.5,712.3]
[26,null,{"$f":"C1137*$K$4","v":926.5},712.3,0,0,0,null,1090,838,null,926.5,712.3]
[27,null,{"$f":"C1138*$K$4","v":926.5},712.3,0,0,0,null,1090,838,null,926.5,712.3]
[28,null,{"$f":"C1139*$K$4","v":926.5},712.3,0,0,0,null,1090,838,null,926.5,712.3]
[29,null,{"$f":"C1140*$K$4","v":926.5},712.3,0,0,0,null,1090,838,null,926.5,712.3]
[30,null,{"$f":"C1141*$K$4","v":1031.8999999999999},786.67499999999995,0,0,0,null,1214,925.5,null,1031.8999999999999,786.67499999999995]
[31,null,{"$f":"C1142*$K$4","v":1031.8999999999999},786.67499999999995,0,0,0,null,1214,925.5,null,1031.8999999999999,786.67499999999995]
[32,null,{"$f":"C1143*$K$4","v":1031.8999999999999},786.67499999999995,0,0,0,null,1214,925.5,null,1031.8999999999999,786.67499999999995]
[33,null,{"$f":"C1144*$K$4","v":1031.8999999999999},786.67499999999995,0,0,0,null,1214,925.5,null,1031.8999999999999,786.67499999999995]
[34,null,{"$f":"C1145*$K$4","v":1031.8999999999999},786.67499999999995,0,0,0,null,1214,925.5,null,1031.8999999999999,786.67499999999995]
[35,null,{"$f":"C1146*$K$4","v":1153.875},876.35,0,0,0,null,1357.5,1031,null,1153.875,876.35]
[36,null,{"$f":"C1147*$K$4","v":1153.875},876.35,0,0,0,null,1357.5,1031,null,1153.875,876.35]
[37,null,{"$f":"C1148*$K$4","v":1153.875},876.35,0,0,0,null,1357.5,1031,null,1153.875,876.35]
[38,null,{"$f":"C1149*$K$4","v":1153.875},876.35,0,0,0,null,1357.5,1031,null,1153.875,876.35]
[39,null,{"$f":"C1150*$K$4","v":1153.875},876.35,0,0,0,null,1357.5,1031,null,1153.875,876.35]
[40,null,{"$f":"C1151*$K$4","v":1292.425},980.9,0,0,0,null,1520.5,1154,null,1292.425,980.9]
[41,null,{"$f":"C1152*$K$4","v":1292.425},980.9,0,0,0,null,1520.5,1154,null,1292.425,980.9]
[42,null,{"$f":"C1153*$K$4","v":1292.425},980.9,0,0,0,null,1520.5,1154,null,1292.425,980.9]
[43,null,{"$f":"C1154*$K$4","v":1292.425},980.9,0,0,0,null,1520.5,1154,null,1292.425,980.9]
[44,null,{"$f":"C1155*$K$4","v":1292.425},980.9,0,0,0,null,1520.5,1154,null,1292.425,980.9]
[45,null,{"$f":"C1156*$K$4","v":1447.55},1100.325,0,0,0,null,1703,1294.5,null,1447.55,1100.325]
[46,null,{"$f":"C1157*$K$4","v":1447.55},1100.325,0,0,0,null,1703,1294.5,null,1447.55,1100.325]
[47,null,{"$f":"C1158*$K$4","v":1447.55},1100.325,0,0,0,null,1703,1294.5,null,1447.55,1100.325]
[48,null,{"$f":"C1159*$K$4","v":1447.55},1100.325,0,0,0,null,1703,1294.5,null,1447.55,1100.325]
[49,null,{"$f":"C1160*$K$4","v":1447.55},1100.325,0,0,0,null,1703,1294.5,null,1447.55,1100.325]
[50,null,{"$f":"C1161*$K$4","v":1621.375},1234.625,0,0,0,null,1907.5,1452.5,null,1621.375,1234.625]
[51,null,{"$f":"C1162*$K$4","v":1621.375},1234.625,0,0,0,null,1907.5,1452.5,null,1621.375,1234.625]
[52,null,{"$f":"C1163*$K$4","v":1621.375},1234.625,0,0,0,null,1907.5,1452.5,null,1621.375,1234.625]
[53,null,{"$f":"C1164*$K$4","v":1621.375},1234.625,0,0,0,null,1907.5,1452.5,null,1621.375,1234.625]
[54,null,{"$f":"C1165*$K$4","v":1621.375},1234.625,0,0,0,null,1907.5,1452.5,null,1621.375,1234.625]
[55,null,{"$f":"C1166*$K$4","v":1812.2},1385.925,0,0,0,null,2132,1630.5,null,1812.2,1385.925]
[56,null,{"$f":"C1167*$K$4","v":1812.2},1385.925,0,0,0,null,2132,1630.5,null,1812.2,1385.925]
[57,null,{"$f":"C1168*$K$4","v":1812.2},1385.925,0,0,0,null,2132,1630.5,null,1812.2,1385.925]
[58,null,{"$f":"C1169*$K$4","v":1812.2},1385.925,0,0,0,null,2132,1630.5,null,1812.2,1385.925]
[59,null,{"$f":"C1170*$K$4","v":1812.2},1385.925,0,0,0,null,2132,1630.5,null,1812.2,1385.925]
[60,null,{"$f":"C1171*$K$4","v":1938.425},1486.6499999999999,0,0,0,null,2280.5,1749,null,1938.425,1486.6499999999999]
[61,null,{"$f":"C1172*$K$4","v":2159.4249999999997},1665.1499999999999,0,0,0,null,2540.5,1959,null,2159.4249999999997,1665.1499999999999]
[62,null,{"$f":"C1173*$K$4","v":2398.2750000000001},1858.5249999999999,0,0,0,null,2821.5,2186.5,null,2398.2750000000001,1858.5249999999999]
[63,null,{"$f":"C1174*$K$4","v":2654.5499999999997},2067.1999999999998,0,0,0,null,3123,2432,null,2654.5499999999997,2067.1999999999998]
[64,null,{"$f":"C1175*$K$4","v":2928.6749999999997},2292.875,0,0,0,null,3445.5,2697.5,null,2928.6749999999997,2292.875]
[65,null,{"$f":"C1176*$K$4","v":3220.65},2533.4249999999997,0,0,0,null,3789,2980.5,null,3220.65,2533.4249999999997]
[66,null,{"$f":"C1177*$K$4","v":3530.4749999999999},2790.9749999999999,0,0,0,null,4153.5,3283.5,null,3530.4749999999999,2790.9749999999999]
[67,null,{"$f":"C1178*$K$4","v":3858.15},3063.4,0,0,0,null,4539,3604,null,3858.15,3063.4]
[68,null,{"$f":"C1179*$K$4","v":4203.25},3352.4,0,0,0,null,4945,3944,null,4203.25,3352.4]
[69,null,{"$f":"C1180*$K$4","v":4565.3499999999995},3656.2750000000001,0,0,0,null,5371,4301.5,null,4565.3499999999995,3656.2750000000001]
[70,null,{"$f":"C1181*$K$4","v":4945.3},3976.2999999999997,0,0,0,null,5818,4678,null,4945.3,3976.2999999999997]
[71,null,{"$f":"C1182*$K$4","v":5344.8},4312.4749999999995,0,0,0,null,6288,5073.5,null,5344.8,4312.4749999999995]
[72,null,{"$f":"C1183*$K$4","v":5760.875},4664.8,0,0,0,null,6777.5,5488,null,5760.875,4664.8]
[73,null,{"$f":"C1184*$K$4","v":6194.8},5032.4250000000002,0,0,0,null,7288,5920.5,null,6194.8,5032.4250000000002]
[74,null,{"$f":"C1185*$K$4","v":6646.15},5416.2,0,0,0,null,7819,6372,null,6646.15,5416.2]
[75,null,{"$f":"C1186*$K$4","v":7115.3499999999995},5816.125,0,0,0,null,8371,6842.5,null,7115.3499999999995,5816.125]
[76,null,{"$f":"C1187*$K$4","v":7115.3499999999995},5816.125,0,0,0,null,8371,6842.5,null,7115.3499999999995,5816.125]
[77,null,{"$f":"C1188*$K$4","v":7115.3499999999995},5816.125,0,0,0,null,8371,6842.5,null,7115.3499999999995,5816.125]
[78,null,{"$f":"C1189*$K$4","v":7115.3499999999995},5816.125,0,0,0,null,8371,6842.5,null,7115.3499999999995,5816.125]
[79,null,{"$f":"C1190*$K$4","v":7115.3499999999995},5816.125,0,0,0,null,8371,6842.5,null,7115.3499999999995,5816.125]
[80,null,{"$f":"C1191*$K$4","v":7115.3499999999995},5816.125,0,0,0,null,8371,6842.5,null,7115.3499999999995,5816.125]
[81,null,{"$f":"C1192*$K$4","v":7115.3499999999995},5816.125,0,0,0,null,8371,6842.5,null,7115.3499999999995,5816.125]
[82,null,{"$f":"C1193*$K$4","v":7115.3499999999995},5816.125,0,0,0,null,8371,6842.5,null,7115.3499999999995,5816.125]
[83,null,{"$f":"C1194*$K$4","v":7115.3499999999995},5816.125,0,0,0,null,{"$f":"I1194*$K$4","v":8371},6842.5,null,{"$f":"I1418*0.85","v":7115.3499999999995},{"$f":"J1418*0.85","v":5816.125}]
[84,"o más",{"$f":"C1195*$K$4","v":7115.3499999999995},5816.125,0,0,0,null,8371,6842.5,null,7115.3499999999995,5816.125]
[1,"Hijo",{"$f":"C1196*$K$4","v":365.5},286.875,0,0,0,null,430,337.5,null,{"$f":"I1420*0.85","v":365.5},{"$f":"J1420*0.85","v":286.875}]
[2,"Hijos",{"$f":"C1197*$K$4","v":620.5},487.47499999999997,0,0,0,null,730,573.5,null,{"$f":"I1421*0.85","v":620.5},{"$f":"J1421*0.85","v":487.47499999999997}]
[3,"Hijos o más",{"$f":"C1198*$K$4","v":876.35},687.65,0,0,0,null,1031,809,null,876.35,687.65]
[]
["BUPA GLOBAL ULTIMATE"]
["TARIFAS SEMESTRALES"]
["EDAD"]
[" "," ",0,1000,2000]
[18,null,{"$f":"C905*$K$4","v":8435.5},{"$f":"D905*$K$4","v":5442.5},0,0,0]
[19,null,{"$f":"C906*$K$4","v":8435.5},5442.5,0,154.14643750000002,0]
[20,null,8435.5,5442.5,0,154.14643750000002,0]
[21,null,8435.5,5442.5,0,154.14643750000002,0]
[22,null,8435.5,5442.5,0,154.14643750000002,0]
[23,null,8435.5,5442.5,0,154.14643750000002,0]
[24,null,8435.5,5442.5,0,154.14643750000002,0]
[25,null,9043,5834.5,0,154.14643750000002,0]
[26,null,9043,5834.5,0,162.95296875000003,0]
[27,null,9043,5834.5,0,162.95296875000003,0]
[28,null,9043,5834.5,0,162.95296875000003,0]
[29,null,9043,5834.5,0,162.95296875000003,0]
[30,null,10092,6512,0,162.95296875000003,0]
[31,null,10092,6512,0,178.89471875000001,0]
[32,null,10092,6512,0,178.89471875000001,0]
[33,null,10092,6512,0,178.89471875000001,0]
[34,null,10092,6512,0,178.89471875000001,0]
[35,null,11288.5,7283,0,178.89471875000001,0]
[36,null,11288.5,7283,0,197.72912500000001,0]
[37,null,11288.5,7283,0,197.72912500000001,0]
[38,null,11288.5,7283,0,197.72912500000001,0]
[39,null,11288.5,7283,0,197.72912500000001,0]
[40,null,12653.5,8164.5,0,197.72912500000001,0]
[41,null,12653.5,8164.5,0,219.84187500000004,0]
[42,null,12653.5,8164.5,0,219.84187500000004,0]
[43,null,12653.5,8164.5,0,219.84187500000004,0]
[44,null,12653.5,8164.5,0,219.84187500000004,0]
[45,null,14161,9137,0,219.84187500000004,0]
[46,null,14161,9137,0,244.59015625000004,0]
[47,null,14161,9137,0,244.59015625000004,0]
[48,null,14161,9137,0,244.59015625000004,0]
[49,null,14161,9137,0,244.59015625000004,0]
[50,null,15847.5,10224.5,0,244.59015625000004,0]
[51,null,15847.5,10224.5,0,272.93818750000003,0]
[52,null,15847.5,10224.5,0,272.93818750000003,0]
[53,null,15847.5,10224.5,0,272.93818750000003,0]
[54,null,15847.5,10224.5,0,272.93818750000003,0]
[55,null,17698,11419.5,0,272.93818750000003,0]
[56,null,17698,11419.5,0,304.30743750000011,0]
[57,null,17698,11419.5,0,304.30743750000011,0]
[58,null,17698,11419.5,0,304.30743750000011,0]
[59,null,17698,11419.5,0,304.30743750000011,0]
[60,null,18926.5,12211.5,0,304.30743750000011,0]
[61,null,21059,13587.5,0,325.19884375000004,0]
[62,null,23359.5,15071.5,0,362.03200000000004,0]
[63,null,25828,16664,0,402.07921875000005,0]
[64,null,28463.5,18363.5,0,445.14765625000013,0]
[65,null,31266.5,20172.5,0,491.55871875000008,0]
[66,null,34236.5,22087.5,0,541.18384375000005,0]
[67,null,37374,24113,0,593.95875000000012,0]
[68,null,40678,26244.5,0,650.07628125000008,0]
[69,null,44149.5,28484,0,709.21503125000004,0]
[70,null,47789,30832.5,0,771.63212500000009,0]
[71,null,51596,33288.5,0,837.19900000000007,0]
[72,null,55569.5,35851.5,0,906.10850000000016,0]
[73,null,59712,38523.5,0,978.10350000000017,0]
[74,null,64018.5,41302.5,0,1053.3125625000002,0]
[75,null,68494.5,44191.5,0,1131.7999687500003,0]
[76,null,68494.5,44191.5,0,1213.5014375000001,0]
[77,null,68494.5,44191.5,0,1213.5014375000001,0]
[78,null,68494.5,44191.5,0,1213.5014375000001,0]
[79,null,68494.5,44191.5,0,1213.5014375000001,0]
[80,null,68494.5,44191.5,0,1213.5014375000001,0]
[81,null,68494.5,44191.5,0,1213.5014375000001,0]
[82,null,68494.5,44191.5,0,1213.5014375000001,0]
[83,null,{"$f":"C970*$K$4","v":68494.5},44191.5,0,1213.5014375000001,0]
[84,"o más",68494.5,44191.5,0,1213.5014375000001,0]
[1,"Hijo",3548,2289.5,0,1213.5014375000001,0]
[2,"Hijos",6031.5,3892,0,65.952562500000013,0]
[3,"Hijos o más",8514,5494.5,0,112.1065,0]