{"text_format":"1","workbook":"xlsx","n_sheets":11,"sheets":["INGRESO DE DATOS","Essential Care","Essential 1000","Essential 500","Essential 100","Essential 50","Resumen tarifas","Tablas","Tablas Guayaquil","Tablas Resto de Ecuador","Tablas-Care"],"not_rendered":{"charts":0,"images":11,"macros":1,"external_links":0,"defined_names":6,"comments":1,"pivot_tables":0},"unopened":[],"bounds":{"document_bytes":16777216,"sheet_cells":100000,"rows_first":2000,"rows_last":500,"rows_between":2000,"halvings":0,"cell_chars":16384,"cell_head_chars":4096},"cells_cut":0,"cells_raw":0,"read":"whole","date_system":"1900"}

{"sheet":"INGRESO DE DATOS","index":0,"n_rows":29,"n_cols":12,"rows_kept":29,"cut":false,"hidden":false,"merged":[[25,3,25,9],[7,0,7,9],[14,3,14,9],[8,0,8,9],[10,0,10,9]]}
[]
[null,null,null,null,null,null,null,null," "," "," "]
[]
[]
[]
[null,null,null,null,null,null,null,null," "," "," "," "]
[]
[]
["COTIZACION DE SEGURO MEDICO:  Para nuevos negocios emitidos a partir del 1 de enero de 2022\t\t\t\t\t\t\t\t"]
[]
["BUPA ESSENTIAL OPTIONS"]
[]
["1. INGRESE LOS DATOS DEL PROPUESTO ASEGURADO :"]
[]
[null,null,"Nombre del Asegurado principal:","NOMBRE EL AGENTE"]
[]
[null,null,null,null,null,"Número de adultos en la póliza:",1,null,"Número de hijos en la póliza:",0]
[]
[null,null,null,null,null," Edad del titular:",68,null,"Edad de cónyuge:",46]
[]
[null,null,null,null,null,"Zona de cotización:","Guayaquil/Santa Elena"]
[]
[]
["2. INGRESE EL NOMBRE DE LA AGENCIA ASESORA :"]
[]
[null,"Nombre de la Agencia :",null,"NOMBRE DE LA AGENCIA"]
[]
[]
["3. ESCOJA EL PRODUCTO PARA VISUALIZAR LA COTIZACION RESPECTIVA :"]

{"sheet":"Essential Care","index":1,"n_rows":67,"n_cols":13,"rows_kept":67,"cut":false,"hidden":false,"merged":[[69,0,69,3],[70,0,70,3],[45,5,45,12],[30,5,30,12],[9,7,9,12],[13,0,13,1],[13,2,13,3],[13,7,13,12],[11,0,11,3],[11,7,11,12],[12,0,12,1],[12,2,12,3],[14,0,14,1],[14,2,14,3],[15,0,15,1],[15,2,15,3],[16,0,16,1],[16,2,16,3],[16,5,16,6],[17,0,18,1],[17,2,18,3],[17,5,17,6],[21,0,21,1],[21,2,21,3],[29,0,29,1],[29,2,29,3],[22,0,22,1],[22,2,22,3],[23,0,23,1],[23,2,23,3],[24,0,25,1],[24,2,24,3],[25,2,25,3],[26,0,27,1],[26,2,26,3],[27,2,27,3],[28,0,28,1],[28,2,28,3],[36,0,36,1],[36,2,36,3],[30,0,30,1],[30,2,30,3],[31,0,31,1],[31,2,31,3],[32,0,32,1],[32,2,32,3],[33,0,33,1],[33,2,33,3],[34,0,35,1],[34,2,34,3],[35,2,35,3],[38,0,38,1],[38,2,38,3],[39,0,39,1],[39,2,39,3],[40,0,40,1],[40,2,40,3],[53,0,53,1],[53,2,53,3],[41,0,41,1],[41,2,41,3],[42,0,42,1],[42,2,42,3],[43,0,43,1],[43,2,43,3],[44,0,44,1],[44,2,44,3],[45,0,51,1],[45,2,49,3],[50,2,51,3],[54,0,54,1],[54,2,54,3],[55,0,55,1],[55,2,55,3],[56,0,56,1],[56,2,56,3],[57,0,57,1],[57,2,57,3],[58,0,58,1],[58,2,58,3],[59,0,59,1],[59,2,59,3],[59,5,59,12],[60,5,62,12],[60,0,60,1],[60,2,60,3],[62,0,63,1],[62,2,63,3],[61,0,61,1],[61,2,61,3]]}
[]
[null,null,null,null,null,null,null,null,null," "," "," "]
[]
[]
[]
[null,null,null,null,null,null,null,null,null," "," "," "," "]
[]
[]
[]
[null,null,null,null,null,null,null,"Cotización de Seguro Médico Internacional: BUPA ESSENTIAL CARE"]
[]
["RESUMEN DE BENEFICIOS",null,null,null,null,null,"Nombre del asegurado :",{"$f":"+'INGRESO DE DATOS'!$D$15","v":"NOMBRE EL AGENTE"}]
[]
[null,null,null,null,null,null,"Broker / Agente :",{"$f":"+'INGRESO DE DATOS'!$D$26","v":"NOMBRE DE LA AGENCIA"}]
[]
[null,null,null,null,null,null,null,null,"Número de adultos en la póliza:",{"$f":"+'INGRESO DE DATOS'!$G$17","v":1},null,"Edad de Titular :",{"$f":"+'INGRESO DE DATOS'!$G$19","v":68}]
[]
[null,null,null,null,null,null,null,null,"Número hijos (menos 24 años):",{"$f":"+'INGRESO DE DATOS'!$J$17","v":0},null,"Edad de Cónyuge:",{"$f":"+'INGRESO DE DATOS'!$J$19","v":46}]
[null,null,null,null,null,null,null,null,null," "," "," "]
[null,null,null,null,null,null,null,null,"Fecha cotización:",{"$f":"+TODAY()","v":"2022-01-03"},null,"Zona de cotización:",{"$f":"'INGRESO DE DATOS'!G21","v":"Guayaquil/Santa Elena"}]
[]
[null,null,null,null,null,null,null,null,false,null,"COMPLICACIONES DE MATERNIDAD"]
[]
[null,null,null,null,null,null,null,null,false,null,"TRASPLANTE DE ORGANOS"]
[]
[null,null,null,null,null,null," ","Solo Renovación"]
[null,null,null,null,null,"Deducibles",null,"PLAN 1","PLAN 2","PLAN 3","PLAN 4","PLAN 5","PLAN 6"]
[null,null,null,null,null,"Deducible en Ecuador",null,0,1000,2000,5000,10000,20000]
[null,null,null,null,null,"Deducible fuera de Ecuador",null,1000,2000,3000,5000,10000,20000]
[]
[null,null,null,null,null,"Tarifas Anuales"]
[null,null,null,null,null,"Prima de Titular :",null,{"$f":"VLOOKUP($M$16,'Tablas-Care'!$A$475:$H$501,3,TRUE)+75","v":21857},{"$f":"VLOOKUP($M$16,'Tablas-Care'!$A$475:$H$501,4,TRUE)+75","v":17569},{"$f":"VLOOKUP($M$16,'Tablas-Care'!$A$475:$H$501,5,TRUE)+75","v":16166},{"$f":"VLOOKUP($M$16,'Tablas-Care'!$A$475:$H$501,6,TRUE)+75","v":10979},{"$f":"VLOOKUP($M$16,'Tablas-Care'!$A$475:$H$501,7,TRUE)+75","v":8797},{"$f":"VLOOKUP($M$16,'Tablas-Care'!$A$475:$H$501,8,TRUE)+75","v":6578}]
[null,null,null,null,null,"Prima de Cónyuge",null,{"$f":"IF($J$16=1,0,(VLOOKUP($M$18,'Tablas-Care'!$A$475:$H$501,3,TRUE)))","v":0},{"$f":"IF($J$16=1,0,(VLOOKUP($M$18,'Tablas-Care'!$A$475:$H$501,4,TRUE)))","v":0},{"$f":"IF($J$16=1,0,(VLOOKUP($M$18,'Tablas-Care'!$A$475:$H$501,5,TRUE)))","v":0},{"$f":"IF($J$16=1,0,(VLOOKUP($M$18,'Tablas-Care'!$A$475:$H$501,6,TRUE)))","v":0},{"$f":"IF($J$16=1,0,(VLOOKUP($M$18,'Tablas-Care'!$A$475:$H$501,7,TRUE)))","v":0},{"$f":"IF($J$16=1,0,(VLOOKUP($M$18,'Tablas-Care'!$A$475:$H$501,8,TRUE)))","v":0}]
[null,null,null,null,null,"Primas Hijos :",null,{"$f":"IF($J$18=0,0,(VLOOKUP($J$18,'Tablas-Care'!$A$499:$H$501,3,TRUE)))","v":0},{"$f":"IF($J$18=0,0,(VLOOKUP($J$18,'Tablas-Care'!$A$499:$H$501,4,TRUE)))","v":0},{"$f":"IF($J$18=0,0,(VLOOKUP($J$18,'Tablas-Care'!$A$499:$H$501,5,TRUE)))","v":0},{"$f":"IF($J$18=0,0,(VLOOKUP($J$18,'Tablas-Care'!$A$499:$H$501,6,TRUE)))","v":0},{"$f":"IF($J$18=0,0,(VLOOKUP($J$18,'Tablas-Care'!$A$499:$H$501,7,TRUE)))","v":0},{"$f":"IF($J$18=0,0,(VLOOKUP($J$18,'Tablas-Care'!$A$499:$H$501,8,TRUE)))","v":0}]
[null,null,null,null,null,"Prima Rider Complic. Maternidad",null,{"$f":"+IF($I$22=FALSE,0,'Tablas-Care'!C502)","v":0},{"$f":"+IF($I$22=FALSE,0,'Tablas-Care'!D502)","v":0},{"$f":"+IF($I$22=FALSE,0,'Tablas-Care'!E502)","v":0},{"$f":"+IF($I$22=FALSE,0,'Tablas-Care'!F502)","v":0},{"$f":"+IF($I$22=FALSE,0,'Tablas-Care'!G502)","v":0},{"$f":"+IF($I$22=FALSE,0,'Tablas-Care'!H502)","v":0}]
[null,null,null,null,null,"Prima Rider Trasplante Organos",null,{"$f":"IF($I$24=FALSE,0,'Tablas-Care'!C503)","v":0},{"$f":"IF($I$24=FALSE,0,'Tablas-Care'!D503)","v":0},{"$f":"IF($I$24=FALSE,0,'Tablas-Care'!E503)","v":0},{"$f":"IF($I$24=FALSE,0,'Tablas-Care'!F503)","v":0},{"$f":"IF($I$24=FALSE,0,'Tablas-Care'!G503)","v":0},{"$f":"IF($I$24=FALSE,0,'Tablas-Care'!H503)","v":0}]
[null,null,null,null,null,"TOTAL PRIMA NETA :",null,{"$f":"SUM(H32:H36)","v":21857},17569,16166,10979,8797,6578]
[null,null,null,null,null,"Costo Administrativo Anual :",null,0,0,0,0,0,0]
[null,null,null,null,null,"Contrib. 3.5% Super. Bancos :",null,{"$f":"+H37*3.5%","v":764.99500000000012},614.91500000000008,565.81000000000006,384.26500000000004,307.89500000000004,230.23000000000002]
[null,null,null,null,null,"Contrib 0.5% Seg.Soc.Campes.:",null,{"$f":"+H37*0.5%","v":109.285},87.844999999999999,80.83,54.895000000000003,43.984999999999999,32.89]
[]
[null,null,null,null,null,"GRAN TOTAL :",null,{"$f":"SUM(H37:H41)","v":22731.279999999999},18271.760000000002,16812.640000000003,11418.16,9148.880000000001,6841.12]
[]
[]
[]
[null,null,null,null,null,"Tarifas Semestrales"]
[null,null,null,null,null,"Prima de Titular :",null,{"$f":"VLOOKUP($M$16,'Tablas-Care'!$A$508:$H$531,3,TRUE)+75","v":11619.460000000001},{"$f":"VLOOKUP($M$16,'Tablas-Care'!$A$508:$H$531,4,TRUE)+75","v":9346.82},{"$f":"VLOOKUP($M$16,'Tablas-Care'!$A$508:$H$531,5,TRUE)+75","v":8603.23},{"$f":"VLOOKUP($M$16,'Tablas-Care'!$A$508:$H$531,6,TRUE)+75","v":5854.12},{"$f":"VLOOKUP($M$16,'Tablas-Care'!$A$508:$H$531,7,TRUE)+75","v":4697.66},{"$f":"VLOOKUP($M$16,'Tablas-Care'!$A$508:$H$531,8,TRUE)+75","v":3521.59}]
[null,null,null,null,null,"Prima de Cónyuge",null,{"$f":"IF($J$16=1,0,(VLOOKUP($M$18,'Tablas-Care'!$A$508:$H$531,3,TRUE)))","v":0},{"$f":"IF($J$16=1,0,(VLOOKUP($M$18,'Tablas-Care'!$A$508:$H$531,4,TRUE)))","v":0},{"$f":"IF($J$16=1,0,(VLOOKUP($M$18,'Tablas-Care'!$A$508:$H$531,5,TRUE)))","v":0},{"$f":"IF($J$16=1,0,(VLOOKUP($M$18,'Tablas-Care'!$A$508:$H$531,6,TRUE)))","v":0},{"$f":"IF($J$16=1,0,(VLOOKUP($M$18,'Tablas-Care'!$A$508:$H$531,7,TRUE)))","v":0},{"$f":"IF($J$16=1,0,(VLOOKUP($M$18,'Tablas-Care'!$A$508:$H$531,8,TRUE)))","v":0}]
[null,null,null,null,null,"Primas Hijos :",null,{"$f":"IF($J$18=0,0,(VLOOKUP($J$18,'Tablas-Care'!$A$532:$H$534,3,TRUE)))","v":0},{"$f":"IF($J$18=0,0,(VLOOKUP($J$18,'Tablas-Care'!$A$532:$H$534,4,TRUE)))","v":0},{"$f":"IF($J$18=0,0,(VLOOKUP($J$18,'Tablas-Care'!$A$532:$H$534,5,TRUE)))","v":0},{"$f":"IF($J$18=0,0,(VLOOKUP($J$18,'Tablas-Care'!$A$532:$H$534,6,TRUE)))","v":0},{"$f":"IF($J$18=0,0,(VLOOKUP($J$18,'Tablas-Care'!$A$532:$H$534,7,TRUE)))","v":0},{"$f":"IF($J$18=0,0,(VLOOKUP($J$18,'Tablas-Care'!$A$532:$H$534,8,TRUE)))","v":0}]
[null,null,null,null,null,"Prima Rider Complic. Maternidad",null,{"$f":"+IF($I$22=FALSE,0,'Tablas-Care'!C535)","v":0},{"$f":"+IF($I$22=FALSE,0,'Tablas-Care'!D535)","v":0},{"$f":"+IF($I$22=FALSE,0,'Tablas-Care'!E535)","v":0},{"$f":"+IF($I$22=FALSE,0,'Tablas-Care'!F535)","v":0},{"$f":"+IF($I$22=FALSE,0,'Tablas-Care'!G535)","v":0},{"$f":"+IF($I$22=FALSE,0,'Tablas-Care'!H535)","v":0}]
[null,null,null,null,null,"Prima Rider Trasplante Organos",null,{"$f":"IF($I$24=FALSE,0,'Tablas-Care'!C536)","v":0},{"$f":"IF($I$24=FALSE,0,'Tablas-Care'!D536)","v":0},{"$f":"IF($I$24=FALSE,0,'Tablas-Care'!E536)","v":0},{"$f":"IF($I$24=FALSE,0,'Tablas-Care'!F536)","v":0},{"$f":"IF($I$24=FALSE,0,'Tablas-Care'!G536)","v":0},{"$f":"IF($I$24=FALSE,0,'Tablas-Care'!H536)","v":0}]
[null,null,null,null,null,"TOTAL PRIMA NETA :",null,{"$f":"SUM(H47:H51)","v":11619.460000000001},9346.82,8603.23,5854.12,4697.66,3521.59]
[null,null,null,null,null,"Costo Administrativo Anual :",null,0,0,0,0,0,0]
[null,null,null,null,null,"Contrib. 3.5% Super. Bancos :",null,{"$f":"+H52*3.5%","v":406.68110000000007},327.13870000000003,301.11304999999999,204.89420000000001,164.41810000000001,123.25565000000002]
[null,null,null,null,null,"Contrib 0.5% Seg.Soc.Campes.:",null,{"$f":"+H52*0.5%","v":58.097300000000004},46.734099999999998,43.016149999999996,29.270600000000002,23.488299999999999,17.607950000000002]
[]
[null,null,null,null,null,"GRAN TOTAL  (1ra Cuota) :",null,{"$f":"SUM(H52:H56)","v":12084.2384},9720.6927999999989,8947.359199999999,6088.2847999999994,4885.5663999999997,3662.4536000000003]
[null,null,null,null,null,"Valor 2da Cuota:",null,{"$f":"+(H52+H54+H55)*1-(78)","v":12006.2384},{"$f":"+(I52+I54+I55)*1-78","v":9642.6927999999989},{"$f":"+(J52+J54+J55)*1-78","v":8869.359199999999},{"$f":"+(K52+K54+K55)*1-78","v":6010.2847999999994},{"$f":"+(L52+L54+L55)*1-78","v":4807.5663999999997},{"$f":"+(M52+M54+M55)*1-78","v":3584.4536000000003}]
[]
[null,null,null,null,null,"Tarifas en US $ -  Válidas desde el 1ro. de enero de 2022"]
[null,null,null,null,null,"Este presupuesto solamente tiene carácter informativo y en ningún momento expresa compromiso legal para suministrarle cobertura de seguro. La emisión de una póliza de seguro Bupa está sujeta a todas las evaluaciones de riesgo por parte de Bupa y a la recepción de todos los pagos de prima requeridos."]
[]
[]
[]
[]
[null," "]
[null," "]

{"sheet":"Essential 1000","index":2,"n_rows":82,"n_cols":14,"rows_kept":82,"cut":false,"hidden":false,"merged":[[26,5,26,13],[37,5,37,13],[47,5,47,13],[58,5,58,13],[23,2,23,3],[24,2,24,3],[25,2,25,3],[26,2,26,3],[12,7,12,11],[14,2,14,3],[14,7,14,11],[15,2,17,3],[17,5,17,6],[12,0,12,3],[13,0,13,3],[18,2,18,3],[18,5,18,6],[19,2,19,3],[21,2,21,3],[22,2,22,3],[27,1,28,1],[27,2,27,3],[28,2,28,3],[29,0,32,0],[29,1,32,1],[29,2,29,3],[30,2,30,3],[31,2,31,3],[32,2,32,3],[46,1,47,1],[46,2,46,3],[47,2,47,3],[33,0,34,0],[33,1,34,1],[33,2,33,3],[34,2,34,3],[35,0,36,0],[35,1,36,1],[35,2,35,3],[36,2,36,3],[37,2,37,3],[38,2,41,3],[42,2,43,3],[44,2,44,3],[45,2,45,3],[68,5,68,13],[70,5,72,13],[80,0,80,1],[81,0,81,1],[48,2,48,3],[49,2,50,3],[61,1,62,1],[65,1,66,1],[70,0,70,1]]}
[]
[]
[null,null,null,null,null,null,null,null,null," "," "," "]
[]
[]
[]
[null,null,null,null,null,null,null,null,null," "," "," "]
[]
[]
[]
[null,null,"Cotización de Seguro Médico ",null,null,null,null,"Cotización de Seguro Médico Internacional: BUPA ESSENTIAL 1000"]
[]
["RESUMEN DE BENEFICIOS",null,null,null,null,null,"Nombre del asegurado :",{"$f":"+'INGRESO DE DATOS'!$D$15","v":"NOMBRE EL AGENTE"}]
[]
[null,null,null,null,null,null,"Broker / Agente :",{"$f":"+'INGRESO DE DATOS'!$D$26","v":"NOMBRE DE LA AGENCIA"}]
[]
[null,null,null,null,null,null,null,null,"Número de adultos en la póliza:",{"$f":"+'INGRESO DE DATOS'!$G$17","v":1},"Edad de Titular :",{"$f":"+'INGRESO DE DATOS'!$G$19","v":68}]
[]
[null,null,null,null,null,null,null,null,"Número hijos (menos 24 años):",{"$f":"+'INGRESO DE DATOS'!$J$17","v":0},"Edad de Cónyuge:",{"$f":"+'INGRESO DE DATOS'!$J$19","v":46}]
[null,null,null,null,null,null,null,null,null," "," "," "]
[null,null,null,null,null,null,null,null,"Fecha cotización:",{"$f":"+TODAY()","v":"2022-01-03"},"Zona de cotización:",{"$f":"'INGRESO DE DATOS'!G21","v":"Guayaquil/Santa Elena"}]
[null,null,null,null,null,null,null,null," "]
[null,null,null,null,null,"Deducibles",null,"PLAN 1","PLAN 2","PLAN 3","PLAN 4","PLAN 5","PLAN 6","PLAN 7"]
[null,null,null,null,null,"Dentro del pais de residencia",null,250,500,1000,2000,5000,10000,20000]
[null,null,null,null,null,"Fuera del pais de residencia",null,500,1000,2000,4000,5000,10000,20000]
[]
[null,null,null,null,null,"Tarifas Mensuales"]
[null,null,null,null,null,"Prima de Titular :",null,{"$f":"VLOOKUP($L$17,Tablas!$A$991:$I$1053,3,TRUE)+(60/12)+50","v":1166.5866666666666},{"$f":"VLOOKUP($L$17,Tablas!$A$991:$I$1053,4,TRUE)+(60/12)+50","v":1024.8116666666665},{"$f":"VLOOKUP($L$17,Tablas!$A$991:$I$1053,5,TRUE)+(60/12)+50","v":913.1583333333333},{"$f":"VLOOKUP($L$17,Tablas!$A$991:$I$1053,6,TRUE)+(60/12)+50","v":844.43499999999995},{"$f":"VLOOKUP($L$17,Tablas!$A$991:$I$1053,7,TRUE)+(60/12)+50","v":597.01333333333332},{"$f":"VLOOKUP($L$17,Tablas!$A$991:$I$1053,8,TRUE)+(60/12)+50","v":555.14333333333332},{"$f":"VLOOKUP($L$17,Tablas!$A$991:$I$1053,9,TRUE)+(60/12)+50","v":511.68333333333334}]
[null,null,null,null,null,"Prima de Cónyuge",null,{"$f":"IF($J$17=1,0,(VLOOKUP($L$19,Tablas!$A$991:$I$1053,3,TRUE)))","v":0},{"$f":"IF($J$17=1,0,(VLOOKUP($L$19,Tablas!$A$991:$I$1053,4,TRUE)))","v":0},{"$f":"IF($J$17=1,0,(VLOOKUP($L$19,Tablas!$A$991:$I$1053,5,TRUE)))","v":0},{"$f":"IF($J$17=1,0,(VLOOKUP($L$19,Tablas!$A$991:$I$1053,6,TRUE)))","v":0},{"$f":"IF($J$17=1,0,(VLOOKUP($L$19,Tablas!$A$991:$I$1053,7,TRUE)))","v":0},{"$f":"IF($J$17=1,0,(VLOOKUP($L$19,Tablas!$A$991:$I$1053,8,TRUE)))","v":0},{"$f":"IF($J$17=1,0,(VLOOKUP($L$19,Tablas!$A$991:$I$1053,9,TRUE)))","v":0}]
[null,null,null,null,null,"Primas Hijos :",null,{"$f":"IF($J$19=0,0,(VLOOKUP($J$19,Tablas!$A$1054:$I$1056,3,TRUE)))","v":0},{"$f":"IF($J$19=0,0,(VLOOKUP($J$19,Tablas!$A$1054:$I$1056,4,TRUE)))","v":0},{"$f":"IF($J$19=0,0,(VLOOKUP($J$19,Tablas!$A$1054:$I$1056,5,TRUE)))","v":0},{"$f":"IF($J$19=0,0,(VLOOKUP($J$19,Tablas!$A$1054:$I$1056,6,TRUE)))","v":0},{"$f":"IF($J$19=0,0,(VLOOKUP($J$19,Tablas!$A$1054:$I$1056,7,TRUE)))","v":0},{"$f":"IF($J$19=0,0,(VLOOKUP($J$19,Tablas!$A$1054:$I$1056,8,TRUE)))","v":0},{"$f":"IF($J$19=0,0,(VLOOKUP($J$19,Tablas!$A$1054:$I$1056,9,TRUE)))","v":0}]
[null,null,null,null,null,"TOTAL PRIMA NETA :",null,{"$f":"SUM(H28:H30)","v":1166.5866666666666},{"$f":"SUM(I28:I30)","v":1024.8116666666665},{"$f":"SUM(J28:J30)","v":913.1583333333333},{"$f":"SUM(K28:K30)","v":844.43499999999995},{"$f":"SUM(L28:L30)","v":597.01333333333332},{"$f":"SUM(M28:M30)","v":555.14333333333332},511.68333333333334]
[null,null,null,null,null,"Costo Administrativo Anual :",null,0,0,0,0,0,0,0]
[null,null,null,null,null,"Contrib. 3.5% Super. Bancos :",null,{"$f":"+H31*3.5%","v":40.830533333333335},{"$f":"+I31*3.5%","v":35.868408333333328},31.960541666666668,29.555225,20.895466666666668,19.430016666666667,17.90891666666667]
[null,null,null,null,null,"Contrib 0.5% Seg.Soc.Campes.:",null,{"$f":"+H31*0.5%","v":5.8329333333333331},{"$f":"+I31*0.5%","v":5.1240583333333323},4.5657916666666667,4.222175,2.9850666666666665,2.7757166666666668,2.5584166666666666]
[null,null,null,null,null,"TOTAL  Primer  Cuota :",null,{"$f":"SUM(H31:H34)","v":1213.2501333333332},{"$f":"SUM(I31:I34)","v":1065.8041333333331},{"$f":"SUM(J31:J34)","v":949.68466666666666},{"$f":"SUM(K31:K34)","v":878.21239999999989},{"$f":"SUM(L31:L34)","v":620.89386666666667},{"$f":"SUM(M31:M34)","v":577.34906666666666},532.15066666666667]
[null,null,null,null,null,"Valor Cuota Mensual 2 a 12 :",null,{"$f":"(H31 + H33 + H34)-52","v":1161.2501333333332},{"$f":"(I31 + I33 + I34)-52","v":1013.8041333333331},{"$f":"(J31 + J33 + J34)-52","v":897.68466666666666},{"$f":"(K31 + K33 + K34)-52","v":826.21239999999989},{"$f":"(L31 + L33 + L34)-52","v":568.89386666666667},{"$f":"(M31 + M33 + M34)-52","v":525.34906666666666},480.15066666666667]
[]
[null,null,null,null,null,"Tarifas Anuales"]
[null,null,null,null,null,"Prima de Titular :",null,{"$f":"VLOOKUP($L$17,Tablas!$A$920:$I$982,3,TRUE)+(60)+50","v":12694},{"$f":"VLOOKUP($L$17,Tablas!$A$920:$I$982,4,TRUE)+(60)+50","v":11089},{"$f":"VLOOKUP($L$17,Tablas!$A$920:$I$982,5,TRUE)+(60)+50","v":9825},{"$f":"VLOOKUP($L$17,Tablas!$A$920:$I$982,6,TRUE)+(60)+50","v":9047},{"$f":"VLOOKUP($L$17,Tablas!$A$920:$I$982,7,TRUE)+(60)+50","v":6246},{"$f":"VLOOKUP($L$17,Tablas!$A$920:$I$982,8,TRUE)+(60)+50","v":5772},{"$f":"VLOOKUP($L$17,Tablas!$A$920:$I$982,9,TRUE)+(60)+50","v":5280}]
[null,null,null,null,null,"Prima de Cónyuge",null,{"$f":"IF($J$17=1,0,(VLOOKUP($L$19,Tablas!$A$920:$I$982,3,TRUE)))","v":0},{"$f":"IF($J$17=1,0,(VLOOKUP($L$19,Tablas!$A$920:$I$982,4,TRUE)))","v":0},{"$f":"IF($J$17=1,0,(VLOOKUP($L$19,Tablas!$A$920:$I$982,5,TRUE)))","v":0},{"$f":"IF($J$17=1,0,(VLOOKUP($L$19,Tablas!$A$920:$I$982,6,TRUE)))","v":0},{"$f":"IF($J$17=1,0,(VLOOKUP($L$19,Tablas!$A$920:$I$982,7,TRUE)))","v":0},{"$f":"IF($J$17=1,0,(VLOOKUP($L$19,Tablas!$A$920:$I$982,8,TRUE)))","v":0},{"$f":"IF($J$17=1,0,(VLOOKUP($L$19,Tablas!$A$920:$I$982,9,TRUE)))","v":0}]
[null,null,null,null,null,"Primas Hijos :",null,{"$f":"IF($J$19=0,0,(VLOOKUP($J$19,Tablas!$A$983:$I$985,3,TRUE)))","v":0},{"$f":"IF($J$19=0,0,(VLOOKUP($J$19,Tablas!$A$983:$I$985,4,TRUE)))","v":0},{"$f":"IF($J$19=0,0,(VLOOKUP($J$19,Tablas!$A$983:$I$985,5,TRUE)))","v":0},{"$f":"IF($J$19=0,0,(VLOOKUP($J$19,Tablas!$A$983:$I$985,6,TRUE)))","v":0},{"$f":"IF($J$19=0,0,(VLOOKUP($J$19,Tablas!$A$983:$I$985,7,TRUE)))","v":0},{"$f":"IF($J$19=0,0,(VLOOKUP($J$19,Tablas!$A$983:$I$985,8,TRUE)))","v":0},{"$f":"IF($J$19=0,0,(VLOOKUP($J$19,Tablas!$A$983:$I$985,9,TRUE)))","v":0}]
[null,null,null,null,null,"TOTAL PRIMA NETA :",null,{"$f":"SUM(H39:H41)","v":12694},{"$f":"SUM(I39:I41)","v":11089},9825,9047,6246,5772,5280]
[null,null,null,null,null,"Costo Administrativo Anual :",null,0,0,0,0,0,"-","-"]
[null,null,null,null,null,"Contrib. 3.5% Super. Bancos :",null,{"$f":"+H42*3.5%","v":444.29},{"$f":"+I42*3.5%","v":388.11500000000001},343.87500000000006,316.64500000000004,218.61,202.02,184.8]
[null,null,null,null,null,"Contrib 0.5% Seg.Soc.Campes.:",null,{"$f":"+H42*0.5%","v":63.47},{"$f":"+I42*0.5%","v":55.445},49.125,45.234999999999999,31.23,28.86,26.400000000000002]
[null,null,null,null,null,"GRAN TOTAL ANUAL :",null,{"$f":"SUM(H42:H45)","v":13201.76},{"$f":"SUM(I42:I45)","v":11532.56},{"$f":"SUM(J42:J45)","v":10218},{"$f":"SUM(K42:K45)","v":9408.880000000001},{"$f":"SUM(L42:L45)","v":6495.8399999999992},{"$f":"SUM(M42:M45)","v":6002.88},5491.2]
[]
[null,null,null,null,null,"Tarifas Semestrales"]
[null,null,null,null,null,"Prima de Titular :",null,{"$f":"VLOOKUP($L$17,Tablas!$A$1133:$I$1195,3,TRUE)+(60/2)+50","v":6560.76},{"$f":"VLOOKUP($L$17,Tablas!$A$1133:$I$1195,4,TRUE)+(60/2)+50","v":5734.1850000000004},{"$f":"VLOOKUP($L$17,Tablas!$A$1133:$I$1195,5,TRUE)+(60/2)+50","v":5083.2250000000004},{"$f":"VLOOKUP($L$17,Tablas!$A$1133:$I$1195,6,TRUE)+(60/2)+50","v":4682.5550000000003},{"$f":"VLOOKUP($L$17,Tablas!$A$1133:$I$1195,7,TRUE)+(60/2)+50","v":3240.04},{"$f":"VLOOKUP($L$17,Tablas!$A$1133:$I$1195,8,TRUE)+(60/2)+50","v":2995.9300000000003},{"$f":"VLOOKUP($L$17,Tablas!$A$1133:$I$1195,9,TRUE)+(60/2)+50","v":2742.55}]
[null,null,null,null,null,"Prima de Cónyuge",null,{"$f":"IF($J$17=1,0,(VLOOKUP($L$19,Tablas!$A$1133:$I$1195,3,TRUE)))","v":0},{"$f":"IF($J$17=1,0,(VLOOKUP($L$19,Tablas!$A$1133:$I$1195,4,TRUE)))","v":0},{"$f":"IF($J$17=1,0,(VLOOKUP($L$19,Tablas!$A$1133:$I$1195,5,TRUE)))","v":0},{"$f":"IF($J$17=1,0,(VLOOKUP($L$19,Tablas!$A$1133:$I$1195,6,TRUE)))","v":0},{"$f":"IF($J$17=1,0,(VLOOKUP($L$19,Tablas!$A$1133:$I$1195,7,TRUE)))","v":0},{"$f":"IF($J$17=1,0,(VLOOKUP($L$19,Tablas!$A$1133:$I$1195,8,TRUE)))","v":0},{"$f":"IF($J$17=1,0,(VLOOKUP($L$19,Tablas!$A$1133:$I$1195,9,TRUE)))","v":0}]
[null,null,null,null,null,"Primas Hijos :",null,{"$f":"IF($J$19=0,0,(VLOOKUP($J$19,Tablas!$A$1196:$I$1198,3,TRUE)))","v":0},{"$f":"IF($J$19=0,0,(VLOOKUP($J$19,Tablas!$A$1196:$I$1198,4,TRUE)))","v":0},{"$f":"IF($J$19=0,0,(VLOOKUP($J$19,Tablas!$A$1196:$I$1198,5,TRUE)))","v":0},{"$f":"IF($J$19=0,0,(VLOOKUP($J$19,Tablas!$A$1196:$I$1198,6,TRUE)))","v":0},{"$f":"IF($J$19=0,0,(VLOOKUP($J$19,Tablas!$A$1196:$I$1198,7,TRUE)))","v":0},{"$f":"IF($J$19=0,0,(VLOOKUP($J$19,Tablas!$A$1196:$I$1198,8,TRUE)))","v":0},{"$f":"IF($J$19=0,0,(VLOOKUP($J$19,Tablas!$A$1196:$I$1198,9,TRUE)))","v":0}]
[null,null,null,null,null,"TOTAL PRIMA NETA :",null,{"$f":"SUM(H49:H51)","v":6560.76},{"$f":"SUM(I49:I51)","v":5734.1850000000004},{"$f":"SUM(J49:J51)","v":5083.2250000000004},{"$f":"SUM(K49:K51)","v":4682.5550000000003},{"$f":"SUM(L49:L51)","v":3240.04},{"$f":"SUM(M49:M51)","v":2995.9300000000003},2742.55]
[null,null,null,null,null,"Costo Administrativo Anual :",null,0,0,0,0,0,"-","-"]
[null,null,null,null,null,"Contrib. 3.5% Super. Bancos :",null,{"$f":"+H52*3.5%","v":229.62660000000002},{"$f":"+I52*3.5%","v":200.69647500000002},177.91287500000004,163.88942500000002,113.40140000000001,104.85755000000002,95.989250000000013]
[null,null,null,null,null,"Contrib 0.5% Seg.Soc.Campes.:",null,{"$f":"+H52*0.5%","v":32.803800000000003},{"$f":"+I52*0.5%","v":28.670925000000004},25.416125000000001,23.412775000000003,16.200199999999999,14.979650000000001,13.712750000000002]
[null,null,null,null,null,"TOTAL  Primer  Cuota :",null,{"$f":"SUM(H52:H55)","v":6823.1903999999995},{"$f":"SUM(I52:I55)","v":5963.5524000000005},{"$f":"SUM(J52:J55)","v":5286.5540000000001},{"$f":"SUM(K52:K55)","v":4869.8572000000004},{"$f":"SUM(L52:L55)","v":3369.6416000000004},{"$f":"SUM(M52:M55)","v":3115.7672000000007},2852.2520000000004]
[null,null,null,null,null,"Valor Segunda Cuota :",null,{"$f":"(H52 + H54 + H55)-52","v":6771.1903999999995},{"$f":"(I52 + I54 + I55)-52","v":5911.5524000000005},{"$f":"(J52 + J54 + J55)-52","v":5234.5540000000001},{"$f":"(K52 + K54 + K55)-52","v":4817.8572000000004},{"$f":"(L52 + L54 + L55)-52","v":3317.6416000000004},{"$f":"(M52 + M54 + M55)-52","v":3063.7672000000007},2800.2520000000004]
[]
[null,null,null,null,null,"Tarifas Trimestrales"]
[null,null,null,null,null,"Prima de Titular :",null,{"$f":"VLOOKUP($L$17,Tablas!$A$1062:$I$1124,3,TRUE)+(60/4)+50","v":3352.5699999999997},{"$f":"VLOOKUP($L$17,Tablas!$A$1062:$I$1124,4,TRUE)+(60/4)+50","v":2933.2637499999996},{"$f":"VLOOKUP($L$17,Tablas!$A$1062:$I$1124,5,TRUE)+(60/4)+50","v":2603.0437499999998},{"$f":"VLOOKUP($L$17,Tablas!$A$1062:$I$1124,6,TRUE)+(60/4)+50","v":2399.7912499999998},{"$f":"VLOOKUP($L$17,Tablas!$A$1062:$I$1124,7,TRUE)+(60/4)+50","v":1668.03},{"$f":"VLOOKUP($L$17,Tablas!$A$1062:$I$1124,8,TRUE)+(60/4)+50","v":1544.1975},{"$f":"VLOOKUP($L$17,Tablas!$A$1062:$I$1124,9,TRUE)+(60/4)+50","v":1415.6624999999999}]
[null,null,null,null,null,"Prima de Cónyuge",null,{"$f":"IF($J$17=1,0,(VLOOKUP($L$19,Tablas!$A$1062:$I$1124,3,TRUE)))","v":0},{"$f":"IF($J$17=1,0,(VLOOKUP($L$19,Tablas!$A$1062:$I$1124,4,TRUE)))","v":0},{"$f":"IF($J$17=1,0,(VLOOKUP($L$19,Tablas!$A$1062:$I$1124,5,TRUE)))","v":0},{"$f":"IF($J$17=1,0,(VLOOKUP($L$19,Tablas!$A$1062:$I$1124,6,TRUE)))","v":0},{"$f":"IF($J$17=1,0,(VLOOKUP($L$19,Tablas!$A$1062:$I$1124,7,TRUE)))","v":0},{"$f":"IF($J$17=1,0,(VLOOKUP($L$19,Tablas!$A$1062:$I$1124,8,TRUE)))","v":0},{"$f":"IF($J$17=1,0,(VLOOKUP($L$19,Tablas!$A$1062:$I$1124,9,TRUE)))","v":0}]
[null,null,null,null,null,"Primas Hijos :",null,{"$f":"IF($J$19=0,0,(VLOOKUP($J$19,Tablas!$A$1125:$I$1127,3,TRUE)))","v":0},{"$f":"IF($J$19=0,0,(VLOOKUP($J$19,Tablas!$A$1125:$I$1127,4,TRUE)))","v":0},{"$f":"IF($J$19=0,0,(VLOOKUP($J$19,Tablas!$A$1125:$I$1127,5,TRUE)))","v":0},{"$f":"IF($J$19=0,0,(VLOOKUP($J$19,Tablas!$A$1125:$I$1127,6,TRUE)))","v":0},{"$f":"IF($J$19=0,0,(VLOOKUP($J$19,Tablas!$A$1125:$I$1127,7,TRUE)))","v":0},{"$f":"IF($J$19=0,0,(VLOOKUP($J$19,Tablas!$A$1125:$I$1127,8,TRUE)))","v":0},{"$f":"IF($J$19=0,0,(VLOOKUP($J$19,Tablas!$A$1125:$I$1127,9,TRUE)))","v":0}]
[null,null,null,null,null,"TOTAL PRIMA NETA :",null,{"$f":"SUM(H60:H62)","v":3352.5699999999997},{"$f":"SUM(I60:I62)","v":2933.2637499999996},{"$f":"SUM(J60:J62)","v":2603.0437499999998},{"$f":"SUM(K60:K62)","v":2399.7912499999998},{"$f":"SUM(L60:L62)","v":1668.03},{"$f":"SUM(M60:M62)","v":1544.1975},1415.6624999999999]
[null,null,null,null,null,"Costo Administrativo Anual :",null,0,0,0,0,0,"-","-"]
[null,null,null,null,null,"Contrib. 3.5% Super. Bancos :",null,{"$f":"+H63*3.5%","v":117.33995},{"$f":"+I63*3.5%","v":102.66423125},91.106531250000003,83.992693750000001,58.381050000000002,54.046912500000005,49.548187500000004]
[null,null,null,null,null,"Contrib 0.5% Seg.Soc.Campes.:",null,{"$f":"+H63*0.5%","v":16.76285},{"$f":"+I63*0.5%","v":14.666318749999999},13.015218749999999,11.998956249999999,8.3401499999999995,7.7209875000000006,7.0783125]
[null,null,null,null,null,"TOTAL  Primer  Cuota :",null,{"$f":"SUM(H63:H66)","v":3486.6727999999998},{"$f":"SUM(I63:I66)","v":3050.5942999999993},{"$f":"SUM(J63:J66)","v":2707.1654999999996},{"$f":"SUM(K63:K66)","v":2495.7828999999997},{"$f":"SUM(L63:L66)","v":1734.7511999999999},{"$f":"SUM(M63:M66)","v":1605.9654},1472.289]
[null,null,null,null,null,"Valor Cuota Trimestral 2 a 4:",null,{"$f":"(H63 + H65 + H66)-52","v":3434.6727999999998},{"$f":"(I63 + I65 + I66)-52","v":2998.5942999999993},{"$f":"(J63 + J65 + J66)-52","v":2655.1654999999996},{"$f":"(K63 + K65 + K66)-52","v":2443.7828999999997},{"$f":"(L63 + L65 + L66)-52","v":1682.7511999999999},{"$f":"(M63 + M65 + M66)-52","v":1553.9654},1420.289]
[null,null,null,null,null,"Tarifas en US $ -  Válidas desde el 1ro. de enero de 2022"]
[]
[null,null,null,null,null,"Este presupuesto solamente tiene carácter informativo y en ningún momento expresa compromiso legal para suministrarle cobertura de seguro. La emisión de una póliza de seguro Bupa está sujeta a todas las evaluaciones de riesgo por parte de Bupa y a la recepción de todos los pagos de prima requeridos."]
[]
[]
[]
[]
[]
[]
[]
[]
[]
["RED DE PROVEEDORES"]
["La Red para el producto Essential 1000 ofrece cobertura en Latinoamérica, el Caribe y los Estados Unidos de América. Sin embargo, ni la Compañía, ni USA Medical Services, ni ninguna de sus filiales o subsidiarias pertinentes relacionadas participarán en transacciones con cualquier parte o país donde dichas transacciones estén prohibidas por las leyes de los Estados Unidos de América. Por favor comuníquese con la Compañía para obtener más información sobre esta restricción."]

{"sheet":"Essential 500","index":3,"n_rows":82,"n_cols":14,"rows_kept":82,"cut":false,"hidden":false,"merged":[[12,0,12,3],[13,0,13,3],[68,5,68,13],[70,5,72,13],[58,5,58,13],[47,5,47,13],[37,5,37,13],[26,5,26,13],[12,7,12,11],[14,7,14,11],[46,1,47,1],[33,0,34,0],[42,2,43,3],[38,2,41,3],[37,2,37,3],[27,2,27,3],[35,1,36,1],[27,1,28,1],[33,1,34,1],[35,0,36,0],[29,0,32,0],[29,1,32,1],[36,2,36,3],[35,2,35,3],[31,2,31,3],[32,2,32,3],[33,2,33,3],[34,2,34,3],[29,2,29,3],[30,2,30,3],[28,2,28,3],[25,2,25,3],[26,2,26,3],[14,2,14,3],[23,2,23,3],[24,2,24,3],[17,5,17,6],[18,5,18,6],[22,2,22,3],[19,2,19,3],[18,2,18,3],[21,2,21,3],[15,2,17,3],[46,2,46,3],[44,2,44,3],[45,2,45,3],[49,2,50,3],[47,2,47,3],[48,2,48,3],[61,1,62,1],[65,1,66,1],[81,0,81,1],[70,0,70,1],[80,0,80,1]]}
[]
[]
[null,null,null,null,null,null,null,null,null," "," "," "]
[]
[]
[]
[null,null,null,null,null,null,null,null,null," "," "," "]
[]
[]
[]
[null,null,"Cotización de Seguro Médico ",null,null,null,null,"Cotización de Seguro Médico Internacional: BUPA ESSENTIAL 500"]
[]
["RESUMEN DE BENEFICIOS",null,null,null,null,null,"Nombre del asegurado :",{"$f":"+'INGRESO DE DATOS'!$D$15","v":"NOMBRE EL AGENTE"}]
[]
[null,null,null,null,null,null,"Broker / Agente :",{"$f":"+'INGRESO DE DATOS'!$D$26","v":"NOMBRE DE LA AGENCIA"}]
[]
[null,null,null,null,null,null,null,null,"Número de adultos en la póliza:",{"$f":"+'INGRESO DE DATOS'!$G$17","v":1},"Edad de Titular :",{"$f":"+'INGRESO DE DATOS'!$G$19","v":68}]
[]
[null,null,null,null,null,null,null,null,"Número hijos (menos 24 años):",{"$f":"+'INGRESO DE DATOS'!$J$17","v":0},"Edad de Cónyuge:",{"$f":"+'INGRESO DE DATOS'!$J$19","v":46}]
[null,null,null,null,null,null,null,null,null," "," "," "]
[null,null,null,null,null,null,null,null,"Fecha cotización:",{"$f":"+TODAY()","v":"2022-01-03"},"Zona de cotización:",{"$f":"'INGRESO DE DATOS'!G21","v":"Guayaquil/Santa Elena"}]
[null,null,null,null,null,null,null,null," "]
[null,null,null,null,null,"Deducibles",null,"PLAN 1","PLAN 2","PLAN 3","PLAN 4","PLAN 5","PLAN 6","PLAN 7"]
[null,null,null,null,null,"Dentro del pais de residencia",null,250,500,1000,2000,5000,10000,20000]
[null,null,null,null,null,"Fuera del pais de residencia",null,500,1000,2000,4000,5000,10000,20000]
[]
[null,null,null,null,null,"Tarifas Mensuales"]
[null,null,null,null,null,"Prima de Titular :",null,{"$f":"VLOOKUP($L$17,Tablas!$A$76:$G$138,3,TRUE)+(60/12)+50","v":974.99166666666667},{"$f":"VLOOKUP($L$17,Tablas!$A$76:$G$138,4,TRUE)+(60/12)+50","v":854.77},{"$f":"VLOOKUP($L$17,Tablas!$A$76:$G$138,5,TRUE)+(60/12)+50","v":784.45666666666671},{"$f":"VLOOKUP($L$17,Tablas!$A$76:$G$138,6,TRUE)+(60/12)+50","v":725.89166666666665},{"$f":"VLOOKUP($L$17,Tablas!$A$76:$G$138,7,TRUE)+(60/12)+50","v":538.71333333333337},{"$f":"VLOOKUP($L$17,Tablas!$A$76:$I$138,8,TRUE)+(60/12)+50","v":493.04500000000002},{"$f":"VLOOKUP($L$17,Tablas!$A$76:$I$138,9,TRUE)+(60/12)+50","v":374.59}]
[null,null,null,null,null,"Prima de Cónyuge",null,{"$f":"IF($J$17=1,0,(VLOOKUP($L$19,Tablas!$A$76:$G$138,3,TRUE)))","v":0},{"$f":"IF($J$17=1,0,(VLOOKUP($L$19,Tablas!$A$76:$G$138,4,TRUE)))","v":0},{"$f":"IF($J$17=1,0,(VLOOKUP($L$19,Tablas!$A$76:$G$138,5,TRUE)))","v":0},{"$f":"IF($J$17=1,0,(VLOOKUP($L$19,Tablas!$A$76:$G$138,6,TRUE)))","v":0},{"$f":"IF($J$17=1,0,(VLOOKUP($L$19,Tablas!$A$76:$G$138,7,TRUE)))","v":0},{"$f":"IF($J$17=1,0,(VLOOKUP($L$19,Tablas!$A$76:$I$138,8,TRUE)))","v":0},{"$f":"IF($J$17=1,0,(VLOOKUP($L$19,Tablas!$A$76:$I$138,9,TRUE)))","v":0}]
[null,null,null,null,null,"Primas Hijos :",null,{"$f":"IF($J$19=0,0,(VLOOKUP($J$19,Tablas!$A$139:$G$141,3,TRUE)))","v":0},{"$f":"IF($J$19=0,0,(VLOOKUP($J$19,Tablas!$A$139:$G$141,4,TRUE)))","v":0},{"$f":"IF($J$19=0,0,(VLOOKUP($J$19,Tablas!$A$139:$G$141,5,TRUE)))","v":0},{"$f":"IF($J$19=0,0,(VLOOKUP($J$19,Tablas!$A$139:$G$141,6,TRUE)))","v":0},{"$f":"IF($J$19=0,0,(VLOOKUP($J$19,Tablas!$A$139:$G$141,7,TRUE)))","v":0},{"$f":"IF($J$19=0,0,(VLOOKUP($J$19,Tablas!$A$139:$I$141,8,TRUE)))","v":0},{"$f":"IF($J$19=0,0,(VLOOKUP($J$19,Tablas!$A$139:$I$141,9,TRUE)))","v":0}]
[null,null,null,null,null,"TOTAL PRIMA NETA :",null,{"$f":"SUM(H28:H30)","v":974.99166666666667},{"$f":"SUM(I28:I30)","v":854.77},{"$f":"SUM(J28:J30)","v":784.45666666666671},{"$f":"SUM(K28:K30)","v":725.89166666666665},{"$f":"SUM(L28:L30)","v":538.71333333333337},{"$f":"SUM(M28:M30)","v":493.04500000000002},374.59]
[null,null,null,null,null,"Costo Administrativo Anual :",null,0,0,0,0,0,0,0]
[null,null,null,null,null,"Contrib. 3.5% Super. Bancos :",null,{"$f":"+H31*3.5%","v":34.124708333333338},{"$f":"+I31*3.5%","v":29.916950000000003},27.455983333333336,25.406208333333336,18.85496666666667,17.256575000000002,13.11065]
[null,null,null,null,null,"Contrib 0.5% Seg.Soc.Campes.:",null,{"$f":"+H31*0.5%","v":4.8749583333333337},{"$f":"+I31*0.5%","v":4.2738500000000004},3.9222833333333336,3.6294583333333335,2.6935666666666669,2.4652250000000002,1.8729499999999999]
[null,null,null,null,null,"TOTAL  Primer  Cuota :",null,{"$f":"SUM(H31:H34)","v":1013.9913333333334},{"$f":"SUM(I31:I34)","v":888.96080000000006},{"$f":"SUM(J31:J34)","v":815.83493333333331},{"$f":"SUM(K31:K34)","v":754.92733333333331},{"$f":"SUM(L31:L34)","v":560.26186666666672},{"$f":"SUM(M31:M34)","v":512.76679999999999},389.5736]
[null,null,null,null,null,"Valor Cuota Mensual 2 a 12 :",null,{"$f":"(H31 + H33 + H34)-52","v":961.99133333333339},{"$f":"(I31 + I33 + I34)-52","v":836.96080000000006},{"$f":"(J31 + J33 + J34)-52","v":763.83493333333331},{"$f":"(K31 + K33 + K34)-52","v":702.92733333333331},{"$f":"(L31 + L33 + L34)-52","v":508.26186666666672},{"$f":"(M31 + M33 + M34)-52","v":460.76679999999999},337.5736]
[]
[null,null,null,null,null,"Tarifas Anuales"]
[null,null,null,null,null,"Prima de Titular :",null,{"$f":"VLOOKUP($L$17,Tablas!$A$6:$G$68,3,TRUE)+(60)+50","v":10525},{"$f":"VLOOKUP($L$17,Tablas!$A$6:$G$68,4,TRUE)+(60)+50","v":9164},{"$f":"VLOOKUP($L$17,Tablas!$A$6:$G$68,5,TRUE)+(60)+50","v":8368},{"$f":"VLOOKUP($L$17,Tablas!$A$6:$G$68,6,TRUE)+(60)+50","v":7705},{"$f":"VLOOKUP($L$17,Tablas!$A$6:$G$68,7,TRUE)+(60)+50","v":5586},{"$f":"VLOOKUP($L$17,Tablas!$A$6:$I$68,8,TRUE)+(60)+50","v":5069},{"$f":"VLOOKUP($L$17,Tablas!$A$6:$I$68,9,TRUE)+(60)+50","v":3728}]
[null,null,null,null,null,"Prima de Cónyuge",null,{"$f":"IF($J$17=1,0,(VLOOKUP($L$19,Tablas!$A$6:$G$68,3,TRUE)))","v":0},{"$f":"IF($J$17=1,0,(VLOOKUP($L$19,Tablas!$A$6:$G$68,4,TRUE)))","v":0},{"$f":"IF($J$17=1,0,(VLOOKUP($L$19,Tablas!$A$6:$G$68,5,TRUE)))","v":0},{"$f":"IF($J$17=1,0,(VLOOKUP($L$19,Tablas!$A$6:$G$68,6,TRUE)))","v":0},{"$f":"IF($J$17=1,0,(VLOOKUP($L$19,Tablas!$A$6:$G$68,7,TRUE)))","v":0},{"$f":"IF($J$17=1,0,(VLOOKUP($L$19,Tablas!$A$6:$I$68,8,TRUE)))","v":0},{"$f":"IF($J$17=1,0,(VLOOKUP($L$19,Tablas!$A$6:$I$68,9,TRUE)))","v":0}]
[null,null,null,null,null,"Primas Hijos :",null,{"$f":"IF($J$19=0,0,(VLOOKUP($J$19,Tablas!$A$69:$G$71,3,TRUE)))","v":0},{"$f":"IF($J$19=0,0,(VLOOKUP($J$19,Tablas!$A$69:$G$71,4,TRUE)))","v":0},{"$f":"IF($J$19=0,0,(VLOOKUP($J$19,Tablas!$A$69:$G$71,5,TRUE)))","v":0},{"$f":"IF($J$19=0,0,(VLOOKUP($J$19,Tablas!$A$69:$G$71,6,TRUE)))","v":0},{"$f":"IF($J$19=0,0,(VLOOKUP($J$19,Tablas!$A$69:$G$71,7,TRUE)))","v":0},{"$f":"IF($J$19=0,0,(VLOOKUP($J$19,Tablas!$A$69:$I$71,8,TRUE)))","v":0},{"$f":"IF($J$19=0,0,(VLOOKUP($J$19,Tablas!$A$69:$I$71,9,TRUE)))","v":0}]
[null,null,null,null,null,"TOTAL PRIMA NETA :",null,{"$f":"SUM(H39:H41)","v":10525},{"$f":"SUM(I39:I41)","v":9164},8368,7705,5586,{"$f":"SUM(M39:M41)","v":5069},{"$f":"SUM(N39:N41)","v":3728}]
[null,null,null,null,null,"Costo Administrativo Anual :",null,0,0,0,0,0,"-","-"]
[null,null,null,null,null,"Contrib. 3.5% Super. Bancos :",null,{"$f":"+H42*3.5%","v":368.37500000000006},{"$f":"+I42*3.5%","v":320.74},292.88000000000005,269.67500000000001,195.51000000000002,{"$f":"+M42*3.5%","v":177.41500000000002},{"$f":"+N42*3.5%","v":130.48000000000002}]
[null,null,null,null,null,"Contrib 0.5% Seg.Soc.Campes.:",null,{"$f":"+H42*0.5%","v":52.625},{"$f":"+I42*0.5%","v":45.82},41.84,38.524999999999999,27.93,{"$f":"+M42*0.5%","v":25.344999999999999},18.64]
[null,null,null,null,null,"GRAN TOTAL ANUAL :",null,{"$f":"SUM(H42:H45)","v":10946},{"$f":"SUM(I42:I45)","v":9530.56},{"$f":"SUM(J42:J45)","v":8702.7199999999993},{"$f":"SUM(K42:K45)","v":8013.2},{"$f":"SUM(L42:L45)","v":5809.4400000000005},{"$f":"SUM(M42:M45)","v":5271.76},{"$f":"SUM(N42:N45)","v":3877.12}]
[]
[null,null,null,null,null,"Tarifas Semestrales"]
[null,null,null,null,null,"Prima de Titular :",null,{"$f":"VLOOKUP($L$17,Tablas!$A$493:$G$555,3,TRUE)+(60/2)+50","v":5443.7250000000004},{"$f":"VLOOKUP($L$17,Tablas!$A$493:$G$555,4,TRUE)+(60/2)+50","v":4742.8100000000004},{"$f":"VLOOKUP($L$17,Tablas!$A$493:$G$555,5,TRUE)+(60/2)+50","v":4332.87},{"$f":"VLOOKUP($L$17,Tablas!$A$493:$G$555,6,TRUE)+(60/2)+50","v":3991.4250000000002},{"$f":"VLOOKUP($L$17,Tablas!$A$493:$G$555,7,TRUE)+(60/2)+50","v":2900.14},{"$f":"VLOOKUP($L$17,Tablas!$A$493:$I$555,8,TRUE)+(60/2)+50","v":2633.8850000000002},{"$f":"VLOOKUP($L$17,Tablas!$A$493:$I$555,9,TRUE)+(60/2)+50","v":1943.27}]
[null,null,null,null,null,"Prima de Cónyuge",null,{"$f":"IF($J$17=1,0,(VLOOKUP($L$19,Tablas!$A$493:$G$555,3,TRUE)))","v":0},{"$f":"IF($J$17=1,0,(VLOOKUP($L$19,Tablas!$A$493:$G$555,4,TRUE)))","v":0},{"$f":"IF($J$17=1,0,(VLOOKUP($L$19,Tablas!$A$493:$G$555,5,TRUE)))","v":0},{"$f":"IF($J$17=1,0,(VLOOKUP($L$19,Tablas!$A$493:$G$555,6,TRUE)))","v":0},{"$f":"IF($J$17=1,0,(VLOOKUP($L$19,Tablas!$A$493:$G$555,7,TRUE)))","v":0},{"$f":"IF($J$17=1,0,(VLOOKUP($L$19,Tablas!$A$493:$I$555,8,TRUE)))","v":0},{"$f":"IF($J$17=1,0,(VLOOKUP($L$19,Tablas!$A$493:$I$555,9,TRUE)))","v":0}]
[null,null,null,null,null,"Primas Hijos :",null,{"$f":"IF($J$19=0,0,(VLOOKUP($J$19,Tablas!$A$556:$G$558,3,TRUE)))","v":0},{"$f":"IF($J$19=0,0,(VLOOKUP($J$19,Tablas!$A$556:$G$558,4,TRUE)))","v":0},{"$f":"IF($J$19=0,0,(VLOOKUP($J$19,Tablas!$A$556:$G$558,5,TRUE)))","v":0},{"$f":"IF($J$19=0,0,(VLOOKUP($J$19,Tablas!$A$556:$G$558,6,TRUE)))","v":0},{"$f":"IF($J$19=0,0,(VLOOKUP($J$19,Tablas!$A$556:$G$558,7,TRUE)))","v":0},{"$f":"IF($J$19=0,0,(VLOOKUP($J$19,Tablas!$A$556:$I$558,8,TRUE)))","v":0},{"$f":"IF($J$19=0,0,(VLOOKUP($J$19,Tablas!$A$556:$I$558,9,TRUE)))","v":0}]
[null,null,null,null,null,"TOTAL PRIMA NETA :",null,{"$f":"SUM(H49:H51)","v":5443.7250000000004},{"$f":"SUM(I49:I51)","v":4742.8100000000004},{"$f":"SUM(J49:J51)","v":4332.87},{"$f":"SUM(K49:K51)","v":3991.4250000000002},{"$f":"SUM(L49:L51)","v":2900.14},{"$f":"SUM(M49:M51)","v":2633.8850000000002},1943.27]
[null,null,null,null,null,"Costo Administrativo Anual :",null,0,0,0,0,0,1,2]
[null,null,null,null,null,"Contrib. 3.5% Super. Bancos :",null,{"$f":"+H52*3.5%","v":190.53037500000002},{"$f":"+I52*3.5%","v":165.99835000000002},151.65045000000001,139.69987500000002,101.50490000000001,{"$f":"+M52*3.5%","v":92.185975000000013},68.014450000000011]
[null,null,null,null,null,"Contrib 0.5% Seg.Soc.Campes.:",null,{"$f":"+H52*0.5%","v":27.218625000000003},{"$f":"+I52*0.5%","v":23.714050000000004},21.664349999999999,19.957125000000001,14.5007,{"$f":"+M52*0.5%","v":13.169425000000002},9.7163500000000003]
[null,null,null,null,null,"TOTAL  Primer  Cuota :",null,{"$f":"SUM(H52:H55)","v":5661.4740000000011},{"$f":"SUM(I52:I55)","v":4932.5223999999998},{"$f":"SUM(J52:J55)","v":4506.1848},{"$f":"SUM(K52:K55)","v":4151.0820000000003},{"$f":"SUM(L52:L55)","v":3016.1455999999998},{"$f":"SUM(M52:M55)","v":2740.2404000000001},2023.0008]
[null,null,null,null,null,"Valor Segunda Cuota :",null,{"$f":"(H52 + H54 + H55)-52","v":5609.4740000000011},{"$f":"(I52 + I54 + I55)-52","v":4880.5223999999998},{"$f":"(J52 + J54 + J55)-52","v":4454.1848},{"$f":"(K52 + K54 + K55)-52","v":4099.0820000000003},{"$f":"(L52 + L54 + L55)-52","v":2964.1455999999998},{"$f":"(M52 + M54 + M55)-52","v":2687.2404000000001},1969.0008]
[]
[null,null,null,null,null,"Tarifas Trimestrales"]
[null,null,null,null,null,"Prima de Titular :",null,{"$f":"VLOOKUP($L$17,Tablas!$A$706:$G$768,3,TRUE)+(60/4)+50","v":2785.9187499999998},{"$f":"VLOOKUP($L$17,Tablas!$A$706:$G$768,4,TRUE)+(60/4)+50","v":2430.3574999999996},{"$f":"VLOOKUP($L$17,Tablas!$A$706:$G$768,5,TRUE)+(60/4)+50","v":2222.4024999999997},{"$f":"VLOOKUP($L$17,Tablas!$A$706:$G$768,6,TRUE)+(60/4)+50","v":2049.1937499999999},{"$f":"VLOOKUP($L$17,Tablas!$A$706:$G$768,7,TRUE)+(60/4)+50","v":1495.6049999999998},{"$f":"VLOOKUP($L$17,Tablas!$A$706:$I$768,8,TRUE)+(60/4)+50","v":1360.5387499999999},{"$f":"VLOOKUP($L$17,Tablas!$A$706:$I$768,9,TRUE)+(60/4)+50","v":1010.2025}]
[null,null,null,null,null,"Prima de Cónyuge",null,{"$f":"IF($J$17=1,0,(VLOOKUP($L$19,Tablas!$A$706:$G$768,3,TRUE)))","v":0},{"$f":"IF($J$17=1,0,(VLOOKUP($L$19,Tablas!$A$706:$G$768,4,TRUE)))","v":0},{"$f":"IF($J$17=1,0,(VLOOKUP($L$19,Tablas!$A$706:$G$768,5,TRUE)))","v":0},{"$f":"IF($J$17=1,0,(VLOOKUP($L$19,Tablas!$A$706:$G$768,6,TRUE)))","v":0},{"$f":"IF($J$17=1,0,(VLOOKUP($L$19,Tablas!$A$706:$G$768,7,TRUE)))","v":0},{"$f":"IF($J$17=1,0,(VLOOKUP($L$19,Tablas!$A$706:$I$768,8,TRUE)))","v":0},{"$f":"IF($J$17=1,0,(VLOOKUP($L$19,Tablas!$A$706:$I$768,9,TRUE)))","v":0}]
[null,null,null,null,null,"Primas Hijos :",null,{"$f":"IF($J$19=0,0,(VLOOKUP($J$19,Tablas!$A$769:$G$771,3,TRUE)))","v":0},{"$f":"IF($J$19=0,0,(VLOOKUP($J$19,Tablas!$A$769:$G$771,4,TRUE)))","v":0},{"$f":"IF($J$19=0,0,(VLOOKUP($J$19,Tablas!$A$769:$G$771,5,TRUE)))","v":0},{"$f":"IF($J$19=0,0,(VLOOKUP($J$19,Tablas!$A$769:$G$771,6,TRUE)))","v":0},{"$f":"IF($J$19=0,0,(VLOOKUP($J$19,Tablas!$A$769:$G$771,7,TRUE)))","v":0},{"$f":"IF($J$19=0,0,(VLOOKUP($J$19,Tablas!$A$769:$I$771,8,TRUE)))","v":0},{"$f":"IF($J$19=0,0,(VLOOKUP($J$19,Tablas!$A$769:$I$771,9,TRUE)))","v":0}]
[null,null,null,null,null,"TOTAL PRIMA NETA :",null,{"$f":"SUM(H60:H62)","v":2785.9187499999998},{"$f":"SUM(I60:I62)","v":2430.3574999999996},{"$f":"SUM(J60:J62)","v":2222.4024999999997},{"$f":"SUM(K60:K62)","v":2049.1937499999999},{"$f":"SUM(L60:L62)","v":1495.6049999999998},{"$f":"SUM(M60:M62)","v":1360.5387499999999},1010.2025]
[null,null,null,null,null,"Costo Administrativo Anual :",null,0,0,0,0,0,0,0]
[null,null,null,null,null,"Contrib. 3.5% Super. Bancos :",null,{"$f":"+H63*3.5%","v":97.507156250000008},{"$f":"+I63*3.5%","v":85.062512499999997},77.784087499999998,71.721781250000006,52.346174999999995,{"$f":"+M63*3.5%","v":47.61885625},35.357087500000006]
[null,null,null,null,null,"Contrib 0.5% Seg.Soc.Campes.:",null,{"$f":"+H63*0.5%","v":13.929593749999999},{"$f":"+I63*0.5%","v":12.151787499999998},11.112012499999999,10.245968749999999,7.4780249999999988,{"$f":"+M63*0.5%","v":6.8026937499999995},5.0510124999999997]
[null,null,null,null,null,"TOTAL  Primer  Cuota :",null,{"$f":"SUM(H63:H66)","v":2897.3555000000001},{"$f":"SUM(I63:I66)","v":2527.5717999999997},{"$f":"SUM(J63:J66)","v":2311.2986000000001},{"$f":"SUM(K63:K66)","v":2131.1614999999997},{"$f":"SUM(L63:L66)","v":1555.4291999999996},{"$f":"SUM(M63:M66)","v":1414.9602999999997},1050.6106]
[null,null,null,null,null,"Valor Cuota Trimestral 2 a 4:",null,{"$f":"(H63 + H65 + H66)-52","v":2845.3555000000001},{"$f":"(I63 + I65 + I66)-52","v":2475.5717999999997},{"$f":"(J63 + J65 + J66)-52","v":2259.2986000000001},{"$f":"(K63 + K65 + K66)-52","v":2079.1614999999997},{"$f":"(L63 + L65 + L66)-52","v":1503.4291999999996},{"$f":"(M63 + M65 + M66)-52","v":1362.9602999999997},998.61059999999998]
[null,null,null,null,null,"Tarifas en US $ -  Válidas desde el 1ro. de enero de 2022"]
[]
[null,null,null,null,null,"Este presupuesto solamente tiene carácter informativo y en ningún momento expresa compromiso legal para suministrarle cobertura de seguro. La emisión de una póliza de seguro Bupa está sujeta a todas las evaluaciones de riesgo por parte de Bupa y a la recepción de todos los pagos de prima requeridos."]
[]
[]
[]
[]
[]
[]
[]
[]
[]
["RED DE PROVEEDORES"]
["La Red para el producto Essential 500 ofrece cobertura en Ecuador,  Latinoamérica y el Caribe. Sin embargo, ni la Compañía, ni USA Medical Services, ni ninguna de sus filiales o subsidiarias pertinentes relacionadas participarán en transacciones con cualquier parte o país donde dichas transacciones estén prohibidas por las leyes de los Estados Unidos de América. Por favor comuníquese con la Compañía para obtener más información sobre esta restricción."]

{"sheet":"Essential 100","index":4,"n_rows":85,"n_cols":12,"rows_kept":85,"cut":false,"hidden":false,"merged":[[12,0,12,3],[13,0,13,3],[26,5,26,11],[37,5,37,11],[47,5,47,11],[45,0,46,0],[18,2,19,3],[21,2,21,3],[25,2,25,3],[23,2,23,3],[24,2,24,3],[26,2,26,3],[27,2,27,3],[29,2,29,3],[10,7,10,11],[12,7,12,11],[14,7,14,11],[45,2,45,3],[38,2,41,3],[42,2,43,3],[44,2,44,3],[35,2,35,3],[36,2,36,3],[37,2,37,3],[17,5,17,6],[18,5,18,6],[28,2,28,3],[22,2,22,3],[14,2,14,3],[15,2,17,3],[70,5,72,11],[68,5,68,11],[30,2,30,3],[31,2,31,3],[32,2,32,3],[33,2,33,3],[47,2,47,3],[48,2,48,3],[49,2,50,3],[34,2,34,3],[46,2,46,3],[58,5,58,11],[84,0,84,1],[25,1,26,1],[39,1,40,1],[56,1,57,1],[59,1,60,1],[67,1,70,1],[45,1,46,1]]}
[]
[" "]
[null,null,null,null,null,null,null,null,null," "," "," "]
[]
[]
[]
[null,null,null,null,null,null,null,null,null," "," "," "]
[]
[]
[]
[null,null,"Cotización de Seguro Médico - Essential 100",null,null,null,null,"Cotización de Seguro Médico Internacional: BUPA ESSENTIAL 100"]
[]
["RESUMEN DE BENEFICIOS",null,null,null,null,null,"Nombre del asegurado :",{"$f":"+'INGRESO DE DATOS'!$D$15","v":"NOMBRE EL AGENTE"}]
[]
[null,null,null,null,null,null,"Broker / Agente :",{"$f":"+'INGRESO DE DATOS'!$D$26","v":"NOMBRE DE LA AGENCIA"}]
[]
[null,null,null,null,null,null,null,null,"Número de adultos en la póliza:",{"$f":"+'INGRESO DE DATOS'!$G$17","v":1},"Edad de Titular :",{"$f":"+'INGRESO DE DATOS'!$G$19","v":68}]
[]
[null,null,null,null,null,null,null,null,"Número hijos (menos 24 años):",{"$f":"+'INGRESO DE DATOS'!$J$17","v":0},"Edad de Cónyuge:",{"$f":"+'INGRESO DE DATOS'!$J$19","v":46}]
[null,null,null,null,null,null,null,null,null," "," "," "]
[null,null,null,null,null,null,null,null,"Fecha cotización:",{"$f":"+TODAY()","v":"2022-01-03"},"Zona de cotización:",{"$f":"'INGRESO DE DATOS'!G21","v":"Guayaquil/Santa Elena"}]
[null,null,null,null,null,null,null,null," "]
[null,null,null,null,null,"Deducibles",null,"PLAN 1","PLAN 2","PLAN 3","PLAN 4","PLAN 5"]
[null,null,null,null,null,"Dentro del pais de residencia",null,100,200,500,1000,2000]
[null,null,null,null,null,"Fuera del pais de residencia",null,100,200,500,1000,2000]
[]
[null,null,null,null,null,"Tarifas Mensuales"]
[null,null,null,null,null,"Prima de Titular :",null,{"$f":"VLOOKUP($L$17,Tablas!$A$217:$G$279,3,TRUE)+(60/12)+50","v":1142.03},{"$f":"VLOOKUP($L$17,Tablas!$A$217:$G$279,4,TRUE)+(60/12)+50","v":1119.9466666666667},{"$f":"VLOOKUP($L$17,Tablas!$A$217:$G$279,5,TRUE)+(60/12)+50","v":1058.7316666666666},{"$f":"VLOOKUP($L$17,Tablas!$A$217:$G$279,6,TRUE)+(60/12)+50","v":970.13333333333333},{"$f":"VLOOKUP($L$17,Tablas!$A$217:$G$279,7,TRUE)+(60/12)+50","v":897.08166666666671}]
[null,null,null,null,null,"Prima de Cónyuge",null,{"$f":"IF($J$17=1,0,(VLOOKUP($L$19,Tablas!$A$217:$G$279,3,TRUE)))","v":0},{"$f":"IF($J$17=1,0,(VLOOKUP($L$19,Tablas!$A$217:$G$279,4,TRUE)))","v":0},{"$f":"IF($J$17=1,0,(VLOOKUP($L$19,Tablas!$A$217:$G$279,5,TRUE)))","v":0},{"$f":"IF($J$17=1,0,(VLOOKUP($L$19,Tablas!$A$217:$G$279,6,TRUE)))","v":0},{"$f":"IF($J$17=1,0,(VLOOKUP($L$19,Tablas!$A$217:$G$279,7,TRUE)))","v":0}]
[null,null,null,null,null,"Primas Hijos :",null,{"$f":"IF($J$19=0,0,(VLOOKUP($J$19,Tablas!$A$280:$G$282,3,TRUE)))","v":0},{"$f":"IF($J$19=0,0,(VLOOKUP($J$19,Tablas!$A$280:$G$282,4,TRUE)))","v":0},{"$f":"IF($J$19=0,0,(VLOOKUP($J$19,Tablas!$A$280:$G$282,5,TRUE)))","v":0},{"$f":"IF($J$19=0,0,(VLOOKUP($J$19,Tablas!$A$280:$G$282,6,TRUE)))","v":0},{"$f":"IF($J$19=0,0,(VLOOKUP($J$19,Tablas!$A$280:$G$282,7,TRUE)))","v":0}]
[null,null,null,null,null,"TOTAL PRIMA NETA :",null,{"$f":"SUM(H28:H30)","v":1142.03},{"$f":"SUM(I28:I30)","v":1119.9466666666667},{"$f":"SUM(J28:J30)","v":1058.7316666666666},{"$f":"SUM(K28:K30)","v":970.13333333333333},{"$f":"SUM(L28:L30)","v":897.08166666666671}]
[null,null,null,null,null,"Costo Administrativo Anual :",null,0,0,0,0,0]
[null,null,null,null,null,"Contrib. 3.5% Super. Bancos :",null,{"$f":"+H31*3.5%","v":39.971050000000005},{"$f":"+I31*3.5%","v":39.198133333333338},37.055608333333332,33.954666666666668,31.397858333333339]
[null,null,null,null,null,"Contrib 0.5% Seg.Soc.Campes.:",null,{"$f":"+H31*0.5%","v":5.7101499999999996},{"$f":"+I31*0.5%","v":5.5997333333333339},5.2936583333333331,4.8506666666666671,4.4854083333333339]
[null,null,null,null,null,"TOTAL  Primer  Cuota :",null,{"$f":"SUM(H31:H34)","v":1187.7112000000002},{"$f":"SUM(I31:I34)","v":1164.7445333333333},{"$f":"SUM(J31:J34)","v":1101.0809333333332},{"$f":"SUM(K31:K34)","v":1008.9386666666667},{"$f":"SUM(L31:L34)","v":932.96493333333342}]
[null,null,null,null,null,"Valor Cuota Mensual 2 a 12 :",null,{"$f":"(H31 + H33 + H34)-52","v":1135.7112000000002},{"$f":"(I31 + I33 + I34)-52","v":1112.7445333333333},{"$f":"(J31 + J33 + J34)-52","v":1049.0809333333332},{"$f":"(K31 + K33 + K34)-52","v":956.93866666666668},{"$f":"(L31 + L33 + L34)-52","v":880.96493333333342}]
[]
[null,null,null,null,null,"Tarifas Anuales"]
[null,null,null,null,null,"Prima de Titular :",null,{"$f":"VLOOKUP($L$17,Tablas!$A$147:$G$209,3,TRUE)+(60)+50","v":12416},{"$f":"VLOOKUP($L$17,Tablas!$A$147:$G$209,4,TRUE)+(60)+50","v":12166},{"$f":"VLOOKUP($L$17,Tablas!$A$147:$G$209,5,TRUE)+(60)+50","v":11473},{"$f":"VLOOKUP($L$17,Tablas!$A$147:$G$209,6,TRUE)+(60)+50","v":10470},{"$f":"VLOOKUP($L$17,Tablas!$A$147:$G$209,7,TRUE)+(60)+50","v":9643}]
[null,null,null,null,null,"Prima de Cónyuge",null,{"$f":"IF($J$17=1,0,(VLOOKUP($L$19,Tablas!$A$147:$G$209,3,TRUE)))","v":0},{"$f":"IF($J$17=1,0,(VLOOKUP($L$19,Tablas!$A$147:$G$209,4,TRUE)))","v":0},{"$f":"IF($J$17=1,0,(VLOOKUP($L$19,Tablas!$A$147:$G$209,5,TRUE)))","v":0},{"$f":"IF($J$17=1,0,(VLOOKUP($L$19,Tablas!$A$147:$G$209,6,TRUE)))","v":0},{"$f":"IF($J$17=1,0,(VLOOKUP($L$19,Tablas!$A$147:$G$209,7,TRUE)))","v":0}]
[null,null,null,null,null,"Primas Hijos :",null,{"$f":"IF($J$19=0,0,(VLOOKUP($J$19,Tablas!$A$210:$G$212,3,TRUE)))","v":0},{"$f":"IF($J$19=0,0,(VLOOKUP($J$19,Tablas!$A$210:$G$212,4,TRUE)))","v":0},{"$f":"IF($J$19=0,0,(VLOOKUP($J$19,Tablas!$A$210:$G$212,5,TRUE)))","v":0},{"$f":"IF($J$19=0,0,(VLOOKUP($J$19,Tablas!$A$210:$G$212,6,TRUE)))","v":0},{"$f":"IF($J$19=0,0,(VLOOKUP($J$19,Tablas!$A$210:$G$212,7,TRUE)))","v":0}]
[null,null,null,null,null,"TOTAL PRIMA NETA :",null,{"$f":"SUM(H39:H41)","v":12416},{"$f":"SUM(I39:I41)","v":12166},11473,10470,9643]
[null,null,null,null,null,"Costo Administrativo Anual :",null,0,0,0,0,0]
[null,null,null,null,null,"Contrib. 3.5% Super. Bancos :",null,{"$f":"+H42*3.5%","v":434.56000000000006},{"$f":"+I42*3.5%","v":425.81000000000006},401.55500000000006,366.45000000000005,337.50500000000005]
[null,null,null,null,null,"Contrib 0.5% Seg.Soc.Campes.:",null,{"$f":"+H42*0.5%","v":62.08},{"$f":"+I42*0.5%","v":60.83},57.365000000000002,52.35,48.215000000000003]
[null,null,null,null,null,"GRAN TOTAL ANUAL :",null,{"$f":"SUM(H42:H45)","v":12912.64},{"$f":"SUM(I42:I45)","v":12652.64},{"$f":"SUM(J42:J45)","v":11931.92},{"$f":"SUM(K42:K45)","v":10888.800000000001},{"$f":"SUM(L42:L45)","v":10028.719999999999}]
[]
[null,null,null,null,null,"Tarifas Semestrales"]
[null,null,null,null,null,"Prima de Titular :",null,{"$f":"VLOOKUP($L$17,Tablas!$A$564:$G$626,3,TRUE)+(60/2)+50","v":6417.59},{"$f":"VLOOKUP($L$17,Tablas!$A$564:$G$626,4,TRUE)+(60/2)+50","v":6288.84},{"$f":"VLOOKUP($L$17,Tablas!$A$564:$G$626,5,TRUE)+(60/2)+50","v":5931.9449999999997},{"$f":"VLOOKUP($L$17,Tablas!$A$564:$G$626,6,TRUE)+(60/2)+50","v":5415.4000000000005},{"$f":"VLOOKUP($L$17,Tablas!$A$564:$G$626,7,TRUE)+(60/2)+50","v":4989.4949999999999}]
[null,null,null,null,null,"Prima de Cónyuge",null,{"$f":"IF($J$17=1,0,(VLOOKUP($L$19,Tablas!$A$564:$G$626,3,TRUE)))","v":0},{"$f":"IF($J$17=1,0,(VLOOKUP($L$19,Tablas!$A$564:$G$626,4,TRUE)))","v":0},{"$f":"IF($J$17=1,0,(VLOOKUP($L$19,Tablas!$A$564:$G$626,5,TRUE)))","v":0},{"$f":"IF($J$17=1,0,(VLOOKUP($L$19,Tablas!$A$564:$G$626,6,TRUE)))","v":0},{"$f":"IF($J$17=1,0,(VLOOKUP($L$19,Tablas!$A$564:$G$626,7,TRUE)))","v":0}]
[null,null,null,null,null,"Primas Hijos :",null,{"$f":"IF($J$19=0,0,(VLOOKUP($J$19,Tablas!$A$627:$G$629,3,TRUE)))","v":0},{"$f":"IF($J$19=0,0,(VLOOKUP($J$19,Tablas!$A$627:$G$629,4,TRUE)))","v":0},{"$f":"IF($J$19=0,0,(VLOOKUP($J$19,Tablas!$A$627:$G$629,5,TRUE)))","v":0},{"$f":"IF($J$19=0,0,(VLOOKUP($J$19,Tablas!$A$627:$G$629,6,TRUE)))","v":0},{"$f":"IF($J$19=0,0,(VLOOKUP($J$19,Tablas!$A$627:$G$629,7,TRUE)))","v":0}]
[null,null,null,null,null,"TOTAL PRIMA NETA :",null,{"$f":"SUM(H49:H51)","v":6417.59},{"$f":"SUM(I49:I51)","v":6288.84},{"$f":"SUM(J49:J51)","v":5931.9449999999997},{"$f":"SUM(K49:K51)","v":5415.4000000000005},{"$f":"SUM(L49:L51)","v":4989.4949999999999}]
[null,null,null,null,null,"Costo Administrativo Anual :",null,0,0,0,0,0]
[null,null,null,null,null,"Contrib. 3.5% Super. Bancos :",null,{"$f":"+H52*3.5%","v":224.61565000000002},{"$f":"+I52*3.5%","v":220.10940000000002},207.618075,189.53900000000004,174.63232500000001]
[null,null,null,null,null,"Contrib 0.5% Seg.Soc.Campes.:",null,{"$f":"+H52*0.5%","v":32.087949999999999},{"$f":"+I52*0.5%","v":31.444200000000002},29.659724999999998,27.077000000000002,24.947475000000001]
[null,null,null,null,null,"TOTAL  Primer  Cuota :",null,{"$f":"SUM(H52:H55)","v":6674.2936},{"$f":"SUM(I52:I55)","v":6540.3936000000003},{"$f":"SUM(J52:J55)","v":6169.2228000000005},{"$f":"SUM(K52:K55)","v":5632.0160000000005},{"$f":"SUM(L52:L55)","v":5189.0747999999994}]
[null,null,null,null,null,"Valor Segunda Cuota :",null,{"$f":"(H52 + H54 + H55)-52","v":6622.2936},{"$f":"(I52 + I54 + I55)-52","v":6488.3936000000003},{"$f":"(J52 + J54 + J55)-52","v":6117.2228000000005},{"$f":"(K52 + K54 + K55)-52","v":5580.0160000000005},{"$f":"(L52 + L54 + L55)-52","v":5137.0747999999994}]
[]
[null,null,null,null,null,"Tarifas Trimestrales"]
[null,null,null,null,null,"Prima de Titular :",null,{"$f":"VLOOKUP($L$17,Tablas!$A$777:$G$839,3,TRUE)+(60/4)+50","v":3279.9424999999997},{"$f":"VLOOKUP($L$17,Tablas!$A$777:$G$839,4,TRUE)+(60/4)+50","v":3214.6299999999997},{"$f":"VLOOKUP($L$17,Tablas!$A$777:$G$839,5,TRUE)+(60/4)+50","v":3033.5837499999998},{"$f":"VLOOKUP($L$17,Tablas!$A$777:$G$839,6,TRUE)+(60/4)+50","v":2771.5499999999997},{"$f":"VLOOKUP($L$17,Tablas!$A$777:$G$839,7,TRUE)+(60/4)+50","v":2555.4962499999997}]
[null,null,null,null,null,"Prima de Cónyuge",null,{"$f":"IF($J$17=1,0,(VLOOKUP($L$19,Tablas!$A$777:$G$839,3,TRUE)))","v":0},{"$f":"IF($J$17=1,0,(VLOOKUP($L$19,Tablas!$A$777:$G$839,4,TRUE)))","v":0},{"$f":"IF($J$17=1,0,(VLOOKUP($L$19,Tablas!$A$777:$G$839,5,TRUE)))","v":0},{"$f":"IF($J$17=1,0,(VLOOKUP($L$19,Tablas!$A$777:$G$839,6,TRUE)))","v":0},{"$f":"IF($J$17=1,0,(VLOOKUP($L$19,Tablas!$A$777:$G$839,7,TRUE)))","v":0}]
[null,null,null,null,null,"Primas Hijos :",null,{"$f":"IF($J$19=0,0,(VLOOKUP($J$19,Tablas!$A$840:$G$842,3,TRUE)))","v":0},{"$f":"IF($J$19=0,0,(VLOOKUP($J$19,Tablas!$A$840:$G$842,4,TRUE)))","v":0},{"$f":"IF($J$19=0,0,(VLOOKUP($J$19,Tablas!$A$840:$G$842,5,TRUE)))","v":0},{"$f":"IF($J$19=0,0,(VLOOKUP($J$19,Tablas!$A$840:$G$842,6,TRUE)))","v":0},{"$f":"IF($J$19=0,0,(VLOOKUP($J$19,Tablas!$A$840:$G$842,7,TRUE)))","v":0}]
[null,null,null,null,null,"TOTAL PRIMA NETA :",null,{"$f":"SUM(H60:H62)","v":3279.9424999999997},{"$f":"SUM(I60:I62)","v":3214.6299999999997},{"$f":"SUM(J60:J62)","v":3033.5837499999998},{"$f":"SUM(K60:K62)","v":2771.5499999999997},{"$f":"SUM(L60:L62)","v":2555.4962499999997}]
[null,null,null,null,null,"Costo Administrativo Anual :",null,0,0,0,0,0]
[null,null,null,null,null,"Contrib. 3.5% Super. Bancos :",null,{"$f":"+H63*3.5%","v":114.7979875},{"$f":"+I63*3.5%","v":112.51205},106.17543125,97.004249999999999,89.44236875]
[null,null,null,null,null,"Contrib 0.5% Seg.Soc.Campes.:",null,{"$f":"+H63*0.5%","v":16.3997125},{"$f":"+I63*0.5%","v":16.073149999999998},15.167918749999998,13.857749999999999,12.777481249999999]
[null,null,null,null,null,"TOTAL  Primer  Cuota :",null,{"$f":"SUM(H63:H66)","v":3411.1401999999998},{"$f":"SUM(I63:I66)","v":3343.2151999999996},{"$f":"SUM(J63:J66)","v":3154.9270999999999},{"$f":"SUM(K63:K66)","v":2882.4119999999998},{"$f":"SUM(L63:L66)","v":2657.7160999999996}]
[null,null,null,null,null,"Valor Cuota Trimestral 2 a 4:",null,{"$f":"(H63 + H65 + H66)-52","v":3359.1401999999998},{"$f":"(I63 + I65 + I66)-52","v":3291.2151999999996},{"$f":"(J63 + J65 + J66)-52","v":3102.9270999999999},{"$f":"(K63 + K65 + K66)-52","v":2830.4119999999998},{"$f":"(L63 + L65 + L66)-52","v":2605.7160999999996}]
[null,null,null,null,null,"Tarifas en US $ -  Válidas desde el 1ro. de enero de 2022"]
[]
[null,null,null,null,null,"Este presupuesto solamente tiene carácter informativo y en ningún momento expresa compromiso legal para suministrarle cobertura de seguro. La emisión de una póliza de seguro Bupa está sujeta a todas las evaluaciones de riesgo por parte de Bupa y a la recepción de todos los pagos de prima requeridos."]
[]
[]
[]
[]
[]
[]
[]
[]
[]
[]
[]
[]
["RED DE PROVEEDORES"]
["La Red para el producto Essential 100 ofrece cobertura en Ecuador, Latinoamérica y el Caribe. Sin embargo, ni la Compañía, ni USA Medical Services, ni ninguna de sus filiales o subsidiarias pertinentes relacionadas participarán en transacciones con cualquier parte o país donde dichas transacciones estén prohibidas por las leyes de los Estados Unidos de América. Por favor comuníquese con la Compañía para obtener más información sobre esta restricción."]

{"sheet":"Essential 50","index":5,"n_rows":78,"n_cols":12,"rows_kept":78,"cut":false,"hidden":false,"merged":[[58,5,58,11],[12,0,12,3],[13,0,13,3],[26,5,26,11],[37,5,37,11],[47,5,47,11],[12,7,12,11],[14,7,14,11],[45,2,45,3],[46,2,46,3],[38,2,41,3],[42,2,43,3],[44,2,44,3],[35,2,35,3],[36,2,36,3],[37,2,37,3],[10,5,10,11],[70,5,72,11],[47,2,47,3],[48,2,48,3],[15,2,17,3],[18,2,19,3],[21,2,21,3],[34,2,34,3],[25,2,25,3],[26,2,26,3],[27,2,27,3],[28,2,28,3],[68,5,68,11],[30,2,30,3],[23,2,23,3],[24,2,24,3],[14,2,14,3],[17,5,17,6],[18,5,18,6],[22,2,22,3],[29,2,29,3],[31,2,31,3],[32,2,32,3],[33,2,33,3],[49,2,50,3],[128,0,128,1],[77,0,77,1],[58,1,59,1],[66,1,69,1],[71,1,74,1],[76,0,76,1],[87,1,95,1],[109,1,110,1],[113,0,114,0],[115,1,116,1]]}
[]
[]
[null,null,null,null,null,null,null,null,null," "," "," "]
[]
[]
[]
[null,null,null,null,null,null,null,null,null," "," "," "]
[]
[]
[]
[null,null,null,null,null,"Cotización de Seguro Médico Internacional: ESSENTIAL 50"]
[]
["RESUMEN DE BENEFICIOS",null,null,null,null,null,"Nombre del asegurado :",{"$f":"+'INGRESO DE DATOS'!$D$15","v":"NOMBRE EL AGENTE"}]
[]
[null,null,null,null,null,null,"Broker / Agente :",{"$f":"+'INGRESO DE DATOS'!$D$26","v":"NOMBRE DE LA AGENCIA"}]
[]
[null,null,null,null,null,null,null,null,"Número de adultos en la póliza:",{"$f":"+'INGRESO DE DATOS'!$G$17","v":1},"Edad de Titular :",{"$f":"+'INGRESO DE DATOS'!$G$19","v":68}]
[]
[null,null,null,null,null,null,null,null,"Número hijos (menos 24 años):",{"$f":"+'INGRESO DE DATOS'!$J$17","v":0},"Edad de Cónyuge:",{"$f":"+'INGRESO DE DATOS'!$J$19","v":46}]
[null,null,null,null,null,null,null,null,null," "," "," "]
[null,null,null,null,null,null,null,null,"Fecha cotización:",{"$f":"+TODAY()","v":"2022-01-03"},"Zona de cotización:",{"$f":"'INGRESO DE DATOS'!G21","v":"Guayaquil/Santa Elena"}]
[null,null,null,null,null,null,null,null," "]
[null,null,null,null,null,"Deducibles",null,"PLAN 1","PLAN 2","PLAN 3","PLAN 4","PLAN 5"]
[null,null,null,null,null,"Dentro del pais de residencia",null,100,200,500,1000,2000]
[null,null,null,null,null,"Fuera del pais de residencia",null,100,200,500,1000,2000]
[]
[null,null,null,null,null,"Tarifas Mensuales"]
[null,null,null,null,null,"Prima de Titular :",null,{"$f":"VLOOKUP($L$17,Tablas!$A$359:$G$421,3,TRUE)+(60/12)+50","v":917.6633333333333},{"$f":"VLOOKUP($L$17,Tablas!$A$359:$G$421,4,TRUE)+(60/12)+50","v":899.99666666666667},{"$f":"VLOOKUP($L$17,Tablas!$A$359:$G$421,5,TRUE)+(60/12)+50","v":851.4133333333333},{"$f":"VLOOKUP($L$17,Tablas!$A$359:$G$421,6,TRUE)+(60/12)+50","v":781.54166666666663},{"$f":"VLOOKUP($L$17,Tablas!$A$359:$G$421,7,TRUE)+(60/12)+50","v":723.33}]
[null,null,null,null,null,"Prima de Cónyuge",null,{"$f":"IF($J$17=1,0,(VLOOKUP($L$19,Tablas!$A$359:$G$421,3,TRUE)))","v":0},{"$f":"IF($J$17=1,0,(VLOOKUP($L$19,Tablas!$A$359:$G$421,4,TRUE)))","v":0},{"$f":"IF($J$17=1,0,(VLOOKUP($L$19,Tablas!$A$359:$G$421,5,TRUE)))","v":0},{"$f":"IF($J$17=1,0,(VLOOKUP($L$19,Tablas!$A$359:$G$421,6,TRUE)))","v":0},{"$f":"IF($J$17=1,0,(VLOOKUP($L$19,Tablas!$A$359:$G$421,7,TRUE)))","v":0}]
[null,null,null,null,null,"Primas Hijos :",null,{"$f":"IF($J$19=0,0,(VLOOKUP($J$19,Tablas!$A$422:$G$424,3,TRUE)))","v":0},{"$f":"IF($J$19=0,0,(VLOOKUP($J$19,Tablas!$A$422:$G$424,4,TRUE)))","v":0},{"$f":"IF($J$19=0,0,(VLOOKUP($J$19,Tablas!$A$422:$G$424,5,TRUE)))","v":0},{"$f":"IF($J$19=0,0,(VLOOKUP($J$19,Tablas!$A$422:$G$424,6,TRUE)))","v":0},{"$f":"IF($J$19=0,0,(VLOOKUP($J$19,Tablas!$A$422:$G$424,7,TRUE)))","v":0}]
[null,null,null,null,null,"TOTAL PRIMA NETA :",null,{"$f":"SUM(H28:H30)","v":917.6633333333333},{"$f":"SUM(I28:I30)","v":899.99666666666667},{"$f":"SUM(J28:J30)","v":851.4133333333333},{"$f":"SUM(K28:K30)","v":781.54166666666663},{"$f":"SUM(L28:L30)","v":723.33}]
[null,null,null,null,null,"Costo Administrativo Anual :",null,0,0,0,0,0]
[null,null,null,null,null,"Contrib. 3.5% Super. Bancos :",null,{"$f":"+H31*3.5%","v":32.118216666666669},{"$f":"+I31*3.5%","v":31.499883333333337},29.799466666666667,27.353958333333335,25.316550000000003]
[null,null,null,null,null,"Contrib 0.5% Seg.Soc.Campes.:",null,{"$f":"+H31*0.5%","v":4.5883166666666666},{"$f":"+I31*0.5%","v":4.4999833333333337},4.2570666666666668,3.9077083333333333,3.6166500000000004]
[null,null,null,null,null,"TOTAL  Primer  Cuota :",null,{"$f":"SUM(H31:H34)","v":954.36986666666655},{"$f":"SUM(I31:I34)","v":935.99653333333333},{"$f":"SUM(J31:J34)","v":885.46986666666669},{"$f":"SUM(K31:K34)","v":812.80333333333328},{"$f":"SUM(L31:L34)","v":752.2632000000001}]
[null,null,null,null,null,"Valor Cuota Mensual 2 a 12 :",null,{"$f":"(H31 + H33 + H34)-52","v":902.36986666666655},{"$f":"(I31 + I33 + I34)-52","v":883.99653333333333},{"$f":"(J31 + J33 + J34)-52","v":833.46986666666669},{"$f":"(K31 + K33 + K34)-52","v":760.80333333333328},{"$f":"(L31 + L33 + L34)-52","v":700.2632000000001}]
[]
[null,null,null,null,null,"Tarifas Anuales"]
[null,null,null,null,null,"Prima de Titular :",null,{"$f":"VLOOKUP($L$17,Tablas!$A$289:$G$351,3,TRUE)+(60)+50","v":9876},{"$f":"VLOOKUP($L$17,Tablas!$A$289:$G$351,4,TRUE)+(60)+50","v":9676},{"$f":"VLOOKUP($L$17,Tablas!$A$289:$G$351,5,TRUE)+(60)+50","v":9126},{"$f":"VLOOKUP($L$17,Tablas!$A$289:$G$351,6,TRUE)+(60)+50","v":8335},{"$f":"VLOOKUP($L$17,Tablas!$A$289:$G$351,7,TRUE)+(60)+50","v":7676}]
[null,null,null,null,null,"Prima de Cónyuge",null,{"$f":"IF($J$17=1,0,(VLOOKUP($L$19,Tablas!$A$289:$G$351,3,TRUE)))","v":0},{"$f":"IF($J$17=1,0,(VLOOKUP($L$19,Tablas!$A$289:$G$351,4,TRUE)))","v":0},{"$f":"IF($J$17=1,0,(VLOOKUP($L$19,Tablas!$A$289:$G$351,5,TRUE)))","v":0},{"$f":"IF($J$17=1,0,(VLOOKUP($L$19,Tablas!$A$289:$G$351,6,TRUE)))","v":0},{"$f":"IF($J$17=1,0,(VLOOKUP($L$19,Tablas!$A$289:$G$351,7,TRUE)))","v":0}]
[null,null,null,null,null,"Primas Hijos :",null,{"$f":"IF($J$19=0,0,(VLOOKUP($J$19,Tablas!$A$352:$G$354,3,TRUE)))","v":0},{"$f":"IF($J$19=0,0,(VLOOKUP($J$19,Tablas!$A$352:$G$354,4,TRUE)))","v":0},{"$f":"IF($J$19=0,0,(VLOOKUP($J$19,Tablas!$A$352:$G$354,5,TRUE)))","v":0},{"$f":"IF($J$19=0,0,(VLOOKUP($J$19,Tablas!$A$352:$G$354,6,TRUE)))","v":0},{"$f":"IF($J$19=0,0,(VLOOKUP($J$19,Tablas!$A$352:$G$354,7,TRUE)))","v":0}]
[null,null,null,null,null,"TOTAL PRIMA NETA :",null,{"$f":"SUM(H39:H41)","v":9876},{"$f":"SUM(I39:I41)","v":9676},9126,8335,7676]
[null,null,null,null,null,"Costo Administrativo Anual :",null,0,0,0,0,0]
[null,null,null,null,null,"Contrib. 3.5% Super. Bancos :",null,{"$f":"+H42*3.5%","v":345.66},{"$f":"+I42*3.5%","v":338.66},319.41000000000003,291.72500000000002,268.66000000000003]
[null,null,null,null,null,"Contrib 0.5% Seg.Soc.Campes.:",null,{"$f":"+H42*0.5%","v":49.38},{"$f":"+I42*0.5%","v":48.38},45.63,41.675000000000004,38.380000000000003]
[null,null,null,null,null,"GRAN TOTAL ANUAL :",null,{"$f":"SUM(H42:H45)","v":10271.039999999999},{"$f":"SUM(I42:I45)","v":10063.039999999999},{"$f":"SUM(J42:J45)","v":9491.0399999999991},{"$f":"SUM(K42:K45)","v":8668.4},{"$f":"SUM(L42:L45)","v":7983.04}]
[]
[null,null,null,null,null,"Tarifas Semestrales"]
[null,null,null,null,null,"Prima de Titular :",null,{"$f":"VLOOKUP($L$17,Tablas!$A$635:$G$697,3,TRUE)+(60/2)+50","v":5109.49},{"$f":"VLOOKUP($L$17,Tablas!$A$635:$G$697,4,TRUE)+(60/2)+50","v":5006.49},{"$f":"VLOOKUP($L$17,Tablas!$A$635:$G$697,5,TRUE)+(60/2)+50","v":4723.24},{"$f":"VLOOKUP($L$17,Tablas!$A$635:$G$697,6,TRUE)+(60/2)+50","v":4315.875},{"$f":"VLOOKUP($L$17,Tablas!$A$635:$G$697,7,TRUE)+(60/2)+50","v":3976.4900000000002}]
[null,null,null,null,null,"Prima de Cónyuge",null,{"$f":"IF($J$17=1,0,(VLOOKUP($L$19,Tablas!$A$635:$G$697,3,TRUE)))","v":0},{"$f":"IF($J$17=1,0,(VLOOKUP($L$19,Tablas!$A$635:$G$697,4,TRUE)))","v":0},{"$f":"IF($J$17=1,0,(VLOOKUP($L$19,Tablas!$A$635:$G$697,5,TRUE)))","v":0},{"$f":"IF($J$17=1,0,(VLOOKUP($L$19,Tablas!$A$635:$G$697,6,TRUE)))","v":0},{"$f":"IF($J$17=1,0,(VLOOKUP($L$19,Tablas!$A$635:$G$697,7,TRUE)))","v":0}]
[null,null,null,null,null,"Primas Hijos :",null,{"$f":"IF($J$19=0,0,(VLOOKUP($J$19,Tablas!$A$698:$G$700,3,TRUE)))","v":0},{"$f":"IF($J$19=0,0,(VLOOKUP($J$19,Tablas!$A$698:$G$700,4,TRUE)))","v":0},{"$f":"IF($J$19=0,0,(VLOOKUP($J$19,Tablas!$A$698:$G$700,5,TRUE)))","v":0},{"$f":"IF($J$19=0,0,(VLOOKUP($J$19,Tablas!$A$698:$G$700,6,TRUE)))","v":0},{"$f":"IF($J$19=0,0,(VLOOKUP($J$19,Tablas!$A$698:$G$700,7,TRUE)))","v":0}]
[null,null,null,null,null,"TOTAL PRIMA NETA :",null,{"$f":"SUM(H49:H51)","v":5109.49},{"$f":"SUM(I49:I51)","v":5006.49},{"$f":"SUM(J49:J51)","v":4723.24},{"$f":"SUM(K49:K51)","v":4315.875},{"$f":"SUM(L49:L51)","v":3976.4900000000002}]
[null,null,null,null,null,"Costo Administrativo Anual :",null,0,0,0,0,0]
[null,null,null,null,null,"Contrib. 3.5% Super. Bancos :",null,{"$f":"+H52*3.5%","v":178.83215000000001},{"$f":"+I52*3.5%","v":175.22715000000002},165.3134,151.05562500000002,139.17715000000001]
[null,null,null,null,null,"Contrib 0.5% Seg.Soc.Campes.:",null,{"$f":"+H52*0.5%","v":25.547449999999998},{"$f":"+I52*0.5%","v":25.032450000000001},23.616199999999999,21.579374999999999,19.882450000000002]
[null,null,null,null,null,"TOTAL  Primer  Cuota :",null,{"$f":"SUM(H52:H55)","v":5313.8696},{"$f":"SUM(I52:I55)","v":5206.7495999999992},{"$f":"SUM(J52:J55)","v":4912.1696000000002},{"$f":"SUM(K52:K55)","v":4488.51},{"$f":"SUM(L52:L55)","v":4135.5496000000003}]
[null,null,null,null,null,"Valor Segunda Cuota :",null,{"$f":"(H52 + H54 + H55)-52","v":5261.8696},{"$f":"(I52 + I54 + I55)-52","v":5154.7495999999992},{"$f":"(J52 + J54 + J55)-52","v":4860.1696000000002},{"$f":"(K52 + K54 + K55)-52","v":4436.51},{"$f":"(L52 + L54 + L55)-52","v":4083.5496000000003}]
[]
[null,null,null,null,null,"Tarifas Trimestrales"]
[null,null,null,null,null,"Prima de Titular :",null,{"$f":"VLOOKUP($L$17,Tablas!$A$848:$G$910,3,TRUE)+(60/4)+50","v":2616.3674999999998},{"$f":"VLOOKUP($L$17,Tablas!$A$848:$G$910,4,TRUE)+(60/4)+50","v":2564.1174999999998},{"$f":"VLOOKUP($L$17,Tablas!$A$848:$G$910,5,TRUE)+(60/4)+50","v":2420.4299999999998},{"$f":"VLOOKUP($L$17,Tablas!$A$848:$G$910,6,TRUE)+(60/4)+50","v":2213.78125},{"$f":"VLOOKUP($L$17,Tablas!$A$848:$G$910,7,TRUE)+(60/4)+50","v":2041.6174999999998}]
[null,null,null,null,null,"Prima de Cónyuge",null,{"$f":"IF($J$17=1,0,(VLOOKUP($L$19,Tablas!$A$848:$G$910,3,TRUE)))","v":0},{"$f":"IF($J$17=1,0,(VLOOKUP($L$19,Tablas!$A$848:$G$910,4,TRUE)))","v":0},{"$f":"IF($J$17=1,0,(VLOOKUP($L$19,Tablas!$A$848:$G$910,5,TRUE)))","v":0},{"$f":"IF($J$17=1,0,(VLOOKUP($L$19,Tablas!$A$848:$G$910,6,TRUE)))","v":0},{"$f":"IF($J$17=1,0,(VLOOKUP($L$19,Tablas!$A$848:$G$910,7,TRUE)))","v":0}]
[null,null,null,null,null,"Primas Hijos :",null,{"$f":"IF($J$19=0,0,(VLOOKUP($J$19,Tablas!$A$911:$G$913,3,TRUE)))","v":0},{"$f":"IF($J$19=0,0,(VLOOKUP($J$19,Tablas!$A$911:$G$913,4,TRUE)))","v":0},{"$f":"IF($J$19=0,0,(VLOOKUP($J$19,Tablas!$A$911:$G$913,5,TRUE)))","v":0},{"$f":"IF($J$19=0,0,(VLOOKUP($J$19,Tablas!$A$911:$G$913,6,TRUE)))","v":0},{"$f":"IF($J$19=0,0,(VLOOKUP($J$19,Tablas!$A$911:$G$913,7,TRUE)))","v":0}]
[null,null,null,null,null,"TOTAL PRIMA NETA :",null,{"$f":"SUM(H60:H62)","v":2616.3674999999998},{"$f":"SUM(I60:I62)","v":2564.1174999999998},{"$f":"SUM(J60:J62)","v":2420.4299999999998},{"$f":"SUM(K60:K62)","v":2213.78125},{"$f":"SUM(L60:L62)","v":2041.6174999999998}]
[null,null,null,null,null,"Costo Administrativo Anual :",null,0,0,0,0,0]
[null,null,null,null,null,"Contrib. 3.5% Super. Bancos :",null,{"$f":"+H63*3.5%","v":91.572862499999999},{"$f":"+I63*3.5%","v":89.7441125},84.715050000000005,77.482343750000013,71.456612500000006]
[null,null,null,null,null,"Contrib 0.5% Seg.Soc.Campes.:",null,{"$f":"+H63*0.5%","v":13.081837499999999},{"$f":"+I63*0.5%","v":12.8205875},12.10215,11.06890625,10.2080875]
[null,null,null,null,null,"TOTAL  Primer  Cuota :",null,{"$f":"SUM(H63:H66)","v":2721.0221999999999},{"$f":"SUM(I63:I66)","v":2666.6821999999997},{"$f":"SUM(J63:J66)","v":2517.2471999999998},{"$f":"SUM(K63:K66)","v":2302.3325},{"$f":"SUM(L63:L66)","v":2123.2822000000001}]
[null,null,null,null,null,"Valor Cuota Trimestral 2 a 4:",null,{"$f":"(H63 + H65 + H66)-52","v":2669.0221999999999},{"$f":"(I63 + I65 + I66)-52","v":2614.6821999999997},{"$f":"(J63 + J65 + J66)-52","v":2465.2471999999998},{"$f":"(K63 + K65 + K66)-52","v":2250.3325},{"$f":"(L63 + L65 + L66)-52","v":2071.2822000000001}]
[null,null,null,null,null,"Tarifas en US $ -  Válidas desde el 1ro. de enero de 2022"]
[]
[null,null,null,null,null,"Este presupuesto solamente tiene carácter informativo y en ningún momento expresa compromiso legal para suministrarle cobertura de seguro. La emisión de una póliza de seguro Bupa está sujeta a todas las evaluaciones de riesgo por parte de Bupa y a la recepción de todos los pagos de prima requeridos."]
[]
[]
[]
[]
[]
["RED DE PROVEEDORES"]
["La Red para el producto Essential 50 ofrece cobertura en Ecuador, Latinoamérica y el Caribe. Sin embargo, ni la Compañía, ni USA Medical Services, ni ninguna de sus filiales o subsidiarias pertinentes relacionadas participarán en transacciones con cualquier parte o país donde dichas transacciones estén prohibidas por las leyes de los Estados Unidos de América. Por favor comuníquese con la Compañía para obtener más información sobre esta restricción."]

{"sheet":"Resumen tarifas","index":6,"n_rows":160,"n_cols":9,"rows_kept":160,"cut":false,"hidden":false,"merged":[[38,2,38,8],[67,2,67,8],[11,2,11,7],[46,0,46,1],[46,2,46,6],[64,0,64,1],[67,0,67,1],[50,0,50,1],[48,0,48,1],[14,2,14,7],[16,2,16,7],[19,0,19,1],[35,0,35,1],[38,0,38,1],[43,0,43,1],[40,0,40,1],[89,0,89,1],[39,0,39,1],[47,0,47,1],[49,0,49,1],[84,0,84,1],[57,0,57,1],[60,0,60,1],[86,0,86,1],[71,0,71,1],[74,0,74,1],[151,0,151,1],[154,0,154,7],[156,0,157,7],[159,3,159,6],[124,0,124,1],[127,0,127,1],[130,0,130,1],[130,2,130,6],[133,0,133,1],[147,0,147,7],[148,0,148,1],[132,0,132,1],[137,0,137,7],[138,0,139,7],[141,3,141,6],[134,0,134,1],[92,2,92,8],[150,0,150,1],[122,0,122,1],[123,0,123,1],[131,0,131,1],[104,0,104,1],[119,0,119,1],[111,0,111,1],[114,0,114,1],[97,0,97,1],[100,0,100,1],[92,0,92,1],[93,0,93,1],[115,0,115,1],[149,0,149,7],[101,0,101,1],[103,0,103,1],[100,2,100,6],[102,0,102,1],[114,2,114,8],[116,0,116,1],[122,2,122,8],[27,0,27,1],[30,0,30,1],[30,2,30,8],[31,0,31,1],[32,0,32,1],[60,2,60,8],[61,0,61,1],[81,0,81,1],[75,0,75,1],[76,0,76,1],[74,2,74,6],[68,0,68,1],[84,2,84,8],[85,0,85,1],[94,0,94,1]]}
[]
[null,null,null,null," "," "," "]
[]
[]
[]
[null,null,null,null," "," "," "," "]
[]
[]
[]
[]
[]
[null,null,"Cotización de Seguro Médico: Productos Essential"]
[]
[]
[null,"Nombre del asegurado :",{"$f":"+'INGRESO DE DATOS'!$D$15","v":"NOMBRE EL AGENTE"}]
[]
[null,"Broker / Agente :",{"$f":"+'INGRESO DE DATOS'!$D$26","v":"NOMBRE DE LA AGENCIA"}]
[]
[null,null,null,"Número de adultos en la póliza:",{"$f":"+'INGRESO DE DATOS'!$G$17","v":1},null,"Edad de Titular :",{"$f":"+'INGRESO DE DATOS'!$G$19","v":68}]
[]
[null,null,null,"Número hijos (menos 24 años):",{"$f":"+'INGRESO DE DATOS'!$J$17","v":0},null,"Edad de Cónyuge:",{"$f":"+'INGRESO DE DATOS'!$J$19","v":46}]
[null,null,null,null," "," "," "]
[null,null,null,"Fecha cotización:",{"$f":"+TODAY()","v":"2022-01-03"}]
[]
["Tarifas Mensuales",null,null,"Zona de cotización:",{"$f":"'INGRESO DE DATOS'!G21","v":"Guayaquil/Santa Elena"}]
[]
["Essential 1000"]
["Deducibles",null,"PLAN 1","PLAN 2","PLAN 3","PLAN 4","PLAN 5","PLAN 6","PLAN 7"]
["Dentro del pais de residencia",null,250,500,1000,2000,5000,10000,20000]
["Fuera del pais de residencia",null,500,1000,2000,4000,5000,10000,20000]
[null,null,"Tarifas Mensuales"]
["Primera Cuota",null,{"$f":"+'Essential 1000'!H35","v":1213.2501333333332},{"$f":"+'Essential 1000'!I35","v":1065.8041333333331},{"$f":"+'Essential 1000'!J35","v":949.68466666666666},{"$f":"+'Essential 1000'!K35","v":878.21239999999989},{"$f":"+'Essential 1000'!L35","v":620.89386666666667},{"$f":"+'Essential 1000'!M35","v":577.34906666666666},{"$f":"+'Essential 1000'!N35","v":532.15066666666667}]
["Valor cuota mensual 2 a 12",null,{"$f":"+'Essential 1000'!H36","v":1161.2501333333332},{"$f":"+'Essential 1000'!I36","v":1013.8041333333331},{"$f":"+'Essential 1000'!J36","v":897.68466666666666},{"$f":"+'Essential 1000'!K36","v":826.21239999999989},{"$f":"+'Essential 1000'!L36","v":568.89386666666667},{"$f":"+'Essential 1000'!M36","v":525.34906666666666},{"$f":"+'Essential 1000'!N36","v":480.15066666666667}]
[]
["Essential 500"]
["Deducibles",null,"PLAN 1","PLAN 2","PLAN 3","PLAN 4","PLAN 5","PLAN 6","PLAN 7"]
["Dentro del pais de residencia",null,250,500,1000,2000,5000,10000,20000]
["Fuera del pais de residencia",null,500,1000,2000,4000,5000,10000,20000]
[null,null,"Tarifas Mensuales"]
["Primera Cuota",null,{"$f":"+'Essential 500'!H35","v":1013.9913333333334},{"$f":"+'Essential 500'!I35","v":888.96080000000006},{"$f":"+'Essential 500'!J35","v":815.83493333333331},{"$f":"+'Essential 500'!K35","v":754.92733333333331},{"$f":"+'Essential 500'!L35","v":560.26186666666672},{"$f":"+'Essential 500'!M35","v":512.76679999999999},{"$f":"+'Essential 500'!N35","v":389.5736}]
["Valor cuota mensual 2 a 12",null,{"$f":"+'Essential 500'!H36","v":961.99133333333339},{"$f":"+'Essential 500'!I36","v":836.96080000000006},{"$f":"+'Essential 500'!J36","v":763.83493333333331},{"$f":"+'Essential 500'!K36","v":702.92733333333331},{"$f":"+'Essential 500'!L36","v":508.26186666666672},{"$f":"+'Essential 500'!M36","v":460.76679999999999},{"$f":"+'Essential 500'!N36","v":337.5736}]
[]
["Essential 100 y Essential 50"]
["Deducibles",null,"PLAN 1","PLAN 2","PLAN 3","PLAN 4","PLAN 5"]
["Dentro del pais de residencia",null,100,200,500,1000,2000]
["Fuera del pais de residencia",null,100,200,500,1000,2000]
[null,null,"Tarifas Mensuales"]
["Essential 100: Primera Cuota",null,{"$f":"+'Essential 100'!H35","v":1187.7112000000002},{"$f":"+'Essential 100'!I35","v":1164.7445333333333},{"$f":"+'Essential 100'!J35","v":1101.0809333333332},{"$f":"+'Essential 100'!K35","v":1008.9386666666667},{"$f":"+'Essential 100'!L35","v":932.96493333333342}]
["Essential 100: Cuota Mensual 2 a 12 ",null,{"$f":"+'Essential 100'!H36","v":1135.7112000000002},{"$f":"+'Essential 100'!I36","v":1112.7445333333333},{"$f":"+'Essential 100'!J36","v":1049.0809333333332},{"$f":"+'Essential 100'!K36","v":956.93866666666668},{"$f":"+'Essential 100'!L36","v":880.96493333333342}]
["Essential 50: Primera Cuota",null,{"$f":"+'Essential 50'!H35","v":954.36986666666655},{"$f":"+'Essential 50'!I35","v":935.99653333333333},{"$f":"+'Essential 50'!J35","v":885.46986666666669},{"$f":"+'Essential 50'!K35","v":812.80333333333328},{"$f":"+'Essential 50'!L35","v":752.2632000000001}]
["Essential 50 - Cuota Mensual 2 a 12",null,{"$f":"+'Essential 50'!H36","v":902.36986666666655},{"$f":"+'Essential 50'!I36","v":883.99653333333333},{"$f":"+'Essential 50'!J36","v":833.46986666666669},{"$f":"+'Essential 50'!K36","v":760.80333333333328},{"$f":"+'Essential 50'!L36","v":700.2632000000001}]
[]
[]
[]
["Tarifas Anuales"]
[]
["Essential 1000"]
["Deducibles",null,"PLAN 1","PLAN 2","PLAN 3","PLAN 4","PLAN 5","PLAN 6","PLAN 7"]
["Dentro del pais de residencia",null,250,500,1000,2000,5000,10000,20000]
["Fuera del pais de residencia",null,500,1000,2000,4000,5000,10000,20000]
[null,null,"Tarifas Anuales"]
["Primera Cuota",null,{"$f":"+'Essential 1000'!H46","v":13201.76},{"$f":"+'Essential 1000'!I46","v":11532.56},{"$f":"+'Essential 1000'!J46","v":10218},{"$f":"+'Essential 1000'!K46","v":9408.880000000001},{"$f":"+'Essential 1000'!L46","v":6495.8399999999992},{"$f":"+'Essential 1000'!M46","v":6002.88},{"$f":"+'Essential 1000'!N46","v":5491.2}]
[]
["Essential 500"]
["Deducibles",null,"PLAN 1","PLAN 2","PLAN 3","PLAN 4","PLAN 5","PLAN 6","PLAN 7"]
["Dentro del pais de residencia",null,250,500,1000,2000,5000,10000,20000]
["Fuera del pais de residencia",null,500,1000,2000,4000,5000,10000,20000]
[null,null,"Tarifas Anuales"]
["Essential 500",null,{"$f":"+'Essential 500'!H46","v":10946},{"$f":"+'Essential 500'!I46","v":9530.56},{"$f":"+'Essential 500'!J46","v":8702.7199999999993},{"$f":"+'Essential 500'!K46","v":8013.2},{"$f":"+'Essential 500'!L46","v":5809.4400000000005},{"$f":"+'Essential 500'!M46","v":5271.76},{"$f":"+'Essential 500'!N46","v":3877.12}]
[]
["Essential 100 y Essential 50"]
["Deducibles",null,"PLAN 1","PLAN 2","PLAN 3","PLAN 4","PLAN 5"]
["Dentro del pais de residencia",null,100,200,500,1000,2000]
["Fuera del pais de residencia",null,100,200,500,1000,2000]
[null,null,"Tarifas Anuales"]
["Essential 100",null,{"$f":"+'Essential 100'!H46","v":12912.64},{"$f":"+'Essential 100'!I46","v":12652.64},{"$f":"+'Essential 100'!J46","v":11931.92},{"$f":"+'Essential 100'!K46","v":10888.800000000001},{"$f":"+'Essential 100'!L46","v":10028.719999999999}]
["Essential 50",null,{"$f":"+'Essential 50'!H46","v":10271.039999999999},{"$f":"+'Essential 50'!I46","v":10063.039999999999},{"$f":"+'Essential 50'!J46","v":9491.0399999999991},{"$f":"+'Essential 50'!K46","v":8668.4},{"$f":"+'Essential 50'!L46","v":7983.04}]
[]
["Tarifas Semestrales"]
[]
["Essential 1000"]
["Deducibles",null,"PLAN 1","PLAN 2","PLAN 3","PLAN 4","PLAN 5","PLAN 6","PLAN 7"]
["Dentro del pais de residencia",null,250,500,1000,2000,5000,10000,20000]
["Fuera del pais de residencia",null,500,1000,2000,4000,5000,10000,20000]
[null,null,"Tarifas Mensuales"]
["Primera Cuota",null,{"$f":"+'Essential 1000'!H56","v":6823.1903999999995},{"$f":"+'Essential 1000'!I56","v":5963.5524000000005},{"$f":"+'Essential 1000'!J56","v":5286.5540000000001},{"$f":"+'Essential 1000'!K56","v":4869.8572000000004},{"$f":"+'Essential 1000'!L56","v":3369.6416000000004},{"$f":"+'Essential 1000'!M56","v":3115.7672000000007},{"$f":"+'Essential 1000'!N56","v":2852.2520000000004}]
["Segunda Cuota",null,{"$f":"+'Essential 1000'!H57","v":6771.1903999999995},{"$f":"+'Essential 1000'!I57","v":5911.5524000000005},{"$f":"+'Essential 1000'!J57","v":5234.5540000000001},{"$f":"+'Essential 1000'!K57","v":4817.8572000000004},{"$f":"+'Essential 1000'!L57","v":3317.6416000000004},{"$f":"+'Essential 1000'!M57","v":3063.7672000000007},{"$f":"+'Essential 1000'!N57","v":2800.2520000000004}]
[]
["Essential 500"]
["Deducibles",null,"PLAN 1","PLAN 2","PLAN 3","PLAN 4","PLAN 5","PLAN 6","PLAN 7"]
["Dentro del pais de residencia",null,250,500,1000,2000,5000,10000,20000]
["Fuera del pais de residencia",null,500,1000,2000,4000,5000,10000,20000]
[null,null,"Tarifas Semestrales"]
["Primera Cuota",null,{"$f":"+'Essential 500'!H56","v":5661.4740000000011},{"$f":"+'Essential 500'!I56","v":4932.5223999999998},{"$f":"+'Essential 500'!J56","v":4506.1848},{"$f":"+'Essential 500'!K56","v":4151.0820000000003},{"$f":"+'Essential 500'!L56","v":3016.1455999999998},{"$f":"+'Essential 500'!M56","v":2740.2404000000001},{"$f":"+'Essential 500'!N56","v":2023.0008}]
["Segunda Cuota",null,{"$f":"+'Essential 500'!H57","v":5609.4740000000011},{"$f":"+'Essential 500'!I57","v":4880.5223999999998},{"$f":"+'Essential 500'!J57","v":4454.1848},{"$f":"+'Essential 500'!K57","v":4099.0820000000003},{"$f":"+'Essential 500'!L57","v":2964.1455999999998},{"$f":"+'Essential 500'!M57","v":2687.2404000000001},{"$f":"+'Essential 500'!N57","v":1969.0008}]
[]
["Essential 100 y Essential 50"]
["Deducibles",null,"PLAN 1","PLAN 2","PLAN 3","PLAN 4","PLAN 5"]
["Dentro del pais de residencia",null,100,200,500,1000,2000]
["Fuera del pais de residencia",null,100,200,500,1000,2000]
[null,null,"Tarifas Mensuales"]
["Essential 100 - Primera cuota",null,{"$f":"+'Essential 100'!H56","v":6674.2936},{"$f":"+'Essential 100'!I56","v":6540.3936000000003},{"$f":"+'Essential 100'!J56","v":6169.2228000000005},{"$f":"+'Essential 100'!K56","v":5632.0160000000005},{"$f":"+'Essential 100'!L56","v":5189.0747999999994}]
["Essential 100 - Segunda Cuota",null,{"$f":"+'Essential 100'!H57","v":6622.2936},{"$f":"+'Essential 100'!I57","v":6488.3936000000003},{"$f":"+'Essential 100'!J57","v":6117.2228000000005},{"$f":"+'Essential 100'!K57","v":5580.0160000000005},{"$f":"+'Essential 100'!L57","v":5137.0747999999994}]
["Essential 50 - Primera Cuota",null,{"$f":"+'Essential 50'!H56","v":5313.8696},{"$f":"+'Essential 50'!I56","v":5206.7495999999992},{"$f":"+'Essential 50'!J56","v":4912.1696000000002},{"$f":"+'Essential 50'!K56","v":4488.51},{"$f":"+'Essential 50'!L56","v":4135.5496000000003}]
["Essential 50 - Seguda Cuota",null,{"$f":"+'Essential 50'!H57","v":5261.8696},{"$f":"+'Essential 50'!I57","v":5154.7495999999992},{"$f":"+'Essential 50'!J57","v":4860.1696000000002},{"$f":"+'Essential 50'!K57","v":4436.51},{"$f":"+'Essential 50'!L57","v":4083.5496000000003}]
[]
[]
[]
["Tarifas Trimestrales"]
[]
["Essential 1000"]
["Deducibles",null,"PLAN 1","PLAN 2","PLAN 3","PLAN 4","PLAN 5","PLAN 6","PLAN 7"]
["Dentro del pais de residencia",null,250,500,1000,2000,5000,10000,20000]
["Fuera del pais de residencia",null,500,1000,2000,4000,5000,10000,20000]
[null,null,"Tarifas Mensuales"]
["Primera Cuota",null,{"$f":"+'Essential 1000'!H67","v":3486.6727999999998},{"$f":"+'Essential 1000'!I67","v":3050.5942999999993},{"$f":"+'Essential 1000'!J67","v":2707.1654999999996},{"$f":"+'Essential 1000'!K67","v":2495.7828999999997},{"$f":"+'Essential 1000'!L67","v":1734.7511999999999},{"$f":"+'Essential 1000'!M67","v":1605.9654},{"$f":"+'Essential 1000'!N67","v":1472.289}]
["Valor de Cuota Trimestral 2 a 4",null,{"$f":"+'Essential 1000'!H68","v":3434.6727999999998},{"$f":"+'Essential 1000'!I68","v":2998.5942999999993},{"$f":"+'Essential 1000'!J68","v":2655.1654999999996},{"$f":"+'Essential 1000'!K68","v":2443.7828999999997},{"$f":"+'Essential 1000'!L68","v":1682.7511999999999},{"$f":"+'Essential 1000'!M68","v":1553.9654},{"$f":"+'Essential 1000'!N68","v":1420.289}]
[]
["Essential 500"]
["Deducibles",null,"PLAN 1","PLAN 2","PLAN 3","PLAN 4","PLAN 5","PLAN 6","PLAN 7"]
["Dentro del pais de residencia",null,250,500,1000,2000,5000,10000,20000]
["Fuera del pais de residencia",null,500,1000,2000,4000,5000,10000,20000]
[null,null,"Tarifas Trimestral"]
["Primera Cuota",null,{"$f":"+'Essential 500'!H67","v":2897.3555000000001},{"$f":"+'Essential 500'!I67","v":2527.5717999999997},{"$f":"+'Essential 500'!J67","v":2311.2986000000001},{"$f":"+'Essential 500'!K67","v":2131.1614999999997},{"$f":"+'Essential 500'!L67","v":1555.4291999999996}]
["Valor de Cuota Trimestral 2 a 4",null,{"$f":"+'Essential 500'!H68","v":2845.3555000000001},{"$f":"+'Essential 500'!I68","v":2475.5717999999997},{"$f":"+'Essential 500'!J68","v":2259.2986000000001},{"$f":"+'Essential 500'!K68","v":2079.1614999999997},{"$f":"+'Essential 500'!L68","v":1503.4291999999996}]
[]
["Essential 100 y Essential 50"]
["Deducibles",null,"PLAN 1","PLAN 2","PLAN 3","PLAN 4","PLAN 5"]
["Dentro del pais de residencia",null,100,200,500,1000,2000]
["Fuera del pais de residencia",null,100,200,500,1000,2000]
[null,null,"Tarifas Mensuales"]
["Essential 100 - Primera Cuota",null,{"$f":"+'Essential 100'!H67","v":3411.1401999999998},{"$f":"+'Essential 100'!I67","v":3343.2151999999996},{"$f":"+'Essential 100'!J67","v":3154.9270999999999},{"$f":"+'Essential 100'!K67","v":2882.4119999999998},{"$f":"+'Essential 100'!L67","v":2657.7160999999996}]
["Essential 100 - Cuota Trimestral 2 a 4",null,{"$f":"+'Essential 100'!H68","v":3359.1401999999998},{"$f":"+'Essential 100'!I68","v":3291.2151999999996},{"$f":"+'Essential 100'!J68","v":3102.9270999999999},{"$f":"+'Essential 100'!K68","v":2830.4119999999998},{"$f":"+'Essential 100'!L68","v":2605.7160999999996}]
["Essential 50 - Primera Cuota",null,{"$f":"+'Essential 50'!H67","v":2721.0221999999999},{"$f":"+'Essential 50'!I67","v":2666.6821999999997},{"$f":"+'Essential 50'!J67","v":2517.2471999999998},{"$f":"+'Essential 50'!K67","v":2302.3325},{"$f":"+'Essential 50'!L67","v":2123.2822000000001}]
["Essential 50 - Cuota trimestral 2 a 4",null,{"$f":"+'Essential 50'!H68","v":2669.0221999999999},{"$f":"+'Essential 50'!I68","v":2614.6821999999997},{"$f":"+'Essential 50'!J68","v":2465.2471999999998},{"$f":"+'Essential 50'!K68","v":2250.3325},{"$f":"+'Essential 50'!L68","v":2071.2822000000001}]
[]
[]
["Tarifas (Essential 500, 100 y 50 ) en US $ -  Válidas desde 1ro. de enero de 2022"]
["Este presupuesto solamente tiene carácter informativo y en ningún momento expresa compromiso legal para suministrarle cobertura de seguro. La emisión de una póliza de seguro Bupa está sujeta a todas las evaluaciones de riesgo por parte de Bupa y a la recepción de todos los pagos de prima requeridos."]
[]
[]
[null,null,null,"Las tarifas resaltadas en gris del PLAN 1 son solo para renovaciones."]
[]
["Essential Care"]
["Deducibles",null,"PLAN 1","PLAN 2","PLAN 3","PLAN 4","PLAN 5","PLAN 6"]
["Deducible en Ecuador",null,0,1000,2000,5000,10000,20000]
["Deducible fuera de Ecuador",null,1000,2000,3000,5000,10000,20000]
["Tarifas Anuales"]
["Gran Total",null,{"$f":"+'Essential Care'!H42","v":22731.279999999999},{"$f":"+'Essential Care'!I42","v":18271.760000000002},{"$f":"+'Essential Care'!J42","v":16812.640000000003},{"$f":"+'Essential Care'!K42","v":11418.16},{"$f":"+'Essential Care'!L42","v":9148.880000000001},{"$f":"+'Essential Care'!M42","v":6841.12}]
["Tarifas Semestrales"]
["Primera Cuota",null,{"$f":"+'Essential Care'!H57","v":12084.2384},{"$f":"+'Essential Care'!I57","v":9720.6927999999989},{"$f":"+'Essential Care'!J57","v":8947.359199999999},{"$f":"+'Essential Care'!K57","v":6088.2847999999994},{"$f":"+'Essential Care'!L57","v":4885.5663999999997},{"$f":"+'Essential Care'!M57","v":3662.4536000000003}]
["Segunda Cuota",null,{"$f":"+'Essential Care'!H58","v":12006.2384},{"$f":"+'Essential Care'!I58","v":9642.6927999999989},{"$f":"+'Essential Care'!J58","v":8869.359199999999},{"$f":"+'Essential Care'!K58","v":6010.2847999999994},{"$f":"+'Essential Care'!L58","v":4807.5663999999997},{"$f":"+'Essential Care'!M58","v":3584.4536000000003}]
[]
[]
["Tarifas en US $ -  Válidas desde el 1ro. de enero de 2022"]
[]
["Este presupuesto solamente tiene carácter informativo y en ningún momento expresa compromiso legal para suministrarle cobertura de seguro. La emisión de una póliza de seguro Bupa está sujeta a todas las evaluaciones de riesgo por parte de Bupa y a la recepción de todos los pagos de prima requeridos."]
[]
[]
[null,null,null,"Las tarifas resaltadas en gris del PLAN 1 son solo para renovaciones."]

{"sheet":"Tablas","index":7,"n_rows":1198,"n_cols":17,"rows_kept":1198,"cut":false,"hidden":true,"merged":[[1,0,1,6],[2,0,2,6],[73,0,73,1],[73,2,73,6],[72,0,72,6],[3,0,3,1],[3,2,3,6],[142,0,142,6],[143,0,143,6],[144,0,144,1],[144,2,144,6],[213,0,213,6],[214,0,214,1],[355,0,355,6],[214,2,214,6],[425,0,425,6],[284,0,284,6],[285,0,285,6],[286,0,286,1],[286,2,286,6],[356,0,356,1],[356,2,356,6],[457,0,457,6],[426,0,426,6],[427,0,427,1],[427,2,427,6],[458,0,458,1],[458,2,458,6],[560,0,560,6],[488,0,488,6],[489,0,489,6],[490,0,490,1],[490,2,490,6],[559,0,559,6],[561,0,561,1],[561,2,561,6],[630,0,630,6],[631,0,631,6],[632,0,632,1],[632,2,632,6],[773,0,773,6],[701,0,701,6],[702,0,702,6],[703,0,703,1],[703,2,703,6],[772,0,772,6],[774,0,774,1],[774,2,774,6],[843,0,843,6],[844,0,844,6],[845,0,845,1],[845,2,845,6],[987,0,987,6],[988,0,988,1],[988,2,988,6],[915,0,915,6],[916,0,916,6],[917,0,917,1],[917,2,917,6],[986,0,986,6],[1129,0,1129,6],[1130,0,1130,1],[1130,2,1130,6],[1057,0,1057,6],[1058,0,1058,6],[1059,0,1059,1],[1059,2,1059,6],[1128,0,1128,6]]}
[]
["FLEX 500",null,null,null,null,null,null,null,null,null,"FACTOR MENSUAL:",null,{"$f":"1.06/12","v":8.8333333333333333E-2},null,null,"Zonas"]
["TARIFAS ANUALES",null,null,null,null,null,null,null,null,null,"FACTOR SEMESTRAL:",null,{"$f":"1.03/2","v":0.51500000000000001},null,null,"Guayaquil/Santa Elena"]
["EDAD",null,null,null,null,null,null,null,null,null,"FACTOR TRIMESTRAL:",null,{"$f":"1.045/4","v":0.26124999999999998},null,null,"Resto de Ecuador"]
[" "," ","F500-1","F500-2","F500-3","F500-4","F500-5","F500-6","F500-7"]
[18,null,{"$f":"IF('INGRESO DE DATOS'!$G$21=\"Guayaquil/Santa Elena\",'Tablas Guayaquil'!C6,'Tablas Resto de Ecuador'!C6)","v":2184},{"$f":"IF('INGRESO DE DATOS'!$G$21=\"Guayaquil/Santa Elena\",'Tablas Guayaquil'!D6,'Tablas Resto de Ecuador'!D6)","v":1868},{"$f":"IF('INGRESO DE DATOS'!$G$21=\"Guayaquil/Santa Elena\",'Tablas Guayaquil'!E6,'Tablas Resto de Ecuador'!E6)","v":1368},{"$f":"IF('INGRESO DE DATOS'!$G$21=\"Guayaquil/Santa Elena\",'Tablas Guayaquil'!F6,'Tablas Resto de Ecuador'!F6)","v":943},{"$f":"IF('INGRESO DE DATOS'!$G$21=\"Guayaquil/Santa Elena\",'Tablas Guayaquil'!G6,'Tablas Resto de Ecuador'!G6)","v":514},{"$f":"IF('INGRESO DE DATOS'!$G$21=\"Guayaquil/Santa Elena\",'Tablas Guayaquil'!H6,'Tablas Resto de Ecuador'!H6)","v":304},{"$f":"IF('INGRESO DE DATOS'!$G$21=\"Guayaquil/Santa Elena\",'Tablas Guayaquil'!I6,'Tablas Resto de Ecuador'!I6)","v":175}]
[19,null,{"$f":"IF('INGRESO DE DATOS'!$G$21=\"Guayaquil/Santa Elena\",'Tablas Guayaquil'!C7,'Tablas Resto de Ecuador'!C7)","v":2220},{"$f":"IF('INGRESO DE DATOS'!$G$21=\"Guayaquil/Santa Elena\",'Tablas Guayaquil'!D7,'Tablas Resto de Ecuador'!D7)","v":1868},{"$f":"IF('INGRESO DE DATOS'!$G$21=\"Guayaquil/Santa Elena\",'Tablas Guayaquil'!E7,'Tablas Resto de Ecuador'!E7)","v":1368},{"$f":"IF('INGRESO DE DATOS'!$G$21=\"Guayaquil/Santa Elena\",'Tablas Guayaquil'!F7,'Tablas Resto de Ecuador'!F7)","v":944},{"$f":"IF('INGRESO DE DATOS'!$G$21=\"Guayaquil/Santa Elena\",'Tablas Guayaquil'!G7,'Tablas Resto de Ecuador'!G7)","v":519},{"$f":"IF('INGRESO DE DATOS'!$G$21=\"Guayaquil/Santa Elena\",'Tablas Guayaquil'!H7,'Tablas Resto de Ecuador'!H7)","v":309},{"$f":"IF('INGRESO DE DATOS'!$G$21=\"Guayaquil/Santa Elena\",'Tablas Guayaquil'!I7,'Tablas Resto de Ecuador'!I7)","v":179}]
[20,null,{"$f":"IF('INGRESO DE DATOS'!$G$21=\"Guayaquil/Santa Elena\",'Tablas Guayaquil'!C8,'Tablas Resto de Ecuador'!C8)","v":2259},{"$f":"IF('INGRESO DE DATOS'!$G$21=\"Guayaquil/Santa Elena\",'Tablas Guayaquil'!D8,'Tablas Resto de Ecuador'!D8)","v":1868},{"$f":"IF('INGRESO DE DATOS'!$G$21=\"Guayaquil/Santa Elena\",'Tablas Guayaquil'!E8,'Tablas Resto de Ecuador'!E8)","v":1368},{"$f":"IF('INGRESO DE DATOS'!$G$21=\"Guayaquil/Santa Elena\",'Tablas Guayaquil'!F8,'Tablas Resto de Ecuador'!F8)","v":947},{"$f":"IF('INGRESO DE DATOS'!$G$21=\"Guayaquil/Santa Elena\",'Tablas Guayaquil'!G8,'Tablas Resto de Ecuador'!G8)","v":525},{"$f":"IF('INGRESO DE DATOS'!$G$21=\"Guayaquil/Santa Elena\",'Tablas Guayaquil'!H8,'Tablas Resto de Ecuador'!H8)","v":313},{"$f":"IF('INGRESO DE DATOS'!$G$21=\"Guayaquil/Santa Elena\",'Tablas Guayaquil'!I8,'Tablas Resto de Ecuador'!I8)","v":183}]
[21,null,{"$f":"IF('INGRESO DE DATOS'!$G$21=\"Guayaquil/Santa Elena\",'Tablas Guayaquil'!C9,'Tablas Resto de Ecuador'!C9)","v":2302},{"$f":"IF('INGRESO DE DATOS'!$G$21=\"Guayaquil/Santa Elena\",'Tablas Guayaquil'!D9,'Tablas Resto de Ecuador'!D9)","v":1868},{"$f":"IF('INGRESO DE DATOS'!$G$21=\"Guayaquil/Santa Elena\",'Tablas Guayaquil'!E9,'Tablas Resto de Ecuador'!E9)","v":1370},{"$f":"IF('INGRESO DE DATOS'!$G$21=\"Guayaquil/Santa Elena\",'Tablas Guayaquil'!F9,'Tablas Resto de Ecuador'!F9)","v":953},{"$f":"IF('INGRESO DE DATOS'!$G$21=\"Guayaquil/Santa Elena\",'Tablas Guayaquil'!G9,'Tablas Resto de Ecuador'!G9)","v":531},{"$f":"IF('INGRESO DE DATOS'!$G$21=\"Guayaquil/Santa Elena\",'Tablas Guayaquil'!H9,'Tablas Resto de Ecuador'!H9)","v":320},{"$f":"IF('INGRESO DE DATOS'!$G$21=\"Guayaquil/Santa Elena\",'Tablas Guayaquil'!I9,'Tablas Resto de Ecuador'!I9)","v":188}]
[22,null,{"$f":"IF('INGRESO DE DATOS'!$G$21=\"Guayaquil/Santa Elena\",'Tablas Guayaquil'!C10,'Tablas Resto de Ecuador'!C10)","v":2339},{"$f":"IF('INGRESO DE DATOS'!$G$21=\"Guayaquil/Santa Elena\",'Tablas Guayaquil'!D10,'Tablas Resto de Ecuador'!D10)","v":1868},{"$f":"IF('INGRESO DE DATOS'!$G$21=\"Guayaquil/Santa Elena\",'Tablas Guayaquil'!E10,'Tablas Resto de Ecuador'!E10)","v":1374},{"$f":"IF('INGRESO DE DATOS'!$G$21=\"Guayaquil/Santa Elena\",'Tablas Guayaquil'!F10,'Tablas Resto de Ecuador'!F10)","v":960},{"$f":"IF('INGRESO DE DATOS'!$G$21=\"Guayaquil/Santa Elena\",'Tablas Guayaquil'!G10,'Tablas Resto de Ecuador'!G10)","v":539},{"$f":"IF('INGRESO DE DATOS'!$G$21=\"Guayaquil/Santa Elena\",'Tablas Guayaquil'!H10,'Tablas Resto de Ecuador'!H10)","v":326},{"$f":"IF('INGRESO DE DATOS'!$G$21=\"Guayaquil/Santa Elena\",'Tablas Guayaquil'!I10,'Tablas Resto de Ecuador'!I10)","v":193}]
[23,null,{"$f":"IF('INGRESO DE DATOS'!$G$21=\"Guayaquil/Santa Elena\",'Tablas Guayaquil'!C11,'Tablas Resto de Ecuador'!C11)","v":2378},{"$f":"IF('INGRESO DE DATOS'!$G$21=\"Guayaquil/Santa Elena\",'Tablas Guayaquil'!D11,'Tablas Resto de Ecuador'!D11)","v":1873},{"$f":"IF('INGRESO DE DATOS'!$G$21=\"Guayaquil/Santa Elena\",'Tablas Guayaquil'!E11,'Tablas Resto de Ecuador'!E11)","v":1383},{"$f":"IF('INGRESO DE DATOS'!$G$21=\"Guayaquil/Santa Elena\",'Tablas Guayaquil'!F11,'Tablas Resto de Ecuador'!F11)","v":970},{"$f":"IF('INGRESO DE DATOS'!$G$21=\"Guayaquil/Santa Elena\",'Tablas Guayaquil'!G11,'Tablas Resto de Ecuador'!G11)","v":548},{"$f":"IF('INGRESO DE DATOS'!$G$21=\"Guayaquil/Santa Elena\",'Tablas Guayaquil'!H11,'Tablas Resto de Ecuador'!H11)","v":334},{"$f":"IF('INGRESO DE DATOS'!$G$21=\"Guayaquil/Santa Elena\",'Tablas Guayaquil'!I11,'Tablas Resto de Ecuador'!I11)","v":198}]
[24,null,{"$f":"IF('INGRESO DE DATOS'!$G$21=\"Guayaquil/Santa Elena\",'Tablas Guayaquil'!C12,'Tablas Resto de Ecuador'!C12)","v":2384},{"$f":"IF('INGRESO DE DATOS'!$G$21=\"Guayaquil/Santa Elena\",'Tablas Guayaquil'!D12,'Tablas Resto de Ecuador'!D12)","v":1882},{"$f":"IF('INGRESO DE DATOS'!$G$21=\"Guayaquil/Santa Elena\",'Tablas Guayaquil'!E12,'Tablas Resto de Ecuador'!E12)","v":1394},{"$f":"IF('INGRESO DE DATOS'!$G$21=\"Guayaquil/Santa Elena\",'Tablas Guayaquil'!F12,'Tablas Resto de Ecuador'!F12)","v":983},{"$f":"IF('INGRESO DE DATOS'!$G$21=\"Guayaquil/Santa Elena\",'Tablas Guayaquil'!G12,'Tablas Resto de Ecuador'!G12)","v":558},{"$f":"IF('INGRESO DE DATOS'!$G$21=\"Guayaquil/Santa Elena\",'Tablas Guayaquil'!H12,'Tablas Resto de Ecuador'!H12)","v":342},{"$f":"IF('INGRESO DE DATOS'!$G$21=\"Guayaquil/Santa Elena\",'Tablas Guayaquil'!I12,'Tablas Resto de Ecuador'!I12)","v":205}]
[25,null,{"$f":"IF('INGRESO DE DATOS'!$G$21=\"Guayaquil/Santa Elena\",'Tablas Guayaquil'!C13,'Tablas Resto de Ecuador'!C13)","v":2395},{"$f":"IF('INGRESO DE DATOS'!$G$21=\"Guayaquil/Santa Elena\",'Tablas Guayaquil'!D13,'Tablas Resto de Ecuador'!D13)","v":1895},{"$f":"IF('INGRESO DE DATOS'!$G$21=\"Guayaquil/Santa Elena\",'Tablas Guayaquil'!E13,'Tablas Resto de Ecuador'!E13)","v":1409},{"$f":"IF('INGRESO DE DATOS'!$G$21=\"Guayaquil/Santa Elena\",'Tablas Guayaquil'!F13,'Tablas Resto de Ecuador'!F13)","v":998},{"$f":"IF('INGRESO DE DATOS'!$G$21=\"Guayaquil/Santa Elena\",'Tablas Guayaquil'!G13,'Tablas Resto de Ecuador'!G13)","v":570},{"$f":"IF('INGRESO DE DATOS'!$G$21=\"Guayaquil/Santa Elena\",'Tablas Guayaquil'!H13,'Tablas Resto de Ecuador'!H13)","v":351},{"$f":"IF('INGRESO DE DATOS'!$G$21=\"Guayaquil/Santa Elena\",'Tablas Guayaquil'!I13,'Tablas Resto de Ecuador'!I13)","v":212}]
[26,null,{"$f":"IF('INGRESO DE DATOS'!$G$21=\"Guayaquil/Santa Elena\",'Tablas Guayaquil'!C14,'Tablas Resto de Ecuador'!C14)","v":2413},{"$f":"IF('INGRESO DE DATOS'!$G$21=\"Guayaquil/Santa Elena\",'Tablas Guayaquil'!D14,'Tablas Resto de Ecuador'!D14)","v":1914},{"$f":"IF('INGRESO DE DATOS'!$G$21=\"Guayaquil/Santa Elena\",'Tablas Guayaquil'!E14,'Tablas Resto de Ecuador'!E14)","v":1429},{"$f":"IF('INGRESO DE DATOS'!$G$21=\"Guayaquil/Santa Elena\",'Tablas Guayaquil'!F14,'Tablas Resto de Ecuador'!F14)","v":1015},{"$f":"IF('INGRESO DE DATOS'!$G$21=\"Guayaquil/Santa Elena\",'Tablas Guayaquil'!G14,'Tablas Resto de Ecuador'!G14)","v":584},{"$f":"IF('INGRESO DE DATOS'!$G$21=\"Guayaquil/Santa Elena\",'Tablas Guayaquil'!H14,'Tablas Resto de Ecuador'!H14)","v":362},{"$f":"IF('INGRESO DE DATOS'!$G$21=\"Guayaquil/Santa Elena\",'Tablas Guayaquil'!I14,'Tablas Resto de Ecuador'!I14)","v":219}]
[27,null,{"$f":"IF('INGRESO DE DATOS'!$G$21=\"Guayaquil/Santa Elena\",'Tablas Guayaquil'!C15,'Tablas Resto de Ecuador'!C15)","v":2437},{"$f":"IF('INGRESO DE DATOS'!$G$21=\"Guayaquil/Santa Elena\",'Tablas Guayaquil'!D15,'Tablas Resto de Ecuador'!D15)","v":1938},{"$f":"IF('INGRESO DE DATOS'!$G$21=\"Guayaquil/Santa Elena\",'Tablas Guayaquil'!E15,'Tablas Resto de Ecuador'!E15)","v":1452},{"$f":"IF('INGRESO DE DATOS'!$G$21=\"Guayaquil/Santa Elena\",'Tablas Guayaquil'!F15,'Tablas Resto de Ecuador'!F15)","v":1035},{"$f":"IF('INGRESO DE DATOS'!$G$21=\"Guayaquil/Santa Elena\",'Tablas Guayaquil'!G15,'Tablas Resto de Ecuador'!G15)","v":599},{"$f":"IF('INGRESO DE DATOS'!$G$21=\"Guayaquil/Santa Elena\",'Tablas Guayaquil'!H15,'Tablas Resto de Ecuador'!H15)","v":373},{"$f":"IF('INGRESO DE DATOS'!$G$21=\"Guayaquil/Santa Elena\",'Tablas Guayaquil'!I15,'Tablas Resto de Ecuador'!I15)","v":227}]
[28,null,{"$f":"IF('INGRESO DE DATOS'!$G$21=\"Guayaquil/Santa Elena\",'Tablas Guayaquil'!C16,'Tablas Resto de Ecuador'!C16)","v":2467},{"$f":"IF('INGRESO DE DATOS'!$G$21=\"Guayaquil/Santa Elena\",'Tablas Guayaquil'!D16,'Tablas Resto de Ecuador'!D16)","v":1967},{"$f":"IF('INGRESO DE DATOS'!$G$21=\"Guayaquil/Santa Elena\",'Tablas Guayaquil'!E16,'Tablas Resto de Ecuador'!E16)","v":1478},{"$f":"IF('INGRESO DE DATOS'!$G$21=\"Guayaquil/Santa Elena\",'Tablas Guayaquil'!F16,'Tablas Resto de Ecuador'!F16)","v":1058},{"$f":"IF('INGRESO DE DATOS'!$G$21=\"Guayaquil/Santa Elena\",'Tablas Guayaquil'!G16,'Tablas Resto de Ecuador'!G16)","v":616},{"$f":"IF('INGRESO DE DATOS'!$G$21=\"Guayaquil/Santa Elena\",'Tablas Guayaquil'!H16,'Tablas Resto de Ecuador'!H16)","v":386},{"$f":"IF('INGRESO DE DATOS'!$G$21=\"Guayaquil/Santa Elena\",'Tablas Guayaquil'!I16,'Tablas Resto de Ecuador'!I16)","v":236}]
[29,null,{"$f":"IF('INGRESO DE DATOS'!$G$21=\"Guayaquil/Santa Elena\",'Tablas Guayaquil'!C17,'Tablas Resto de Ecuador'!C17)","v":2503},{"$f":"IF('INGRESO DE DATOS'!$G$21=\"Guayaquil/Santa Elena\",'Tablas Guayaquil'!D17,'Tablas Resto de Ecuador'!D17)","v":2000},{"$f":"IF('INGRESO DE DATOS'!$G$21=\"Guayaquil/Santa Elena\",'Tablas Guayaquil'!E17,'Tablas Resto de Ecuador'!E17)","v":1508},{"$f":"IF('INGRESO DE DATOS'!$G$21=\"Guayaquil/Santa Elena\",'Tablas Guayaquil'!F17,'Tablas Resto de Ecuador'!F17)","v":1084},{"$f":"IF('INGRESO DE DATOS'!$G$21=\"Guayaquil/Santa Elena\",'Tablas Guayaquil'!G17,'Tablas Resto de Ecuador'!G17)","v":635},{"$f":"IF('INGRESO DE DATOS'!$G$21=\"Guayaquil/Santa Elena\",'Tablas Guayaquil'!H17,'Tablas Resto de Ecuador'!H17)","v":400},{"$f":"IF('INGRESO DE DATOS'!$G$21=\"Guayaquil/Santa Elena\",'Tablas Guayaquil'!I17,'Tablas Resto de Ecuador'!I17)","v":247}]
[30,null,{"$f":"IF('INGRESO DE DATOS'!$G$21=\"Guayaquil/Santa Elena\",'Tablas Guayaquil'!C18,'Tablas Resto de Ecuador'!C18)","v":2545},{"$f":"IF('INGRESO DE DATOS'!$G$21=\"Guayaquil/Santa Elena\",'Tablas Guayaquil'!D18,'Tablas Resto de Ecuador'!D18)","v":2040},{"$f":"IF('INGRESO DE DATOS'!$G$21=\"Guayaquil/Santa Elena\",'Tablas Guayaquil'!E18,'Tablas Resto de Ecuador'!E18)","v":1543},{"$f":"IF('INGRESO DE DATOS'!$G$21=\"Guayaquil/Santa Elena\",'Tablas Guayaquil'!F18,'Tablas Resto de Ecuador'!F18)","v":1113},{"$f":"IF('INGRESO DE DATOS'!$G$21=\"Guayaquil/Santa Elena\",'Tablas Guayaquil'!G18,'Tablas Resto de Ecuador'!G18)","v":656},{"$f":"IF('INGRESO DE DATOS'!$G$21=\"Guayaquil/Santa Elena\",'Tablas Guayaquil'!H18,'Tablas Resto de Ecuador'!H18)","v":414},{"$f":"IF('INGRESO DE DATOS'!$G$21=\"Guayaquil/Santa Elena\",'Tablas Guayaquil'!I18,'Tablas Resto de Ecuador'!I18)","v":257}]
[31,null,{"$f":"IF('INGRESO DE DATOS'!$G$21=\"Guayaquil/Santa Elena\",'Tablas Guayaquil'!C19,'Tablas Resto de Ecuador'!C19)","v":2595},{"$f":"IF('INGRESO DE DATOS'!$G$21=\"Guayaquil/Santa Elena\",'Tablas Guayaquil'!D19,'Tablas Resto de Ecuador'!D19)","v":2085},{"$f":"IF('INGRESO DE DATOS'!$G$21=\"Guayaquil/Santa Elena\",'Tablas Guayaquil'!E19,'Tablas Resto de Ecuador'!E19)","v":1582},{"$f":"IF('INGRESO DE DATOS'!$G$21=\"Guayaquil/Santa Elena\",'Tablas Guayaquil'!F19,'Tablas Resto de Ecuador'!F19)","v":1145},{"$f":"IF('INGRESO DE DATOS'!$G$21=\"Guayaquil/Santa Elena\",'Tablas Guayaquil'!G19,'Tablas Resto de Ecuador'!G19)","v":678},{"$f":"IF('INGRESO DE DATOS'!$G$21=\"Guayaquil/Santa Elena\",'Tablas Guayaquil'!H19,'Tablas Resto de Ecuador'!H19)","v":431},{"$f":"IF('INGRESO DE DATOS'!$G$21=\"Guayaquil/Santa Elena\",'Tablas Guayaquil'!I19,'Tablas Resto de Ecuador'!I19)","v":270}]
[32,null,{"$f":"IF('INGRESO DE DATOS'!$G$21=\"Guayaquil/Santa Elena\",'Tablas Guayaquil'!C20,'Tablas Resto de Ecuador'!C20)","v":2653},{"$f":"IF('INGRESO DE DATOS'!$G$21=\"Guayaquil/Santa Elena\",'Tablas Guayaquil'!D20,'Tablas Resto de Ecuador'!D20)","v":2137},{"$f":"IF('INGRESO DE DATOS'!$G$21=\"Guayaquil/Santa Elena\",'Tablas Guayaquil'!E20,'Tablas Resto de Ecuador'!E20)","v":1625},{"$f":"IF('INGRESO DE DATOS'!$G$21=\"Guayaquil/Santa Elena\",'Tablas Guayaquil'!F20,'Tablas Resto de Ecuador'!F20)","v":1180},{"$f":"IF('INGRESO DE DATOS'!$G$21=\"Guayaquil/Santa Elena\",'Tablas Guayaquil'!G20,'Tablas Resto de Ecuador'!G20)","v":704},{"$f":"IF('INGRESO DE DATOS'!$G$21=\"Guayaquil/Santa Elena\",'Tablas Guayaquil'!H20,'Tablas Resto de Ecuador'!H20)","v":449},{"$f":"IF('INGRESO DE DATOS'!$G$21=\"Guayaquil/Santa Elena\",'Tablas Guayaquil'!I20,'Tablas Resto de Ecuador'!I20)","v":282}]
[33,null,{"$f":"IF('INGRESO DE DATOS'!$G$21=\"Guayaquil/Santa Elena\",'Tablas Guayaquil'!C21,'Tablas Resto de Ecuador'!C21)","v":2718},{"$f":"IF('INGRESO DE DATOS'!$G$21=\"Guayaquil/Santa Elena\",'Tablas Guayaquil'!D21,'Tablas Resto de Ecuador'!D21)","v":2194},{"$f":"IF('INGRESO DE DATOS'!$G$21=\"Guayaquil/Santa Elena\",'Tablas Guayaquil'!E21,'Tablas Resto de Ecuador'!E21)","v":1674},{"$f":"IF('INGRESO DE DATOS'!$G$21=\"Guayaquil/Santa Elena\",'Tablas Guayaquil'!F21,'Tablas Resto de Ecuador'!F21)","v":1220},{"$f":"IF('INGRESO DE DATOS'!$G$21=\"Guayaquil/Santa Elena\",'Tablas Guayaquil'!G21,'Tablas Resto de Ecuador'!G21)","v":730},{"$f":"IF('INGRESO DE DATOS'!$G$21=\"Guayaquil/Santa Elena\",'Tablas Guayaquil'!H21,'Tablas Resto de Ecuador'!H21)","v":469},{"$f":"IF('INGRESO DE DATOS'!$G$21=\"Guayaquil/Santa Elena\",'Tablas Guayaquil'!I21,'Tablas Resto de Ecuador'!I21)","v":296}]
[34,null,{"$f":"IF('INGRESO DE DATOS'!$G$21=\"Guayaquil/Santa Elena\",'Tablas Guayaquil'!C22,'Tablas Resto de Ecuador'!C22)","v":2790},{"$f":"IF('INGRESO DE DATOS'!$G$21=\"Guayaquil/Santa Elena\",'Tablas Guayaquil'!D22,'Tablas Resto de Ecuador'!D22)","v":2258},{"$f":"IF('INGRESO DE DATOS'!$G$21=\"Guayaquil/Santa Elena\",'Tablas Guayaquil'!E22,'Tablas Resto de Ecuador'!E22)","v":1728},{"$f":"IF('INGRESO DE DATOS'!$G$21=\"Guayaquil/Santa Elena\",'Tablas Guayaquil'!F22,'Tablas Resto de Ecuador'!F22)","v":1264},{"$f":"IF('INGRESO DE DATOS'!$G$21=\"Guayaquil/Santa Elena\",'Tablas Guayaquil'!G22,'Tablas Resto de Ecuador'!G22)","v":760},{"$f":"IF('INGRESO DE DATOS'!$G$21=\"Guayaquil/Santa Elena\",'Tablas Guayaquil'!H22,'Tablas Resto de Ecuador'!H22)","v":489},{"$f":"IF('INGRESO DE DATOS'!$G$21=\"Guayaquil/Santa Elena\",'Tablas Guayaquil'!I22,'Tablas Resto de Ecuador'!I22)","v":312}]
[35,null,{"$f":"IF('INGRESO DE DATOS'!$G$21=\"Guayaquil/Santa Elena\",'Tablas Guayaquil'!C23,'Tablas Resto de Ecuador'!C23)","v":2870},{"$f":"IF('INGRESO DE DATOS'!$G$21=\"Guayaquil/Santa Elena\",'Tablas Guayaquil'!D23,'Tablas Resto de Ecuador'!D23)","v":2328},{"$f":"IF('INGRESO DE DATOS'!$G$21=\"Guayaquil/Santa Elena\",'Tablas Guayaquil'!E23,'Tablas Resto de Ecuador'!E23)","v":1788},{"$f":"IF('INGRESO DE DATOS'!$G$21=\"Guayaquil/Santa Elena\",'Tablas Guayaquil'!F23,'Tablas Resto de Ecuador'!F23)","v":1312},{"$f":"IF('INGRESO DE DATOS'!$G$21=\"Guayaquil/Santa Elena\",'Tablas Guayaquil'!G23,'Tablas Resto de Ecuador'!G23)","v":792},{"$f":"IF('INGRESO DE DATOS'!$G$21=\"Guayaquil/Santa Elena\",'Tablas Guayaquil'!H23,'Tablas Resto de Ecuador'!H23)","v":513},{"$f":"IF('INGRESO DE DATOS'!$G$21=\"Guayaquil/Santa Elena\",'Tablas Guayaquil'!I23,'Tablas Resto de Ecuador'!I23)","v":328}]
[36,null,{"$f":"IF('INGRESO DE DATOS'!$G$21=\"Guayaquil/Santa Elena\",'Tablas Guayaquil'!C24,'Tablas Resto de Ecuador'!C24)","v":2959},{"$f":"IF('INGRESO DE DATOS'!$G$21=\"Guayaquil/Santa Elena\",'Tablas Guayaquil'!D24,'Tablas Resto de Ecuador'!D24)","v":2407},{"$f":"IF('INGRESO DE DATOS'!$G$21=\"Guayaquil/Santa Elena\",'Tablas Guayaquil'!E24,'Tablas Resto de Ecuador'!E24)","v":1853},{"$f":"IF('INGRESO DE DATOS'!$G$21=\"Guayaquil/Santa Elena\",'Tablas Guayaquil'!F24,'Tablas Resto de Ecuador'!F24)","v":1363},{"$f":"IF('INGRESO DE DATOS'!$G$21=\"Guayaquil/Santa Elena\",'Tablas Guayaquil'!G24,'Tablas Resto de Ecuador'!G24)","v":828},{"$f":"IF('INGRESO DE DATOS'!$G$21=\"Guayaquil/Santa Elena\",'Tablas Guayaquil'!H24,'Tablas Resto de Ecuador'!H24)","v":539},{"$f":"IF('INGRESO DE DATOS'!$G$21=\"Guayaquil/Santa Elena\",'Tablas Guayaquil'!I24,'Tablas Resto de Ecuador'!I24)","v":347}]
[37,null,{"$f":"IF('INGRESO DE DATOS'!$G$21=\"Guayaquil/Santa Elena\",'Tablas Guayaquil'!C25,'Tablas Resto de Ecuador'!C25)","v":3057},{"$f":"IF('INGRESO DE DATOS'!$G$21=\"Guayaquil/Santa Elena\",'Tablas Guayaquil'!D25,'Tablas Resto de Ecuador'!D25)","v":2492},{"$f":"IF('INGRESO DE DATOS'!$G$21=\"Guayaquil/Santa Elena\",'Tablas Guayaquil'!E25,'Tablas Resto de Ecuador'!E25)","v":1923},{"$f":"IF('INGRESO DE DATOS'!$G$21=\"Guayaquil/Santa Elena\",'Tablas Guayaquil'!F25,'Tablas Resto de Ecuador'!F25)","v":1420},{"$f":"IF('INGRESO DE DATOS'!$G$21=\"Guayaquil/Santa Elena\",'Tablas Guayaquil'!G25,'Tablas Resto de Ecuador'!G25)","v":867},{"$f":"IF('INGRESO DE DATOS'!$G$21=\"Guayaquil/Santa Elena\",'Tablas Guayaquil'!H25,'Tablas Resto de Ecuador'!H25)","v":566},{"$f":"IF('INGRESO DE DATOS'!$G$21=\"Guayaquil/Santa Elena\",'Tablas Guayaquil'!I25,'Tablas Resto de Ecuador'!I25)","v":366}]
[38,null,{"$f":"IF('INGRESO DE DATOS'!$G$21=\"Guayaquil/Santa Elena\",'Tablas Guayaquil'!C26,'Tablas Resto de Ecuador'!C26)","v":3163},{"$f":"IF('INGRESO DE DATOS'!$G$21=\"Guayaquil/Santa Elena\",'Tablas Guayaquil'!D26,'Tablas Resto de Ecuador'!D26)","v":2584},{"$f":"IF('INGRESO DE DATOS'!$G$21=\"Guayaquil/Santa Elena\",'Tablas Guayaquil'!E26,'Tablas Resto de Ecuador'!E26)","v":2000},{"$f":"IF('INGRESO DE DATOS'!$G$21=\"Guayaquil/Santa Elena\",'Tablas Guayaquil'!F26,'Tablas Resto de Ecuador'!F26)","v":1482},{"$f":"IF('INGRESO DE DATOS'!$G$21=\"Guayaquil/Santa Elena\",'Tablas Guayaquil'!G26,'Tablas Resto de Ecuador'!G26)","v":909},{"$f":"IF('INGRESO DE DATOS'!$G$21=\"Guayaquil/Santa Elena\",'Tablas Guayaquil'!H26,'Tablas Resto de Ecuador'!H26)","v":596},{"$f":"IF('INGRESO DE DATOS'!$G$21=\"Guayaquil/Santa Elena\",'Tablas Guayaquil'!I26,'Tablas Resto de Ecuador'!I26)","v":388}]
[39,null,{"$f":"IF('INGRESO DE DATOS'!$G$21=\"Guayaquil/Santa Elena\",'Tablas Guayaquil'!C27,'Tablas Resto de Ecuador'!C27)","v":3279},{"$f":"IF('INGRESO DE DATOS'!$G$21=\"Guayaquil/Santa Elena\",'Tablas Guayaquil'!D27,'Tablas Resto de Ecuador'!D27)","v":2685},{"$f":"IF('INGRESO DE DATOS'!$G$21=\"Guayaquil/Santa Elena\",'Tablas Guayaquil'!E27,'Tablas Resto de Ecuador'!E27)","v":2085},{"$f":"IF('INGRESO DE DATOS'!$G$21=\"Guayaquil/Santa Elena\",'Tablas Guayaquil'!F27,'Tablas Resto de Ecuador'!F27)","v":1549},{"$f":"IF('INGRESO DE DATOS'!$G$21=\"Guayaquil/Santa Elena\",'Tablas Guayaquil'!G27,'Tablas Resto de Ecuador'!G27)","v":954},{"$f":"IF('INGRESO DE DATOS'!$G$21=\"Guayaquil/Santa Elena\",'Tablas Guayaquil'!H27,'Tablas Resto de Ecuador'!H27)","v":628},{"$f":"IF('INGRESO DE DATOS'!$G$21=\"Guayaquil/Santa Elena\",'Tablas Guayaquil'!I27,'Tablas Resto de Ecuador'!I27)","v":411}]
[40,null,{"$f":"IF('INGRESO DE DATOS'!$G$21=\"Guayaquil/Santa Elena\",'Tablas Guayaquil'!C28,'Tablas Resto de Ecuador'!C28)","v":3372},{"$f":"IF('INGRESO DE DATOS'!$G$21=\"Guayaquil/Santa Elena\",'Tablas Guayaquil'!D28,'Tablas Resto de Ecuador'!D28)","v":2795},{"$f":"IF('INGRESO DE DATOS'!$G$21=\"Guayaquil/Santa Elena\",'Tablas Guayaquil'!E28,'Tablas Resto de Ecuador'!E28)","v":2177},{"$f":"IF('INGRESO DE DATOS'!$G$21=\"Guayaquil/Santa Elena\",'Tablas Guayaquil'!F28,'Tablas Resto de Ecuador'!F28)","v":1622},{"$f":"IF('INGRESO DE DATOS'!$G$21=\"Guayaquil/Santa Elena\",'Tablas Guayaquil'!G28,'Tablas Resto de Ecuador'!G28)","v":1004},{"$f":"IF('INGRESO DE DATOS'!$G$21=\"Guayaquil/Santa Elena\",'Tablas Guayaquil'!H28,'Tablas Resto de Ecuador'!H28)","v":664},{"$f":"IF('INGRESO DE DATOS'!$G$21=\"Guayaquil/Santa Elena\",'Tablas Guayaquil'!I28,'Tablas Resto de Ecuador'!I28)","v":437}]
[41,null,{"$f":"IF('INGRESO DE DATOS'!$G$21=\"Guayaquil/Santa Elena\",'Tablas Guayaquil'!C29,'Tablas Resto de Ecuador'!C29)","v":3447},{"$f":"IF('INGRESO DE DATOS'!$G$21=\"Guayaquil/Santa Elena\",'Tablas Guayaquil'!D29,'Tablas Resto de Ecuador'!D29)","v":2914},{"$f":"IF('INGRESO DE DATOS'!$G$21=\"Guayaquil/Santa Elena\",'Tablas Guayaquil'!E29,'Tablas Resto de Ecuador'!E29)","v":2275},{"$f":"IF('INGRESO DE DATOS'!$G$21=\"Guayaquil/Santa Elena\",'Tablas Guayaquil'!F29,'Tablas Resto de Ecuador'!F29)","v":1700},{"$f":"IF('INGRESO DE DATOS'!$G$21=\"Guayaquil/Santa Elena\",'Tablas Guayaquil'!G29,'Tablas Resto de Ecuador'!G29)","v":1056},{"$f":"IF('INGRESO DE DATOS'!$G$21=\"Guayaquil/Santa Elena\",'Tablas Guayaquil'!H29,'Tablas Resto de Ecuador'!H29)","v":702},{"$f":"IF('INGRESO DE DATOS'!$G$21=\"Guayaquil/Santa Elena\",'Tablas Guayaquil'!I29,'Tablas Resto de Ecuador'!I29)","v":465}]
[42,null,{"$f":"IF('INGRESO DE DATOS'!$G$21=\"Guayaquil/Santa Elena\",'Tablas Guayaquil'!C30,'Tablas Resto de Ecuador'!C30)","v":3528},{"$f":"IF('INGRESO DE DATOS'!$G$21=\"Guayaquil/Santa Elena\",'Tablas Guayaquil'!D30,'Tablas Resto de Ecuador'!D30)","v":3044},{"$f":"IF('INGRESO DE DATOS'!$G$21=\"Guayaquil/Santa Elena\",'Tablas Guayaquil'!E30,'Tablas Resto de Ecuador'!E30)","v":2383},{"$f":"IF('INGRESO DE DATOS'!$G$21=\"Guayaquil/Santa Elena\",'Tablas Guayaquil'!F30,'Tablas Resto de Ecuador'!F30)","v":1787},{"$f":"IF('INGRESO DE DATOS'!$G$21=\"Guayaquil/Santa Elena\",'Tablas Guayaquil'!G30,'Tablas Resto de Ecuador'!G30)","v":1115},{"$f":"IF('INGRESO DE DATOS'!$G$21=\"Guayaquil/Santa Elena\",'Tablas Guayaquil'!H30,'Tablas Resto de Ecuador'!H30)","v":743},{"$f":"IF('INGRESO DE DATOS'!$G$21=\"Guayaquil/Santa Elena\",'Tablas Guayaquil'!I30,'Tablas Resto de Ecuador'!I30)","v":495}]
[43,null,{"$f":"IF('INGRESO DE DATOS'!$G$21=\"Guayaquil/Santa Elena\",'Tablas Guayaquil'!C31,'Tablas Resto de Ecuador'!C31)","v":3663},{"$f":"IF('INGRESO DE DATOS'!$G$21=\"Guayaquil/Santa Elena\",'Tablas Guayaquil'!D31,'Tablas Resto de Ecuador'!D31)","v":3183},{"$f":"IF('INGRESO DE DATOS'!$G$21=\"Guayaquil/Santa Elena\",'Tablas Guayaquil'!E31,'Tablas Resto de Ecuador'!E31)","v":2499},{"$f":"IF('INGRESO DE DATOS'!$G$21=\"Guayaquil/Santa Elena\",'Tablas Guayaquil'!F31,'Tablas Resto de Ecuador'!F31)","v":1879},{"$f":"IF('INGRESO DE DATOS'!$G$21=\"Guayaquil/Santa Elena\",'Tablas Guayaquil'!G31,'Tablas Resto de Ecuador'!G31)","v":1178},{"$f":"IF('INGRESO DE DATOS'!$G$21=\"Guayaquil/Santa Elena\",'Tablas Guayaquil'!H31,'Tablas Resto de Ecuador'!H31)","v":789},{"$f":"IF('INGRESO DE DATOS'!$G$21=\"Guayaquil/Santa Elena\",'Tablas Guayaquil'!I31,'Tablas Resto de Ecuador'!I31)","v":528}]
[44,null,{"$f":"IF('INGRESO DE DATOS'!$G$21=\"Guayaquil/Santa Elena\",'Tablas Guayaquil'!C32,'Tablas Resto de Ecuador'!C32)","v":3804},{"$f":"IF('INGRESO DE DATOS'!$G$21=\"Guayaquil/Santa Elena\",'Tablas Guayaquil'!D32,'Tablas Resto de Ecuador'!D32)","v":3309},{"$f":"IF('INGRESO DE DATOS'!$G$21=\"Guayaquil/Santa Elena\",'Tablas Guayaquil'!E32,'Tablas Resto de Ecuador'!E32)","v":2624},{"$f":"IF('INGRESO DE DATOS'!$G$21=\"Guayaquil/Santa Elena\",'Tablas Guayaquil'!F32,'Tablas Resto de Ecuador'!F32)","v":1979},{"$f":"IF('INGRESO DE DATOS'!$G$21=\"Guayaquil/Santa Elena\",'Tablas Guayaquil'!G32,'Tablas Resto de Ecuador'!G32)","v":1246},{"$f":"IF('INGRESO DE DATOS'!$G$21=\"Guayaquil/Santa Elena\",'Tablas Guayaquil'!H32,'Tablas Resto de Ecuador'!H32)","v":838},{"$f":"IF('INGRESO DE DATOS'!$G$21=\"Guayaquil/Santa Elena\",'Tablas Guayaquil'!I32,'Tablas Resto de Ecuador'!I32)","v":564}]
[45,null,{"$f":"IF('INGRESO DE DATOS'!$G$21=\"Guayaquil/Santa Elena\",'Tablas Guayaquil'!C33,'Tablas Resto de Ecuador'!C33)","v":3945},{"$f":"IF('INGRESO DE DATOS'!$G$21=\"Guayaquil/Santa Elena\",'Tablas Guayaquil'!D33,'Tablas Resto de Ecuador'!D33)","v":3429},{"$f":"IF('INGRESO DE DATOS'!$G$21=\"Guayaquil/Santa Elena\",'Tablas Guayaquil'!E33,'Tablas Resto de Ecuador'!E33)","v":2759},{"$f":"IF('INGRESO DE DATOS'!$G$21=\"Guayaquil/Santa Elena\",'Tablas Guayaquil'!F33,'Tablas Resto de Ecuador'!F33)","v":2088},{"$f":"IF('INGRESO DE DATOS'!$G$21=\"Guayaquil/Santa Elena\",'Tablas Guayaquil'!G33,'Tablas Resto de Ecuador'!G33)","v":1319},{"$f":"IF('INGRESO DE DATOS'!$G$21=\"Guayaquil/Santa Elena\",'Tablas Guayaquil'!H33,'Tablas Resto de Ecuador'!H33)","v":891},{"$f":"IF('INGRESO DE DATOS'!$G$21=\"Guayaquil/Santa Elena\",'Tablas Guayaquil'!I33,'Tablas Resto de Ecuador'!I33)","v":602}]
[46,null,{"$f":"IF('INGRESO DE DATOS'!$G$21=\"Guayaquil/Santa Elena\",'Tablas Guayaquil'!C34,'Tablas Resto de Ecuador'!C34)","v":4084},{"$f":"IF('INGRESO DE DATOS'!$G$21=\"Guayaquil/Santa Elena\",'Tablas Guayaquil'!D34,'Tablas Resto de Ecuador'!D34)","v":3552},{"$f":"IF('INGRESO DE DATOS'!$G$21=\"Guayaquil/Santa Elena\",'Tablas Guayaquil'!E34,'Tablas Resto de Ecuador'!E34)","v":2905},{"$f":"IF('INGRESO DE DATOS'!$G$21=\"Guayaquil/Santa Elena\",'Tablas Guayaquil'!F34,'Tablas Resto de Ecuador'!F34)","v":2204},{"$f":"IF('INGRESO DE DATOS'!$G$21=\"Guayaquil/Santa Elena\",'Tablas Guayaquil'!G34,'Tablas Resto de Ecuador'!G34)","v":1400},{"$f":"IF('INGRESO DE DATOS'!$G$21=\"Guayaquil/Santa Elena\",'Tablas Guayaquil'!H34,'Tablas Resto de Ecuador'!H34)","v":948},{"$f":"IF('INGRESO DE DATOS'!$G$21=\"Guayaquil/Santa Elena\",'Tablas Guayaquil'!I34,'Tablas Resto de Ecuador'!I34)","v":644}]
[47,null,{"$f":"IF('INGRESO DE DATOS'!$G$21=\"Guayaquil/Santa Elena\",'Tablas Guayaquil'!C35,'Tablas Resto de Ecuador'!C35)","v":4227},{"$f":"IF('INGRESO DE DATOS'!$G$21=\"Guayaquil/Santa Elena\",'Tablas Guayaquil'!D35,'Tablas Resto de Ecuador'!D35)","v":3674},{"$f":"IF('INGRESO DE DATOS'!$G$21=\"Guayaquil/Santa Elena\",'Tablas Guayaquil'!E35,'Tablas Resto de Ecuador'!E35)","v":3062},{"$f":"IF('INGRESO DE DATOS'!$G$21=\"Guayaquil/Santa Elena\",'Tablas Guayaquil'!F35,'Tablas Resto de Ecuador'!F35)","v":2330},{"$f":"IF('INGRESO DE DATOS'!$G$21=\"Guayaquil/Santa Elena\",'Tablas Guayaquil'!G35,'Tablas Resto de Ecuador'!G35)","v":1485},{"$f":"IF('INGRESO DE DATOS'!$G$21=\"Guayaquil/Santa Elena\",'Tablas Guayaquil'!H35,'Tablas Resto de Ecuador'!H35)","v":1010},{"$f":"IF('INGRESO DE DATOS'!$G$21=\"Guayaquil/Santa Elena\",'Tablas Guayaquil'!I35,'Tablas Resto de Ecuador'!I35)","v":690}]
[48,null,{"$f":"IF('INGRESO DE DATOS'!$G$21=\"Guayaquil/Santa Elena\",'Tablas Guayaquil'!C36,'Tablas Resto de Ecuador'!C36)","v":4377},{"$f":"IF('INGRESO DE DATOS'!$G$21=\"Guayaquil/Santa Elena\",'Tablas Guayaquil'!D36,'Tablas Resto de Ecuador'!D36)","v":3804},{"$f":"IF('INGRESO DE DATOS'!$G$21=\"Guayaquil/Santa Elena\",'Tablas Guayaquil'!E36,'Tablas Resto de Ecuador'!E36)","v":3232},{"$f":"IF('INGRESO DE DATOS'!$G$21=\"Guayaquil/Santa Elena\",'Tablas Guayaquil'!F36,'Tablas Resto de Ecuador'!F36)","v":2467},{"$f":"IF('INGRESO DE DATOS'!$G$21=\"Guayaquil/Santa Elena\",'Tablas Guayaquil'!G36,'Tablas Resto de Ecuador'!G36)","v":1578},{"$f":"IF('INGRESO DE DATOS'!$G$21=\"Guayaquil/Santa Elena\",'Tablas Guayaquil'!H36,'Tablas Resto de Ecuador'!H36)","v":1078},{"$f":"IF('INGRESO DE DATOS'!$G$21=\"Guayaquil/Santa Elena\",'Tablas Guayaquil'!I36,'Tablas Resto de Ecuador'!I36)","v":740}]
[49,null,{"$f":"IF('INGRESO DE DATOS'!$G$21=\"Guayaquil/Santa Elena\",'Tablas Guayaquil'!C37,'Tablas Resto de Ecuador'!C37)","v":4523},{"$f":"IF('INGRESO DE DATOS'!$G$21=\"Guayaquil/Santa Elena\",'Tablas Guayaquil'!D37,'Tablas Resto de Ecuador'!D37)","v":3933},{"$f":"IF('INGRESO DE DATOS'!$G$21=\"Guayaquil/Santa Elena\",'Tablas Guayaquil'!E37,'Tablas Resto de Ecuador'!E37)","v":3414},{"$f":"IF('INGRESO DE DATOS'!$G$21=\"Guayaquil/Santa Elena\",'Tablas Guayaquil'!F37,'Tablas Resto de Ecuador'!F37)","v":2614},{"$f":"IF('INGRESO DE DATOS'!$G$21=\"Guayaquil/Santa Elena\",'Tablas Guayaquil'!G37,'Tablas Resto de Ecuador'!G37)","v":1679},{"$f":"IF('INGRESO DE DATOS'!$G$21=\"Guayaquil/Santa Elena\",'Tablas Guayaquil'!H37,'Tablas Resto de Ecuador'!H37)","v":1152},{"$f":"IF('INGRESO DE DATOS'!$G$21=\"Guayaquil/Santa Elena\",'Tablas Guayaquil'!I37,'Tablas Resto de Ecuador'!I37)","v":794}]
[50,null,{"$f":"IF('INGRESO DE DATOS'!$G$21=\"Guayaquil/Santa Elena\",'Tablas Guayaquil'!C38,'Tablas Resto de Ecuador'!C38)","v":4670},{"$f":"IF('INGRESO DE DATOS'!$G$21=\"Guayaquil/Santa Elena\",'Tablas Guayaquil'!D38,'Tablas Resto de Ecuador'!D38)","v":4063},{"$f":"IF('INGRESO DE DATOS'!$G$21=\"Guayaquil/Santa Elena\",'Tablas Guayaquil'!E38,'Tablas Resto de Ecuador'!E38)","v":3624},{"$f":"IF('INGRESO DE DATOS'!$G$21=\"Guayaquil/Santa Elena\",'Tablas Guayaquil'!F38,'Tablas Resto de Ecuador'!F38)","v":2784},{"$f":"IF('INGRESO DE DATOS'!$G$21=\"Guayaquil/Santa Elena\",'Tablas Guayaquil'!G38,'Tablas Resto de Ecuador'!G38)","v":1797},{"$f":"IF('INGRESO DE DATOS'!$G$21=\"Guayaquil/Santa Elena\",'Tablas Guayaquil'!H38,'Tablas Resto de Ecuador'!H38)","v":1237},{"$f":"IF('INGRESO DE DATOS'!$G$21=\"Guayaquil/Santa Elena\",'Tablas Guayaquil'!I38,'Tablas Resto de Ecuador'!I38)","v":857}]
[51,null,{"$f":"IF('INGRESO DE DATOS'!$G$21=\"Guayaquil/Santa Elena\",'Tablas Guayaquil'!C39,'Tablas Resto de Ecuador'!C39)","v":4817},{"$f":"IF('INGRESO DE DATOS'!$G$21=\"Guayaquil/Santa Elena\",'Tablas Guayaquil'!D39,'Tablas Resto de Ecuador'!D39)","v":4190},{"$f":"IF('INGRESO DE DATOS'!$G$21=\"Guayaquil/Santa Elena\",'Tablas Guayaquil'!E39,'Tablas Resto de Ecuador'!E39)","v":3820},{"$f":"IF('INGRESO DE DATOS'!$G$21=\"Guayaquil/Santa Elena\",'Tablas Guayaquil'!F39,'Tablas Resto de Ecuador'!F39)","v":2989},{"$f":"IF('INGRESO DE DATOS'!$G$21=\"Guayaquil/Santa Elena\",'Tablas Guayaquil'!G39,'Tablas Resto de Ecuador'!G39)","v":1940},{"$f":"IF('INGRESO DE DATOS'!$G$21=\"Guayaquil/Santa Elena\",'Tablas Guayaquil'!H39,'Tablas Resto de Ecuador'!H39)","v":1341},{"$f":"IF('INGRESO DE DATOS'!$G$21=\"Guayaquil/Santa Elena\",'Tablas Guayaquil'!I39,'Tablas Resto de Ecuador'!I39)","v":934}]
[52,null,{"$f":"IF('INGRESO DE DATOS'!$G$21=\"Guayaquil/Santa Elena\",'Tablas Guayaquil'!C40,'Tablas Resto de Ecuador'!C40)","v":4965},{"$f":"IF('INGRESO DE DATOS'!$G$21=\"Guayaquil/Santa Elena\",'Tablas Guayaquil'!D40,'Tablas Resto de Ecuador'!D40)","v":4319},{"$f":"IF('INGRESO DE DATOS'!$G$21=\"Guayaquil/Santa Elena\",'Tablas Guayaquil'!E40,'Tablas Resto de Ecuador'!E40)","v":3938},{"$f":"IF('INGRESO DE DATOS'!$G$21=\"Guayaquil/Santa Elena\",'Tablas Guayaquil'!F40,'Tablas Resto de Ecuador'!F40)","v":3209},{"$f":"IF('INGRESO DE DATOS'!$G$21=\"Guayaquil/Santa Elena\",'Tablas Guayaquil'!G40,'Tablas Resto de Ecuador'!G40)","v":2092},{"$f":"IF('INGRESO DE DATOS'!$G$21=\"Guayaquil/Santa Elena\",'Tablas Guayaquil'!H40,'Tablas Resto de Ecuador'!H40)","v":1453},{"$f":"IF('INGRESO DE DATOS'!$G$21=\"Guayaquil/Santa Elena\",'Tablas Guayaquil'!I40,'Tablas Resto de Ecuador'!I40)","v":1017}]
[53,null,{"$f":"IF('INGRESO DE DATOS'!$G$21=\"Guayaquil/Santa Elena\",'Tablas Guayaquil'!C41,'Tablas Resto de Ecuador'!C41)","v":5142},{"$f":"IF('INGRESO DE DATOS'!$G$21=\"Guayaquil/Santa Elena\",'Tablas Guayaquil'!D41,'Tablas Resto de Ecuador'!D41)","v":4470},{"$f":"IF('INGRESO DE DATOS'!$G$21=\"Guayaquil/Santa Elena\",'Tablas Guayaquil'!E41,'Tablas Resto de Ecuador'!E41)","v":4079},{"$f":"IF('INGRESO DE DATOS'!$G$21=\"Guayaquil/Santa Elena\",'Tablas Guayaquil'!F41,'Tablas Resto de Ecuador'!F41)","v":3445},{"$f":"IF('INGRESO DE DATOS'!$G$21=\"Guayaquil/Santa Elena\",'Tablas Guayaquil'!G41,'Tablas Resto de Ecuador'!G41)","v":2256},{"$f":"IF('INGRESO DE DATOS'!$G$21=\"Guayaquil/Santa Elena\",'Tablas Guayaquil'!H41,'Tablas Resto de Ecuador'!H41)","v":1573},{"$f":"IF('INGRESO DE DATOS'!$G$21=\"Guayaquil/Santa Elena\",'Tablas Guayaquil'!I41,'Tablas Resto de Ecuador'!I41)","v":1107}]
[54,null,{"$f":"IF('INGRESO DE DATOS'!$G$21=\"Guayaquil/Santa Elena\",'Tablas Guayaquil'!C42,'Tablas Resto de Ecuador'!C42)","v":5318},{"$f":"IF('INGRESO DE DATOS'!$G$21=\"Guayaquil/Santa Elena\",'Tablas Guayaquil'!D42,'Tablas Resto de Ecuador'!D42)","v":4624},{"$f":"IF('INGRESO DE DATOS'!$G$21=\"Guayaquil/Santa Elena\",'Tablas Guayaquil'!E42,'Tablas Resto de Ecuador'!E42)","v":4217},{"$f":"IF('INGRESO DE DATOS'!$G$21=\"Guayaquil/Santa Elena\",'Tablas Guayaquil'!F42,'Tablas Resto de Ecuador'!F42)","v":3700},{"$f":"IF('INGRESO DE DATOS'!$G$21=\"Guayaquil/Santa Elena\",'Tablas Guayaquil'!G42,'Tablas Resto de Ecuador'!G42)","v":2433},{"$f":"IF('INGRESO DE DATOS'!$G$21=\"Guayaquil/Santa Elena\",'Tablas Guayaquil'!H42,'Tablas Resto de Ecuador'!H42)","v":1701},{"$f":"IF('INGRESO DE DATOS'!$G$21=\"Guayaquil/Santa Elena\",'Tablas Guayaquil'!I42,'Tablas Resto de Ecuador'!I42)","v":1203}]
[55,null,{"$f":"IF('INGRESO DE DATOS'!$G$21=\"Guayaquil/Santa Elena\",'Tablas Guayaquil'!C43,'Tablas Resto de Ecuador'!C43)","v":5497},{"$f":"IF('INGRESO DE DATOS'!$G$21=\"Guayaquil/Santa Elena\",'Tablas Guayaquil'!D43,'Tablas Resto de Ecuador'!D43)","v":4779},{"$f":"IF('INGRESO DE DATOS'!$G$21=\"Guayaquil/Santa Elena\",'Tablas Guayaquil'!E43,'Tablas Resto de Ecuador'!E43)","v":4355},{"$f":"IF('INGRESO DE DATOS'!$G$21=\"Guayaquil/Santa Elena\",'Tablas Guayaquil'!F43,'Tablas Resto de Ecuador'!F43)","v":3843},{"$f":"IF('INGRESO DE DATOS'!$G$21=\"Guayaquil/Santa Elena\",'Tablas Guayaquil'!G43,'Tablas Resto de Ecuador'!G43)","v":2622},{"$f":"IF('INGRESO DE DATOS'!$G$21=\"Guayaquil/Santa Elena\",'Tablas Guayaquil'!H43,'Tablas Resto de Ecuador'!H43)","v":1839},{"$f":"IF('INGRESO DE DATOS'!$G$21=\"Guayaquil/Santa Elena\",'Tablas Guayaquil'!I43,'Tablas Resto de Ecuador'!I43)","v":1306}]
[56,null,{"$f":"IF('INGRESO DE DATOS'!$G$21=\"Guayaquil/Santa Elena\",'Tablas Guayaquil'!C44,'Tablas Resto de Ecuador'!C44)","v":5672},{"$f":"IF('INGRESO DE DATOS'!$G$21=\"Guayaquil/Santa Elena\",'Tablas Guayaquil'!D44,'Tablas Resto de Ecuador'!D44)","v":4930},{"$f":"IF('INGRESO DE DATOS'!$G$21=\"Guayaquil/Santa Elena\",'Tablas Guayaquil'!E44,'Tablas Resto de Ecuador'!E44)","v":4493},{"$f":"IF('INGRESO DE DATOS'!$G$21=\"Guayaquil/Santa Elena\",'Tablas Guayaquil'!F44,'Tablas Resto de Ecuador'!F44)","v":3975},{"$f":"IF('INGRESO DE DATOS'!$G$21=\"Guayaquil/Santa Elena\",'Tablas Guayaquil'!G44,'Tablas Resto de Ecuador'!G44)","v":2775},{"$f":"IF('INGRESO DE DATOS'!$G$21=\"Guayaquil/Santa Elena\",'Tablas Guayaquil'!H44,'Tablas Resto de Ecuador'!H44)","v":1988},{"$f":"IF('INGRESO DE DATOS'!$G$21=\"Guayaquil/Santa Elena\",'Tablas Guayaquil'!I44,'Tablas Resto de Ecuador'!I44)","v":1416}]
[57,null,{"$f":"IF('INGRESO DE DATOS'!$G$21=\"Guayaquil/Santa Elena\",'Tablas Guayaquil'!C45,'Tablas Resto de Ecuador'!C45)","v":5844},{"$f":"IF('INGRESO DE DATOS'!$G$21=\"Guayaquil/Santa Elena\",'Tablas Guayaquil'!D45,'Tablas Resto de Ecuador'!D45)","v":5084},{"$f":"IF('INGRESO DE DATOS'!$G$21=\"Guayaquil/Santa Elena\",'Tablas Guayaquil'!E45,'Tablas Resto de Ecuador'!E45)","v":4634},{"$f":"IF('INGRESO DE DATOS'!$G$21=\"Guayaquil/Santa Elena\",'Tablas Guayaquil'!F45,'Tablas Resto de Ecuador'!F45)","v":4109},{"$f":"IF('INGRESO DE DATOS'!$G$21=\"Guayaquil/Santa Elena\",'Tablas Guayaquil'!G45,'Tablas Resto de Ecuador'!G45)","v":2861},{"$f":"IF('INGRESO DE DATOS'!$G$21=\"Guayaquil/Santa Elena\",'Tablas Guayaquil'!H45,'Tablas Resto de Ecuador'!H45)","v":2148},{"$f":"IF('INGRESO DE DATOS'!$G$21=\"Guayaquil/Santa Elena\",'Tablas Guayaquil'!I45,'Tablas Resto de Ecuador'!I45)","v":1536}]
[58,null,{"$f":"IF('INGRESO DE DATOS'!$G$21=\"Guayaquil/Santa Elena\",'Tablas Guayaquil'!C46,'Tablas Resto de Ecuador'!C46)","v":6047},{"$f":"IF('INGRESO DE DATOS'!$G$21=\"Guayaquil/Santa Elena\",'Tablas Guayaquil'!D46,'Tablas Resto de Ecuador'!D46)","v":5257},{"$f":"IF('INGRESO DE DATOS'!$G$21=\"Guayaquil/Santa Elena\",'Tablas Guayaquil'!E46,'Tablas Resto de Ecuador'!E46)","v":4780},{"$f":"IF('INGRESO DE DATOS'!$G$21=\"Guayaquil/Santa Elena\",'Tablas Guayaquil'!F46,'Tablas Resto de Ecuador'!F46)","v":4285},{"$f":"IF('INGRESO DE DATOS'!$G$21=\"Guayaquil/Santa Elena\",'Tablas Guayaquil'!G46,'Tablas Resto de Ecuador'!G46)","v":2975},{"$f":"IF('INGRESO DE DATOS'!$G$21=\"Guayaquil/Santa Elena\",'Tablas Guayaquil'!H46,'Tablas Resto de Ecuador'!H46)","v":2319},{"$f":"IF('INGRESO DE DATOS'!$G$21=\"Guayaquil/Santa Elena\",'Tablas Guayaquil'!I46,'Tablas Resto de Ecuador'!I46)","v":1663}]
[59,null,{"$f":"IF('INGRESO DE DATOS'!$G$21=\"Guayaquil/Santa Elena\",'Tablas Guayaquil'!C47,'Tablas Resto de Ecuador'!C47)","v":6249},{"$f":"IF('INGRESO DE DATOS'!$G$21=\"Guayaquil/Santa Elena\",'Tablas Guayaquil'!D47,'Tablas Resto de Ecuador'!D47)","v":5434},{"$f":"IF('INGRESO DE DATOS'!$G$21=\"Guayaquil/Santa Elena\",'Tablas Guayaquil'!E47,'Tablas Resto de Ecuador'!E47)","v":4924},{"$f":"IF('INGRESO DE DATOS'!$G$21=\"Guayaquil/Santa Elena\",'Tablas Guayaquil'!F47,'Tablas Resto de Ecuador'!F47)","v":4458},{"$f":"IF('INGRESO DE DATOS'!$G$21=\"Guayaquil/Santa Elena\",'Tablas Guayaquil'!G47,'Tablas Resto de Ecuador'!G47)","v":3087},{"$f":"IF('INGRESO DE DATOS'!$G$21=\"Guayaquil/Santa Elena\",'Tablas Guayaquil'!H47,'Tablas Resto de Ecuador'!H47)","v":2503},{"$f":"IF('INGRESO DE DATOS'!$G$21=\"Guayaquil/Santa Elena\",'Tablas Guayaquil'!I47,'Tablas Resto de Ecuador'!I47)","v":1800}]
[60,null,{"$f":"IF('INGRESO DE DATOS'!$G$21=\"Guayaquil/Santa Elena\",'Tablas Guayaquil'!C48,'Tablas Resto de Ecuador'!C48)","v":6450},{"$f":"IF('INGRESO DE DATOS'!$G$21=\"Guayaquil/Santa Elena\",'Tablas Guayaquil'!D48,'Tablas Resto de Ecuador'!D48)","v":5608},{"$f":"IF('INGRESO DE DATOS'!$G$21=\"Guayaquil/Santa Elena\",'Tablas Guayaquil'!E48,'Tablas Resto de Ecuador'!E48)","v":5072},{"$f":"IF('INGRESO DE DATOS'!$G$21=\"Guayaquil/Santa Elena\",'Tablas Guayaquil'!F48,'Tablas Resto de Ecuador'!F48)","v":4633},{"$f":"IF('INGRESO DE DATOS'!$G$21=\"Guayaquil/Santa Elena\",'Tablas Guayaquil'!G48,'Tablas Resto de Ecuador'!G48)","v":3201},{"$f":"IF('INGRESO DE DATOS'!$G$21=\"Guayaquil/Santa Elena\",'Tablas Guayaquil'!H48,'Tablas Resto de Ecuador'!H48)","v":2702},{"$f":"IF('INGRESO DE DATOS'!$G$21=\"Guayaquil/Santa Elena\",'Tablas Guayaquil'!I48,'Tablas Resto de Ecuador'!I48)","v":1949}]
[61,null,{"$f":"IF('INGRESO DE DATOS'!$G$21=\"Guayaquil/Santa Elena\",'Tablas Guayaquil'!C49,'Tablas Resto de Ecuador'!C49)","v":6699},{"$f":"IF('INGRESO DE DATOS'!$G$21=\"Guayaquil/Santa Elena\",'Tablas Guayaquil'!D49,'Tablas Resto de Ecuador'!D49)","v":5823},{"$f":"IF('INGRESO DE DATOS'!$G$21=\"Guayaquil/Santa Elena\",'Tablas Guayaquil'!E49,'Tablas Resto de Ecuador'!E49)","v":5290},{"$f":"IF('INGRESO DE DATOS'!$G$21=\"Guayaquil/Santa Elena\",'Tablas Guayaquil'!F49,'Tablas Resto de Ecuador'!F49)","v":4805},{"$f":"IF('INGRESO DE DATOS'!$G$21=\"Guayaquil/Santa Elena\",'Tablas Guayaquil'!G49,'Tablas Resto de Ecuador'!G49)","v":3320},{"$f":"IF('INGRESO DE DATOS'!$G$21=\"Guayaquil/Santa Elena\",'Tablas Guayaquil'!H49,'Tablas Resto de Ecuador'!H49)","v":2915},{"$f":"IF('INGRESO DE DATOS'!$G$21=\"Guayaquil/Santa Elena\",'Tablas Guayaquil'!I49,'Tablas Resto de Ecuador'!I49)","v":2107}]
[62,null,{"$f":"IF('INGRESO DE DATOS'!$G$21=\"Guayaquil/Santa Elena\",'Tablas Guayaquil'!C50,'Tablas Resto de Ecuador'!C50)","v":6999},{"$f":"IF('INGRESO DE DATOS'!$G$21=\"Guayaquil/Santa Elena\",'Tablas Guayaquil'!D50,'Tablas Resto de Ecuador'!D50)","v":6085},{"$f":"IF('INGRESO DE DATOS'!$G$21=\"Guayaquil/Santa Elena\",'Tablas Guayaquil'!E50,'Tablas Resto de Ecuador'!E50)","v":5549},{"$f":"IF('INGRESO DE DATOS'!$G$21=\"Guayaquil/Santa Elena\",'Tablas Guayaquil'!F50,'Tablas Resto de Ecuador'!F50)","v":5022},{"$f":"IF('INGRESO DE DATOS'!$G$21=\"Guayaquil/Santa Elena\",'Tablas Guayaquil'!G50,'Tablas Resto de Ecuador'!G50)","v":3471},{"$f":"IF('INGRESO DE DATOS'!$G$21=\"Guayaquil/Santa Elena\",'Tablas Guayaquil'!H50,'Tablas Resto de Ecuador'!H50)","v":3146},{"$f":"IF('INGRESO DE DATOS'!$G$21=\"Guayaquil/Santa Elena\",'Tablas Guayaquil'!I50,'Tablas Resto de Ecuador'!I50)","v":2279}]
[63,null,{"$f":"IF('INGRESO DE DATOS'!$G$21=\"Guayaquil/Santa Elena\",'Tablas Guayaquil'!C51,'Tablas Resto de Ecuador'!C51)","v":7359},{"$f":"IF('INGRESO DE DATOS'!$G$21=\"Guayaquil/Santa Elena\",'Tablas Guayaquil'!D51,'Tablas Resto de Ecuador'!D51)","v":6398},{"$f":"IF('INGRESO DE DATOS'!$G$21=\"Guayaquil/Santa Elena\",'Tablas Guayaquil'!E51,'Tablas Resto de Ecuador'!E51)","v":5837},{"$f":"IF('INGRESO DE DATOS'!$G$21=\"Guayaquil/Santa Elena\",'Tablas Guayaquil'!F51,'Tablas Resto de Ecuador'!F51)","v":5280},{"$f":"IF('INGRESO DE DATOS'!$G$21=\"Guayaquil/Santa Elena\",'Tablas Guayaquil'!G51,'Tablas Resto de Ecuador'!G51)","v":3652},{"$f":"IF('INGRESO DE DATOS'!$G$21=\"Guayaquil/Santa Elena\",'Tablas Guayaquil'!H51,'Tablas Resto de Ecuador'!H51)","v":3393},{"$f":"IF('INGRESO DE DATOS'!$G$21=\"Guayaquil/Santa Elena\",'Tablas Guayaquil'!I51,'Tablas Resto de Ecuador'!I51)","v":2463}]
[64,null,{"$f":"IF('INGRESO DE DATOS'!$G$21=\"Guayaquil/Santa Elena\",'Tablas Guayaquil'!C52,'Tablas Resto de Ecuador'!C52)","v":7783},{"$f":"IF('INGRESO DE DATOS'!$G$21=\"Guayaquil/Santa Elena\",'Tablas Guayaquil'!D52,'Tablas Resto de Ecuador'!D52)","v":6769},{"$f":"IF('INGRESO DE DATOS'!$G$21=\"Guayaquil/Santa Elena\",'Tablas Guayaquil'!E52,'Tablas Resto de Ecuador'!E52)","v":6170},{"$f":"IF('INGRESO DE DATOS'!$G$21=\"Guayaquil/Santa Elena\",'Tablas Guayaquil'!F52,'Tablas Resto de Ecuador'!F52)","v":5584},{"$f":"IF('INGRESO DE DATOS'!$G$21=\"Guayaquil/Santa Elena\",'Tablas Guayaquil'!G52,'Tablas Resto de Ecuador'!G52)","v":4055},{"$f":"IF('INGRESO DE DATOS'!$G$21=\"Guayaquil/Santa Elena\",'Tablas Guayaquil'!H52,'Tablas Resto de Ecuador'!H52)","v":3661},{"$f":"IF('INGRESO DE DATOS'!$G$21=\"Guayaquil/Santa Elena\",'Tablas Guayaquil'!I52,'Tablas Resto de Ecuador'!I52)","v":2660}]
[65,null,{"$f":"IF('INGRESO DE DATOS'!$G$21=\"Guayaquil/Santa Elena\",'Tablas Guayaquil'!C53,'Tablas Resto de Ecuador'!C53)","v":8293},{"$f":"IF('INGRESO DE DATOS'!$G$21=\"Guayaquil/Santa Elena\",'Tablas Guayaquil'!D53,'Tablas Resto de Ecuador'!D53)","v":7209},{"$f":"IF('INGRESO DE DATOS'!$G$21=\"Guayaquil/Santa Elena\",'Tablas Guayaquil'!E53,'Tablas Resto de Ecuador'!E53)","v":6573},{"$f":"IF('INGRESO DE DATOS'!$G$21=\"Guayaquil/Santa Elena\",'Tablas Guayaquil'!F53,'Tablas Resto de Ecuador'!F53)","v":6002},{"$f":"IF('INGRESO DE DATOS'!$G$21=\"Guayaquil/Santa Elena\",'Tablas Guayaquil'!G53,'Tablas Resto de Ecuador'!G53)","v":4341},{"$f":"IF('INGRESO DE DATOS'!$G$21=\"Guayaquil/Santa Elena\",'Tablas Guayaquil'!H53,'Tablas Resto de Ecuador'!H53)","v":3950},{"$f":"IF('INGRESO DE DATOS'!$G$21=\"Guayaquil/Santa Elena\",'Tablas Guayaquil'!I53,'Tablas Resto de Ecuador'!I53)","v":2874}]
[66,null,{"$f":"IF('INGRESO DE DATOS'!$G$21=\"Guayaquil/Santa Elena\",'Tablas Guayaquil'!C54,'Tablas Resto de Ecuador'!C54)","v":8888},{"$f":"IF('INGRESO DE DATOS'!$G$21=\"Guayaquil/Santa Elena\",'Tablas Guayaquil'!D54,'Tablas Resto de Ecuador'!D54)","v":7729},{"$f":"IF('INGRESO DE DATOS'!$G$21=\"Guayaquil/Santa Elena\",'Tablas Guayaquil'!E54,'Tablas Resto de Ecuador'!E54)","v":7048},{"$f":"IF('INGRESO DE DATOS'!$G$21=\"Guayaquil/Santa Elena\",'Tablas Guayaquil'!F54,'Tablas Resto de Ecuador'!F54)","v":6482},{"$f":"IF('INGRESO DE DATOS'!$G$21=\"Guayaquil/Santa Elena\",'Tablas Guayaquil'!G54,'Tablas Resto de Ecuador'!G54)","v":4676},{"$f":"IF('INGRESO DE DATOS'!$G$21=\"Guayaquil/Santa Elena\",'Tablas Guayaquil'!H54,'Tablas Resto de Ecuador'!H54)","v":4261},{"$f":"IF('INGRESO DE DATOS'!$G$21=\"Guayaquil/Santa Elena\",'Tablas Guayaquil'!I54,'Tablas Resto de Ecuador'!I54)","v":3104}]
[67,null,{"$f":"IF('INGRESO DE DATOS'!$G$21=\"Guayaquil/Santa Elena\",'Tablas Guayaquil'!C55,'Tablas Resto de Ecuador'!C55)","v":9598},{"$f":"IF('INGRESO DE DATOS'!$G$21=\"Guayaquil/Santa Elena\",'Tablas Guayaquil'!D55,'Tablas Resto de Ecuador'!D55)","v":8347},{"$f":"IF('INGRESO DE DATOS'!$G$21=\"Guayaquil/Santa Elena\",'Tablas Guayaquil'!E55,'Tablas Resto de Ecuador'!E55)","v":7612},{"$f":"IF('INGRESO DE DATOS'!$G$21=\"Guayaquil/Santa Elena\",'Tablas Guayaquil'!F55,'Tablas Resto de Ecuador'!F55)","v":7005},{"$f":"IF('INGRESO DE DATOS'!$G$21=\"Guayaquil/Santa Elena\",'Tablas Guayaquil'!G55,'Tablas Resto de Ecuador'!G55)","v":5050},{"$f":"IF('INGRESO DE DATOS'!$G$21=\"Guayaquil/Santa Elena\",'Tablas Guayaquil'!H55,'Tablas Resto de Ecuador'!H55)","v":4597},{"$f":"IF('INGRESO DE DATOS'!$G$21=\"Guayaquil/Santa Elena\",'Tablas Guayaquil'!I55,'Tablas Resto de Ecuador'!I55)","v":3352}]
[68,null,{"$f":"IF('INGRESO DE DATOS'!$G$21=\"Guayaquil/Santa Elena\",'Tablas Guayaquil'!C56,'Tablas Resto de Ecuador'!C56)","v":10415},{"$f":"IF('INGRESO DE DATOS'!$G$21=\"Guayaquil/Santa Elena\",'Tablas Guayaquil'!D56,'Tablas Resto de Ecuador'!D56)","v":9054},{"$f":"IF('INGRESO DE DATOS'!$G$21=\"Guayaquil/Santa Elena\",'Tablas Guayaquil'!E56,'Tablas Resto de Ecuador'!E56)","v":8258},{"$f":"IF('INGRESO DE DATOS'!$G$21=\"Guayaquil/Santa Elena\",'Tablas Guayaquil'!F56,'Tablas Resto de Ecuador'!F56)","v":7595},{"$f":"IF('INGRESO DE DATOS'!$G$21=\"Guayaquil/Santa Elena\",'Tablas Guayaquil'!G56,'Tablas Resto de Ecuador'!G56)","v":5476},{"$f":"IF('INGRESO DE DATOS'!$G$21=\"Guayaquil/Santa Elena\",'Tablas Guayaquil'!H56,'Tablas Resto de Ecuador'!H56)","v":4959},{"$f":"IF('INGRESO DE DATOS'!$G$21=\"Guayaquil/Santa Elena\",'Tablas Guayaquil'!I56,'Tablas Resto de Ecuador'!I56)","v":3618}]
[69,null,{"$f":"IF('INGRESO DE DATOS'!$G$21=\"Guayaquil/Santa Elena\",'Tablas Guayaquil'!C57,'Tablas Resto de Ecuador'!C57)","v":11364},{"$f":"IF('INGRESO DE DATOS'!$G$21=\"Guayaquil/Santa Elena\",'Tablas Guayaquil'!D57,'Tablas Resto de Ecuador'!D57)","v":9882},{"$f":"IF('INGRESO DE DATOS'!$G$21=\"Guayaquil/Santa Elena\",'Tablas Guayaquil'!E57,'Tablas Resto de Ecuador'!E57)","v":9010},{"$f":"IF('INGRESO DE DATOS'!$G$21=\"Guayaquil/Santa Elena\",'Tablas Guayaquil'!F57,'Tablas Resto de Ecuador'!F57)","v":8294},{"$f":"IF('INGRESO DE DATOS'!$G$21=\"Guayaquil/Santa Elena\",'Tablas Guayaquil'!G57,'Tablas Resto de Ecuador'!G57)","v":5697},{"$f":"IF('INGRESO DE DATOS'!$G$21=\"Guayaquil/Santa Elena\",'Tablas Guayaquil'!H57,'Tablas Resto de Ecuador'!H57)","v":5350},{"$f":"IF('INGRESO DE DATOS'!$G$21=\"Guayaquil/Santa Elena\",'Tablas Guayaquil'!I57,'Tablas Resto de Ecuador'!I57)","v":3905}]
[70,null,{"$f":"IF('INGRESO DE DATOS'!$G$21=\"Guayaquil/Santa Elena\",'Tablas Guayaquil'!C58,'Tablas Resto de Ecuador'!C58)","v":12464},{"$f":"IF('INGRESO DE DATOS'!$G$21=\"Guayaquil/Santa Elena\",'Tablas Guayaquil'!D58,'Tablas Resto de Ecuador'!D58)","v":10839},{"$f":"IF('INGRESO DE DATOS'!$G$21=\"Guayaquil/Santa Elena\",'Tablas Guayaquil'!E58,'Tablas Resto de Ecuador'!E58)","v":9797},{"$f":"IF('INGRESO DE DATOS'!$G$21=\"Guayaquil/Santa Elena\",'Tablas Guayaquil'!F58,'Tablas Resto de Ecuador'!F58)","v":9230},{"$f":"IF('INGRESO DE DATOS'!$G$21=\"Guayaquil/Santa Elena\",'Tablas Guayaquil'!G58,'Tablas Resto de Ecuador'!G58)","v":6299},{"$f":"IF('INGRESO DE DATOS'!$G$21=\"Guayaquil/Santa Elena\",'Tablas Guayaquil'!H58,'Tablas Resto de Ecuador'!H58)","v":5770},{"$f":"IF('INGRESO DE DATOS'!$G$21=\"Guayaquil/Santa Elena\",'Tablas Guayaquil'!I58,'Tablas Resto de Ecuador'!I58)","v":4212}]
[71,null,{"$f":"IF('INGRESO DE DATOS'!$G$21=\"Guayaquil/Santa Elena\",'Tablas Guayaquil'!C59,'Tablas Resto de Ecuador'!C59)","v":13728},{"$f":"IF('INGRESO DE DATOS'!$G$21=\"Guayaquil/Santa Elena\",'Tablas Guayaquil'!D59,'Tablas Resto de Ecuador'!D59)","v":11938},{"$f":"IF('INGRESO DE DATOS'!$G$21=\"Guayaquil/Santa Elena\",'Tablas Guayaquil'!E59,'Tablas Resto de Ecuador'!E59)","v":10883},{"$f":"IF('INGRESO DE DATOS'!$G$21=\"Guayaquil/Santa Elena\",'Tablas Guayaquil'!F59,'Tablas Resto de Ecuador'!F59)","v":10164},{"$f":"IF('INGRESO DE DATOS'!$G$21=\"Guayaquil/Santa Elena\",'Tablas Guayaquil'!G59,'Tablas Resto de Ecuador'!G59)","v":6939},{"$f":"IF('INGRESO DE DATOS'!$G$21=\"Guayaquil/Santa Elena\",'Tablas Guayaquil'!H59,'Tablas Resto de Ecuador'!H59)","v":6222},{"$f":"IF('INGRESO DE DATOS'!$G$21=\"Guayaquil/Santa Elena\",'Tablas Guayaquil'!I59,'Tablas Resto de Ecuador'!I59)","v":4540}]
[72,null,{"$f":"IF('INGRESO DE DATOS'!$G$21=\"Guayaquil/Santa Elena\",'Tablas Guayaquil'!C60,'Tablas Resto de Ecuador'!C60)","v":15185},{"$f":"IF('INGRESO DE DATOS'!$G$21=\"Guayaquil/Santa Elena\",'Tablas Guayaquil'!D60,'Tablas Resto de Ecuador'!D60)","v":13204},{"$f":"IF('INGRESO DE DATOS'!$G$21=\"Guayaquil/Santa Elena\",'Tablas Guayaquil'!E60,'Tablas Resto de Ecuador'!E60)","v":12042},{"$f":"IF('INGRESO DE DATOS'!$G$21=\"Guayaquil/Santa Elena\",'Tablas Guayaquil'!F60,'Tablas Resto de Ecuador'!F60)","v":11249},{"$f":"IF('INGRESO DE DATOS'!$G$21=\"Guayaquil/Santa Elena\",'Tablas Guayaquil'!G60,'Tablas Resto de Ecuador'!G60)","v":7680},{"$f":"IF('INGRESO DE DATOS'!$G$21=\"Guayaquil/Santa Elena\",'Tablas Guayaquil'!H60,'Tablas Resto de Ecuador'!H60)","v":6706},{"$f":"IF('INGRESO DE DATOS'!$G$21=\"Guayaquil/Santa Elena\",'Tablas Guayaquil'!I60,'Tablas Resto de Ecuador'!I60)","v":4890}]
[73,null,{"$f":"IF('INGRESO DE DATOS'!$G$21=\"Guayaquil/Santa Elena\",'Tablas Guayaquil'!C61,'Tablas Resto de Ecuador'!C61)","v":16867},{"$f":"IF('INGRESO DE DATOS'!$G$21=\"Guayaquil/Santa Elena\",'Tablas Guayaquil'!D61,'Tablas Resto de Ecuador'!D61)","v":14665},{"$f":"IF('INGRESO DE DATOS'!$G$21=\"Guayaquil/Santa Elena\",'Tablas Guayaquil'!E61,'Tablas Resto de Ecuador'!E61)","v":13370},{"$f":"IF('INGRESO DE DATOS'!$G$21=\"Guayaquil/Santa Elena\",'Tablas Guayaquil'!F61,'Tablas Resto de Ecuador'!F61)","v":12488},{"$f":"IF('INGRESO DE DATOS'!$G$21=\"Guayaquil/Santa Elena\",'Tablas Guayaquil'!G61,'Tablas Resto de Ecuador'!G61)","v":8523},{"$f":"IF('INGRESO DE DATOS'!$G$21=\"Guayaquil/Santa Elena\",'Tablas Guayaquil'!H61,'Tablas Resto de Ecuador'!H61)","v":7225},{"$f":"IF('INGRESO DE DATOS'!$G$21=\"Guayaquil/Santa Elena\",'Tablas Guayaquil'!I61,'Tablas Resto de Ecuador'!I61)","v":5263}]
[74,null,{"$f":"IF('INGRESO DE DATOS'!$G$21=\"Guayaquil/Santa Elena\",'Tablas Guayaquil'!C62,'Tablas Resto de Ecuador'!C62)","v":18804},{"$f":"IF('INGRESO DE DATOS'!$G$21=\"Guayaquil/Santa Elena\",'Tablas Guayaquil'!D62,'Tablas Resto de Ecuador'!D62)","v":16349},{"$f":"IF('INGRESO DE DATOS'!$G$21=\"Guayaquil/Santa Elena\",'Tablas Guayaquil'!E62,'Tablas Resto de Ecuador'!E62)","v":14907},{"$f":"IF('INGRESO DE DATOS'!$G$21=\"Guayaquil/Santa Elena\",'Tablas Guayaquil'!F62,'Tablas Resto de Ecuador'!F62)","v":13925},{"$f":"IF('INGRESO DE DATOS'!$G$21=\"Guayaquil/Santa Elena\",'Tablas Guayaquil'!G62,'Tablas Resto de Ecuador'!G62)","v":9506},{"$f":"IF('INGRESO DE DATOS'!$G$21=\"Guayaquil/Santa Elena\",'Tablas Guayaquil'!H62,'Tablas Resto de Ecuador'!H62)","v":7778},{"$f":"IF('INGRESO DE DATOS'!$G$21=\"Guayaquil/Santa Elena\",'Tablas Guayaquil'!I62,'Tablas Resto de Ecuador'!I62)","v":5656}]
[75,null,{"$f":"IF('INGRESO DE DATOS'!$G$21=\"Guayaquil/Santa Elena\",'Tablas Guayaquil'!C63,'Tablas Resto de Ecuador'!C63)","v":21024},{"$f":"IF('INGRESO DE DATOS'!$G$21=\"Guayaquil/Santa Elena\",'Tablas Guayaquil'!D63,'Tablas Resto de Ecuador'!D63)","v":18283},{"$f":"IF('INGRESO DE DATOS'!$G$21=\"Guayaquil/Santa Elena\",'Tablas Guayaquil'!E63,'Tablas Resto de Ecuador'!E63)","v":16602},{"$f":"IF('INGRESO DE DATOS'!$G$21=\"Guayaquil/Santa Elena\",'Tablas Guayaquil'!F63,'Tablas Resto de Ecuador'!F63)","v":15668},{"$f":"IF('INGRESO DE DATOS'!$G$21=\"Guayaquil/Santa Elena\",'Tablas Guayaquil'!G63,'Tablas Resto de Ecuador'!G63)","v":10666},{"$f":"IF('INGRESO DE DATOS'!$G$21=\"Guayaquil/Santa Elena\",'Tablas Guayaquil'!H63,'Tablas Resto de Ecuador'!H63)","v":8364},{"$f":"IF('INGRESO DE DATOS'!$G$21=\"Guayaquil/Santa Elena\",'Tablas Guayaquil'!I63,'Tablas Resto de Ecuador'!I63)","v":6069}]
[76,null,{"$f":"IF('INGRESO DE DATOS'!$G$21=\"Guayaquil/Santa Elena\",'Tablas Guayaquil'!C64,'Tablas Resto de Ecuador'!C64)","v":23579},{"$f":"IF('INGRESO DE DATOS'!$G$21=\"Guayaquil/Santa Elena\",'Tablas Guayaquil'!D64,'Tablas Resto de Ecuador'!D64)","v":20502},{"$f":"IF('INGRESO DE DATOS'!$G$21=\"Guayaquil/Santa Elena\",'Tablas Guayaquil'!E64,'Tablas Resto de Ecuador'!E64)","v":18679},{"$f":"IF('INGRESO DE DATOS'!$G$21=\"Guayaquil/Santa Elena\",'Tablas Guayaquil'!F64,'Tablas Resto de Ecuador'!F64)","v":17568},{"$f":"IF('INGRESO DE DATOS'!$G$21=\"Guayaquil/Santa Elena\",'Tablas Guayaquil'!G64,'Tablas Resto de Ecuador'!G64)","v":11960},{"$f":"IF('INGRESO DE DATOS'!$G$21=\"Guayaquil/Santa Elena\",'Tablas Guayaquil'!H64,'Tablas Resto de Ecuador'!H64)","v":8983},{"$f":"IF('INGRESO DE DATOS'!$G$21=\"Guayaquil/Santa Elena\",'Tablas Guayaquil'!I64,'Tablas Resto de Ecuador'!I64)","v":6499}]
[77,null,{"$f":"IF('INGRESO DE DATOS'!$G$21=\"Guayaquil/Santa Elena\",'Tablas Guayaquil'!C65,'Tablas Resto de Ecuador'!C65)","v":26478},{"$f":"IF('INGRESO DE DATOS'!$G$21=\"Guayaquil/Santa Elena\",'Tablas Guayaquil'!D65,'Tablas Resto de Ecuador'!D65)","v":23027},{"$f":"IF('INGRESO DE DATOS'!$G$21=\"Guayaquil/Santa Elena\",'Tablas Guayaquil'!E65,'Tablas Resto de Ecuador'!E65)","v":20994},{"$f":"IF('INGRESO DE DATOS'!$G$21=\"Guayaquil/Santa Elena\",'Tablas Guayaquil'!F65,'Tablas Resto de Ecuador'!F65)","v":19587},{"$f":"IF('INGRESO DE DATOS'!$G$21=\"Guayaquil/Santa Elena\",'Tablas Guayaquil'!G65,'Tablas Resto de Ecuador'!G65)","v":13434},{"$f":"IF('INGRESO DE DATOS'!$G$21=\"Guayaquil/Santa Elena\",'Tablas Guayaquil'!H65,'Tablas Resto de Ecuador'!H65)","v":9631},{"$f":"IF('INGRESO DE DATOS'!$G$21=\"Guayaquil/Santa Elena\",'Tablas Guayaquil'!I65,'Tablas Resto de Ecuador'!I65)","v":6942}]
[78,null,{"$f":"IF('INGRESO DE DATOS'!$G$21=\"Guayaquil/Santa Elena\",'Tablas Guayaquil'!C66,'Tablas Resto de Ecuador'!C66)","v":29753},{"$f":"IF('INGRESO DE DATOS'!$G$21=\"Guayaquil/Santa Elena\",'Tablas Guayaquil'!D66,'Tablas Resto de Ecuador'!D66)","v":25872},{"$f":"IF('INGRESO DE DATOS'!$G$21=\"Guayaquil/Santa Elena\",'Tablas Guayaquil'!E66,'Tablas Resto de Ecuador'!E66)","v":23588},{"$f":"IF('INGRESO DE DATOS'!$G$21=\"Guayaquil/Santa Elena\",'Tablas Guayaquil'!F66,'Tablas Resto de Ecuador'!F66)","v":21010},{"$f":"IF('INGRESO DE DATOS'!$G$21=\"Guayaquil/Santa Elena\",'Tablas Guayaquil'!G66,'Tablas Resto de Ecuador'!G66)","v":14466},{"$f":"IF('INGRESO DE DATOS'!$G$21=\"Guayaquil/Santa Elena\",'Tablas Guayaquil'!H66,'Tablas Resto de Ecuador'!H66)","v":10303},{"$f":"IF('INGRESO DE DATOS'!$G$21=\"Guayaquil/Santa Elena\",'Tablas Guayaquil'!I66,'Tablas Resto de Ecuador'!I66)","v":7393}]
[79,null,{"$f":"IF('INGRESO DE DATOS'!$G$21=\"Guayaquil/Santa Elena\",'Tablas Guayaquil'!C67,'Tablas Resto de Ecuador'!C67)","v":33429},{"$f":"IF('INGRESO DE DATOS'!$G$21=\"Guayaquil/Santa Elena\",'Tablas Guayaquil'!D67,'Tablas Resto de Ecuador'!D67)","v":29067},{"$f":"IF('INGRESO DE DATOS'!$G$21=\"Guayaquil/Santa Elena\",'Tablas Guayaquil'!E67,'Tablas Resto de Ecuador'!E67)","v":26504},{"$f":"IF('INGRESO DE DATOS'!$G$21=\"Guayaquil/Santa Elena\",'Tablas Guayaquil'!F67,'Tablas Resto de Ecuador'!F67)","v":22505},{"$f":"IF('INGRESO DE DATOS'!$G$21=\"Guayaquil/Santa Elena\",'Tablas Guayaquil'!G67,'Tablas Resto de Ecuador'!G67)","v":15484},{"$f":"IF('INGRESO DE DATOS'!$G$21=\"Guayaquil/Santa Elena\",'Tablas Guayaquil'!H67,'Tablas Resto de Ecuador'!H67)","v":10994},{"$f":"IF('INGRESO DE DATOS'!$G$21=\"Guayaquil/Santa Elena\",'Tablas Guayaquil'!I67,'Tablas Resto de Ecuador'!I67)","v":7840}]
[80,"o más",{"$f":"IF('INGRESO DE DATOS'!$G$21=\"Guayaquil/Santa Elena\",'Tablas Guayaquil'!C68,'Tablas Resto de Ecuador'!C68)","v":37570},{"$f":"IF('INGRESO DE DATOS'!$G$21=\"Guayaquil/Santa Elena\",'Tablas Guayaquil'!D68,'Tablas Resto de Ecuador'!D68)","v":32895},{"$f":"IF('INGRESO DE DATOS'!$G$21=\"Guayaquil/Santa Elena\",'Tablas Guayaquil'!E68,'Tablas Resto de Ecuador'!E68)","v":29282},{"$f":"IF('INGRESO DE DATOS'!$G$21=\"Guayaquil/Santa Elena\",'Tablas Guayaquil'!F68,'Tablas Resto de Ecuador'!F68)","v":24065},{"$f":"IF('INGRESO DE DATOS'!$G$21=\"Guayaquil/Santa Elena\",'Tablas Guayaquil'!G68,'Tablas Resto de Ecuador'!G68)","v":16534},{"$f":"IF('INGRESO DE DATOS'!$G$21=\"Guayaquil/Santa Elena\",'Tablas Guayaquil'!H68,'Tablas Resto de Ecuador'!H68)","v":11693},{"$f":"IF('INGRESO DE DATOS'!$G$21=\"Guayaquil/Santa Elena\",'Tablas Guayaquil'!I68,'Tablas Resto de Ecuador'!I68)","v":8275}]
[1,"Hijo",{"$f":"IF('INGRESO DE DATOS'!$G$21=\"Guayaquil/Santa Elena\",'Tablas Guayaquil'!C69,'Tablas Resto de Ecuador'!C69)","v":1442},{"$f":"IF('INGRESO DE DATOS'!$G$21=\"Guayaquil/Santa Elena\",'Tablas Guayaquil'!D69,'Tablas Resto de Ecuador'!D69)","v":1253},{"$f":"IF('INGRESO DE DATOS'!$G$21=\"Guayaquil/Santa Elena\",'Tablas Guayaquil'!E69,'Tablas Resto de Ecuador'!E69)","v":908},{"$f":"IF('INGRESO DE DATOS'!$G$21=\"Guayaquil/Santa Elena\",'Tablas Guayaquil'!F69,'Tablas Resto de Ecuador'!F69)","v":622},{"$f":"IF('INGRESO DE DATOS'!$G$21=\"Guayaquil/Santa Elena\",'Tablas Guayaquil'!G69,'Tablas Resto de Ecuador'!G69)","v":340},{"$f":"IF('INGRESO DE DATOS'!$G$21=\"Guayaquil/Santa Elena\",'Tablas Guayaquil'!H69,'Tablas Resto de Ecuador'!H69)","v":201},{"$f":"IF('INGRESO DE DATOS'!$G$21=\"Guayaquil/Santa Elena\",'Tablas Guayaquil'!I69,'Tablas Resto de Ecuador'!I69)","v":115}]
[2,"Hijos",{"$f":"IF('INGRESO DE DATOS'!$G$21=\"Guayaquil/Santa Elena\",'Tablas Guayaquil'!C70,'Tablas Resto de Ecuador'!C70)","v":1704},{"$f":"IF('INGRESO DE DATOS'!$G$21=\"Guayaquil/Santa Elena\",'Tablas Guayaquil'!D70,'Tablas Resto de Ecuador'!D70)","v":1480},{"$f":"IF('INGRESO DE DATOS'!$G$21=\"Guayaquil/Santa Elena\",'Tablas Guayaquil'!E70,'Tablas Resto de Ecuador'!E70)","v":1073},{"$f":"IF('INGRESO DE DATOS'!$G$21=\"Guayaquil/Santa Elena\",'Tablas Guayaquil'!F70,'Tablas Resto de Ecuador'!F70)","v":735},{"$f":"IF('INGRESO DE DATOS'!$G$21=\"Guayaquil/Santa Elena\",'Tablas Guayaquil'!G70,'Tablas Resto de Ecuador'!G70)","v":401},{"$f":"IF('INGRESO DE DATOS'!$G$21=\"Guayaquil/Santa Elena\",'Tablas Guayaquil'!H70,'Tablas Resto de Ecuador'!H70)","v":237},{"$f":"IF('INGRESO DE DATOS'!$G$21=\"Guayaquil/Santa Elena\",'Tablas Guayaquil'!I70,'Tablas Resto de Ecuador'!I70)","v":136}]
[3,"Hijos o más",{"$f":"IF('INGRESO DE DATOS'!$G$21=\"Guayaquil/Santa Elena\",'Tablas Guayaquil'!C71,'Tablas Resto de Ecuador'!C71)","v":2359},{"$f":"IF('INGRESO DE DATOS'!$G$21=\"Guayaquil/Santa Elena\",'Tablas Guayaquil'!D71,'Tablas Resto de Ecuador'!D71)","v":2050},{"$f":"IF('INGRESO DE DATOS'!$G$21=\"Guayaquil/Santa Elena\",'Tablas Guayaquil'!E71,'Tablas Resto de Ecuador'!E71)","v":1485},{"$f":"IF('INGRESO DE DATOS'!$G$21=\"Guayaquil/Santa Elena\",'Tablas Guayaquil'!F71,'Tablas Resto de Ecuador'!F71)","v":1018},{"$f":"IF('INGRESO DE DATOS'!$G$21=\"Guayaquil/Santa Elena\",'Tablas Guayaquil'!G71,'Tablas Resto de Ecuador'!G71)","v":556},{"$f":"IF('INGRESO DE DATOS'!$G$21=\"Guayaquil/Santa Elena\",'Tablas Guayaquil'!H71,'Tablas Resto de Ecuador'!H71)","v":328},{"$f":"IF('INGRESO DE DATOS'!$G$21=\"Guayaquil/Santa Elena\",'Tablas Guayaquil'!I71,'Tablas Resto de Ecuador'!I71)","v":189}]
[]
["TARIFAS MENSUALES"]
["EDAD"]
[" "," ","F500-1","F500-2","F500-3","F500-4","F500-5"]
[18,null,{"$f":"IF('INGRESO DE DATOS'!$G$21=\"Guayaquil/Santa Elena\",'Tablas Guayaquil'!C76,'Tablas Resto de Ecuador'!C76)","v":192.92},{"$f":"IF('INGRESO DE DATOS'!$G$21=\"Guayaquil/Santa Elena\",'Tablas Guayaquil'!D76,'Tablas Resto de Ecuador'!D76)","v":165.00666666666666},{"$f":"IF('INGRESO DE DATOS'!$G$21=\"Guayaquil/Santa Elena\",'Tablas Guayaquil'!E76,'Tablas Resto de Ecuador'!E76)","v":120.84},{"$f":"IF('INGRESO DE DATOS'!$G$21=\"Guayaquil/Santa Elena\",'Tablas Guayaquil'!F76,'Tablas Resto de Ecuador'!F76)","v":83.298333333333332},{"$f":"IF('INGRESO DE DATOS'!$G$21=\"Guayaquil/Santa Elena\",'Tablas Guayaquil'!G76,'Tablas Resto de Ecuador'!G76)","v":45.403333333333336},{"$f":"IF('INGRESO DE DATOS'!$G$21=\"Guayaquil/Santa Elena\",'Tablas Guayaquil'!H76,'Tablas Resto de Ecuador'!H76)","v":26.853333333333332},{"$f":"IF('INGRESO DE DATOS'!$G$21=\"Guayaquil/Santa Elena\",'Tablas Guayaquil'!I76,'Tablas Resto de Ecuador'!I76)","v":15.458333333333334}]
[19,null,{"$f":"IF('INGRESO DE DATOS'!$G$21=\"Guayaquil/Santa Elena\",'Tablas Guayaquil'!C77,'Tablas Resto de Ecuador'!C77)","v":196.1},{"$f":"IF('INGRESO DE DATOS'!$G$21=\"Guayaquil/Santa Elena\",'Tablas Guayaquil'!D77,'Tablas Resto de Ecuador'!D77)","v":165.00666666666666},{"$f":"IF('INGRESO DE DATOS'!$G$21=\"Guayaquil/Santa Elena\",'Tablas Guayaquil'!E77,'Tablas Resto de Ecuador'!E77)","v":120.84},{"$f":"IF('INGRESO DE DATOS'!$G$21=\"Guayaquil/Santa Elena\",'Tablas Guayaquil'!F77,'Tablas Resto de Ecuador'!F77)","v":83.38666666666667},{"$f":"IF('INGRESO DE DATOS'!$G$21=\"Guayaquil/Santa Elena\",'Tablas Guayaquil'!G77,'Tablas Resto de Ecuador'!G77)","v":45.844999999999999},{"$f":"IF('INGRESO DE DATOS'!$G$21=\"Guayaquil/Santa Elena\",'Tablas Guayaquil'!H77,'Tablas Resto de Ecuador'!H77)","v":27.295000000000002},{"$f":"IF('INGRESO DE DATOS'!$G$21=\"Guayaquil/Santa Elena\",'Tablas Guayaquil'!I77,'Tablas Resto de Ecuador'!I77)","v":15.811666666666667}]
[20,null,{"$f":"IF('INGRESO DE DATOS'!$G$21=\"Guayaquil/Santa Elena\",'Tablas Guayaquil'!C78,'Tablas Resto de Ecuador'!C78)","v":199.54499999999999},{"$f":"IF('INGRESO DE DATOS'!$G$21=\"Guayaquil/Santa Elena\",'Tablas Guayaquil'!D78,'Tablas Resto de Ecuador'!D78)","v":165.00666666666666},{"$f":"IF('INGRESO DE DATOS'!$G$21=\"Guayaquil/Santa Elena\",'Tablas Guayaquil'!E78,'Tablas Resto de Ecuador'!E78)","v":120.84},{"$f":"IF('INGRESO DE DATOS'!$G$21=\"Guayaquil/Santa Elena\",'Tablas Guayaquil'!F78,'Tablas Resto de Ecuador'!F78)","v":83.651666666666671},{"$f":"IF('INGRESO DE DATOS'!$G$21=\"Guayaquil/Santa Elena\",'Tablas Guayaquil'!G78,'Tablas Resto de Ecuador'!G78)","v":46.375},{"$f":"IF('INGRESO DE DATOS'!$G$21=\"Guayaquil/Santa Elena\",'Tablas Guayaquil'!H78,'Tablas Resto de Ecuador'!H78)","v":27.648333333333333},{"$f":"IF('INGRESO DE DATOS'!$G$21=\"Guayaquil/Santa Elena\",'Tablas Guayaquil'!I78,'Tablas Resto de Ecuador'!I78)","v":16.164999999999999}]
[21,null,{"$f":"IF('INGRESO DE DATOS'!$G$21=\"Guayaquil/Santa Elena\",'Tablas Guayaquil'!C79,'Tablas Resto de Ecuador'!C79)","v":203.34333333333333},{"$f":"IF('INGRESO DE DATOS'!$G$21=\"Guayaquil/Santa Elena\",'Tablas Guayaquil'!D79,'Tablas Resto de Ecuador'!D79)","v":165.00666666666666},{"$f":"IF('INGRESO DE DATOS'!$G$21=\"Guayaquil/Santa Elena\",'Tablas Guayaquil'!E79,'Tablas Resto de Ecuador'!E79)","v":121.01666666666667},{"$f":"IF('INGRESO DE DATOS'!$G$21=\"Guayaquil/Santa Elena\",'Tablas Guayaquil'!F79,'Tablas Resto de Ecuador'!F79)","v":84.181666666666672},{"$f":"IF('INGRESO DE DATOS'!$G$21=\"Guayaquil/Santa Elena\",'Tablas Guayaquil'!G79,'Tablas Resto de Ecuador'!G79)","v":46.905000000000001},{"$f":"IF('INGRESO DE DATOS'!$G$21=\"Guayaquil/Santa Elena\",'Tablas Guayaquil'!H79,'Tablas Resto de Ecuador'!H79)","v":28.266666666666666},{"$f":"IF('INGRESO DE DATOS'!$G$21=\"Guayaquil/Santa Elena\",'Tablas Guayaquil'!I79,'Tablas Resto de Ecuador'!I79)","v":16.606666666666666}]
[22,null,{"$f":"IF('INGRESO DE DATOS'!$G$21=\"Guayaquil/Santa Elena\",'Tablas Guayaquil'!C80,'Tablas Resto de Ecuador'!C80)","v":206.61166666666668},{"$f":"IF('INGRESO DE DATOS'!$G$21=\"Guayaquil/Santa Elena\",'Tablas Guayaquil'!D80,'Tablas Resto de Ecuador'!D80)","v":165.00666666666666},{"$f":"IF('INGRESO DE DATOS'!$G$21=\"Guayaquil/Santa Elena\",'Tablas Guayaquil'!E80,'Tablas Resto de Ecuador'!E80)","v":121.37},{"$f":"IF('INGRESO DE DATOS'!$G$21=\"Guayaquil/Santa Elena\",'Tablas Guayaquil'!F80,'Tablas Resto de Ecuador'!F80)","v":84.8},{"$f":"IF('INGRESO DE DATOS'!$G$21=\"Guayaquil/Santa Elena\",'Tablas Guayaquil'!G80,'Tablas Resto de Ecuador'!G80)","v":47.611666666666665},{"$f":"IF('INGRESO DE DATOS'!$G$21=\"Guayaquil/Santa Elena\",'Tablas Guayaquil'!H80,'Tablas Resto de Ecuador'!H80)","v":28.796666666666667},{"$f":"IF('INGRESO DE DATOS'!$G$21=\"Guayaquil/Santa Elena\",'Tablas Guayaquil'!I80,'Tablas Resto de Ecuador'!I80)","v":17.048333333333332}]
[23,null,{"$f":"IF('INGRESO DE DATOS'!$G$21=\"Guayaquil/Santa Elena\",'Tablas Guayaquil'!C81,'Tablas Resto de Ecuador'!C81)","v":210.05666666666667},{"$f":"IF('INGRESO DE DATOS'!$G$21=\"Guayaquil/Santa Elena\",'Tablas Guayaquil'!D81,'Tablas Resto de Ecuador'!D81)","v":165.44833333333332},{"$f":"IF('INGRESO DE DATOS'!$G$21=\"Guayaquil/Santa Elena\",'Tablas Guayaquil'!E81,'Tablas Resto de Ecuador'!E81)","v":122.16500000000001},{"$f":"IF('INGRESO DE DATOS'!$G$21=\"Guayaquil/Santa Elena\",'Tablas Guayaquil'!F81,'Tablas Resto de Ecuador'!F81)","v":85.683333333333337},{"$f":"IF('INGRESO DE DATOS'!$G$21=\"Guayaquil/Santa Elena\",'Tablas Guayaquil'!G81,'Tablas Resto de Ecuador'!G81)","v":48.406666666666666},{"$f":"IF('INGRESO DE DATOS'!$G$21=\"Guayaquil/Santa Elena\",'Tablas Guayaquil'!H81,'Tablas Resto de Ecuador'!H81)","v":29.503333333333334},{"$f":"IF('INGRESO DE DATOS'!$G$21=\"Guayaquil/Santa Elena\",'Tablas Guayaquil'!I81,'Tablas Resto de Ecuador'!I81)","v":17.489999999999998}]
[24,null,{"$f":"IF('INGRESO DE DATOS'!$G$21=\"Guayaquil/Santa Elena\",'Tablas Guayaquil'!C82,'Tablas Resto de Ecuador'!C82)","v":210.58666666666667},{"$f":"IF('INGRESO DE DATOS'!$G$21=\"Guayaquil/Santa Elena\",'Tablas Guayaquil'!D82,'Tablas Resto de Ecuador'!D82)","v":166.24333333333334},{"$f":"IF('INGRESO DE DATOS'!$G$21=\"Guayaquil/Santa Elena\",'Tablas Guayaquil'!E82,'Tablas Resto de Ecuador'!E82)","v":123.13666666666667},{"$f":"IF('INGRESO DE DATOS'!$G$21=\"Guayaquil/Santa Elena\",'Tablas Guayaquil'!F82,'Tablas Resto de Ecuador'!F82)","v":86.831666666666663},{"$f":"IF('INGRESO DE DATOS'!$G$21=\"Guayaquil/Santa Elena\",'Tablas Guayaquil'!G82,'Tablas Resto de Ecuador'!G82)","v":49.29},{"$f":"IF('INGRESO DE DATOS'!$G$21=\"Guayaquil/Santa Elena\",'Tablas Guayaquil'!H82,'Tablas Resto de Ecuador'!H82)","v":30.21},{"$f":"IF('INGRESO DE DATOS'!$G$21=\"Guayaquil/Santa Elena\",'Tablas Guayaquil'!I82,'Tablas Resto de Ecuador'!I82)","v":18.108333333333334}]
[25,null,{"$f":"IF('INGRESO DE DATOS'!$G$21=\"Guayaquil/Santa Elena\",'Tablas Guayaquil'!C83,'Tablas Resto de Ecuador'!C83)","v":211.55833333333334},{"$f":"IF('INGRESO DE DATOS'!$G$21=\"Guayaquil/Santa Elena\",'Tablas Guayaquil'!D83,'Tablas Resto de Ecuador'!D83)","v":167.39166666666668},{"$f":"IF('INGRESO DE DATOS'!$G$21=\"Guayaquil/Santa Elena\",'Tablas Guayaquil'!E83,'Tablas Resto de Ecuador'!E83)","v":124.46166666666667},{"$f":"IF('INGRESO DE DATOS'!$G$21=\"Guayaquil/Santa Elena\",'Tablas Guayaquil'!F83,'Tablas Resto de Ecuador'!F83)","v":88.156666666666666},{"$f":"IF('INGRESO DE DATOS'!$G$21=\"Guayaquil/Santa Elena\",'Tablas Guayaquil'!G83,'Tablas Resto de Ecuador'!G83)","v":50.35},{"$f":"IF('INGRESO DE DATOS'!$G$21=\"Guayaquil/Santa Elena\",'Tablas Guayaquil'!H83,'Tablas Resto de Ecuador'!H83)","v":31.004999999999999},{"$f":"IF('INGRESO DE DATOS'!$G$21=\"Guayaquil/Santa Elena\",'Tablas Guayaquil'!I83,'Tablas Resto de Ecuador'!I83)","v":18.726666666666667}]
[26,null,{"$f":"IF('INGRESO DE DATOS'!$G$21=\"Guayaquil/Santa Elena\",'Tablas Guayaquil'!C84,'Tablas Resto de Ecuador'!C84)","v":213.14833333333334},{"$f":"IF('INGRESO DE DATOS'!$G$21=\"Guayaquil/Santa Elena\",'Tablas Guayaquil'!D84,'Tablas Resto de Ecuador'!D84)","v":169.07},{"$f":"IF('INGRESO DE DATOS'!$G$21=\"Guayaquil/Santa Elena\",'Tablas Guayaquil'!E84,'Tablas Resto de Ecuador'!E84)","v":126.22833333333334},{"$f":"IF('INGRESO DE DATOS'!$G$21=\"Guayaquil/Santa Elena\",'Tablas Guayaquil'!F84,'Tablas Resto de Ecuador'!F84)","v":89.658333333333331},{"$f":"IF('INGRESO DE DATOS'!$G$21=\"Guayaquil/Santa Elena\",'Tablas Guayaquil'!G84,'Tablas Resto de Ecuador'!G84)","v":51.586666666666666},{"$f":"IF('INGRESO DE DATOS'!$G$21=\"Guayaquil/Santa Elena\",'Tablas Guayaquil'!H84,'Tablas Resto de Ecuador'!H84)","v":31.976666666666667},{"$f":"IF('INGRESO DE DATOS'!$G$21=\"Guayaquil/Santa Elena\",'Tablas Guayaquil'!I84,'Tablas Resto de Ecuador'!I84)","v":19.344999999999999}]
[27,null,{"$f":"IF('INGRESO DE DATOS'!$G$21=\"Guayaquil/Santa Elena\",'Tablas Guayaquil'!C85,'Tablas Resto de Ecuador'!C85)","v":215.26833333333335},{"$f":"IF('INGRESO DE DATOS'!$G$21=\"Guayaquil/Santa Elena\",'Tablas Guayaquil'!D85,'Tablas Resto de Ecuador'!D85)","v":171.19},{"$f":"IF('INGRESO DE DATOS'!$G$21=\"Guayaquil/Santa Elena\",'Tablas Guayaquil'!E85,'Tablas Resto de Ecuador'!E85)","v":128.26},{"$f":"IF('INGRESO DE DATOS'!$G$21=\"Guayaquil/Santa Elena\",'Tablas Guayaquil'!F85,'Tablas Resto de Ecuador'!F85)","v":91.424999999999997},{"$f":"IF('INGRESO DE DATOS'!$G$21=\"Guayaquil/Santa Elena\",'Tablas Guayaquil'!G85,'Tablas Resto de Ecuador'!G85)","v":52.911666666666669},{"$f":"IF('INGRESO DE DATOS'!$G$21=\"Guayaquil/Santa Elena\",'Tablas Guayaquil'!H85,'Tablas Resto de Ecuador'!H85)","v":32.948333333333331},{"$f":"IF('INGRESO DE DATOS'!$G$21=\"Guayaquil/Santa Elena\",'Tablas Guayaquil'!I85,'Tablas Resto de Ecuador'!I85)","v":20.051666666666666}]
[28,null,{"$f":"IF('INGRESO DE DATOS'!$G$21=\"Guayaquil/Santa Elena\",'Tablas Guayaquil'!C86,'Tablas Resto de Ecuador'!C86)","v":217.91833333333332},{"$f":"IF('INGRESO DE DATOS'!$G$21=\"Guayaquil/Santa Elena\",'Tablas Guayaquil'!D86,'Tablas Resto de Ecuador'!D86)","v":173.75166666666667},{"$f":"IF('INGRESO DE DATOS'!$G$21=\"Guayaquil/Santa Elena\",'Tablas Guayaquil'!E86,'Tablas Resto de Ecuador'!E86)","v":130.55666666666667},{"$f":"IF('INGRESO DE DATOS'!$G$21=\"Guayaquil/Santa Elena\",'Tablas Guayaquil'!F86,'Tablas Resto de Ecuador'!F86)","v":93.456666666666663},{"$f":"IF('INGRESO DE DATOS'!$G$21=\"Guayaquil/Santa Elena\",'Tablas Guayaquil'!G86,'Tablas Resto de Ecuador'!G86)","v":54.413333333333334},{"$f":"IF('INGRESO DE DATOS'!$G$21=\"Guayaquil/Santa Elena\",'Tablas Guayaquil'!H86,'Tablas Resto de Ecuador'!H86)","v":34.096666666666664},{"$f":"IF('INGRESO DE DATOS'!$G$21=\"Guayaquil/Santa Elena\",'Tablas Guayaquil'!I86,'Tablas Resto de Ecuador'!I86)","v":20.846666666666668}]
[29,null,{"$f":"IF('INGRESO DE DATOS'!$G$21=\"Guayaquil/Santa Elena\",'Tablas Guayaquil'!C87,'Tablas Resto de Ecuador'!C87)","v":221.09833333333333},{"$f":"IF('INGRESO DE DATOS'!$G$21=\"Guayaquil/Santa Elena\",'Tablas Guayaquil'!D87,'Tablas Resto de Ecuador'!D87)","v":176.66666666666666},{"$f":"IF('INGRESO DE DATOS'!$G$21=\"Guayaquil/Santa Elena\",'Tablas Guayaquil'!E87,'Tablas Resto de Ecuador'!E87)","v":133.20666666666668},{"$f":"IF('INGRESO DE DATOS'!$G$21=\"Guayaquil/Santa Elena\",'Tablas Guayaquil'!F87,'Tablas Resto de Ecuador'!F87)","v":95.75333333333333},{"$f":"IF('INGRESO DE DATOS'!$G$21=\"Guayaquil/Santa Elena\",'Tablas Guayaquil'!G87,'Tablas Resto de Ecuador'!G87)","v":56.091666666666669},{"$f":"IF('INGRESO DE DATOS'!$G$21=\"Guayaquil/Santa Elena\",'Tablas Guayaquil'!H87,'Tablas Resto de Ecuador'!H87)","v":35.333333333333336},{"$f":"IF('INGRESO DE DATOS'!$G$21=\"Guayaquil/Santa Elena\",'Tablas Guayaquil'!I87,'Tablas Resto de Ecuador'!I87)","v":21.818333333333332}]
[30,null,{"$f":"IF('INGRESO DE DATOS'!$G$21=\"Guayaquil/Santa Elena\",'Tablas Guayaquil'!C88,'Tablas Resto de Ecuador'!C88)","v":224.80833333333334},{"$f":"IF('INGRESO DE DATOS'!$G$21=\"Guayaquil/Santa Elena\",'Tablas Guayaquil'!D88,'Tablas Resto de Ecuador'!D88)","v":180.2},{"$f":"IF('INGRESO DE DATOS'!$G$21=\"Guayaquil/Santa Elena\",'Tablas Guayaquil'!E88,'Tablas Resto de Ecuador'!E88)","v":136.29833333333335},{"$f":"IF('INGRESO DE DATOS'!$G$21=\"Guayaquil/Santa Elena\",'Tablas Guayaquil'!F88,'Tablas Resto de Ecuador'!F88)","v":98.314999999999998},{"$f":"IF('INGRESO DE DATOS'!$G$21=\"Guayaquil/Santa Elena\",'Tablas Guayaquil'!G88,'Tablas Resto de Ecuador'!G88)","v":57.946666666666665},{"$f":"IF('INGRESO DE DATOS'!$G$21=\"Guayaquil/Santa Elena\",'Tablas Guayaquil'!H88,'Tablas Resto de Ecuador'!H88)","v":36.57},{"$f":"IF('INGRESO DE DATOS'!$G$21=\"Guayaquil/Santa Elena\",'Tablas Guayaquil'!I88,'Tablas Resto de Ecuador'!I88)","v":22.701666666666668}]
[31,null,{"$f":"IF('INGRESO DE DATOS'!$G$21=\"Guayaquil/Santa Elena\",'Tablas Guayaquil'!C89,'Tablas Resto de Ecuador'!C89)","v":229.22499999999999},{"$f":"IF('INGRESO DE DATOS'!$G$21=\"Guayaquil/Santa Elena\",'Tablas Guayaquil'!D89,'Tablas Resto de Ecuador'!D89)","v":184.17500000000001},{"$f":"IF('INGRESO DE DATOS'!$G$21=\"Guayaquil/Santa Elena\",'Tablas Guayaquil'!E89,'Tablas Resto de Ecuador'!E89)","v":139.74333333333334},{"$f":"IF('INGRESO DE DATOS'!$G$21=\"Guayaquil/Santa Elena\",'Tablas Guayaquil'!F89,'Tablas Resto de Ecuador'!F89)","v":101.14166666666667},{"$f":"IF('INGRESO DE DATOS'!$G$21=\"Guayaquil/Santa Elena\",'Tablas Guayaquil'!G89,'Tablas Resto de Ecuador'!G89)","v":59.89},{"$f":"IF('INGRESO DE DATOS'!$G$21=\"Guayaquil/Santa Elena\",'Tablas Guayaquil'!H89,'Tablas Resto de Ecuador'!H89)","v":38.071666666666665},{"$f":"IF('INGRESO DE DATOS'!$G$21=\"Guayaquil/Santa Elena\",'Tablas Guayaquil'!I89,'Tablas Resto de Ecuador'!I89)","v":23.85}]
[32,null,{"$f":"IF('INGRESO DE DATOS'!$G$21=\"Guayaquil/Santa Elena\",'Tablas Guayaquil'!C90,'Tablas Resto de Ecuador'!C90)","v":234.34833333333333},{"$f":"IF('INGRESO DE DATOS'!$G$21=\"Guayaquil/Santa Elena\",'Tablas Guayaquil'!D90,'Tablas Resto de Ecuador'!D90)","v":188.76833333333335},{"$f":"IF('INGRESO DE DATOS'!$G$21=\"Guayaquil/Santa Elena\",'Tablas Guayaquil'!E90,'Tablas Resto de Ecuador'!E90)","v":143.54166666666666},{"$f":"IF('INGRESO DE DATOS'!$G$21=\"Guayaquil/Santa Elena\",'Tablas Guayaquil'!F90,'Tablas Resto de Ecuador'!F90)","v":104.23333333333333},{"$f":"IF('INGRESO DE DATOS'!$G$21=\"Guayaquil/Santa Elena\",'Tablas Guayaquil'!G90,'Tablas Resto de Ecuador'!G90)","v":62.186666666666667},{"$f":"IF('INGRESO DE DATOS'!$G$21=\"Guayaquil/Santa Elena\",'Tablas Guayaquil'!H90,'Tablas Resto de Ecuador'!H90)","v":39.661666666666669},{"$f":"IF('INGRESO DE DATOS'!$G$21=\"Guayaquil/Santa Elena\",'Tablas Guayaquil'!I90,'Tablas Resto de Ecuador'!I90)","v":24.91}]
[33,null,{"$f":"IF('INGRESO DE DATOS'!$G$21=\"Guayaquil/Santa Elena\",'Tablas Guayaquil'!C91,'Tablas Resto de Ecuador'!C91)","v":240.09},{"$f":"IF('INGRESO DE DATOS'!$G$21=\"Guayaquil/Santa Elena\",'Tablas Guayaquil'!D91,'Tablas Resto de Ecuador'!D91)","v":193.80333333333334},{"$f":"IF('INGRESO DE DATOS'!$G$21=\"Guayaquil/Santa Elena\",'Tablas Guayaquil'!E91,'Tablas Resto de Ecuador'!E91)","v":147.87},{"$f":"IF('INGRESO DE DATOS'!$G$21=\"Guayaquil/Santa Elena\",'Tablas Guayaquil'!F91,'Tablas Resto de Ecuador'!F91)","v":107.76666666666667},{"$f":"IF('INGRESO DE DATOS'!$G$21=\"Guayaquil/Santa Elena\",'Tablas Guayaquil'!G91,'Tablas Resto de Ecuador'!G91)","v":64.483333333333334},{"$f":"IF('INGRESO DE DATOS'!$G$21=\"Guayaquil/Santa Elena\",'Tablas Guayaquil'!H91,'Tablas Resto de Ecuador'!H91)","v":41.428333333333335},{"$f":"IF('INGRESO DE DATOS'!$G$21=\"Guayaquil/Santa Elena\",'Tablas Guayaquil'!I91,'Tablas Resto de Ecuador'!I91)","v":26.146666666666668}]
[34,null,{"$f":"IF('INGRESO DE DATOS'!$G$21=\"Guayaquil/Santa Elena\",'Tablas Guayaquil'!C92,'Tablas Resto de Ecuador'!C92)","v":246.45},{"$f":"IF('INGRESO DE DATOS'!$G$21=\"Guayaquil/Santa Elena\",'Tablas Guayaquil'!D92,'Tablas Resto de Ecuador'!D92)","v":199.45666666666668},{"$f":"IF('INGRESO DE DATOS'!$G$21=\"Guayaquil/Santa Elena\",'Tablas Guayaquil'!E92,'Tablas Resto de Ecuador'!E92)","v":152.63999999999999},{"$f":"IF('INGRESO DE DATOS'!$G$21=\"Guayaquil/Santa Elena\",'Tablas Guayaquil'!F92,'Tablas Resto de Ecuador'!F92)","v":111.65333333333334},{"$f":"IF('INGRESO DE DATOS'!$G$21=\"Guayaquil/Santa Elena\",'Tablas Guayaquil'!G92,'Tablas Resto de Ecuador'!G92)","v":67.13333333333334},{"$f":"IF('INGRESO DE DATOS'!$G$21=\"Guayaquil/Santa Elena\",'Tablas Guayaquil'!H92,'Tablas Resto de Ecuador'!H92)","v":43.195},{"$f":"IF('INGRESO DE DATOS'!$G$21=\"Guayaquil/Santa Elena\",'Tablas Guayaquil'!I92,'Tablas Resto de Ecuador'!I92)","v":27.56}]
[35,null,{"$f":"IF('INGRESO DE DATOS'!$G$21=\"Guayaquil/Santa Elena\",'Tablas Guayaquil'!C93,'Tablas Resto de Ecuador'!C93)","v":253.51666666666668},{"$f":"IF('INGRESO DE DATOS'!$G$21=\"Guayaquil/Santa Elena\",'Tablas Guayaquil'!D93,'Tablas Resto de Ecuador'!D93)","v":205.64},{"$f":"IF('INGRESO DE DATOS'!$G$21=\"Guayaquil/Santa Elena\",'Tablas Guayaquil'!E93,'Tablas Resto de Ecuador'!E93)","v":157.94},{"$f":"IF('INGRESO DE DATOS'!$G$21=\"Guayaquil/Santa Elena\",'Tablas Guayaquil'!F93,'Tablas Resto de Ecuador'!F93)","v":115.89333333333333},{"$f":"IF('INGRESO DE DATOS'!$G$21=\"Guayaquil/Santa Elena\",'Tablas Guayaquil'!G93,'Tablas Resto de Ecuador'!G93)","v":69.959999999999994},{"$f":"IF('INGRESO DE DATOS'!$G$21=\"Guayaquil/Santa Elena\",'Tablas Guayaquil'!H93,'Tablas Resto de Ecuador'!H93)","v":45.314999999999998},{"$f":"IF('INGRESO DE DATOS'!$G$21=\"Guayaquil/Santa Elena\",'Tablas Guayaquil'!I93,'Tablas Resto de Ecuador'!I93)","v":28.973333333333333}]
[36,null,{"$f":"IF('INGRESO DE DATOS'!$G$21=\"Guayaquil/Santa Elena\",'Tablas Guayaquil'!C94,'Tablas Resto de Ecuador'!C94)","v":261.37833333333333},{"$f":"IF('INGRESO DE DATOS'!$G$21=\"Guayaquil/Santa Elena\",'Tablas Guayaquil'!D94,'Tablas Resto de Ecuador'!D94)","v":212.61833333333334},{"$f":"IF('INGRESO DE DATOS'!$G$21=\"Guayaquil/Santa Elena\",'Tablas Guayaquil'!E94,'Tablas Resto de Ecuador'!E94)","v":163.68166666666667},{"$f":"IF('INGRESO DE DATOS'!$G$21=\"Guayaquil/Santa Elena\",'Tablas Guayaquil'!F94,'Tablas Resto de Ecuador'!F94)","v":120.39833333333333},{"$f":"IF('INGRESO DE DATOS'!$G$21=\"Guayaquil/Santa Elena\",'Tablas Guayaquil'!G94,'Tablas Resto de Ecuador'!G94)","v":73.14},{"$f":"IF('INGRESO DE DATOS'!$G$21=\"Guayaquil/Santa Elena\",'Tablas Guayaquil'!H94,'Tablas Resto de Ecuador'!H94)","v":47.611666666666665},{"$f":"IF('INGRESO DE DATOS'!$G$21=\"Guayaquil/Santa Elena\",'Tablas Guayaquil'!I94,'Tablas Resto de Ecuador'!I94)","v":30.651666666666667}]
[37,null,{"$f":"IF('INGRESO DE DATOS'!$G$21=\"Guayaquil/Santa Elena\",'Tablas Guayaquil'!C95,'Tablas Resto de Ecuador'!C95)","v":270.03500000000003},{"$f":"IF('INGRESO DE DATOS'!$G$21=\"Guayaquil/Santa Elena\",'Tablas Guayaquil'!D95,'Tablas Resto de Ecuador'!D95)","v":220.12666666666667},{"$f":"IF('INGRESO DE DATOS'!$G$21=\"Guayaquil/Santa Elena\",'Tablas Guayaquil'!E95,'Tablas Resto de Ecuador'!E95)","v":169.86500000000001},{"$f":"IF('INGRESO DE DATOS'!$G$21=\"Guayaquil/Santa Elena\",'Tablas Guayaquil'!F95,'Tablas Resto de Ecuador'!F95)","v":125.43333333333334},{"$f":"IF('INGRESO DE DATOS'!$G$21=\"Guayaquil/Santa Elena\",'Tablas Guayaquil'!G95,'Tablas Resto de Ecuador'!G95)","v":76.584999999999994},{"$f":"IF('INGRESO DE DATOS'!$G$21=\"Guayaquil/Santa Elena\",'Tablas Guayaquil'!H95,'Tablas Resto de Ecuador'!H95)","v":49.99666666666667},{"$f":"IF('INGRESO DE DATOS'!$G$21=\"Guayaquil/Santa Elena\",'Tablas Guayaquil'!I95,'Tablas Resto de Ecuador'!I95)","v":32.33}]
[38,null,{"$f":"IF('INGRESO DE DATOS'!$G$21=\"Guayaquil/Santa Elena\",'Tablas Guayaquil'!C96,'Tablas Resto de Ecuador'!C96)","v":279.39833333333331},{"$f":"IF('INGRESO DE DATOS'!$G$21=\"Guayaquil/Santa Elena\",'Tablas Guayaquil'!D96,'Tablas Resto de Ecuador'!D96)","v":228.25333333333333},{"$f":"IF('INGRESO DE DATOS'!$G$21=\"Guayaquil/Santa Elena\",'Tablas Guayaquil'!E96,'Tablas Resto de Ecuador'!E96)","v":176.66666666666666},{"$f":"IF('INGRESO DE DATOS'!$G$21=\"Guayaquil/Santa Elena\",'Tablas Guayaquil'!F96,'Tablas Resto de Ecuador'!F96)","v":130.91},{"$f":"IF('INGRESO DE DATOS'!$G$21=\"Guayaquil/Santa Elena\",'Tablas Guayaquil'!G96,'Tablas Resto de Ecuador'!G96)","v":80.295000000000002},{"$f":"IF('INGRESO DE DATOS'!$G$21=\"Guayaquil/Santa Elena\",'Tablas Guayaquil'!H96,'Tablas Resto de Ecuador'!H96)","v":52.646666666666668},{"$f":"IF('INGRESO DE DATOS'!$G$21=\"Guayaquil/Santa Elena\",'Tablas Guayaquil'!I96,'Tablas Resto de Ecuador'!I96)","v":34.273333333333333}]
[39,null,{"$f":"IF('INGRESO DE DATOS'!$G$21=\"Guayaquil/Santa Elena\",'Tablas Guayaquil'!C97,'Tablas Resto de Ecuador'!C97)","v":289.64499999999998},{"$f":"IF('INGRESO DE DATOS'!$G$21=\"Guayaquil/Santa Elena\",'Tablas Guayaquil'!D97,'Tablas Resto de Ecuador'!D97)","v":237.17500000000001},{"$f":"IF('INGRESO DE DATOS'!$G$21=\"Guayaquil/Santa Elena\",'Tablas Guayaquil'!E97,'Tablas Resto de Ecuador'!E97)","v":184.17500000000001},{"$f":"IF('INGRESO DE DATOS'!$G$21=\"Guayaquil/Santa Elena\",'Tablas Guayaquil'!F97,'Tablas Resto de Ecuador'!F97)","v":136.82833333333332},{"$f":"IF('INGRESO DE DATOS'!$G$21=\"Guayaquil/Santa Elena\",'Tablas Guayaquil'!G97,'Tablas Resto de Ecuador'!G97)","v":84.27},{"$f":"IF('INGRESO DE DATOS'!$G$21=\"Guayaquil/Santa Elena\",'Tablas Guayaquil'!H97,'Tablas Resto de Ecuador'!H97)","v":55.473333333333336},{"$f":"IF('INGRESO DE DATOS'!$G$21=\"Guayaquil/Santa Elena\",'Tablas Guayaquil'!I97,'Tablas Resto de Ecuador'!I97)","v":36.305}]
[40,null,{"$f":"IF('INGRESO DE DATOS'!$G$21=\"Guayaquil/Santa Elena\",'Tablas Guayaquil'!C98,'Tablas Resto de Ecuador'!C98)","v":297.86},{"$f":"IF('INGRESO DE DATOS'!$G$21=\"Guayaquil/Santa Elena\",'Tablas Guayaquil'!D98,'Tablas Resto de Ecuador'!D98)","v":246.89166666666668},{"$f":"IF('INGRESO DE DATOS'!$G$21=\"Guayaquil/Santa Elena\",'Tablas Guayaquil'!E98,'Tablas Resto de Ecuador'!E98)","v":192.30166666666668},{"$f":"IF('INGRESO DE DATOS'!$G$21=\"Guayaquil/Santa Elena\",'Tablas Guayaquil'!F98,'Tablas Resto de Ecuador'!F98)","v":143.27666666666667},{"$f":"IF('INGRESO DE DATOS'!$G$21=\"Guayaquil/Santa Elena\",'Tablas Guayaquil'!G98,'Tablas Resto de Ecuador'!G98)","v":88.686666666666667},{"$f":"IF('INGRESO DE DATOS'!$G$21=\"Guayaquil/Santa Elena\",'Tablas Guayaquil'!H98,'Tablas Resto de Ecuador'!H98)","v":58.653333333333336},{"$f":"IF('INGRESO DE DATOS'!$G$21=\"Guayaquil/Santa Elena\",'Tablas Guayaquil'!I98,'Tablas Resto de Ecuador'!I98)","v":38.601666666666667}]
[41,null,{"$f":"IF('INGRESO DE DATOS'!$G$21=\"Guayaquil/Santa Elena\",'Tablas Guayaquil'!C99,'Tablas Resto de Ecuador'!C99)","v":304.48500000000001},{"$f":"IF('INGRESO DE DATOS'!$G$21=\"Guayaquil/Santa Elena\",'Tablas Guayaquil'!D99,'Tablas Resto de Ecuador'!D99)","v":257.40333333333331},{"$f":"IF('INGRESO DE DATOS'!$G$21=\"Guayaquil/Santa Elena\",'Tablas Guayaquil'!E99,'Tablas Resto de Ecuador'!E99)","v":200.95833333333334},{"$f":"IF('INGRESO DE DATOS'!$G$21=\"Guayaquil/Santa Elena\",'Tablas Guayaquil'!F99,'Tablas Resto de Ecuador'!F99)","v":150.16666666666666},{"$f":"IF('INGRESO DE DATOS'!$G$21=\"Guayaquil/Santa Elena\",'Tablas Guayaquil'!G99,'Tablas Resto de Ecuador'!G99)","v":93.28},{"$f":"IF('INGRESO DE DATOS'!$G$21=\"Guayaquil/Santa Elena\",'Tablas Guayaquil'!H99,'Tablas Resto de Ecuador'!H99)","v":62.01},{"$f":"IF('INGRESO DE DATOS'!$G$21=\"Guayaquil/Santa Elena\",'Tablas Guayaquil'!I99,'Tablas Resto de Ecuador'!I99)","v":41.075000000000003}]
[42,null,{"$f":"IF('INGRESO DE DATOS'!$G$21=\"Guayaquil/Santa Elena\",'Tablas Guayaquil'!C100,'Tablas Resto de Ecuador'!C100)","v":311.64},{"$f":"IF('INGRESO DE DATOS'!$G$21=\"Guayaquil/Santa Elena\",'Tablas Guayaquil'!D100,'Tablas Resto de Ecuador'!D100)","v":268.88666666666666},{"$f":"IF('INGRESO DE DATOS'!$G$21=\"Guayaquil/Santa Elena\",'Tablas Guayaquil'!E100,'Tablas Resto de Ecuador'!E100)","v":210.49833333333333},{"$f":"IF('INGRESO DE DATOS'!$G$21=\"Guayaquil/Santa Elena\",'Tablas Guayaquil'!F100,'Tablas Resto de Ecuador'!F100)","v":157.85166666666666},{"$f":"IF('INGRESO DE DATOS'!$G$21=\"Guayaquil/Santa Elena\",'Tablas Guayaquil'!G100,'Tablas Resto de Ecuador'!G100)","v":98.49166666666666},{"$f":"IF('INGRESO DE DATOS'!$G$21=\"Guayaquil/Santa Elena\",'Tablas Guayaquil'!H100,'Tablas Resto de Ecuador'!H100)","v":65.631666666666661},{"$f":"IF('INGRESO DE DATOS'!$G$21=\"Guayaquil/Santa Elena\",'Tablas Guayaquil'!I100,'Tablas Resto de Ecuador'!I100)","v":43.725000000000001}]
[43,null,{"$f":"IF('INGRESO DE DATOS'!$G$21=\"Guayaquil/Santa Elena\",'Tablas Guayaquil'!C101,'Tablas Resto de Ecuador'!C101)","v":323.565},{"$f":"IF('INGRESO DE DATOS'!$G$21=\"Guayaquil/Santa Elena\",'Tablas Guayaquil'!D101,'Tablas Resto de Ecuador'!D101)","v":281.16500000000002},{"$f":"IF('INGRESO DE DATOS'!$G$21=\"Guayaquil/Santa Elena\",'Tablas Guayaquil'!E101,'Tablas Resto de Ecuador'!E101)","v":220.745},{"$f":"IF('INGRESO DE DATOS'!$G$21=\"Guayaquil/Santa Elena\",'Tablas Guayaquil'!F101,'Tablas Resto de Ecuador'!F101)","v":165.97833333333332},{"$f":"IF('INGRESO DE DATOS'!$G$21=\"Guayaquil/Santa Elena\",'Tablas Guayaquil'!G101,'Tablas Resto de Ecuador'!G101)","v":104.05666666666667},{"$f":"IF('INGRESO DE DATOS'!$G$21=\"Guayaquil/Santa Elena\",'Tablas Guayaquil'!H101,'Tablas Resto de Ecuador'!H101)","v":69.694999999999993},{"$f":"IF('INGRESO DE DATOS'!$G$21=\"Guayaquil/Santa Elena\",'Tablas Guayaquil'!I101,'Tablas Resto de Ecuador'!I101)","v":46.64}]
[44,null,{"$f":"IF('INGRESO DE DATOS'!$G$21=\"Guayaquil/Santa Elena\",'Tablas Guayaquil'!C102,'Tablas Resto de Ecuador'!C102)","v":336.02},{"$f":"IF('INGRESO DE DATOS'!$G$21=\"Guayaquil/Santa Elena\",'Tablas Guayaquil'!D102,'Tablas Resto de Ecuador'!D102)","v":292.29500000000002},{"$f":"IF('INGRESO DE DATOS'!$G$21=\"Guayaquil/Santa Elena\",'Tablas Guayaquil'!E102,'Tablas Resto de Ecuador'!E102)","v":231.78666666666666},{"$f":"IF('INGRESO DE DATOS'!$G$21=\"Guayaquil/Santa Elena\",'Tablas Guayaquil'!F102,'Tablas Resto de Ecuador'!F102)","v":174.81166666666667},{"$f":"IF('INGRESO DE DATOS'!$G$21=\"Guayaquil/Santa Elena\",'Tablas Guayaquil'!G102,'Tablas Resto de Ecuador'!G102)","v":110.06333333333333},{"$f":"IF('INGRESO DE DATOS'!$G$21=\"Guayaquil/Santa Elena\",'Tablas Guayaquil'!H102,'Tablas Resto de Ecuador'!H102)","v":74.023333333333326},{"$f":"IF('INGRESO DE DATOS'!$G$21=\"Guayaquil/Santa Elena\",'Tablas Guayaquil'!I102,'Tablas Resto de Ecuador'!I102)","v":49.82}]
[45,null,{"$f":"IF('INGRESO DE DATOS'!$G$21=\"Guayaquil/Santa Elena\",'Tablas Guayaquil'!C103,'Tablas Resto de Ecuador'!C103)","v":348.47500000000002},{"$f":"IF('INGRESO DE DATOS'!$G$21=\"Guayaquil/Santa Elena\",'Tablas Guayaquil'!D103,'Tablas Resto de Ecuador'!D103)","v":302.89499999999998},{"$f":"IF('INGRESO DE DATOS'!$G$21=\"Guayaquil/Santa Elena\",'Tablas Guayaquil'!E103,'Tablas Resto de Ecuador'!E103)","v":243.71166666666667},{"$f":"IF('INGRESO DE DATOS'!$G$21=\"Guayaquil/Santa Elena\",'Tablas Guayaquil'!F103,'Tablas Resto de Ecuador'!F103)","v":184.44},{"$f":"IF('INGRESO DE DATOS'!$G$21=\"Guayaquil/Santa Elena\",'Tablas Guayaquil'!G103,'Tablas Resto de Ecuador'!G103)","v":116.51166666666667},{"$f":"IF('INGRESO DE DATOS'!$G$21=\"Guayaquil/Santa Elena\",'Tablas Guayaquil'!H103,'Tablas Resto de Ecuador'!H103)","v":78.704999999999998},{"$f":"IF('INGRESO DE DATOS'!$G$21=\"Guayaquil/Santa Elena\",'Tablas Guayaquil'!I103,'Tablas Resto de Ecuador'!I103)","v":53.176666666666669}]
[46,null,{"$f":"IF('INGRESO DE DATOS'!$G$21=\"Guayaquil/Santa Elena\",'Tablas Guayaquil'!C104,'Tablas Resto de Ecuador'!C104)","v":360.75333333333333},{"$f":"IF('INGRESO DE DATOS'!$G$21=\"Guayaquil/Santa Elena\",'Tablas Guayaquil'!D104,'Tablas Resto de Ecuador'!D104)","v":313.76},{"$f":"IF('INGRESO DE DATOS'!$G$21=\"Guayaquil/Santa Elena\",'Tablas Guayaquil'!E104,'Tablas Resto de Ecuador'!E104)","v":256.60833333333335},{"$f":"IF('INGRESO DE DATOS'!$G$21=\"Guayaquil/Santa Elena\",'Tablas Guayaquil'!F104,'Tablas Resto de Ecuador'!F104)","v":194.68666666666667},{"$f":"IF('INGRESO DE DATOS'!$G$21=\"Guayaquil/Santa Elena\",'Tablas Guayaquil'!G104,'Tablas Resto de Ecuador'!G104)","v":123.66666666666667},{"$f":"IF('INGRESO DE DATOS'!$G$21=\"Guayaquil/Santa Elena\",'Tablas Guayaquil'!H104,'Tablas Resto de Ecuador'!H104)","v":83.74},{"$f":"IF('INGRESO DE DATOS'!$G$21=\"Guayaquil/Santa Elena\",'Tablas Guayaquil'!I104,'Tablas Resto de Ecuador'!I104)","v":56.886666666666663}]
[47,null,{"$f":"IF('INGRESO DE DATOS'!$G$21=\"Guayaquil/Santa Elena\",'Tablas Guayaquil'!C105,'Tablas Resto de Ecuador'!C105)","v":373.38499999999999},{"$f":"IF('INGRESO DE DATOS'!$G$21=\"Guayaquil/Santa Elena\",'Tablas Guayaquil'!D105,'Tablas Resto de Ecuador'!D105)","v":324.53666666666669},{"$f":"IF('INGRESO DE DATOS'!$G$21=\"Guayaquil/Santa Elena\",'Tablas Guayaquil'!E105,'Tablas Resto de Ecuador'!E105)","v":270.47666666666669},{"$f":"IF('INGRESO DE DATOS'!$G$21=\"Guayaquil/Santa Elena\",'Tablas Guayaquil'!F105,'Tablas Resto de Ecuador'!F105)","v":205.81666666666666},{"$f":"IF('INGRESO DE DATOS'!$G$21=\"Guayaquil/Santa Elena\",'Tablas Guayaquil'!G105,'Tablas Resto de Ecuador'!G105)","v":131.17500000000001},{"$f":"IF('INGRESO DE DATOS'!$G$21=\"Guayaquil/Santa Elena\",'Tablas Guayaquil'!H105,'Tablas Resto de Ecuador'!H105)","v":89.216666666666669},{"$f":"IF('INGRESO DE DATOS'!$G$21=\"Guayaquil/Santa Elena\",'Tablas Guayaquil'!I105,'Tablas Resto de Ecuador'!I105)","v":60.95}]
[48,null,{"$f":"IF('INGRESO DE DATOS'!$G$21=\"Guayaquil/Santa Elena\",'Tablas Guayaquil'!C106,'Tablas Resto de Ecuador'!C106)","v":386.63499999999999},{"$f":"IF('INGRESO DE DATOS'!$G$21=\"Guayaquil/Santa Elena\",'Tablas Guayaquil'!D106,'Tablas Resto de Ecuador'!D106)","v":336.02},{"$f":"IF('INGRESO DE DATOS'!$G$21=\"Guayaquil/Santa Elena\",'Tablas Guayaquil'!E106,'Tablas Resto de Ecuador'!E106)","v":285.49333333333334},{"$f":"IF('INGRESO DE DATOS'!$G$21=\"Guayaquil/Santa Elena\",'Tablas Guayaquil'!F106,'Tablas Resto de Ecuador'!F106)","v":217.91833333333332},{"$f":"IF('INGRESO DE DATOS'!$G$21=\"Guayaquil/Santa Elena\",'Tablas Guayaquil'!G106,'Tablas Resto de Ecuador'!G106)","v":139.38999999999999},{"$f":"IF('INGRESO DE DATOS'!$G$21=\"Guayaquil/Santa Elena\",'Tablas Guayaquil'!H106,'Tablas Resto de Ecuador'!H106)","v":95.223333333333329},{"$f":"IF('INGRESO DE DATOS'!$G$21=\"Guayaquil/Santa Elena\",'Tablas Guayaquil'!I106,'Tablas Resto de Ecuador'!I106)","v":65.36666666666666}]
[49,null,{"$f":"IF('INGRESO DE DATOS'!$G$21=\"Guayaquil/Santa Elena\",'Tablas Guayaquil'!C107,'Tablas Resto de Ecuador'!C107)","v":399.53166666666664},{"$f":"IF('INGRESO DE DATOS'!$G$21=\"Guayaquil/Santa Elena\",'Tablas Guayaquil'!D107,'Tablas Resto de Ecuador'!D107)","v":347.41500000000002},{"$f":"IF('INGRESO DE DATOS'!$G$21=\"Guayaquil/Santa Elena\",'Tablas Guayaquil'!E107,'Tablas Resto de Ecuador'!E107)","v":301.57},{"$f":"IF('INGRESO DE DATOS'!$G$21=\"Guayaquil/Santa Elena\",'Tablas Guayaquil'!F107,'Tablas Resto de Ecuador'!F107)","v":230.90333333333334},{"$f":"IF('INGRESO DE DATOS'!$G$21=\"Guayaquil/Santa Elena\",'Tablas Guayaquil'!G107,'Tablas Resto de Ecuador'!G107)","v":148.31166666666667},{"$f":"IF('INGRESO DE DATOS'!$G$21=\"Guayaquil/Santa Elena\",'Tablas Guayaquil'!H107,'Tablas Resto de Ecuador'!H107)","v":101.76},{"$f":"IF('INGRESO DE DATOS'!$G$21=\"Guayaquil/Santa Elena\",'Tablas Guayaquil'!I107,'Tablas Resto de Ecuador'!I107)","v":70.13666666666667}]
[50,null,{"$f":"IF('INGRESO DE DATOS'!$G$21=\"Guayaquil/Santa Elena\",'Tablas Guayaquil'!C108,'Tablas Resto de Ecuador'!C108)","v":412.51666666666665},{"$f":"IF('INGRESO DE DATOS'!$G$21=\"Guayaquil/Santa Elena\",'Tablas Guayaquil'!D108,'Tablas Resto de Ecuador'!D108)","v":358.89833333333331},{"$f":"IF('INGRESO DE DATOS'!$G$21=\"Guayaquil/Santa Elena\",'Tablas Guayaquil'!E108,'Tablas Resto de Ecuador'!E108)","v":320.12},{"$f":"IF('INGRESO DE DATOS'!$G$21=\"Guayaquil/Santa Elena\",'Tablas Guayaquil'!F108,'Tablas Resto de Ecuador'!F108)","v":245.92},{"$f":"IF('INGRESO DE DATOS'!$G$21=\"Guayaquil/Santa Elena\",'Tablas Guayaquil'!G108,'Tablas Resto de Ecuador'!G108)","v":158.73500000000001},{"$f":"IF('INGRESO DE DATOS'!$G$21=\"Guayaquil/Santa Elena\",'Tablas Guayaquil'!H108,'Tablas Resto de Ecuador'!H108)","v":109.26833333333333},{"$f":"IF('INGRESO DE DATOS'!$G$21=\"Guayaquil/Santa Elena\",'Tablas Guayaquil'!I108,'Tablas Resto de Ecuador'!I108)","v":75.701666666666668}]
[51,null,{"$f":"IF('INGRESO DE DATOS'!$G$21=\"Guayaquil/Santa Elena\",'Tablas Guayaquil'!C109,'Tablas Resto de Ecuador'!C109)","v":425.50166666666667},{"$f":"IF('INGRESO DE DATOS'!$G$21=\"Guayaquil/Santa Elena\",'Tablas Guayaquil'!D109,'Tablas Resto de Ecuador'!D109)","v":370.11666666666667},{"$f":"IF('INGRESO DE DATOS'!$G$21=\"Guayaquil/Santa Elena\",'Tablas Guayaquil'!E109,'Tablas Resto de Ecuador'!E109)","v":337.43333333333334},{"$f":"IF('INGRESO DE DATOS'!$G$21=\"Guayaquil/Santa Elena\",'Tablas Guayaquil'!F109,'Tablas Resto de Ecuador'!F109)","v":264.02833333333331},{"$f":"IF('INGRESO DE DATOS'!$G$21=\"Guayaquil/Santa Elena\",'Tablas Guayaquil'!G109,'Tablas Resto de Ecuador'!G109)","v":171.36666666666667},{"$f":"IF('INGRESO DE DATOS'!$G$21=\"Guayaquil/Santa Elena\",'Tablas Guayaquil'!H109,'Tablas Resto de Ecuador'!H109)","v":118.455},{"$f":"IF('INGRESO DE DATOS'!$G$21=\"Guayaquil/Santa Elena\",'Tablas Guayaquil'!I109,'Tablas Resto de Ecuador'!I109)","v":82.50333333333333}]
[52,null,{"$f":"IF('INGRESO DE DATOS'!$G$21=\"Guayaquil/Santa Elena\",'Tablas Guayaquil'!C110,'Tablas Resto de Ecuador'!C110)","v":438.57499999999999},{"$f":"IF('INGRESO DE DATOS'!$G$21=\"Guayaquil/Santa Elena\",'Tablas Guayaquil'!D110,'Tablas Resto de Ecuador'!D110)","v":381.51166666666666},{"$f":"IF('INGRESO DE DATOS'!$G$21=\"Guayaquil/Santa Elena\",'Tablas Guayaquil'!E110,'Tablas Resto de Ecuador'!E110)","v":347.85666666666668},{"$f":"IF('INGRESO DE DATOS'!$G$21=\"Guayaquil/Santa Elena\",'Tablas Guayaquil'!F110,'Tablas Resto de Ecuador'!F110)","v":283.46166666666664},{"$f":"IF('INGRESO DE DATOS'!$G$21=\"Guayaquil/Santa Elena\",'Tablas Guayaquil'!G110,'Tablas Resto de Ecuador'!G110)","v":184.79333333333332},{"$f":"IF('INGRESO DE DATOS'!$G$21=\"Guayaquil/Santa Elena\",'Tablas Guayaquil'!H110,'Tablas Resto de Ecuador'!H110)","v":128.34833333333333},{"$f":"IF('INGRESO DE DATOS'!$G$21=\"Guayaquil/Santa Elena\",'Tablas Guayaquil'!I110,'Tablas Resto de Ecuador'!I110)","v":89.834999999999994}]
[53,null,{"$f":"IF('INGRESO DE DATOS'!$G$21=\"Guayaquil/Santa Elena\",'Tablas Guayaquil'!C111,'Tablas Resto de Ecuador'!C111)","v":454.21},{"$f":"IF('INGRESO DE DATOS'!$G$21=\"Guayaquil/Santa Elena\",'Tablas Guayaquil'!D111,'Tablas Resto de Ecuador'!D111)","v":394.85},{"$f":"IF('INGRESO DE DATOS'!$G$21=\"Guayaquil/Santa Elena\",'Tablas Guayaquil'!E111,'Tablas Resto de Ecuador'!E111)","v":360.31166666666667},{"$f":"IF('INGRESO DE DATOS'!$G$21=\"Guayaquil/Santa Elena\",'Tablas Guayaquil'!F111,'Tablas Resto de Ecuador'!F111)","v":304.30833333333334},{"$f":"IF('INGRESO DE DATOS'!$G$21=\"Guayaquil/Santa Elena\",'Tablas Guayaquil'!G111,'Tablas Resto de Ecuador'!G111)","v":199.28},{"$f":"IF('INGRESO DE DATOS'!$G$21=\"Guayaquil/Santa Elena\",'Tablas Guayaquil'!H111,'Tablas Resto de Ecuador'!H111)","v":138.94833333333332},{"$f":"IF('INGRESO DE DATOS'!$G$21=\"Guayaquil/Santa Elena\",'Tablas Guayaquil'!I111,'Tablas Resto de Ecuador'!I111)","v":97.784999999999997}]
[54,null,{"$f":"IF('INGRESO DE DATOS'!$G$21=\"Guayaquil/Santa Elena\",'Tablas Guayaquil'!C112,'Tablas Resto de Ecuador'!C112)","v":469.75666666666666},{"$f":"IF('INGRESO DE DATOS'!$G$21=\"Guayaquil/Santa Elena\",'Tablas Guayaquil'!D112,'Tablas Resto de Ecuador'!D112)","v":408.45333333333332},{"$f":"IF('INGRESO DE DATOS'!$G$21=\"Guayaquil/Santa Elena\",'Tablas Guayaquil'!E112,'Tablas Resto de Ecuador'!E112)","v":372.50166666666667},{"$f":"IF('INGRESO DE DATOS'!$G$21=\"Guayaquil/Santa Elena\",'Tablas Guayaquil'!F112,'Tablas Resto de Ecuador'!F112)","v":326.83333333333331},{"$f":"IF('INGRESO DE DATOS'!$G$21=\"Guayaquil/Santa Elena\",'Tablas Guayaquil'!G112,'Tablas Resto de Ecuador'!G112)","v":214.91499999999999},{"$f":"IF('INGRESO DE DATOS'!$G$21=\"Guayaquil/Santa Elena\",'Tablas Guayaquil'!H112,'Tablas Resto de Ecuador'!H112)","v":150.255},{"$f":"IF('INGRESO DE DATOS'!$G$21=\"Guayaquil/Santa Elena\",'Tablas Guayaquil'!I112,'Tablas Resto de Ecuador'!I112)","v":106.265}]
[55,null,{"$f":"IF('INGRESO DE DATOS'!$G$21=\"Guayaquil/Santa Elena\",'Tablas Guayaquil'!C113,'Tablas Resto de Ecuador'!C113)","v":485.56833333333333},{"$f":"IF('INGRESO DE DATOS'!$G$21=\"Guayaquil/Santa Elena\",'Tablas Guayaquil'!D113,'Tablas Resto de Ecuador'!D113)","v":422.14499999999998},{"$f":"IF('INGRESO DE DATOS'!$G$21=\"Guayaquil/Santa Elena\",'Tablas Guayaquil'!E113,'Tablas Resto de Ecuador'!E113)","v":384.69166666666666},{"$f":"IF('INGRESO DE DATOS'!$G$21=\"Guayaquil/Santa Elena\",'Tablas Guayaquil'!F113,'Tablas Resto de Ecuador'!F113)","v":339.46499999999997},{"$f":"IF('INGRESO DE DATOS'!$G$21=\"Guayaquil/Santa Elena\",'Tablas Guayaquil'!G113,'Tablas Resto de Ecuador'!G113)","v":231.61},{"$f":"IF('INGRESO DE DATOS'!$G$21=\"Guayaquil/Santa Elena\",'Tablas Guayaquil'!H113,'Tablas Resto de Ecuador'!H113)","v":162.44499999999999},{"$f":"IF('INGRESO DE DATOS'!$G$21=\"Guayaquil/Santa Elena\",'Tablas Guayaquil'!I113,'Tablas Resto de Ecuador'!I113)","v":115.36333333333333}]
[56,null,{"$f":"IF('INGRESO DE DATOS'!$G$21=\"Guayaquil/Santa Elena\",'Tablas Guayaquil'!C114,'Tablas Resto de Ecuador'!C114)","v":501.02666666666664},{"$f":"IF('INGRESO DE DATOS'!$G$21=\"Guayaquil/Santa Elena\",'Tablas Guayaquil'!D114,'Tablas Resto de Ecuador'!D114)","v":435.48333333333335},{"$f":"IF('INGRESO DE DATOS'!$G$21=\"Guayaquil/Santa Elena\",'Tablas Guayaquil'!E114,'Tablas Resto de Ecuador'!E114)","v":396.88166666666666},{"$f":"IF('INGRESO DE DATOS'!$G$21=\"Guayaquil/Santa Elena\",'Tablas Guayaquil'!F114,'Tablas Resto de Ecuador'!F114)","v":351.125},{"$f":"IF('INGRESO DE DATOS'!$G$21=\"Guayaquil/Santa Elena\",'Tablas Guayaquil'!G114,'Tablas Resto de Ecuador'!G114)","v":245.125},{"$f":"IF('INGRESO DE DATOS'!$G$21=\"Guayaquil/Santa Elena\",'Tablas Guayaquil'!H114,'Tablas Resto de Ecuador'!H114)","v":175.60666666666665},{"$f":"IF('INGRESO DE DATOS'!$G$21=\"Guayaquil/Santa Elena\",'Tablas Guayaquil'!I114,'Tablas Resto de Ecuador'!I114)","v":125.08}]
[57,null,{"$f":"IF('INGRESO DE DATOS'!$G$21=\"Guayaquil/Santa Elena\",'Tablas Guayaquil'!C115,'Tablas Resto de Ecuador'!C115)","v":516.22},{"$f":"IF('INGRESO DE DATOS'!$G$21=\"Guayaquil/Santa Elena\",'Tablas Guayaquil'!D115,'Tablas Resto de Ecuador'!D115)","v":449.08666666666664},{"$f":"IF('INGRESO DE DATOS'!$G$21=\"Guayaquil/Santa Elena\",'Tablas Guayaquil'!E115,'Tablas Resto de Ecuador'!E115)","v":409.33666666666664},{"$f":"IF('INGRESO DE DATOS'!$G$21=\"Guayaquil/Santa Elena\",'Tablas Guayaquil'!F115,'Tablas Resto de Ecuador'!F115)","v":362.96166666666664},{"$f":"IF('INGRESO DE DATOS'!$G$21=\"Guayaquil/Santa Elena\",'Tablas Guayaquil'!G115,'Tablas Resto de Ecuador'!G115)","v":252.72166666666666},{"$f":"IF('INGRESO DE DATOS'!$G$21=\"Guayaquil/Santa Elena\",'Tablas Guayaquil'!H115,'Tablas Resto de Ecuador'!H115)","v":189.74},{"$f":"IF('INGRESO DE DATOS'!$G$21=\"Guayaquil/Santa Elena\",'Tablas Guayaquil'!I115,'Tablas Resto de Ecuador'!I115)","v":135.68}]
[58,null,{"$f":"IF('INGRESO DE DATOS'!$G$21=\"Guayaquil/Santa Elena\",'Tablas Guayaquil'!C116,'Tablas Resto de Ecuador'!C116)","v":534.15166666666664},{"$f":"IF('INGRESO DE DATOS'!$G$21=\"Guayaquil/Santa Elena\",'Tablas Guayaquil'!D116,'Tablas Resto de Ecuador'!D116)","v":464.36833333333334},{"$f":"IF('INGRESO DE DATOS'!$G$21=\"Guayaquil/Santa Elena\",'Tablas Guayaquil'!E116,'Tablas Resto de Ecuador'!E116)","v":422.23333333333335},{"$f":"IF('INGRESO DE DATOS'!$G$21=\"Guayaquil/Santa Elena\",'Tablas Guayaquil'!F116,'Tablas Resto de Ecuador'!F116)","v":378.50833333333333},{"$f":"IF('INGRESO DE DATOS'!$G$21=\"Guayaquil/Santa Elena\",'Tablas Guayaquil'!G116,'Tablas Resto de Ecuador'!G116)","v":262.79166666666669},{"$f":"IF('INGRESO DE DATOS'!$G$21=\"Guayaquil/Santa Elena\",'Tablas Guayaquil'!H116,'Tablas Resto de Ecuador'!H116)","v":204.845},{"$f":"IF('INGRESO DE DATOS'!$G$21=\"Guayaquil/Santa Elena\",'Tablas Guayaquil'!I116,'Tablas Resto de Ecuador'!I116)","v":146.89833333333334}]
[59,null,{"$f":"IF('INGRESO DE DATOS'!$G$21=\"Guayaquil/Santa Elena\",'Tablas Guayaquil'!C117,'Tablas Resto de Ecuador'!C117)","v":551.995},{"$f":"IF('INGRESO DE DATOS'!$G$21=\"Guayaquil/Santa Elena\",'Tablas Guayaquil'!D117,'Tablas Resto de Ecuador'!D117)","v":480.00333333333333},{"$f":"IF('INGRESO DE DATOS'!$G$21=\"Guayaquil/Santa Elena\",'Tablas Guayaquil'!E117,'Tablas Resto de Ecuador'!E117)","v":434.95333333333332},{"$f":"IF('INGRESO DE DATOS'!$G$21=\"Guayaquil/Santa Elena\",'Tablas Guayaquil'!F117,'Tablas Resto de Ecuador'!F117)","v":393.79},{"$f":"IF('INGRESO DE DATOS'!$G$21=\"Guayaquil/Santa Elena\",'Tablas Guayaquil'!G117,'Tablas Resto de Ecuador'!G117)","v":272.685},{"$f":"IF('INGRESO DE DATOS'!$G$21=\"Guayaquil/Santa Elena\",'Tablas Guayaquil'!H117,'Tablas Resto de Ecuador'!H117)","v":221.09833333333333},{"$f":"IF('INGRESO DE DATOS'!$G$21=\"Guayaquil/Santa Elena\",'Tablas Guayaquil'!I117,'Tablas Resto de Ecuador'!I117)","v":159}]
[60,null,{"$f":"IF('INGRESO DE DATOS'!$G$21=\"Guayaquil/Santa Elena\",'Tablas Guayaquil'!C118,'Tablas Resto de Ecuador'!C118)","v":569.75},{"$f":"IF('INGRESO DE DATOS'!$G$21=\"Guayaquil/Santa Elena\",'Tablas Guayaquil'!D118,'Tablas Resto de Ecuador'!D118)","v":495.37333333333333},{"$f":"IF('INGRESO DE DATOS'!$G$21=\"Guayaquil/Santa Elena\",'Tablas Guayaquil'!E118,'Tablas Resto de Ecuador'!E118)","v":448.02666666666664},{"$f":"IF('INGRESO DE DATOS'!$G$21=\"Guayaquil/Santa Elena\",'Tablas Guayaquil'!F118,'Tablas Resto de Ecuador'!F118)","v":409.24833333333333},{"$f":"IF('INGRESO DE DATOS'!$G$21=\"Guayaquil/Santa Elena\",'Tablas Guayaquil'!G118,'Tablas Resto de Ecuador'!G118)","v":282.755},{"$f":"IF('INGRESO DE DATOS'!$G$21=\"Guayaquil/Santa Elena\",'Tablas Guayaquil'!H118,'Tablas Resto de Ecuador'!H118)","v":238.67666666666668},{"$f":"IF('INGRESO DE DATOS'!$G$21=\"Guayaquil/Santa Elena\",'Tablas Guayaquil'!I118,'Tablas Resto de Ecuador'!I118)","v":172.16166666666666}]
[61,null,{"$f":"IF('INGRESO DE DATOS'!$G$21=\"Guayaquil/Santa Elena\",'Tablas Guayaquil'!C119,'Tablas Resto de Ecuador'!C119)","v":591.745},{"$f":"IF('INGRESO DE DATOS'!$G$21=\"Guayaquil/Santa Elena\",'Tablas Guayaquil'!D119,'Tablas Resto de Ecuador'!D119)","v":514.36500000000001},{"$f":"IF('INGRESO DE DATOS'!$G$21=\"Guayaquil/Santa Elena\",'Tablas Guayaquil'!E119,'Tablas Resto de Ecuador'!E119)","v":467.28333333333336},{"$f":"IF('INGRESO DE DATOS'!$G$21=\"Guayaquil/Santa Elena\",'Tablas Guayaquil'!F119,'Tablas Resto de Ecuador'!F119)","v":424.44166666666666},{"$f":"IF('INGRESO DE DATOS'!$G$21=\"Guayaquil/Santa Elena\",'Tablas Guayaquil'!G119,'Tablas Resto de Ecuador'!G119)","v":293.26666666666665},{"$f":"IF('INGRESO DE DATOS'!$G$21=\"Guayaquil/Santa Elena\",'Tablas Guayaquil'!H119,'Tablas Resto de Ecuador'!H119)","v":257.49166666666667},{"$f":"IF('INGRESO DE DATOS'!$G$21=\"Guayaquil/Santa Elena\",'Tablas Guayaquil'!I119,'Tablas Resto de Ecuador'!I119)","v":186.11833333333334}]
[62,null,{"$f":"IF('INGRESO DE DATOS'!$G$21=\"Guayaquil/Santa Elena\",'Tablas Guayaquil'!C120,'Tablas Resto de Ecuador'!C120)","v":618.245},{"$f":"IF('INGRESO DE DATOS'!$G$21=\"Guayaquil/Santa Elena\",'Tablas Guayaquil'!D120,'Tablas Resto de Ecuador'!D120)","v":537.50833333333333},{"$f":"IF('INGRESO DE DATOS'!$G$21=\"Guayaquil/Santa Elena\",'Tablas Guayaquil'!E120,'Tablas Resto de Ecuador'!E120)","v":490.16166666666669},{"$f":"IF('INGRESO DE DATOS'!$G$21=\"Guayaquil/Santa Elena\",'Tablas Guayaquil'!F120,'Tablas Resto de Ecuador'!F120)","v":443.61},{"$f":"IF('INGRESO DE DATOS'!$G$21=\"Guayaquil/Santa Elena\",'Tablas Guayaquil'!G120,'Tablas Resto de Ecuador'!G120)","v":306.60500000000002},{"$f":"IF('INGRESO DE DATOS'!$G$21=\"Guayaquil/Santa Elena\",'Tablas Guayaquil'!H120,'Tablas Resto de Ecuador'!H120)","v":277.89666666666665},{"$f":"IF('INGRESO DE DATOS'!$G$21=\"Guayaquil/Santa Elena\",'Tablas Guayaquil'!I120,'Tablas Resto de Ecuador'!I120)","v":201.31166666666667}]
[63,null,{"$f":"IF('INGRESO DE DATOS'!$G$21=\"Guayaquil/Santa Elena\",'Tablas Guayaquil'!C121,'Tablas Resto de Ecuador'!C121)","v":650.04499999999996},{"$f":"IF('INGRESO DE DATOS'!$G$21=\"Guayaquil/Santa Elena\",'Tablas Guayaquil'!D121,'Tablas Resto de Ecuador'!D121)","v":565.15666666666664},{"$f":"IF('INGRESO DE DATOS'!$G$21=\"Guayaquil/Santa Elena\",'Tablas Guayaquil'!E121,'Tablas Resto de Ecuador'!E121)","v":515.60166666666669},{"$f":"IF('INGRESO DE DATOS'!$G$21=\"Guayaquil/Santa Elena\",'Tablas Guayaquil'!F121,'Tablas Resto de Ecuador'!F121)","v":466.4},{"$f":"IF('INGRESO DE DATOS'!$G$21=\"Guayaquil/Santa Elena\",'Tablas Guayaquil'!G121,'Tablas Resto de Ecuador'!G121)","v":322.59333333333331},{"$f":"IF('INGRESO DE DATOS'!$G$21=\"Guayaquil/Santa Elena\",'Tablas Guayaquil'!H121,'Tablas Resto de Ecuador'!H121)","v":299.71499999999997},{"$f":"IF('INGRESO DE DATOS'!$G$21=\"Guayaquil/Santa Elena\",'Tablas Guayaquil'!I121,'Tablas Resto de Ecuador'!I121)","v":217.565}]
[64,null,{"$f":"IF('INGRESO DE DATOS'!$G$21=\"Guayaquil/Santa Elena\",'Tablas Guayaquil'!C122,'Tablas Resto de Ecuador'!C122)","v":687.49833333333333},{"$f":"IF('INGRESO DE DATOS'!$G$21=\"Guayaquil/Santa Elena\",'Tablas Guayaquil'!D122,'Tablas Resto de Ecuador'!D122)","v":597.92833333333328},{"$f":"IF('INGRESO DE DATOS'!$G$21=\"Guayaquil/Santa Elena\",'Tablas Guayaquil'!E122,'Tablas Resto de Ecuador'!E122)","v":545.01666666666665},{"$f":"IF('INGRESO DE DATOS'!$G$21=\"Guayaquil/Santa Elena\",'Tablas Guayaquil'!F122,'Tablas Resto de Ecuador'!F122)","v":493.25333333333333},{"$f":"IF('INGRESO DE DATOS'!$G$21=\"Guayaquil/Santa Elena\",'Tablas Guayaquil'!G122,'Tablas Resto de Ecuador'!G122)","v":358.19166666666666},{"$f":"IF('INGRESO DE DATOS'!$G$21=\"Guayaquil/Santa Elena\",'Tablas Guayaquil'!H122,'Tablas Resto de Ecuador'!H122)","v":323.38833333333332},{"$f":"IF('INGRESO DE DATOS'!$G$21=\"Guayaquil/Santa Elena\",'Tablas Guayaquil'!I122,'Tablas Resto de Ecuador'!I122)","v":234.96666666666667}]
[65,null,{"$f":"IF('INGRESO DE DATOS'!$G$21=\"Guayaquil/Santa Elena\",'Tablas Guayaquil'!C123,'Tablas Resto de Ecuador'!C123)","v":732.54833333333329},{"$f":"IF('INGRESO DE DATOS'!$G$21=\"Guayaquil/Santa Elena\",'Tablas Guayaquil'!D123,'Tablas Resto de Ecuador'!D123)","v":636.79499999999996},{"$f":"IF('INGRESO DE DATOS'!$G$21=\"Guayaquil/Santa Elena\",'Tablas Guayaquil'!E123,'Tablas Resto de Ecuador'!E123)","v":580.61500000000001},{"$f":"IF('INGRESO DE DATOS'!$G$21=\"Guayaquil/Santa Elena\",'Tablas Guayaquil'!F123,'Tablas Resto de Ecuador'!F123)","v":530.17666666666662},{"$f":"IF('INGRESO DE DATOS'!$G$21=\"Guayaquil/Santa Elena\",'Tablas Guayaquil'!G123,'Tablas Resto de Ecuador'!G123)","v":383.45499999999998},{"$f":"IF('INGRESO DE DATOS'!$G$21=\"Guayaquil/Santa Elena\",'Tablas Guayaquil'!H123,'Tablas Resto de Ecuador'!H123)","v":348.91666666666669},{"$f":"IF('INGRESO DE DATOS'!$G$21=\"Guayaquil/Santa Elena\",'Tablas Guayaquil'!I123,'Tablas Resto de Ecuador'!I123)","v":253.87}]
[66,null,{"$f":"IF('INGRESO DE DATOS'!$G$21=\"Guayaquil/Santa Elena\",'Tablas Guayaquil'!C124,'Tablas Resto de Ecuador'!C124)","v":785.10666666666668},{"$f":"IF('INGRESO DE DATOS'!$G$21=\"Guayaquil/Santa Elena\",'Tablas Guayaquil'!D124,'Tablas Resto de Ecuador'!D124)","v":682.72833333333335},{"$f":"IF('INGRESO DE DATOS'!$G$21=\"Guayaquil/Santa Elena\",'Tablas Guayaquil'!E124,'Tablas Resto de Ecuador'!E124)","v":622.57333333333338},{"$f":"IF('INGRESO DE DATOS'!$G$21=\"Guayaquil/Santa Elena\",'Tablas Guayaquil'!F124,'Tablas Resto de Ecuador'!F124)","v":572.57666666666671},{"$f":"IF('INGRESO DE DATOS'!$G$21=\"Guayaquil/Santa Elena\",'Tablas Guayaquil'!G124,'Tablas Resto de Ecuador'!G124)","v":413.04666666666668},{"$f":"IF('INGRESO DE DATOS'!$G$21=\"Guayaquil/Santa Elena\",'Tablas Guayaquil'!H124,'Tablas Resto de Ecuador'!H124)","v":376.38833333333332},{"$f":"IF('INGRESO DE DATOS'!$G$21=\"Guayaquil/Santa Elena\",'Tablas Guayaquil'!I124,'Tablas Resto de Ecuador'!I124)","v":274.18666666666667}]
[67,null,{"$f":"IF('INGRESO DE DATOS'!$G$21=\"Guayaquil/Santa Elena\",'Tablas Guayaquil'!C125,'Tablas Resto de Ecuador'!C125)","v":847.82333333333338},{"$f":"IF('INGRESO DE DATOS'!$G$21=\"Guayaquil/Santa Elena\",'Tablas Guayaquil'!D125,'Tablas Resto de Ecuador'!D125)","v":737.31833333333338},{"$f":"IF('INGRESO DE DATOS'!$G$21=\"Guayaquil/Santa Elena\",'Tablas Guayaquil'!E125,'Tablas Resto de Ecuador'!E125)","v":672.39333333333332},{"$f":"IF('INGRESO DE DATOS'!$G$21=\"Guayaquil/Santa Elena\",'Tablas Guayaquil'!F125,'Tablas Resto de Ecuador'!F125)","v":618.77499999999998},{"$f":"IF('INGRESO DE DATOS'!$G$21=\"Guayaquil/Santa Elena\",'Tablas Guayaquil'!G125,'Tablas Resto de Ecuador'!G125)","v":446.08333333333331},{"$f":"IF('INGRESO DE DATOS'!$G$21=\"Guayaquil/Santa Elena\",'Tablas Guayaquil'!H125,'Tablas Resto de Ecuador'!H125)","v":406.06833333333333},{"$f":"IF('INGRESO DE DATOS'!$G$21=\"Guayaquil/Santa Elena\",'Tablas Guayaquil'!I125,'Tablas Resto de Ecuador'!I125)","v":296.09333333333331}]
[68,null,{"$f":"IF('INGRESO DE DATOS'!$G$21=\"Guayaquil/Santa Elena\",'Tablas Guayaquil'!C126,'Tablas Resto de Ecuador'!C126)","v":919.99166666666667},{"$f":"IF('INGRESO DE DATOS'!$G$21=\"Guayaquil/Santa Elena\",'Tablas Guayaquil'!D126,'Tablas Resto de Ecuador'!D126)","v":799.77},{"$f":"IF('INGRESO DE DATOS'!$G$21=\"Guayaquil/Santa Elena\",'Tablas Guayaquil'!E126,'Tablas Resto de Ecuador'!E126)","v":729.45666666666671},{"$f":"IF('INGRESO DE DATOS'!$G$21=\"Guayaquil/Santa Elena\",'Tablas Guayaquil'!F126,'Tablas Resto de Ecuador'!F126)","v":670.89166666666665},{"$f":"IF('INGRESO DE DATOS'!$G$21=\"Guayaquil/Santa Elena\",'Tablas Guayaquil'!G126,'Tablas Resto de Ecuador'!G126)","v":483.71333333333331},{"$f":"IF('INGRESO DE DATOS'!$G$21=\"Guayaquil/Santa Elena\",'Tablas Guayaquil'!H126,'Tablas Resto de Ecuador'!H126)","v":438.04500000000002},{"$f":"IF('INGRESO DE DATOS'!$G$21=\"Guayaquil/Santa Elena\",'Tablas Guayaquil'!I126,'Tablas Resto de Ecuador'!I126)","v":319.58999999999997}]
[69,null,{"$f":"IF('INGRESO DE DATOS'!$G$21=\"Guayaquil/Santa Elena\",'Tablas Guayaquil'!C127,'Tablas Resto de Ecuador'!C127)","v":1003.82},{"$f":"IF('INGRESO DE DATOS'!$G$21=\"Guayaquil/Santa Elena\",'Tablas Guayaquil'!D127,'Tablas Resto de Ecuador'!D127)","v":872.91},{"$f":"IF('INGRESO DE DATOS'!$G$21=\"Guayaquil/Santa Elena\",'Tablas Guayaquil'!E127,'Tablas Resto de Ecuador'!E127)","v":795.88333333333333},{"$f":"IF('INGRESO DE DATOS'!$G$21=\"Guayaquil/Santa Elena\",'Tablas Guayaquil'!F127,'Tablas Resto de Ecuador'!F127)","v":732.63666666666666},{"$f":"IF('INGRESO DE DATOS'!$G$21=\"Guayaquil/Santa Elena\",'Tablas Guayaquil'!G127,'Tablas Resto de Ecuador'!G127)","v":503.23500000000001},{"$f":"IF('INGRESO DE DATOS'!$G$21=\"Guayaquil/Santa Elena\",'Tablas Guayaquil'!H127,'Tablas Resto de Ecuador'!H127)","v":472.58333333333331},{"$f":"IF('INGRESO DE DATOS'!$G$21=\"Guayaquil/Santa Elena\",'Tablas Guayaquil'!I127,'Tablas Resto de Ecuador'!I127)","v":344.94166666666666}]
[70,null,{"$f":"IF('INGRESO DE DATOS'!$G$21=\"Guayaquil/Santa Elena\",'Tablas Guayaquil'!C128,'Tablas Resto de Ecuador'!C128)","v":1100.9866666666667},{"$f":"IF('INGRESO DE DATOS'!$G$21=\"Guayaquil/Santa Elena\",'Tablas Guayaquil'!D128,'Tablas Resto de Ecuador'!D128)","v":957.44500000000005},{"$f":"IF('INGRESO DE DATOS'!$G$21=\"Guayaquil/Santa Elena\",'Tablas Guayaquil'!E128,'Tablas Resto de Ecuador'!E128)","v":865.40166666666664},{"$f":"IF('INGRESO DE DATOS'!$G$21=\"Guayaquil/Santa Elena\",'Tablas Guayaquil'!F128,'Tablas Resto de Ecuador'!F128)","v":815.31666666666672},{"$f":"IF('INGRESO DE DATOS'!$G$21=\"Guayaquil/Santa Elena\",'Tablas Guayaquil'!G128,'Tablas Resto de Ecuador'!G128)","v":556.41166666666663},{"$f":"IF('INGRESO DE DATOS'!$G$21=\"Guayaquil/Santa Elena\",'Tablas Guayaquil'!H128,'Tablas Resto de Ecuador'!H128)","v":509.68333333333334},{"$f":"IF('INGRESO DE DATOS'!$G$21=\"Guayaquil/Santa Elena\",'Tablas Guayaquil'!I128,'Tablas Resto de Ecuador'!I128)","v":372.06}]
[71,null,{"$f":"IF('INGRESO DE DATOS'!$G$21=\"Guayaquil/Santa Elena\",'Tablas Guayaquil'!C129,'Tablas Resto de Ecuador'!C129)","v":1212.6400000000001},{"$f":"IF('INGRESO DE DATOS'!$G$21=\"Guayaquil/Santa Elena\",'Tablas Guayaquil'!D129,'Tablas Resto de Ecuador'!D129)","v":1054.5233333333333},{"$f":"IF('INGRESO DE DATOS'!$G$21=\"Guayaquil/Santa Elena\",'Tablas Guayaquil'!E129,'Tablas Resto de Ecuador'!E129)","v":961.33166666666671},{"$f":"IF('INGRESO DE DATOS'!$G$21=\"Guayaquil/Santa Elena\",'Tablas Guayaquil'!F129,'Tablas Resto de Ecuador'!F129)","v":897.82},{"$f":"IF('INGRESO DE DATOS'!$G$21=\"Guayaquil/Santa Elena\",'Tablas Guayaquil'!G129,'Tablas Resto de Ecuador'!G129)","v":612.94500000000005},{"$f":"IF('INGRESO DE DATOS'!$G$21=\"Guayaquil/Santa Elena\",'Tablas Guayaquil'!H129,'Tablas Resto de Ecuador'!H129)","v":549.61},{"$f":"IF('INGRESO DE DATOS'!$G$21=\"Guayaquil/Santa Elena\",'Tablas Guayaquil'!I129,'Tablas Resto de Ecuador'!I129)","v":401.03333333333336}]
[72,null,{"$f":"IF('INGRESO DE DATOS'!$G$21=\"Guayaquil/Santa Elena\",'Tablas Guayaquil'!C130,'Tablas Resto de Ecuador'!C130)","v":1341.3416666666667},{"$f":"IF('INGRESO DE DATOS'!$G$21=\"Guayaquil/Santa Elena\",'Tablas Guayaquil'!D130,'Tablas Resto de Ecuador'!D130)","v":1166.3533333333332},{"$f":"IF('INGRESO DE DATOS'!$G$21=\"Guayaquil/Santa Elena\",'Tablas Guayaquil'!E130,'Tablas Resto de Ecuador'!E130)","v":1063.71},{"$f":"IF('INGRESO DE DATOS'!$G$21=\"Guayaquil/Santa Elena\",'Tablas Guayaquil'!F130,'Tablas Resto de Ecuador'!F130)","v":993.66166666666663},{"$f":"IF('INGRESO DE DATOS'!$G$21=\"Guayaquil/Santa Elena\",'Tablas Guayaquil'!G130,'Tablas Resto de Ecuador'!G130)","v":678.4},{"$f":"IF('INGRESO DE DATOS'!$G$21=\"Guayaquil/Santa Elena\",'Tablas Guayaquil'!H130,'Tablas Resto de Ecuador'!H130)","v":592.36333333333334},{"$f":"IF('INGRESO DE DATOS'!$G$21=\"Guayaquil/Santa Elena\",'Tablas Guayaquil'!I130,'Tablas Resto de Ecuador'!I130)","v":431.95}]
[73,null,{"$f":"IF('INGRESO DE DATOS'!$G$21=\"Guayaquil/Santa Elena\",'Tablas Guayaquil'!C131,'Tablas Resto de Ecuador'!C131)","v":1489.9183333333333},{"$f":"IF('INGRESO DE DATOS'!$G$21=\"Guayaquil/Santa Elena\",'Tablas Guayaquil'!D131,'Tablas Resto de Ecuador'!D131)","v":1295.4083333333333},{"$f":"IF('INGRESO DE DATOS'!$G$21=\"Guayaquil/Santa Elena\",'Tablas Guayaquil'!E131,'Tablas Resto de Ecuador'!E131)","v":1181.0166666666667},{"$f":"IF('INGRESO DE DATOS'!$G$21=\"Guayaquil/Santa Elena\",'Tablas Guayaquil'!F131,'Tablas Resto de Ecuador'!F131)","v":1103.1066666666666},{"$f":"IF('INGRESO DE DATOS'!$G$21=\"Guayaquil/Santa Elena\",'Tablas Guayaquil'!G131,'Tablas Resto de Ecuador'!G131)","v":752.86500000000001},{"$f":"IF('INGRESO DE DATOS'!$G$21=\"Guayaquil/Santa Elena\",'Tablas Guayaquil'!H131,'Tablas Resto de Ecuador'!H131)","v":638.20833333333337},{"$f":"IF('INGRESO DE DATOS'!$G$21=\"Guayaquil/Santa Elena\",'Tablas Guayaquil'!I131,'Tablas Resto de Ecuador'!I131)","v":464.89833333333331}]
[74,null,{"$f":"IF('INGRESO DE DATOS'!$G$21=\"Guayaquil/Santa Elena\",'Tablas Guayaquil'!C132,'Tablas Resto de Ecuador'!C132)","v":1661.02},{"$f":"IF('INGRESO DE DATOS'!$G$21=\"Guayaquil/Santa Elena\",'Tablas Guayaquil'!D132,'Tablas Resto de Ecuador'!D132)","v":1444.1616666666666},{"$f":"IF('INGRESO DE DATOS'!$G$21=\"Guayaquil/Santa Elena\",'Tablas Guayaquil'!E132,'Tablas Resto de Ecuador'!E132)","v":1316.7850000000001},{"$f":"IF('INGRESO DE DATOS'!$G$21=\"Guayaquil/Santa Elena\",'Tablas Guayaquil'!F132,'Tablas Resto de Ecuador'!F132)","v":1230.0416666666667},{"$f":"IF('INGRESO DE DATOS'!$G$21=\"Guayaquil/Santa Elena\",'Tablas Guayaquil'!G132,'Tablas Resto de Ecuador'!G132)","v":839.69666666666672},{"$f":"IF('INGRESO DE DATOS'!$G$21=\"Guayaquil/Santa Elena\",'Tablas Guayaquil'!H132,'Tablas Resto de Ecuador'!H132)","v":687.05666666666662},{"$f":"IF('INGRESO DE DATOS'!$G$21=\"Guayaquil/Santa Elena\",'Tablas Guayaquil'!I132,'Tablas Resto de Ecuador'!I132)","v":499.61333333333334}]
[75,null,{"$f":"IF('INGRESO DE DATOS'!$G$21=\"Guayaquil/Santa Elena\",'Tablas Guayaquil'!C133,'Tablas Resto de Ecuador'!C133)","v":1857.12},{"$f":"IF('INGRESO DE DATOS'!$G$21=\"Guayaquil/Santa Elena\",'Tablas Guayaquil'!D133,'Tablas Resto de Ecuador'!D133)","v":1614.9983333333332},{"$f":"IF('INGRESO DE DATOS'!$G$21=\"Guayaquil/Santa Elena\",'Tablas Guayaquil'!E133,'Tablas Resto de Ecuador'!E133)","v":1466.51},{"$f":"IF('INGRESO DE DATOS'!$G$21=\"Guayaquil/Santa Elena\",'Tablas Guayaquil'!F133,'Tablas Resto de Ecuador'!F133)","v":1384.0066666666667},{"$f":"IF('INGRESO DE DATOS'!$G$21=\"Guayaquil/Santa Elena\",'Tablas Guayaquil'!G133,'Tablas Resto de Ecuador'!G133)","v":942.1633333333333},{"$f":"IF('INGRESO DE DATOS'!$G$21=\"Guayaquil/Santa Elena\",'Tablas Guayaquil'!H133,'Tablas Resto de Ecuador'!H133)","v":738.82},{"$f":"IF('INGRESO DE DATOS'!$G$21=\"Guayaquil/Santa Elena\",'Tablas Guayaquil'!I133,'Tablas Resto de Ecuador'!I133)","v":536.09500000000003}]
[76,null,{"$f":"IF('INGRESO DE DATOS'!$G$21=\"Guayaquil/Santa Elena\",'Tablas Guayaquil'!C134,'Tablas Resto de Ecuador'!C134)","v":2082.8116666666665},{"$f":"IF('INGRESO DE DATOS'!$G$21=\"Guayaquil/Santa Elena\",'Tablas Guayaquil'!D134,'Tablas Resto de Ecuador'!D134)","v":1811.01},{"$f":"IF('INGRESO DE DATOS'!$G$21=\"Guayaquil/Santa Elena\",'Tablas Guayaquil'!E134,'Tablas Resto de Ecuador'!E134)","v":1649.9783333333332},{"$f":"IF('INGRESO DE DATOS'!$G$21=\"Guayaquil/Santa Elena\",'Tablas Guayaquil'!F134,'Tablas Resto de Ecuador'!F134)","v":1551.84},{"$f":"IF('INGRESO DE DATOS'!$G$21=\"Guayaquil/Santa Elena\",'Tablas Guayaquil'!G134,'Tablas Resto de Ecuador'!G134)","v":1056.4666666666667},{"$f":"IF('INGRESO DE DATOS'!$G$21=\"Guayaquil/Santa Elena\",'Tablas Guayaquil'!H134,'Tablas Resto de Ecuador'!H134)","v":793.49833333333333},{"$f":"IF('INGRESO DE DATOS'!$G$21=\"Guayaquil/Santa Elena\",'Tablas Guayaquil'!I134,'Tablas Resto de Ecuador'!I134)","v":574.07833333333338}]
[77,null,{"$f":"IF('INGRESO DE DATOS'!$G$21=\"Guayaquil/Santa Elena\",'Tablas Guayaquil'!C135,'Tablas Resto de Ecuador'!C135)","v":2338.89},{"$f":"IF('INGRESO DE DATOS'!$G$21=\"Guayaquil/Santa Elena\",'Tablas Guayaquil'!D135,'Tablas Resto de Ecuador'!D135)","v":2034.0516666666667},{"$f":"IF('INGRESO DE DATOS'!$G$21=\"Guayaquil/Santa Elena\",'Tablas Guayaquil'!E135,'Tablas Resto de Ecuador'!E135)","v":1854.47},{"$f":"IF('INGRESO DE DATOS'!$G$21=\"Guayaquil/Santa Elena\",'Tablas Guayaquil'!F135,'Tablas Resto de Ecuador'!F135)","v":1730.1849999999999},{"$f":"IF('INGRESO DE DATOS'!$G$21=\"Guayaquil/Santa Elena\",'Tablas Guayaquil'!G135,'Tablas Resto de Ecuador'!G135)","v":1186.67},{"$f":"IF('INGRESO DE DATOS'!$G$21=\"Guayaquil/Santa Elena\",'Tablas Guayaquil'!H135,'Tablas Resto de Ecuador'!H135)","v":850.73833333333334},{"$f":"IF('INGRESO DE DATOS'!$G$21=\"Guayaquil/Santa Elena\",'Tablas Guayaquil'!I135,'Tablas Resto de Ecuador'!I135)","v":613.21}]
[78,null,{"$f":"IF('INGRESO DE DATOS'!$G$21=\"Guayaquil/Santa Elena\",'Tablas Guayaquil'!C136,'Tablas Resto de Ecuador'!C136)","v":2628.1816666666668},{"$f":"IF('INGRESO DE DATOS'!$G$21=\"Guayaquil/Santa Elena\",'Tablas Guayaquil'!D136,'Tablas Resto de Ecuador'!D136)","v":2285.36},{"$f":"IF('INGRESO DE DATOS'!$G$21=\"Guayaquil/Santa Elena\",'Tablas Guayaquil'!E136,'Tablas Resto de Ecuador'!E136)","v":2083.6066666666666},{"$f":"IF('INGRESO DE DATOS'!$G$21=\"Guayaquil/Santa Elena\",'Tablas Guayaquil'!F136,'Tablas Resto de Ecuador'!F136)","v":1855.8833333333334},{"$f":"IF('INGRESO DE DATOS'!$G$21=\"Guayaquil/Santa Elena\",'Tablas Guayaquil'!G136,'Tablas Resto de Ecuador'!G136)","v":1277.83},{"$f":"IF('INGRESO DE DATOS'!$G$21=\"Guayaquil/Santa Elena\",'Tablas Guayaquil'!H136,'Tablas Resto de Ecuador'!H136)","v":910.09833333333336},{"$f":"IF('INGRESO DE DATOS'!$G$21=\"Guayaquil/Santa Elena\",'Tablas Guayaquil'!I136,'Tablas Resto de Ecuador'!I136)","v":653.04833333333329}]
[79,null,{"$f":"IF('INGRESO DE DATOS'!$G$21=\"Guayaquil/Santa Elena\",'Tablas Guayaquil'!C137,'Tablas Resto de Ecuador'!C137)","v":2952.895},{"$f":"IF('INGRESO DE DATOS'!$G$21=\"Guayaquil/Santa Elena\",'Tablas Guayaquil'!D137,'Tablas Resto de Ecuador'!D137)","v":2567.585},{"$f":"IF('INGRESO DE DATOS'!$G$21=\"Guayaquil/Santa Elena\",'Tablas Guayaquil'!E137,'Tablas Resto de Ecuador'!E137)","v":2341.1866666666665},{"$f":"IF('INGRESO DE DATOS'!$G$21=\"Guayaquil/Santa Elena\",'Tablas Guayaquil'!F137,'Tablas Resto de Ecuador'!F137)","v":1987.9416666666666},{"$f":"IF('INGRESO DE DATOS'!$G$21=\"Guayaquil/Santa Elena\",'Tablas Guayaquil'!G137,'Tablas Resto de Ecuador'!G137)","v":1367.7533333333333},{"$f":"IF('INGRESO DE DATOS'!$G$21=\"Guayaquil/Santa Elena\",'Tablas Guayaquil'!H137,'Tablas Resto de Ecuador'!H137)","v":971.13666666666666},{"$f":"IF('INGRESO DE DATOS'!$G$21=\"Guayaquil/Santa Elena\",'Tablas Guayaquil'!I137,'Tablas Resto de Ecuador'!I137)","v":692.5333333333333}]
[80,"o más",{"$f":"IF('INGRESO DE DATOS'!$G$21=\"Guayaquil/Santa Elena\",'Tablas Guayaquil'!C138,'Tablas Resto de Ecuador'!C138)","v":3318.6833333333334},{"$f":"IF('INGRESO DE DATOS'!$G$21=\"Guayaquil/Santa Elena\",'Tablas Guayaquil'!D138,'Tablas Resto de Ecuador'!D138)","v":2905.7249999999999},{"$f":"IF('INGRESO DE DATOS'!$G$21=\"Guayaquil/Santa Elena\",'Tablas Guayaquil'!E138,'Tablas Resto de Ecuador'!E138)","v":2586.5766666666668},{"$f":"IF('INGRESO DE DATOS'!$G$21=\"Guayaquil/Santa Elena\",'Tablas Guayaquil'!F138,'Tablas Resto de Ecuador'!F138)","v":2125.7416666666668},{"$f":"IF('INGRESO DE DATOS'!$G$21=\"Guayaquil/Santa Elena\",'Tablas Guayaquil'!G138,'Tablas Resto de Ecuador'!G138)","v":1460.5033333333333},{"$f":"IF('INGRESO DE DATOS'!$G$21=\"Guayaquil/Santa Elena\",'Tablas Guayaquil'!H138,'Tablas Resto de Ecuador'!H138)","v":1032.8816666666667},{"$f":"IF('INGRESO DE DATOS'!$G$21=\"Guayaquil/Santa Elena\",'Tablas Guayaquil'!I138,'Tablas Resto de Ecuador'!I138)","v":730.95833333333337}]
[1,"Hijo",{"$f":"IF('INGRESO DE DATOS'!$G$21=\"Guayaquil/Santa Elena\",'Tablas Guayaquil'!C139,'Tablas Resto de Ecuador'!C139)","v":127.37666666666667},{"$f":"IF('INGRESO DE DATOS'!$G$21=\"Guayaquil/Santa Elena\",'Tablas Guayaquil'!D139,'Tablas Resto de Ecuador'!D139)","v":110.68166666666667},{"$f":"IF('INGRESO DE DATOS'!$G$21=\"Guayaquil/Santa Elena\",'Tablas Guayaquil'!E139,'Tablas Resto de Ecuador'!E139)","v":80.206666666666663},{"$f":"IF('INGRESO DE DATOS'!$G$21=\"Guayaquil/Santa Elena\",'Tablas Guayaquil'!F139,'Tablas Resto de Ecuador'!F139)","v":54.943333333333335},{"$f":"IF('INGRESO DE DATOS'!$G$21=\"Guayaquil/Santa Elena\",'Tablas Guayaquil'!G139,'Tablas Resto de Ecuador'!G139)","v":30.033333333333335},{"$f":"IF('INGRESO DE DATOS'!$G$21=\"Guayaquil/Santa Elena\",'Tablas Guayaquil'!H139,'Tablas Resto de Ecuador'!H139)","v":17.754999999999999},{"$f":"IF('INGRESO DE DATOS'!$G$21=\"Guayaquil/Santa Elena\",'Tablas Guayaquil'!I139,'Tablas Resto de Ecuador'!I139)","v":10.158333333333333}]
[2,"Hijos",{"$f":"IF('INGRESO DE DATOS'!$G$21=\"Guayaquil/Santa Elena\",'Tablas Guayaquil'!C140,'Tablas Resto de Ecuador'!C140)","v":150.52000000000001},{"$f":"IF('INGRESO DE DATOS'!$G$21=\"Guayaquil/Santa Elena\",'Tablas Guayaquil'!D140,'Tablas Resto de Ecuador'!D140)","v":130.73333333333332},{"$f":"IF('INGRESO DE DATOS'!$G$21=\"Guayaquil/Santa Elena\",'Tablas Guayaquil'!E140,'Tablas Resto de Ecuador'!E140)","v":94.781666666666666},{"$f":"IF('INGRESO DE DATOS'!$G$21=\"Guayaquil/Santa Elena\",'Tablas Guayaquil'!F140,'Tablas Resto de Ecuador'!F140)","v":64.924999999999997},{"$f":"IF('INGRESO DE DATOS'!$G$21=\"Guayaquil/Santa Elena\",'Tablas Guayaquil'!G140,'Tablas Resto de Ecuador'!G140)","v":35.421666666666667},{"$f":"IF('INGRESO DE DATOS'!$G$21=\"Guayaquil/Santa Elena\",'Tablas Guayaquil'!H140,'Tablas Resto de Ecuador'!H140)","v":20.934999999999999},{"$f":"IF('INGRESO DE DATOS'!$G$21=\"Guayaquil/Santa Elena\",'Tablas Guayaquil'!I140,'Tablas Resto de Ecuador'!I140)","v":12.013333333333334}]
[3,"Hijos o más",{"$f":"IF('INGRESO DE DATOS'!$G$21=\"Guayaquil/Santa Elena\",'Tablas Guayaquil'!C141,'Tablas Resto de Ecuador'!C141)","v":208.37833333333333},{"$f":"IF('INGRESO DE DATOS'!$G$21=\"Guayaquil/Santa Elena\",'Tablas Guayaquil'!D141,'Tablas Resto de Ecuador'!D141)","v":181.08333333333334},{"$f":"IF('INGRESO DE DATOS'!$G$21=\"Guayaquil/Santa Elena\",'Tablas Guayaquil'!E141,'Tablas Resto de Ecuador'!E141)","v":131.17500000000001},{"$f":"IF('INGRESO DE DATOS'!$G$21=\"Guayaquil/Santa Elena\",'Tablas Guayaquil'!F141,'Tablas Resto de Ecuador'!F141)","v":89.923333333333332},{"$f":"IF('INGRESO DE DATOS'!$G$21=\"Guayaquil/Santa Elena\",'Tablas Guayaquil'!G141,'Tablas Resto de Ecuador'!G141)","v":49.11333333333333},{"$f":"IF('INGRESO DE DATOS'!$G$21=\"Guayaquil/Santa Elena\",'Tablas Guayaquil'!H141,'Tablas Resto de Ecuador'!H141)","v":28.973333333333333},{"$f":"IF('INGRESO DE DATOS'!$G$21=\"Guayaquil/Santa Elena\",'Tablas Guayaquil'!I141,'Tablas Resto de Ecuador'!I141)","v":16.695}]
[]
["FLEX 100"]
["TARIFAS ANUALES"]
["EDAD"]
[" "," ","F100-1","F100-2","F100-3","F100-4","F100-5"]
[18,null,{"$f":"IF('INGRESO DE DATOS'!$G$21=\"Guayaquil/Santa Elena\",'Tablas Guayaquil'!C147,'Tablas Resto de Ecuador'!C147)","v":2583},{"$f":"IF('INGRESO DE DATOS'!$G$21=\"Guayaquil/Santa Elena\",'Tablas Guayaquil'!D147,'Tablas Resto de Ecuador'!D147)","v":2530},{"$f":"IF('INGRESO DE DATOS'!$G$21=\"Guayaquil/Santa Elena\",'Tablas Guayaquil'!E147,'Tablas Resto de Ecuador'!E147)","v":2390},{"$f":"IF('INGRESO DE DATOS'!$G$21=\"Guayaquil/Santa Elena\",'Tablas Guayaquil'!F147,'Tablas Resto de Ecuador'!F147)","v":2180},{"$f":"IF('INGRESO DE DATOS'!$G$21=\"Guayaquil/Santa Elena\",'Tablas Guayaquil'!G147,'Tablas Resto de Ecuador'!G147)","v":1687}]
[19,null,{"$f":"IF('INGRESO DE DATOS'!$G$21=\"Guayaquil/Santa Elena\",'Tablas Guayaquil'!C148,'Tablas Resto de Ecuador'!C148)","v":2631},{"$f":"IF('INGRESO DE DATOS'!$G$21=\"Guayaquil/Santa Elena\",'Tablas Guayaquil'!D148,'Tablas Resto de Ecuador'!D148)","v":2579},{"$f":"IF('INGRESO DE DATOS'!$G$21=\"Guayaquil/Santa Elena\",'Tablas Guayaquil'!E148,'Tablas Resto de Ecuador'!E148)","v":2432},{"$f":"IF('INGRESO DE DATOS'!$G$21=\"Guayaquil/Santa Elena\",'Tablas Guayaquil'!F148,'Tablas Resto de Ecuador'!F148)","v":2219},{"$f":"IF('INGRESO DE DATOS'!$G$21=\"Guayaquil/Santa Elena\",'Tablas Guayaquil'!G148,'Tablas Resto de Ecuador'!G148)","v":1721}]
[20,null,{"$f":"IF('INGRESO DE DATOS'!$G$21=\"Guayaquil/Santa Elena\",'Tablas Guayaquil'!C149,'Tablas Resto de Ecuador'!C149)","v":2675},{"$f":"IF('INGRESO DE DATOS'!$G$21=\"Guayaquil/Santa Elena\",'Tablas Guayaquil'!D149,'Tablas Resto de Ecuador'!D149)","v":2616},{"$f":"IF('INGRESO DE DATOS'!$G$21=\"Guayaquil/Santa Elena\",'Tablas Guayaquil'!E149,'Tablas Resto de Ecuador'!E149)","v":2471},{"$f":"IF('INGRESO DE DATOS'!$G$21=\"Guayaquil/Santa Elena\",'Tablas Guayaquil'!F149,'Tablas Resto de Ecuador'!F149)","v":2251},{"$f":"IF('INGRESO DE DATOS'!$G$21=\"Guayaquil/Santa Elena\",'Tablas Guayaquil'!G149,'Tablas Resto de Ecuador'!G149)","v":1754}]
[21,null,{"$f":"IF('INGRESO DE DATOS'!$G$21=\"Guayaquil/Santa Elena\",'Tablas Guayaquil'!C150,'Tablas Resto de Ecuador'!C150)","v":2720},{"$f":"IF('INGRESO DE DATOS'!$G$21=\"Guayaquil/Santa Elena\",'Tablas Guayaquil'!D150,'Tablas Resto de Ecuador'!D150)","v":2665},{"$f":"IF('INGRESO DE DATOS'!$G$21=\"Guayaquil/Santa Elena\",'Tablas Guayaquil'!E150,'Tablas Resto de Ecuador'!E150)","v":2510},{"$f":"IF('INGRESO DE DATOS'!$G$21=\"Guayaquil/Santa Elena\",'Tablas Guayaquil'!F150,'Tablas Resto de Ecuador'!F150)","v":2288},{"$f":"IF('INGRESO DE DATOS'!$G$21=\"Guayaquil/Santa Elena\",'Tablas Guayaquil'!G150,'Tablas Resto de Ecuador'!G150)","v":1792}]
[22,null,{"$f":"IF('INGRESO DE DATOS'!$G$21=\"Guayaquil/Santa Elena\",'Tablas Guayaquil'!C151,'Tablas Resto de Ecuador'!C151)","v":2762},{"$f":"IF('INGRESO DE DATOS'!$G$21=\"Guayaquil/Santa Elena\",'Tablas Guayaquil'!D151,'Tablas Resto de Ecuador'!D151)","v":2716},{"$f":"IF('INGRESO DE DATOS'!$G$21=\"Guayaquil/Santa Elena\",'Tablas Guayaquil'!E151,'Tablas Resto de Ecuador'!E151)","v":2553},{"$f":"IF('INGRESO DE DATOS'!$G$21=\"Guayaquil/Santa Elena\",'Tablas Guayaquil'!F151,'Tablas Resto de Ecuador'!F151)","v":2332},{"$f":"IF('INGRESO DE DATOS'!$G$21=\"Guayaquil/Santa Elena\",'Tablas Guayaquil'!G151,'Tablas Resto de Ecuador'!G151)","v":1832}]
[23,null,{"$f":"IF('INGRESO DE DATOS'!$G$21=\"Guayaquil/Santa Elena\",'Tablas Guayaquil'!C152,'Tablas Resto de Ecuador'!C152)","v":2814},{"$f":"IF('INGRESO DE DATOS'!$G$21=\"Guayaquil/Santa Elena\",'Tablas Guayaquil'!D152,'Tablas Resto de Ecuador'!D152)","v":2756},{"$f":"IF('INGRESO DE DATOS'!$G$21=\"Guayaquil/Santa Elena\",'Tablas Guayaquil'!E152,'Tablas Resto de Ecuador'!E152)","v":2598},{"$f":"IF('INGRESO DE DATOS'!$G$21=\"Guayaquil/Santa Elena\",'Tablas Guayaquil'!F152,'Tablas Resto de Ecuador'!F152)","v":2366},{"$f":"IF('INGRESO DE DATOS'!$G$21=\"Guayaquil/Santa Elena\",'Tablas Guayaquil'!G152,'Tablas Resto de Ecuador'!G152)","v":1869}]
[24,null,{"$f":"IF('INGRESO DE DATOS'!$G$21=\"Guayaquil/Santa Elena\",'Tablas Guayaquil'!C153,'Tablas Resto de Ecuador'!C153)","v":2861},{"$f":"IF('INGRESO DE DATOS'!$G$21=\"Guayaquil/Santa Elena\",'Tablas Guayaquil'!D153,'Tablas Resto de Ecuador'!D153)","v":2802},{"$f":"IF('INGRESO DE DATOS'!$G$21=\"Guayaquil/Santa Elena\",'Tablas Guayaquil'!E153,'Tablas Resto de Ecuador'!E153)","v":2642},{"$f":"IF('INGRESO DE DATOS'!$G$21=\"Guayaquil/Santa Elena\",'Tablas Guayaquil'!F153,'Tablas Resto de Ecuador'!F153)","v":2408},{"$f":"IF('INGRESO DE DATOS'!$G$21=\"Guayaquil/Santa Elena\",'Tablas Guayaquil'!G153,'Tablas Resto de Ecuador'!G153)","v":1906}]
[25,null,{"$f":"IF('INGRESO DE DATOS'!$G$21=\"Guayaquil/Santa Elena\",'Tablas Guayaquil'!C154,'Tablas Resto de Ecuador'!C154)","v":2904},{"$f":"IF('INGRESO DE DATOS'!$G$21=\"Guayaquil/Santa Elena\",'Tablas Guayaquil'!D154,'Tablas Resto de Ecuador'!D154)","v":2846},{"$f":"IF('INGRESO DE DATOS'!$G$21=\"Guayaquil/Santa Elena\",'Tablas Guayaquil'!E154,'Tablas Resto de Ecuador'!E154)","v":2677},{"$f":"IF('INGRESO DE DATOS'!$G$21=\"Guayaquil/Santa Elena\",'Tablas Guayaquil'!F154,'Tablas Resto de Ecuador'!F154)","v":2450},{"$f":"IF('INGRESO DE DATOS'!$G$21=\"Guayaquil/Santa Elena\",'Tablas Guayaquil'!G154,'Tablas Resto de Ecuador'!G154)","v":1951}]
[26,null,{"$f":"IF('INGRESO DE DATOS'!$G$21=\"Guayaquil/Santa Elena\",'Tablas Guayaquil'!C155,'Tablas Resto de Ecuador'!C155)","v":2951},{"$f":"IF('INGRESO DE DATOS'!$G$21=\"Guayaquil/Santa Elena\",'Tablas Guayaquil'!D155,'Tablas Resto de Ecuador'!D155)","v":2893},{"$f":"IF('INGRESO DE DATOS'!$G$21=\"Guayaquil/Santa Elena\",'Tablas Guayaquil'!E155,'Tablas Resto de Ecuador'!E155)","v":2725},{"$f":"IF('INGRESO DE DATOS'!$G$21=\"Guayaquil/Santa Elena\",'Tablas Guayaquil'!F155,'Tablas Resto de Ecuador'!F155)","v":2484},{"$f":"IF('INGRESO DE DATOS'!$G$21=\"Guayaquil/Santa Elena\",'Tablas Guayaquil'!G155,'Tablas Resto de Ecuador'!G155)","v":1984}]
[27,null,{"$f":"IF('INGRESO DE DATOS'!$G$21=\"Guayaquil/Santa Elena\",'Tablas Guayaquil'!C156,'Tablas Resto de Ecuador'!C156)","v":2993},{"$f":"IF('INGRESO DE DATOS'!$G$21=\"Guayaquil/Santa Elena\",'Tablas Guayaquil'!D156,'Tablas Resto de Ecuador'!D156)","v":2935},{"$f":"IF('INGRESO DE DATOS'!$G$21=\"Guayaquil/Santa Elena\",'Tablas Guayaquil'!E156,'Tablas Resto de Ecuador'!E156)","v":2762},{"$f":"IF('INGRESO DE DATOS'!$G$21=\"Guayaquil/Santa Elena\",'Tablas Guayaquil'!F156,'Tablas Resto de Ecuador'!F156)","v":2524},{"$f":"IF('INGRESO DE DATOS'!$G$21=\"Guayaquil/Santa Elena\",'Tablas Guayaquil'!G156,'Tablas Resto de Ecuador'!G156)","v":2023}]
[28,null,{"$f":"IF('INGRESO DE DATOS'!$G$21=\"Guayaquil/Santa Elena\",'Tablas Guayaquil'!C157,'Tablas Resto de Ecuador'!C157)","v":3049},{"$f":"IF('INGRESO DE DATOS'!$G$21=\"Guayaquil/Santa Elena\",'Tablas Guayaquil'!D157,'Tablas Resto de Ecuador'!D157)","v":2990},{"$f":"IF('INGRESO DE DATOS'!$G$21=\"Guayaquil/Santa Elena\",'Tablas Guayaquil'!E157,'Tablas Resto de Ecuador'!E157)","v":2817},{"$f":"IF('INGRESO DE DATOS'!$G$21=\"Guayaquil/Santa Elena\",'Tablas Guayaquil'!F157,'Tablas Resto de Ecuador'!F157)","v":2569},{"$f":"IF('INGRESO DE DATOS'!$G$21=\"Guayaquil/Santa Elena\",'Tablas Guayaquil'!G157,'Tablas Resto de Ecuador'!G157)","v":2072}]
[29,null,{"$f":"IF('INGRESO DE DATOS'!$G$21=\"Guayaquil/Santa Elena\",'Tablas Guayaquil'!C158,'Tablas Resto de Ecuador'!C158)","v":3104},{"$f":"IF('INGRESO DE DATOS'!$G$21=\"Guayaquil/Santa Elena\",'Tablas Guayaquil'!D158,'Tablas Resto de Ecuador'!D158)","v":3042},{"$f":"IF('INGRESO DE DATOS'!$G$21=\"Guayaquil/Santa Elena\",'Tablas Guayaquil'!E158,'Tablas Resto de Ecuador'!E158)","v":2867},{"$f":"IF('INGRESO DE DATOS'!$G$21=\"Guayaquil/Santa Elena\",'Tablas Guayaquil'!F158,'Tablas Resto de Ecuador'!F158)","v":2612},{"$f":"IF('INGRESO DE DATOS'!$G$21=\"Guayaquil/Santa Elena\",'Tablas Guayaquil'!G158,'Tablas Resto de Ecuador'!G158)","v":2125}]
[30,null,{"$f":"IF('INGRESO DE DATOS'!$G$21=\"Guayaquil/Santa Elena\",'Tablas Guayaquil'!C159,'Tablas Resto de Ecuador'!C159)","v":3160},{"$f":"IF('INGRESO DE DATOS'!$G$21=\"Guayaquil/Santa Elena\",'Tablas Guayaquil'!D159,'Tablas Resto de Ecuador'!D159)","v":3094},{"$f":"IF('INGRESO DE DATOS'!$G$21=\"Guayaquil/Santa Elena\",'Tablas Guayaquil'!E159,'Tablas Resto de Ecuador'!E159)","v":2916},{"$f":"IF('INGRESO DE DATOS'!$G$21=\"Guayaquil/Santa Elena\",'Tablas Guayaquil'!F159,'Tablas Resto de Ecuador'!F159)","v":2661},{"$f":"IF('INGRESO DE DATOS'!$G$21=\"Guayaquil/Santa Elena\",'Tablas Guayaquil'!G159,'Tablas Resto de Ecuador'!G159)","v":2171}]
[31,null,{"$f":"IF('INGRESO DE DATOS'!$G$21=\"Guayaquil/Santa Elena\",'Tablas Guayaquil'!C160,'Tablas Resto de Ecuador'!C160)","v":3210},{"$f":"IF('INGRESO DE DATOS'!$G$21=\"Guayaquil/Santa Elena\",'Tablas Guayaquil'!D160,'Tablas Resto de Ecuador'!D160)","v":3145},{"$f":"IF('INGRESO DE DATOS'!$G$21=\"Guayaquil/Santa Elena\",'Tablas Guayaquil'!E160,'Tablas Resto de Ecuador'!E160)","v":2962},{"$f":"IF('INGRESO DE DATOS'!$G$21=\"Guayaquil/Santa Elena\",'Tablas Guayaquil'!F160,'Tablas Resto de Ecuador'!F160)","v":2704},{"$f":"IF('INGRESO DE DATOS'!$G$21=\"Guayaquil/Santa Elena\",'Tablas Guayaquil'!G160,'Tablas Resto de Ecuador'!G160)","v":2219}]
[32,null,{"$f":"IF('INGRESO DE DATOS'!$G$21=\"Guayaquil/Santa Elena\",'Tablas Guayaquil'!C161,'Tablas Resto de Ecuador'!C161)","v":3267},{"$f":"IF('INGRESO DE DATOS'!$G$21=\"Guayaquil/Santa Elena\",'Tablas Guayaquil'!D161,'Tablas Resto de Ecuador'!D161)","v":3198},{"$f":"IF('INGRESO DE DATOS'!$G$21=\"Guayaquil/Santa Elena\",'Tablas Guayaquil'!E161,'Tablas Resto de Ecuador'!E161)","v":3017},{"$f":"IF('INGRESO DE DATOS'!$G$21=\"Guayaquil/Santa Elena\",'Tablas Guayaquil'!F161,'Tablas Resto de Ecuador'!F161)","v":2750},{"$f":"IF('INGRESO DE DATOS'!$G$21=\"Guayaquil/Santa Elena\",'Tablas Guayaquil'!G161,'Tablas Resto de Ecuador'!G161)","v":2264}]
[33,null,{"$f":"IF('INGRESO DE DATOS'!$G$21=\"Guayaquil/Santa Elena\",'Tablas Guayaquil'!C162,'Tablas Resto de Ecuador'!C162)","v":3354},{"$f":"IF('INGRESO DE DATOS'!$G$21=\"Guayaquil/Santa Elena\",'Tablas Guayaquil'!D162,'Tablas Resto de Ecuador'!D162)","v":3286},{"$f":"IF('INGRESO DE DATOS'!$G$21=\"Guayaquil/Santa Elena\",'Tablas Guayaquil'!E162,'Tablas Resto de Ecuador'!E162)","v":3098},{"$f":"IF('INGRESO DE DATOS'!$G$21=\"Guayaquil/Santa Elena\",'Tablas Guayaquil'!F162,'Tablas Resto de Ecuador'!F162)","v":2821},{"$f":"IF('INGRESO DE DATOS'!$G$21=\"Guayaquil/Santa Elena\",'Tablas Guayaquil'!G162,'Tablas Resto de Ecuador'!G162)","v":2335}]
[34,null,{"$f":"IF('INGRESO DE DATOS'!$G$21=\"Guayaquil/Santa Elena\",'Tablas Guayaquil'!C163,'Tablas Resto de Ecuador'!C163)","v":3443},{"$f":"IF('INGRESO DE DATOS'!$G$21=\"Guayaquil/Santa Elena\",'Tablas Guayaquil'!D163,'Tablas Resto de Ecuador'!D163)","v":3375},{"$f":"IF('INGRESO DE DATOS'!$G$21=\"Guayaquil/Santa Elena\",'Tablas Guayaquil'!E163,'Tablas Resto de Ecuador'!E163)","v":3179},{"$f":"IF('INGRESO DE DATOS'!$G$21=\"Guayaquil/Santa Elena\",'Tablas Guayaquil'!F163,'Tablas Resto de Ecuador'!F163)","v":2899},{"$f":"IF('INGRESO DE DATOS'!$G$21=\"Guayaquil/Santa Elena\",'Tablas Guayaquil'!G163,'Tablas Resto de Ecuador'!G163)","v":2403}]
[35,null,{"$f":"IF('INGRESO DE DATOS'!$G$21=\"Guayaquil/Santa Elena\",'Tablas Guayaquil'!C164,'Tablas Resto de Ecuador'!C164)","v":3532},{"$f":"IF('INGRESO DE DATOS'!$G$21=\"Guayaquil/Santa Elena\",'Tablas Guayaquil'!D164,'Tablas Resto de Ecuador'!D164)","v":3462},{"$f":"IF('INGRESO DE DATOS'!$G$21=\"Guayaquil/Santa Elena\",'Tablas Guayaquil'!E164,'Tablas Resto de Ecuador'!E164)","v":3265},{"$f":"IF('INGRESO DE DATOS'!$G$21=\"Guayaquil/Santa Elena\",'Tablas Guayaquil'!F164,'Tablas Resto de Ecuador'!F164)","v":2975},{"$f":"IF('INGRESO DE DATOS'!$G$21=\"Guayaquil/Santa Elena\",'Tablas Guayaquil'!G164,'Tablas Resto de Ecuador'!G164)","v":2471}]
[36,null,{"$f":"IF('INGRESO DE DATOS'!$G$21=\"Guayaquil/Santa Elena\",'Tablas Guayaquil'!C165,'Tablas Resto de Ecuador'!C165)","v":3620},{"$f":"IF('INGRESO DE DATOS'!$G$21=\"Guayaquil/Santa Elena\",'Tablas Guayaquil'!D165,'Tablas Resto de Ecuador'!D165)","v":3550},{"$f":"IF('INGRESO DE DATOS'!$G$21=\"Guayaquil/Santa Elena\",'Tablas Guayaquil'!E165,'Tablas Resto de Ecuador'!E165)","v":3346},{"$f":"IF('INGRESO DE DATOS'!$G$21=\"Guayaquil/Santa Elena\",'Tablas Guayaquil'!F165,'Tablas Resto de Ecuador'!F165)","v":3049},{"$f":"IF('INGRESO DE DATOS'!$G$21=\"Guayaquil/Santa Elena\",'Tablas Guayaquil'!G165,'Tablas Resto de Ecuador'!G165)","v":2545}]
[37,null,{"$f":"IF('INGRESO DE DATOS'!$G$21=\"Guayaquil/Santa Elena\",'Tablas Guayaquil'!C166,'Tablas Resto de Ecuador'!C166)","v":3708},{"$f":"IF('INGRESO DE DATOS'!$G$21=\"Guayaquil/Santa Elena\",'Tablas Guayaquil'!D166,'Tablas Resto de Ecuador'!D166)","v":3638},{"$f":"IF('INGRESO DE DATOS'!$G$21=\"Guayaquil/Santa Elena\",'Tablas Guayaquil'!E166,'Tablas Resto de Ecuador'!E166)","v":3428},{"$f":"IF('INGRESO DE DATOS'!$G$21=\"Guayaquil/Santa Elena\",'Tablas Guayaquil'!F166,'Tablas Resto de Ecuador'!F166)","v":3128},{"$f":"IF('INGRESO DE DATOS'!$G$21=\"Guayaquil/Santa Elena\",'Tablas Guayaquil'!G166,'Tablas Resto de Ecuador'!G166)","v":2610}]
[38,null,{"$f":"IF('INGRESO DE DATOS'!$G$21=\"Guayaquil/Santa Elena\",'Tablas Guayaquil'!C167,'Tablas Resto de Ecuador'!C167)","v":3801},{"$f":"IF('INGRESO DE DATOS'!$G$21=\"Guayaquil/Santa Elena\",'Tablas Guayaquil'!D167,'Tablas Resto de Ecuador'!D167)","v":3727},{"$f":"IF('INGRESO DE DATOS'!$G$21=\"Guayaquil/Santa Elena\",'Tablas Guayaquil'!E167,'Tablas Resto de Ecuador'!E167)","v":3515},{"$f":"IF('INGRESO DE DATOS'!$G$21=\"Guayaquil/Santa Elena\",'Tablas Guayaquil'!F167,'Tablas Resto de Ecuador'!F167)","v":3202},{"$f":"IF('INGRESO DE DATOS'!$G$21=\"Guayaquil/Santa Elena\",'Tablas Guayaquil'!G167,'Tablas Resto de Ecuador'!G167)","v":2686}]
[39,null,{"$f":"IF('INGRESO DE DATOS'!$G$21=\"Guayaquil/Santa Elena\",'Tablas Guayaquil'!C168,'Tablas Resto de Ecuador'!C168)","v":3894},{"$f":"IF('INGRESO DE DATOS'!$G$21=\"Guayaquil/Santa Elena\",'Tablas Guayaquil'!D168,'Tablas Resto de Ecuador'!D168)","v":3813},{"$f":"IF('INGRESO DE DATOS'!$G$21=\"Guayaquil/Santa Elena\",'Tablas Guayaquil'!E168,'Tablas Resto de Ecuador'!E168)","v":3595},{"$f":"IF('INGRESO DE DATOS'!$G$21=\"Guayaquil/Santa Elena\",'Tablas Guayaquil'!F168,'Tablas Resto de Ecuador'!F168)","v":3282},{"$f":"IF('INGRESO DE DATOS'!$G$21=\"Guayaquil/Santa Elena\",'Tablas Guayaquil'!G168,'Tablas Resto de Ecuador'!G168)","v":2757}]
[40,null,{"$f":"IF('INGRESO DE DATOS'!$G$21=\"Guayaquil/Santa Elena\",'Tablas Guayaquil'!C169,'Tablas Resto de Ecuador'!C169)","v":3986},{"$f":"IF('INGRESO DE DATOS'!$G$21=\"Guayaquil/Santa Elena\",'Tablas Guayaquil'!D169,'Tablas Resto de Ecuador'!D169)","v":3905},{"$f":"IF('INGRESO DE DATOS'!$G$21=\"Guayaquil/Santa Elena\",'Tablas Guayaquil'!E169,'Tablas Resto de Ecuador'!E169)","v":3680},{"$f":"IF('INGRESO DE DATOS'!$G$21=\"Guayaquil/Santa Elena\",'Tablas Guayaquil'!F169,'Tablas Resto de Ecuador'!F169)","v":3354},{"$f":"IF('INGRESO DE DATOS'!$G$21=\"Guayaquil/Santa Elena\",'Tablas Guayaquil'!G169,'Tablas Resto de Ecuador'!G169)","v":2834}]
[41,null,{"$f":"IF('INGRESO DE DATOS'!$G$21=\"Guayaquil/Santa Elena\",'Tablas Guayaquil'!C170,'Tablas Resto de Ecuador'!C170)","v":4079},{"$f":"IF('INGRESO DE DATOS'!$G$21=\"Guayaquil/Santa Elena\",'Tablas Guayaquil'!D170,'Tablas Resto de Ecuador'!D170)","v":3997},{"$f":"IF('INGRESO DE DATOS'!$G$21=\"Guayaquil/Santa Elena\",'Tablas Guayaquil'!E170,'Tablas Resto de Ecuador'!E170)","v":3765},{"$f":"IF('INGRESO DE DATOS'!$G$21=\"Guayaquil/Santa Elena\",'Tablas Guayaquil'!F170,'Tablas Resto de Ecuador'!F170)","v":3431},{"$f":"IF('INGRESO DE DATOS'!$G$21=\"Guayaquil/Santa Elena\",'Tablas Guayaquil'!G170,'Tablas Resto de Ecuador'!G170)","v":2905}]
[42,null,{"$f":"IF('INGRESO DE DATOS'!$G$21=\"Guayaquil/Santa Elena\",'Tablas Guayaquil'!C171,'Tablas Resto de Ecuador'!C171)","v":4168},{"$f":"IF('INGRESO DE DATOS'!$G$21=\"Guayaquil/Santa Elena\",'Tablas Guayaquil'!D171,'Tablas Resto de Ecuador'!D171)","v":4084},{"$f":"IF('INGRESO DE DATOS'!$G$21=\"Guayaquil/Santa Elena\",'Tablas Guayaquil'!E171,'Tablas Resto de Ecuador'!E171)","v":3849},{"$f":"IF('INGRESO DE DATOS'!$G$21=\"Guayaquil/Santa Elena\",'Tablas Guayaquil'!F171,'Tablas Resto de Ecuador'!F171)","v":3506},{"$f":"IF('INGRESO DE DATOS'!$G$21=\"Guayaquil/Santa Elena\",'Tablas Guayaquil'!G171,'Tablas Resto de Ecuador'!G171)","v":2986}]
[43,null,{"$f":"IF('INGRESO DE DATOS'!$G$21=\"Guayaquil/Santa Elena\",'Tablas Guayaquil'!C172,'Tablas Resto de Ecuador'!C172)","v":4332},{"$f":"IF('INGRESO DE DATOS'!$G$21=\"Guayaquil/Santa Elena\",'Tablas Guayaquil'!D172,'Tablas Resto de Ecuador'!D172)","v":4246},{"$f":"IF('INGRESO DE DATOS'!$G$21=\"Guayaquil/Santa Elena\",'Tablas Guayaquil'!E172,'Tablas Resto de Ecuador'!E172)","v":4000},{"$f":"IF('INGRESO DE DATOS'!$G$21=\"Guayaquil/Santa Elena\",'Tablas Guayaquil'!F172,'Tablas Resto de Ecuador'!F172)","v":3650},{"$f":"IF('INGRESO DE DATOS'!$G$21=\"Guayaquil/Santa Elena\",'Tablas Guayaquil'!G172,'Tablas Resto de Ecuador'!G172)","v":3109}]
[44,null,{"$f":"IF('INGRESO DE DATOS'!$G$21=\"Guayaquil/Santa Elena\",'Tablas Guayaquil'!C173,'Tablas Resto de Ecuador'!C173)","v":4500},{"$f":"IF('INGRESO DE DATOS'!$G$21=\"Guayaquil/Santa Elena\",'Tablas Guayaquil'!D173,'Tablas Resto de Ecuador'!D173)","v":4409},{"$f":"IF('INGRESO DE DATOS'!$G$21=\"Guayaquil/Santa Elena\",'Tablas Guayaquil'!E173,'Tablas Resto de Ecuador'!E173)","v":4153},{"$f":"IF('INGRESO DE DATOS'!$G$21=\"Guayaquil/Santa Elena\",'Tablas Guayaquil'!F173,'Tablas Resto de Ecuador'!F173)","v":3790},{"$f":"IF('INGRESO DE DATOS'!$G$21=\"Guayaquil/Santa Elena\",'Tablas Guayaquil'!G173,'Tablas Resto de Ecuador'!G173)","v":3246}]
[45,null,{"$f":"IF('INGRESO DE DATOS'!$G$21=\"Guayaquil/Santa Elena\",'Tablas Guayaquil'!C174,'Tablas Resto de Ecuador'!C174)","v":4669},{"$f":"IF('INGRESO DE DATOS'!$G$21=\"Guayaquil/Santa Elena\",'Tablas Guayaquil'!D174,'Tablas Resto de Ecuador'!D174)","v":4568},{"$f":"IF('INGRESO DE DATOS'!$G$21=\"Guayaquil/Santa Elena\",'Tablas Guayaquil'!E174,'Tablas Resto de Ecuador'!E174)","v":4306},{"$f":"IF('INGRESO DE DATOS'!$G$21=\"Guayaquil/Santa Elena\",'Tablas Guayaquil'!F174,'Tablas Resto de Ecuador'!F174)","v":3928},{"$f":"IF('INGRESO DE DATOS'!$G$21=\"Guayaquil/Santa Elena\",'Tablas Guayaquil'!G174,'Tablas Resto de Ecuador'!G174)","v":3376}]
[46,null,{"$f":"IF('INGRESO DE DATOS'!$G$21=\"Guayaquil/Santa Elena\",'Tablas Guayaquil'!C175,'Tablas Resto de Ecuador'!C175)","v":4826},{"$f":"IF('INGRESO DE DATOS'!$G$21=\"Guayaquil/Santa Elena\",'Tablas Guayaquil'!D175,'Tablas Resto de Ecuador'!D175)","v":4735},{"$f":"IF('INGRESO DE DATOS'!$G$21=\"Guayaquil/Santa Elena\",'Tablas Guayaquil'!E175,'Tablas Resto de Ecuador'!E175)","v":4460},{"$f":"IF('INGRESO DE DATOS'!$G$21=\"Guayaquil/Santa Elena\",'Tablas Guayaquil'!F175,'Tablas Resto de Ecuador'!F175)","v":4069},{"$f":"IF('INGRESO DE DATOS'!$G$21=\"Guayaquil/Santa Elena\",'Tablas Guayaquil'!G175,'Tablas Resto de Ecuador'!G175)","v":3502}]
[47,null,{"$f":"IF('INGRESO DE DATOS'!$G$21=\"Guayaquil/Santa Elena\",'Tablas Guayaquil'!C176,'Tablas Resto de Ecuador'!C176)","v":4996},{"$f":"IF('INGRESO DE DATOS'!$G$21=\"Guayaquil/Santa Elena\",'Tablas Guayaquil'!D176,'Tablas Resto de Ecuador'!D176)","v":4894},{"$f":"IF('INGRESO DE DATOS'!$G$21=\"Guayaquil/Santa Elena\",'Tablas Guayaquil'!E176,'Tablas Resto de Ecuador'!E176)","v":4615},{"$f":"IF('INGRESO DE DATOS'!$G$21=\"Guayaquil/Santa Elena\",'Tablas Guayaquil'!F176,'Tablas Resto de Ecuador'!F176)","v":4208},{"$f":"IF('INGRESO DE DATOS'!$G$21=\"Guayaquil/Santa Elena\",'Tablas Guayaquil'!G176,'Tablas Resto de Ecuador'!G176)","v":3638}]
[48,null,{"$f":"IF('INGRESO DE DATOS'!$G$21=\"Guayaquil/Santa Elena\",'Tablas Guayaquil'!C177,'Tablas Resto de Ecuador'!C177)","v":5172},{"$f":"IF('INGRESO DE DATOS'!$G$21=\"Guayaquil/Santa Elena\",'Tablas Guayaquil'!D177,'Tablas Resto de Ecuador'!D177)","v":5065},{"$f":"IF('INGRESO DE DATOS'!$G$21=\"Guayaquil/Santa Elena\",'Tablas Guayaquil'!E177,'Tablas Resto de Ecuador'!E177)","v":4775},{"$f":"IF('INGRESO DE DATOS'!$G$21=\"Guayaquil/Santa Elena\",'Tablas Guayaquil'!F177,'Tablas Resto de Ecuador'!F177)","v":4356},{"$f":"IF('INGRESO DE DATOS'!$G$21=\"Guayaquil/Santa Elena\",'Tablas Guayaquil'!G177,'Tablas Resto de Ecuador'!G177)","v":3769}]
[49,null,{"$f":"IF('INGRESO DE DATOS'!$G$21=\"Guayaquil/Santa Elena\",'Tablas Guayaquil'!C178,'Tablas Resto de Ecuador'!C178)","v":5345},{"$f":"IF('INGRESO DE DATOS'!$G$21=\"Guayaquil/Santa Elena\",'Tablas Guayaquil'!D178,'Tablas Resto de Ecuador'!D178)","v":5239},{"$f":"IF('INGRESO DE DATOS'!$G$21=\"Guayaquil/Santa Elena\",'Tablas Guayaquil'!E178,'Tablas Resto de Ecuador'!E178)","v":4937},{"$f":"IF('INGRESO DE DATOS'!$G$21=\"Guayaquil/Santa Elena\",'Tablas Guayaquil'!F178,'Tablas Resto de Ecuador'!F178)","v":4501},{"$f":"IF('INGRESO DE DATOS'!$G$21=\"Guayaquil/Santa Elena\",'Tablas Guayaquil'!G178,'Tablas Resto de Ecuador'!G178)","v":3910}]
[50,null,{"$f":"IF('INGRESO DE DATOS'!$G$21=\"Guayaquil/Santa Elena\",'Tablas Guayaquil'!C179,'Tablas Resto de Ecuador'!C179)","v":5519},{"$f":"IF('INGRESO DE DATOS'!$G$21=\"Guayaquil/Santa Elena\",'Tablas Guayaquil'!D179,'Tablas Resto de Ecuador'!D179)","v":5413},{"$f":"IF('INGRESO DE DATOS'!$G$21=\"Guayaquil/Santa Elena\",'Tablas Guayaquil'!E179,'Tablas Resto de Ecuador'!E179)","v":5100},{"$f":"IF('INGRESO DE DATOS'!$G$21=\"Guayaquil/Santa Elena\",'Tablas Guayaquil'!F179,'Tablas Resto de Ecuador'!F179)","v":4649},{"$f":"IF('INGRESO DE DATOS'!$G$21=\"Guayaquil/Santa Elena\",'Tablas Guayaquil'!G179,'Tablas Resto de Ecuador'!G179)","v":4049}]
[51,null,{"$f":"IF('INGRESO DE DATOS'!$G$21=\"Guayaquil/Santa Elena\",'Tablas Guayaquil'!C180,'Tablas Resto de Ecuador'!C180)","v":5693},{"$f":"IF('INGRESO DE DATOS'!$G$21=\"Guayaquil/Santa Elena\",'Tablas Guayaquil'!D180,'Tablas Resto de Ecuador'!D180)","v":5585},{"$f":"IF('INGRESO DE DATOS'!$G$21=\"Guayaquil/Santa Elena\",'Tablas Guayaquil'!E180,'Tablas Resto de Ecuador'!E180)","v":5260},{"$f":"IF('INGRESO DE DATOS'!$G$21=\"Guayaquil/Santa Elena\",'Tablas Guayaquil'!F180,'Tablas Resto de Ecuador'!F180)","v":4798},{"$f":"IF('INGRESO DE DATOS'!$G$21=\"Guayaquil/Santa Elena\",'Tablas Guayaquil'!G180,'Tablas Resto de Ecuador'!G180)","v":4186}]
[52,null,{"$f":"IF('INGRESO DE DATOS'!$G$21=\"Guayaquil/Santa Elena\",'Tablas Guayaquil'!C181,'Tablas Resto de Ecuador'!C181)","v":5870},{"$f":"IF('INGRESO DE DATOS'!$G$21=\"Guayaquil/Santa Elena\",'Tablas Guayaquil'!D181,'Tablas Resto de Ecuador'!D181)","v":5750},{"$f":"IF('INGRESO DE DATOS'!$G$21=\"Guayaquil/Santa Elena\",'Tablas Guayaquil'!E181,'Tablas Resto de Ecuador'!E181)","v":5423},{"$f":"IF('INGRESO DE DATOS'!$G$21=\"Guayaquil/Santa Elena\",'Tablas Guayaquil'!F181,'Tablas Resto de Ecuador'!F181)","v":4946},{"$f":"IF('INGRESO DE DATOS'!$G$21=\"Guayaquil/Santa Elena\",'Tablas Guayaquil'!G181,'Tablas Resto de Ecuador'!G181)","v":4323}]
[53,null,{"$f":"IF('INGRESO DE DATOS'!$G$21=\"Guayaquil/Santa Elena\",'Tablas Guayaquil'!C182,'Tablas Resto de Ecuador'!C182)","v":6076},{"$f":"IF('INGRESO DE DATOS'!$G$21=\"Guayaquil/Santa Elena\",'Tablas Guayaquil'!D182,'Tablas Resto de Ecuador'!D182)","v":5959},{"$f":"IF('INGRESO DE DATOS'!$G$21=\"Guayaquil/Santa Elena\",'Tablas Guayaquil'!E182,'Tablas Resto de Ecuador'!E182)","v":5615},{"$f":"IF('INGRESO DE DATOS'!$G$21=\"Guayaquil/Santa Elena\",'Tablas Guayaquil'!F182,'Tablas Resto de Ecuador'!F182)","v":5119},{"$f":"IF('INGRESO DE DATOS'!$G$21=\"Guayaquil/Santa Elena\",'Tablas Guayaquil'!G182,'Tablas Resto de Ecuador'!G182)","v":4494}]
[54,null,{"$f":"IF('INGRESO DE DATOS'!$G$21=\"Guayaquil/Santa Elena\",'Tablas Guayaquil'!C183,'Tablas Resto de Ecuador'!C183)","v":6285},{"$f":"IF('INGRESO DE DATOS'!$G$21=\"Guayaquil/Santa Elena\",'Tablas Guayaquil'!D183,'Tablas Resto de Ecuador'!D183)","v":6163},{"$f":"IF('INGRESO DE DATOS'!$G$21=\"Guayaquil/Santa Elena\",'Tablas Guayaquil'!E183,'Tablas Resto de Ecuador'!E183)","v":5807},{"$f":"IF('INGRESO DE DATOS'!$G$21=\"Guayaquil/Santa Elena\",'Tablas Guayaquil'!F183,'Tablas Resto de Ecuador'!F183)","v":5297},{"$f":"IF('INGRESO DE DATOS'!$G$21=\"Guayaquil/Santa Elena\",'Tablas Guayaquil'!G183,'Tablas Resto de Ecuador'!G183)","v":4657}]
[55,null,{"$f":"IF('INGRESO DE DATOS'!$G$21=\"Guayaquil/Santa Elena\",'Tablas Guayaquil'!C184,'Tablas Resto de Ecuador'!C184)","v":6490},{"$f":"IF('INGRESO DE DATOS'!$G$21=\"Guayaquil/Santa Elena\",'Tablas Guayaquil'!D184,'Tablas Resto de Ecuador'!D184)","v":6366},{"$f":"IF('INGRESO DE DATOS'!$G$21=\"Guayaquil/Santa Elena\",'Tablas Guayaquil'!E184,'Tablas Resto de Ecuador'!E184)","v":6001},{"$f":"IF('INGRESO DE DATOS'!$G$21=\"Guayaquil/Santa Elena\",'Tablas Guayaquil'!F184,'Tablas Resto de Ecuador'!F184)","v":5471},{"$f":"IF('INGRESO DE DATOS'!$G$21=\"Guayaquil/Santa Elena\",'Tablas Guayaquil'!G184,'Tablas Resto de Ecuador'!G184)","v":4824}]
[56,null,{"$f":"IF('INGRESO DE DATOS'!$G$21=\"Guayaquil/Santa Elena\",'Tablas Guayaquil'!C185,'Tablas Resto de Ecuador'!C185)","v":6701},{"$f":"IF('INGRESO DE DATOS'!$G$21=\"Guayaquil/Santa Elena\",'Tablas Guayaquil'!D185,'Tablas Resto de Ecuador'!D185)","v":6568},{"$f":"IF('INGRESO DE DATOS'!$G$21=\"Guayaquil/Santa Elena\",'Tablas Guayaquil'!E185,'Tablas Resto de Ecuador'!E185)","v":6192},{"$f":"IF('INGRESO DE DATOS'!$G$21=\"Guayaquil/Santa Elena\",'Tablas Guayaquil'!F185,'Tablas Resto de Ecuador'!F185)","v":5648},{"$f":"IF('INGRESO DE DATOS'!$G$21=\"Guayaquil/Santa Elena\",'Tablas Guayaquil'!G185,'Tablas Resto de Ecuador'!G185)","v":4993}]
[57,null,{"$f":"IF('INGRESO DE DATOS'!$G$21=\"Guayaquil/Santa Elena\",'Tablas Guayaquil'!C186,'Tablas Resto de Ecuador'!C186)","v":6908},{"$f":"IF('INGRESO DE DATOS'!$G$21=\"Guayaquil/Santa Elena\",'Tablas Guayaquil'!D186,'Tablas Resto de Ecuador'!D186)","v":6772},{"$f":"IF('INGRESO DE DATOS'!$G$21=\"Guayaquil/Santa Elena\",'Tablas Guayaquil'!E186,'Tablas Resto de Ecuador'!E186)","v":6378},{"$f":"IF('INGRESO DE DATOS'!$G$21=\"Guayaquil/Santa Elena\",'Tablas Guayaquil'!F186,'Tablas Resto de Ecuador'!F186)","v":5815},{"$f":"IF('INGRESO DE DATOS'!$G$21=\"Guayaquil/Santa Elena\",'Tablas Guayaquil'!G186,'Tablas Resto de Ecuador'!G186)","v":5160}]
[58,null,{"$f":"IF('INGRESO DE DATOS'!$G$21=\"Guayaquil/Santa Elena\",'Tablas Guayaquil'!C187,'Tablas Resto de Ecuador'!C187)","v":7146},{"$f":"IF('INGRESO DE DATOS'!$G$21=\"Guayaquil/Santa Elena\",'Tablas Guayaquil'!D187,'Tablas Resto de Ecuador'!D187)","v":7008},{"$f":"IF('INGRESO DE DATOS'!$G$21=\"Guayaquil/Santa Elena\",'Tablas Guayaquil'!E187,'Tablas Resto de Ecuador'!E187)","v":6579},{"$f":"IF('INGRESO DE DATOS'!$G$21=\"Guayaquil/Santa Elena\",'Tablas Guayaquil'!F187,'Tablas Resto de Ecuador'!F187)","v":6019},{"$f":"IF('INGRESO DE DATOS'!$G$21=\"Guayaquil/Santa Elena\",'Tablas Guayaquil'!G187,'Tablas Resto de Ecuador'!G187)","v":5378}]
[59,null,{"$f":"IF('INGRESO DE DATOS'!$G$21=\"Guayaquil/Santa Elena\",'Tablas Guayaquil'!C188,'Tablas Resto de Ecuador'!C188)","v":7382},{"$f":"IF('INGRESO DE DATOS'!$G$21=\"Guayaquil/Santa Elena\",'Tablas Guayaquil'!D188,'Tablas Resto de Ecuador'!D188)","v":7237},{"$f":"IF('INGRESO DE DATOS'!$G$21=\"Guayaquil/Santa Elena\",'Tablas Guayaquil'!E188,'Tablas Resto de Ecuador'!E188)","v":6782},{"$f":"IF('INGRESO DE DATOS'!$G$21=\"Guayaquil/Santa Elena\",'Tablas Guayaquil'!F188,'Tablas Resto de Ecuador'!F188)","v":6220},{"$f":"IF('INGRESO DE DATOS'!$G$21=\"Guayaquil/Santa Elena\",'Tablas Guayaquil'!G188,'Tablas Resto de Ecuador'!G188)","v":5597}]
[60,null,{"$f":"IF('INGRESO DE DATOS'!$G$21=\"Guayaquil/Santa Elena\",'Tablas Guayaquil'!C189,'Tablas Resto de Ecuador'!C189)","v":7626},{"$f":"IF('INGRESO DE DATOS'!$G$21=\"Guayaquil/Santa Elena\",'Tablas Guayaquil'!D189,'Tablas Resto de Ecuador'!D189)","v":7467},{"$f":"IF('INGRESO DE DATOS'!$G$21=\"Guayaquil/Santa Elena\",'Tablas Guayaquil'!E189,'Tablas Resto de Ecuador'!E189)","v":6982},{"$f":"IF('INGRESO DE DATOS'!$G$21=\"Guayaquil/Santa Elena\",'Tablas Guayaquil'!F189,'Tablas Resto de Ecuador'!F189)","v":6423},{"$f":"IF('INGRESO DE DATOS'!$G$21=\"Guayaquil/Santa Elena\",'Tablas Guayaquil'!G189,'Tablas Resto de Ecuador'!G189)","v":5815}]
[61,null,{"$f":"IF('INGRESO DE DATOS'!$G$21=\"Guayaquil/Santa Elena\",'Tablas Guayaquil'!C190,'Tablas Resto de Ecuador'!C190)","v":7914},{"$f":"IF('INGRESO DE DATOS'!$G$21=\"Guayaquil/Santa Elena\",'Tablas Guayaquil'!D190,'Tablas Resto de Ecuador'!D190)","v":7755},{"$f":"IF('INGRESO DE DATOS'!$G$21=\"Guayaquil/Santa Elena\",'Tablas Guayaquil'!E190,'Tablas Resto de Ecuador'!E190)","v":7285},{"$f":"IF('INGRESO DE DATOS'!$G$21=\"Guayaquil/Santa Elena\",'Tablas Guayaquil'!F190,'Tablas Resto de Ecuador'!F190)","v":6664},{"$f":"IF('INGRESO DE DATOS'!$G$21=\"Guayaquil/Santa Elena\",'Tablas Guayaquil'!G190,'Tablas Resto de Ecuador'!G190)","v":6033}]
[62,null,{"$f":"IF('INGRESO DE DATOS'!$G$21=\"Guayaquil/Santa Elena\",'Tablas Guayaquil'!C191,'Tablas Resto de Ecuador'!C191)","v":8268},{"$f":"IF('INGRESO DE DATOS'!$G$21=\"Guayaquil/Santa Elena\",'Tablas Guayaquil'!D191,'Tablas Resto de Ecuador'!D191)","v":8108},{"$f":"IF('INGRESO DE DATOS'!$G$21=\"Guayaquil/Santa Elena\",'Tablas Guayaquil'!E191,'Tablas Resto de Ecuador'!E191)","v":7640},{"$f":"IF('INGRESO DE DATOS'!$G$21=\"Guayaquil/Santa Elena\",'Tablas Guayaquil'!F191,'Tablas Resto de Ecuador'!F191)","v":6967},{"$f":"IF('INGRESO DE DATOS'!$G$21=\"Guayaquil/Santa Elena\",'Tablas Guayaquil'!G191,'Tablas Resto de Ecuador'!G191)","v":6307}]
[63,null,{"$f":"IF('INGRESO DE DATOS'!$G$21=\"Guayaquil/Santa Elena\",'Tablas Guayaquil'!C192,'Tablas Resto de Ecuador'!C192)","v":8697},{"$f":"IF('INGRESO DE DATOS'!$G$21=\"Guayaquil/Santa Elena\",'Tablas Guayaquil'!D192,'Tablas Resto de Ecuador'!D192)","v":8521},{"$f":"IF('INGRESO DE DATOS'!$G$21=\"Guayaquil/Santa Elena\",'Tablas Guayaquil'!E192,'Tablas Resto de Ecuador'!E192)","v":8031},{"$f":"IF('INGRESO DE DATOS'!$G$21=\"Guayaquil/Santa Elena\",'Tablas Guayaquil'!F192,'Tablas Resto de Ecuador'!F192)","v":7320},{"$f":"IF('INGRESO DE DATOS'!$G$21=\"Guayaquil/Santa Elena\",'Tablas Guayaquil'!G192,'Tablas Resto de Ecuador'!G192)","v":6630}]
[64,null,{"$f":"IF('INGRESO DE DATOS'!$G$21=\"Guayaquil/Santa Elena\",'Tablas Guayaquil'!C193,'Tablas Resto de Ecuador'!C193)","v":9200},{"$f":"IF('INGRESO DE DATOS'!$G$21=\"Guayaquil/Santa Elena\",'Tablas Guayaquil'!D193,'Tablas Resto de Ecuador'!D193)","v":9012},{"$f":"IF('INGRESO DE DATOS'!$G$21=\"Guayaquil/Santa Elena\",'Tablas Guayaquil'!E193,'Tablas Resto de Ecuador'!E193)","v":8497},{"$f":"IF('INGRESO DE DATOS'!$G$21=\"Guayaquil/Santa Elena\",'Tablas Guayaquil'!F193,'Tablas Resto de Ecuador'!F193)","v":7746},{"$f":"IF('INGRESO DE DATOS'!$G$21=\"Guayaquil/Santa Elena\",'Tablas Guayaquil'!G193,'Tablas Resto de Ecuador'!G193)","v":7011}]
[65,null,{"$f":"IF('INGRESO DE DATOS'!$G$21=\"Guayaquil/Santa Elena\",'Tablas Guayaquil'!C194,'Tablas Resto de Ecuador'!C194)","v":9799},{"$f":"IF('INGRESO DE DATOS'!$G$21=\"Guayaquil/Santa Elena\",'Tablas Guayaquil'!D194,'Tablas Resto de Ecuador'!D194)","v":9599},{"$f":"IF('INGRESO DE DATOS'!$G$21=\"Guayaquil/Santa Elena\",'Tablas Guayaquil'!E194,'Tablas Resto de Ecuador'!E194)","v":9053},{"$f":"IF('INGRESO DE DATOS'!$G$21=\"Guayaquil/Santa Elena\",'Tablas Guayaquil'!F194,'Tablas Resto de Ecuador'!F194)","v":8253},{"$f":"IF('INGRESO DE DATOS'!$G$21=\"Guayaquil/Santa Elena\",'Tablas Guayaquil'!G194,'Tablas Resto de Ecuador'!G194)","v":7531}]
[66,null,{"$f":"IF('INGRESO DE DATOS'!$G$21=\"Guayaquil/Santa Elena\",'Tablas Guayaquil'!C195,'Tablas Resto de Ecuador'!C195)","v":10503},{"$f":"IF('INGRESO DE DATOS'!$G$21=\"Guayaquil/Santa Elena\",'Tablas Guayaquil'!D195,'Tablas Resto de Ecuador'!D195)","v":10293},{"$f":"IF('INGRESO DE DATOS'!$G$21=\"Guayaquil/Santa Elena\",'Tablas Guayaquil'!E195,'Tablas Resto de Ecuador'!E195)","v":9701},{"$f":"IF('INGRESO DE DATOS'!$G$21=\"Guayaquil/Santa Elena\",'Tablas Guayaquil'!F195,'Tablas Resto de Ecuador'!F195)","v":8848},{"$f":"IF('INGRESO DE DATOS'!$G$21=\"Guayaquil/Santa Elena\",'Tablas Guayaquil'!G195,'Tablas Resto de Ecuador'!G195)","v":8137}]
[67,null,{"$f":"IF('INGRESO DE DATOS'!$G$21=\"Guayaquil/Santa Elena\",'Tablas Guayaquil'!C196,'Tablas Resto de Ecuador'!C196)","v":11340},{"$f":"IF('INGRESO DE DATOS'!$G$21=\"Guayaquil/Santa Elena\",'Tablas Guayaquil'!D196,'Tablas Resto de Ecuador'!D196)","v":11119},{"$f":"IF('INGRESO DE DATOS'!$G$21=\"Guayaquil/Santa Elena\",'Tablas Guayaquil'!E196,'Tablas Resto de Ecuador'!E196)","v":10477},{"$f":"IF('INGRESO DE DATOS'!$G$21=\"Guayaquil/Santa Elena\",'Tablas Guayaquil'!F196,'Tablas Resto de Ecuador'!F196)","v":9554},{"$f":"IF('INGRESO DE DATOS'!$G$21=\"Guayaquil/Santa Elena\",'Tablas Guayaquil'!G196,'Tablas Resto de Ecuador'!G196)","v":8790}]
[68,null,{"$f":"IF('INGRESO DE DATOS'!$G$21=\"Guayaquil/Santa Elena\",'Tablas Guayaquil'!C197,'Tablas Resto de Ecuador'!C197)","v":12306},{"$f":"IF('INGRESO DE DATOS'!$G$21=\"Guayaquil/Santa Elena\",'Tablas Guayaquil'!D197,'Tablas Resto de Ecuador'!D197)","v":12056},{"$f":"IF('INGRESO DE DATOS'!$G$21=\"Guayaquil/Santa Elena\",'Tablas Guayaquil'!E197,'Tablas Resto de Ecuador'!E197)","v":11363},{"$f":"IF('INGRESO DE DATOS'!$G$21=\"Guayaquil/Santa Elena\",'Tablas Guayaquil'!F197,'Tablas Resto de Ecuador'!F197)","v":10360},{"$f":"IF('INGRESO DE DATOS'!$G$21=\"Guayaquil/Santa Elena\",'Tablas Guayaquil'!G197,'Tablas Resto de Ecuador'!G197)","v":9533}]
[69,null,{"$f":"IF('INGRESO DE DATOS'!$G$21=\"Guayaquil/Santa Elena\",'Tablas Guayaquil'!C198,'Tablas Resto de Ecuador'!C198)","v":13429},{"$f":"IF('INGRESO DE DATOS'!$G$21=\"Guayaquil/Santa Elena\",'Tablas Guayaquil'!D198,'Tablas Resto de Ecuador'!D198)","v":13163},{"$f":"IF('INGRESO DE DATOS'!$G$21=\"Guayaquil/Santa Elena\",'Tablas Guayaquil'!E198,'Tablas Resto de Ecuador'!E198)","v":12402},{"$f":"IF('INGRESO DE DATOS'!$G$21=\"Guayaquil/Santa Elena\",'Tablas Guayaquil'!F198,'Tablas Resto de Ecuador'!F198)","v":11307},{"$f":"IF('INGRESO DE DATOS'!$G$21=\"Guayaquil/Santa Elena\",'Tablas Guayaquil'!G198,'Tablas Resto de Ecuador'!G198)","v":10414}]
[70,null,{"$f":"IF('INGRESO DE DATOS'!$G$21=\"Guayaquil/Santa Elena\",'Tablas Guayaquil'!C199,'Tablas Resto de Ecuador'!C199)","v":14732},{"$f":"IF('INGRESO DE DATOS'!$G$21=\"Guayaquil/Santa Elena\",'Tablas Guayaquil'!D199,'Tablas Resto de Ecuador'!D199)","v":14432},{"$f":"IF('INGRESO DE DATOS'!$G$21=\"Guayaquil/Santa Elena\",'Tablas Guayaquil'!E199,'Tablas Resto de Ecuador'!E199)","v":13490},{"$f":"IF('INGRESO DE DATOS'!$G$21=\"Guayaquil/Santa Elena\",'Tablas Guayaquil'!F199,'Tablas Resto de Ecuador'!F199)","v":12403},{"$f":"IF('INGRESO DE DATOS'!$G$21=\"Guayaquil/Santa Elena\",'Tablas Guayaquil'!G199,'Tablas Resto de Ecuador'!G199)","v":11584}]
[71,null,{"$f":"IF('INGRESO DE DATOS'!$G$21=\"Guayaquil/Santa Elena\",'Tablas Guayaquil'!C200,'Tablas Resto de Ecuador'!C200)","v":16217},{"$f":"IF('INGRESO DE DATOS'!$G$21=\"Guayaquil/Santa Elena\",'Tablas Guayaquil'!D200,'Tablas Resto de Ecuador'!D200)","v":15894},{"$f":"IF('INGRESO DE DATOS'!$G$21=\"Guayaquil/Santa Elena\",'Tablas Guayaquil'!E200,'Tablas Resto de Ecuador'!E200)","v":14980},{"$f":"IF('INGRESO DE DATOS'!$G$21=\"Guayaquil/Santa Elena\",'Tablas Guayaquil'!F200,'Tablas Resto de Ecuador'!F200)","v":13657},{"$f":"IF('INGRESO DE DATOS'!$G$21=\"Guayaquil/Santa Elena\",'Tablas Guayaquil'!G200,'Tablas Resto de Ecuador'!G200)","v":12755}]
[72,null,{"$f":"IF('INGRESO DE DATOS'!$G$21=\"Guayaquil/Santa Elena\",'Tablas Guayaquil'!C201,'Tablas Resto de Ecuador'!C201)","v":17946},{"$f":"IF('INGRESO DE DATOS'!$G$21=\"Guayaquil/Santa Elena\",'Tablas Guayaquil'!D201,'Tablas Resto de Ecuador'!D201)","v":17583},{"$f":"IF('INGRESO DE DATOS'!$G$21=\"Guayaquil/Santa Elena\",'Tablas Guayaquil'!E201,'Tablas Resto de Ecuador'!E201)","v":16575},{"$f":"IF('INGRESO DE DATOS'!$G$21=\"Guayaquil/Santa Elena\",'Tablas Guayaquil'!F201,'Tablas Resto de Ecuador'!F201)","v":15113},{"$f":"IF('INGRESO DE DATOS'!$G$21=\"Guayaquil/Santa Elena\",'Tablas Guayaquil'!G201,'Tablas Resto de Ecuador'!G201)","v":14120}]
[73,null,{"$f":"IF('INGRESO DE DATOS'!$G$21=\"Guayaquil/Santa Elena\",'Tablas Guayaquil'!C202,'Tablas Resto de Ecuador'!C202)","v":19931},{"$f":"IF('INGRESO DE DATOS'!$G$21=\"Guayaquil/Santa Elena\",'Tablas Guayaquil'!D202,'Tablas Resto de Ecuador'!D202)","v":19528},{"$f":"IF('INGRESO DE DATOS'!$G$21=\"Guayaquil/Santa Elena\",'Tablas Guayaquil'!E202,'Tablas Resto de Ecuador'!E202)","v":18409},{"$f":"IF('INGRESO DE DATOS'!$G$21=\"Guayaquil/Santa Elena\",'Tablas Guayaquil'!F202,'Tablas Resto de Ecuador'!F202)","v":16784},{"$f":"IF('INGRESO DE DATOS'!$G$21=\"Guayaquil/Santa Elena\",'Tablas Guayaquil'!G202,'Tablas Resto de Ecuador'!G202)","v":15673}]
[74,null,{"$f":"IF('INGRESO DE DATOS'!$G$21=\"Guayaquil/Santa Elena\",'Tablas Guayaquil'!C203,'Tablas Resto de Ecuador'!C203)","v":22223},{"$f":"IF('INGRESO DE DATOS'!$G$21=\"Guayaquil/Santa Elena\",'Tablas Guayaquil'!D203,'Tablas Resto de Ecuador'!D203)","v":21777},{"$f":"IF('INGRESO DE DATOS'!$G$21=\"Guayaquil/Santa Elena\",'Tablas Guayaquil'!E203,'Tablas Resto de Ecuador'!E203)","v":20520},{"$f":"IF('INGRESO DE DATOS'!$G$21=\"Guayaquil/Santa Elena\",'Tablas Guayaquil'!F203,'Tablas Resto de Ecuador'!F203)","v":18709},{"$f":"IF('INGRESO DE DATOS'!$G$21=\"Guayaquil/Santa Elena\",'Tablas Guayaquil'!G203,'Tablas Resto de Ecuador'!G203)","v":17478}]
[75,null,{"$f":"IF('INGRESO DE DATOS'!$G$21=\"Guayaquil/Santa Elena\",'Tablas Guayaquil'!C204,'Tablas Resto de Ecuador'!C204)","v":24845},{"$f":"IF('INGRESO DE DATOS'!$G$21=\"Guayaquil/Santa Elena\",'Tablas Guayaquil'!D204,'Tablas Resto de Ecuador'!D204)","v":24344},{"$f":"IF('INGRESO DE DATOS'!$G$21=\"Guayaquil/Santa Elena\",'Tablas Guayaquil'!E204,'Tablas Resto de Ecuador'!E204)","v":22851},{"$f":"IF('INGRESO DE DATOS'!$G$21=\"Guayaquil/Santa Elena\",'Tablas Guayaquil'!F204,'Tablas Resto de Ecuador'!F204)","v":20918},{"$f":"IF('INGRESO DE DATOS'!$G$21=\"Guayaquil/Santa Elena\",'Tablas Guayaquil'!G204,'Tablas Resto de Ecuador'!G204)","v":19663}]
[76,null,{"$f":"IF('INGRESO DE DATOS'!$G$21=\"Guayaquil/Santa Elena\",'Tablas Guayaquil'!C205,'Tablas Resto de Ecuador'!C205)","v":27864},{"$f":"IF('INGRESO DE DATOS'!$G$21=\"Guayaquil/Santa Elena\",'Tablas Guayaquil'!D205,'Tablas Resto de Ecuador'!D205)","v":27295},{"$f":"IF('INGRESO DE DATOS'!$G$21=\"Guayaquil/Santa Elena\",'Tablas Guayaquil'!E205,'Tablas Resto de Ecuador'!E205)","v":25710},{"$f":"IF('INGRESO DE DATOS'!$G$21=\"Guayaquil/Santa Elena\",'Tablas Guayaquil'!F205,'Tablas Resto de Ecuador'!F205)","v":23458},{"$f":"IF('INGRESO DE DATOS'!$G$21=\"Guayaquil/Santa Elena\",'Tablas Guayaquil'!G205,'Tablas Resto de Ecuador'!G205)","v":22051}]
[77,null,{"$f":"IF('INGRESO DE DATOS'!$G$21=\"Guayaquil/Santa Elena\",'Tablas Guayaquil'!C206,'Tablas Resto de Ecuador'!C206)","v":31289},{"$f":"IF('INGRESO DE DATOS'!$G$21=\"Guayaquil/Santa Elena\",'Tablas Guayaquil'!D206,'Tablas Resto de Ecuador'!D206)","v":30658},{"$f":"IF('INGRESO DE DATOS'!$G$21=\"Guayaquil/Santa Elena\",'Tablas Guayaquil'!E206,'Tablas Resto de Ecuador'!E206)","v":28891},{"$f":"IF('INGRESO DE DATOS'!$G$21=\"Guayaquil/Santa Elena\",'Tablas Guayaquil'!F206,'Tablas Resto de Ecuador'!F206)","v":26347},{"$f":"IF('INGRESO DE DATOS'!$G$21=\"Guayaquil/Santa Elena\",'Tablas Guayaquil'!G206,'Tablas Resto de Ecuador'!G206)","v":24763}]
[78,null,{"$f":"IF('INGRESO DE DATOS'!$G$21=\"Guayaquil/Santa Elena\",'Tablas Guayaquil'!C207,'Tablas Resto de Ecuador'!C207)","v":35159},{"$f":"IF('INGRESO DE DATOS'!$G$21=\"Guayaquil/Santa Elena\",'Tablas Guayaquil'!D207,'Tablas Resto de Ecuador'!D207)","v":34448},{"$f":"IF('INGRESO DE DATOS'!$G$21=\"Guayaquil/Santa Elena\",'Tablas Guayaquil'!E207,'Tablas Resto de Ecuador'!E207)","v":32468},{"$f":"IF('INGRESO DE DATOS'!$G$21=\"Guayaquil/Santa Elena\",'Tablas Guayaquil'!F207,'Tablas Resto de Ecuador'!F207)","v":29602},{"$f":"IF('INGRESO DE DATOS'!$G$21=\"Guayaquil/Santa Elena\",'Tablas Guayaquil'!G207,'Tablas Resto de Ecuador'!G207)","v":27821}]
[79,null,{"$f":"IF('INGRESO DE DATOS'!$G$21=\"Guayaquil/Santa Elena\",'Tablas Guayaquil'!C208,'Tablas Resto de Ecuador'!C208)","v":39502},{"$f":"IF('INGRESO DE DATOS'!$G$21=\"Guayaquil/Santa Elena\",'Tablas Guayaquil'!D208,'Tablas Resto de Ecuador'!D208)","v":38708},{"$f":"IF('INGRESO DE DATOS'!$G$21=\"Guayaquil/Santa Elena\",'Tablas Guayaquil'!E208,'Tablas Resto de Ecuador'!E208)","v":36478},{"$f":"IF('INGRESO DE DATOS'!$G$21=\"Guayaquil/Santa Elena\",'Tablas Guayaquil'!F208,'Tablas Resto de Ecuador'!F208)","v":33259},{"$f":"IF('INGRESO DE DATOS'!$G$21=\"Guayaquil/Santa Elena\",'Tablas Guayaquil'!G208,'Tablas Resto de Ecuador'!G208)","v":31258}]
[80,"o más",{"$f":"IF('INGRESO DE DATOS'!$G$21=\"Guayaquil/Santa Elena\",'Tablas Guayaquil'!C209,'Tablas Resto de Ecuador'!C209)","v":44701},{"$f":"IF('INGRESO DE DATOS'!$G$21=\"Guayaquil/Santa Elena\",'Tablas Guayaquil'!D209,'Tablas Resto de Ecuador'!D209)","v":43798},{"$f":"IF('INGRESO DE DATOS'!$G$21=\"Guayaquil/Santa Elena\",'Tablas Guayaquil'!E209,'Tablas Resto de Ecuador'!E209)","v":41279},{"$f":"IF('INGRESO DE DATOS'!$G$21=\"Guayaquil/Santa Elena\",'Tablas Guayaquil'!F209,'Tablas Resto de Ecuador'!F209)","v":37637},{"$f":"IF('INGRESO DE DATOS'!$G$21=\"Guayaquil/Santa Elena\",'Tablas Guayaquil'!G209,'Tablas Resto de Ecuador'!G209)","v":35370}]
[1,"Hijo",{"$f":"IF('INGRESO DE DATOS'!$G$21=\"Guayaquil/Santa Elena\",'Tablas Guayaquil'!C210,'Tablas Resto de Ecuador'!C210)","v":1327},{"$f":"IF('INGRESO DE DATOS'!$G$21=\"Guayaquil/Santa Elena\",'Tablas Guayaquil'!D210,'Tablas Resto de Ecuador'!D210)","v":1297},{"$f":"IF('INGRESO DE DATOS'!$G$21=\"Guayaquil/Santa Elena\",'Tablas Guayaquil'!E210,'Tablas Resto de Ecuador'!E210)","v":1221},{"$f":"IF('INGRESO DE DATOS'!$G$21=\"Guayaquil/Santa Elena\",'Tablas Guayaquil'!F210,'Tablas Resto de Ecuador'!F210)","v":1118},{"$f":"IF('INGRESO DE DATOS'!$G$21=\"Guayaquil/Santa Elena\",'Tablas Guayaquil'!G210,'Tablas Resto de Ecuador'!G210)","v":658}]
[2,"Hijos",{"$f":"IF('INGRESO DE DATOS'!$G$21=\"Guayaquil/Santa Elena\",'Tablas Guayaquil'!C211,'Tablas Resto de Ecuador'!C211)","v":2229},{"$f":"IF('INGRESO DE DATOS'!$G$21=\"Guayaquil/Santa Elena\",'Tablas Guayaquil'!D211,'Tablas Resto de Ecuador'!D211)","v":2184},{"$f":"IF('INGRESO DE DATOS'!$G$21=\"Guayaquil/Santa Elena\",'Tablas Guayaquil'!E211,'Tablas Resto de Ecuador'!E211)","v":2057},{"$f":"IF('INGRESO DE DATOS'!$G$21=\"Guayaquil/Santa Elena\",'Tablas Guayaquil'!F211,'Tablas Resto de Ecuador'!F211)","v":1877},{"$f":"IF('INGRESO DE DATOS'!$G$21=\"Guayaquil/Santa Elena\",'Tablas Guayaquil'!G211,'Tablas Resto de Ecuador'!G211)","v":980}]
[3,"Hijos o más",{"$f":"IF('INGRESO DE DATOS'!$G$21=\"Guayaquil/Santa Elena\",'Tablas Guayaquil'!C212,'Tablas Resto de Ecuador'!C212)","v":3269},{"$f":"IF('INGRESO DE DATOS'!$G$21=\"Guayaquil/Santa Elena\",'Tablas Guayaquil'!D212,'Tablas Resto de Ecuador'!D212)","v":3201},{"$f":"IF('INGRESO DE DATOS'!$G$21=\"Guayaquil/Santa Elena\",'Tablas Guayaquil'!E212,'Tablas Resto de Ecuador'!E212)","v":3017},{"$f":"IF('INGRESO DE DATOS'!$G$21=\"Guayaquil/Santa Elena\",'Tablas Guayaquil'!F212,'Tablas Resto de Ecuador'!F212)","v":2754},{"$f":"IF('INGRESO DE DATOS'!$G$21=\"Guayaquil/Santa Elena\",'Tablas Guayaquil'!G212,'Tablas Resto de Ecuador'!G212)","v":1402}]
[]
["TARIFAS MENSUALES"]
["EDAD"]
[" "," ","F100-1","F100-2","F100-3","F100-4","F100-5"]
[18,null,{"$f":"IF('INGRESO DE DATOS'!$G$21=\"Guayaquil/Santa Elena\",'Tablas Guayaquil'!C217,'Tablas Resto de Ecuador'!C217)","v":228.16499999999999},{"$f":"IF('INGRESO DE DATOS'!$G$21=\"Guayaquil/Santa Elena\",'Tablas Guayaquil'!D217,'Tablas Resto de Ecuador'!D217)","v":223.48333333333332},{"$f":"IF('INGRESO DE DATOS'!$G$21=\"Guayaquil/Santa Elena\",'Tablas Guayaquil'!E217,'Tablas Resto de Ecuador'!E217)","v":211.11666666666667},{"$f":"IF('INGRESO DE DATOS'!$G$21=\"Guayaquil/Santa Elena\",'Tablas Guayaquil'!F217,'Tablas Resto de Ecuador'!F217)","v":192.56666666666666},{"$f":"IF('INGRESO DE DATOS'!$G$21=\"Guayaquil/Santa Elena\",'Tablas Guayaquil'!G217,'Tablas Resto de Ecuador'!G217)","v":149.01833333333335}]
[19,null,{"$f":"IF('INGRESO DE DATOS'!$G$21=\"Guayaquil/Santa Elena\",'Tablas Guayaquil'!C218,'Tablas Resto de Ecuador'!C218)","v":232.405},{"$f":"IF('INGRESO DE DATOS'!$G$21=\"Guayaquil/Santa Elena\",'Tablas Guayaquil'!D218,'Tablas Resto de Ecuador'!D218)","v":227.81166666666667},{"$f":"IF('INGRESO DE DATOS'!$G$21=\"Guayaquil/Santa Elena\",'Tablas Guayaquil'!E218,'Tablas Resto de Ecuador'!E218)","v":214.82666666666665},{"$f":"IF('INGRESO DE DATOS'!$G$21=\"Guayaquil/Santa Elena\",'Tablas Guayaquil'!F218,'Tablas Resto de Ecuador'!F218)","v":196.01166666666666},{"$f":"IF('INGRESO DE DATOS'!$G$21=\"Guayaquil/Santa Elena\",'Tablas Guayaquil'!G218,'Tablas Resto de Ecuador'!G218)","v":152.02166666666668}]
[20,null,{"$f":"IF('INGRESO DE DATOS'!$G$21=\"Guayaquil/Santa Elena\",'Tablas Guayaquil'!C219,'Tablas Resto de Ecuador'!C219)","v":236.29166666666666},{"$f":"IF('INGRESO DE DATOS'!$G$21=\"Guayaquil/Santa Elena\",'Tablas Guayaquil'!D219,'Tablas Resto de Ecuador'!D219)","v":231.08},{"$f":"IF('INGRESO DE DATOS'!$G$21=\"Guayaquil/Santa Elena\",'Tablas Guayaquil'!E219,'Tablas Resto de Ecuador'!E219)","v":218.27166666666668},{"$f":"IF('INGRESO DE DATOS'!$G$21=\"Guayaquil/Santa Elena\",'Tablas Guayaquil'!F219,'Tablas Resto de Ecuador'!F219)","v":198.83833333333334},{"$f":"IF('INGRESO DE DATOS'!$G$21=\"Guayaquil/Santa Elena\",'Tablas Guayaquil'!G219,'Tablas Resto de Ecuador'!G219)","v":154.93666666666667}]
[21,null,{"$f":"IF('INGRESO DE DATOS'!$G$21=\"Guayaquil/Santa Elena\",'Tablas Guayaquil'!C220,'Tablas Resto de Ecuador'!C220)","v":240.26666666666668},{"$f":"IF('INGRESO DE DATOS'!$G$21=\"Guayaquil/Santa Elena\",'Tablas Guayaquil'!D220,'Tablas Resto de Ecuador'!D220)","v":235.40833333333333},{"$f":"IF('INGRESO DE DATOS'!$G$21=\"Guayaquil/Santa Elena\",'Tablas Guayaquil'!E220,'Tablas Resto de Ecuador'!E220)","v":221.71666666666667},{"$f":"IF('INGRESO DE DATOS'!$G$21=\"Guayaquil/Santa Elena\",'Tablas Guayaquil'!F220,'Tablas Resto de Ecuador'!F220)","v":202.10666666666665},{"$f":"IF('INGRESO DE DATOS'!$G$21=\"Guayaquil/Santa Elena\",'Tablas Guayaquil'!G220,'Tablas Resto de Ecuador'!G220)","v":158.29333333333332}]
[22,null,{"$f":"IF('INGRESO DE DATOS'!$G$21=\"Guayaquil/Santa Elena\",'Tablas Guayaquil'!C221,'Tablas Resto de Ecuador'!C221)","v":243.97666666666666},{"$f":"IF('INGRESO DE DATOS'!$G$21=\"Guayaquil/Santa Elena\",'Tablas Guayaquil'!D221,'Tablas Resto de Ecuador'!D221)","v":239.91333333333333},{"$f":"IF('INGRESO DE DATOS'!$G$21=\"Guayaquil/Santa Elena\",'Tablas Guayaquil'!E221,'Tablas Resto de Ecuador'!E221)","v":225.51499999999999},{"$f":"IF('INGRESO DE DATOS'!$G$21=\"Guayaquil/Santa Elena\",'Tablas Guayaquil'!F221,'Tablas Resto de Ecuador'!F221)","v":205.99333333333334},{"$f":"IF('INGRESO DE DATOS'!$G$21=\"Guayaquil/Santa Elena\",'Tablas Guayaquil'!G221,'Tablas Resto de Ecuador'!G221)","v":161.82666666666665}]
[23,null,{"$f":"IF('INGRESO DE DATOS'!$G$21=\"Guayaquil/Santa Elena\",'Tablas Guayaquil'!C222,'Tablas Resto de Ecuador'!C222)","v":248.57},{"$f":"IF('INGRESO DE DATOS'!$G$21=\"Guayaquil/Santa Elena\",'Tablas Guayaquil'!D222,'Tablas Resto de Ecuador'!D222)","v":243.44666666666666},{"$f":"IF('INGRESO DE DATOS'!$G$21=\"Guayaquil/Santa Elena\",'Tablas Guayaquil'!E222,'Tablas Resto de Ecuador'!E222)","v":229.49},{"$f":"IF('INGRESO DE DATOS'!$G$21=\"Guayaquil/Santa Elena\",'Tablas Guayaquil'!F222,'Tablas Resto de Ecuador'!F222)","v":208.99666666666667},{"$f":"IF('INGRESO DE DATOS'!$G$21=\"Guayaquil/Santa Elena\",'Tablas Guayaquil'!G222,'Tablas Resto de Ecuador'!G222)","v":165.095}]
[24,null,{"$f":"IF('INGRESO DE DATOS'!$G$21=\"Guayaquil/Santa Elena\",'Tablas Guayaquil'!C223,'Tablas Resto de Ecuador'!C223)","v":252.72166666666666},{"$f":"IF('INGRESO DE DATOS'!$G$21=\"Guayaquil/Santa Elena\",'Tablas Guayaquil'!D223,'Tablas Resto de Ecuador'!D223)","v":247.51},{"$f":"IF('INGRESO DE DATOS'!$G$21=\"Guayaquil/Santa Elena\",'Tablas Guayaquil'!E223,'Tablas Resto de Ecuador'!E223)","v":233.37666666666667},{"$f":"IF('INGRESO DE DATOS'!$G$21=\"Guayaquil/Santa Elena\",'Tablas Guayaquil'!F223,'Tablas Resto de Ecuador'!F223)","v":212.70666666666668},{"$f":"IF('INGRESO DE DATOS'!$G$21=\"Guayaquil/Santa Elena\",'Tablas Guayaquil'!G223,'Tablas Resto de Ecuador'!G223)","v":168.36333333333334}]
[25,null,{"$f":"IF('INGRESO DE DATOS'!$G$21=\"Guayaquil/Santa Elena\",'Tablas Guayaquil'!C224,'Tablas Resto de Ecuador'!C224)","v":256.52},{"$f":"IF('INGRESO DE DATOS'!$G$21=\"Guayaquil/Santa Elena\",'Tablas Guayaquil'!D224,'Tablas Resto de Ecuador'!D224)","v":251.39666666666668},{"$f":"IF('INGRESO DE DATOS'!$G$21=\"Guayaquil/Santa Elena\",'Tablas Guayaquil'!E224,'Tablas Resto de Ecuador'!E224)","v":236.46833333333333},{"$f":"IF('INGRESO DE DATOS'!$G$21=\"Guayaquil/Santa Elena\",'Tablas Guayaquil'!F224,'Tablas Resto de Ecuador'!F224)","v":216.41666666666666},{"$f":"IF('INGRESO DE DATOS'!$G$21=\"Guayaquil/Santa Elena\",'Tablas Guayaquil'!G224,'Tablas Resto de Ecuador'!G224)","v":172.33833333333334}]
[26,null,{"$f":"IF('INGRESO DE DATOS'!$G$21=\"Guayaquil/Santa Elena\",'Tablas Guayaquil'!C225,'Tablas Resto de Ecuador'!C225)","v":260.67166666666668},{"$f":"IF('INGRESO DE DATOS'!$G$21=\"Guayaquil/Santa Elena\",'Tablas Guayaquil'!D225,'Tablas Resto de Ecuador'!D225)","v":255.54833333333335},{"$f":"IF('INGRESO DE DATOS'!$G$21=\"Guayaquil/Santa Elena\",'Tablas Guayaquil'!E225,'Tablas Resto de Ecuador'!E225)","v":240.70833333333334},{"$f":"IF('INGRESO DE DATOS'!$G$21=\"Guayaquil/Santa Elena\",'Tablas Guayaquil'!F225,'Tablas Resto de Ecuador'!F225)","v":219.42},{"$f":"IF('INGRESO DE DATOS'!$G$21=\"Guayaquil/Santa Elena\",'Tablas Guayaquil'!G225,'Tablas Resto de Ecuador'!G225)","v":175.25333333333333}]
[27,null,{"$f":"IF('INGRESO DE DATOS'!$G$21=\"Guayaquil/Santa Elena\",'Tablas Guayaquil'!C226,'Tablas Resto de Ecuador'!C226)","v":264.38166666666666},{"$f":"IF('INGRESO DE DATOS'!$G$21=\"Guayaquil/Santa Elena\",'Tablas Guayaquil'!D226,'Tablas Resto de Ecuador'!D226)","v":259.25833333333333},{"$f":"IF('INGRESO DE DATOS'!$G$21=\"Guayaquil/Santa Elena\",'Tablas Guayaquil'!E226,'Tablas Resto de Ecuador'!E226)","v":243.97666666666666},{"$f":"IF('INGRESO DE DATOS'!$G$21=\"Guayaquil/Santa Elena\",'Tablas Guayaquil'!F226,'Tablas Resto de Ecuador'!F226)","v":222.95333333333332},{"$f":"IF('INGRESO DE DATOS'!$G$21=\"Guayaquil/Santa Elena\",'Tablas Guayaquil'!G226,'Tablas Resto de Ecuador'!G226)","v":178.69833333333332}]
[28,null,{"$f":"IF('INGRESO DE DATOS'!$G$21=\"Guayaquil/Santa Elena\",'Tablas Guayaquil'!C227,'Tablas Resto de Ecuador'!C227)","v":269.32833333333332},{"$f":"IF('INGRESO DE DATOS'!$G$21=\"Guayaquil/Santa Elena\",'Tablas Guayaquil'!D227,'Tablas Resto de Ecuador'!D227)","v":264.11666666666667},{"$f":"IF('INGRESO DE DATOS'!$G$21=\"Guayaquil/Santa Elena\",'Tablas Guayaquil'!E227,'Tablas Resto de Ecuador'!E227)","v":248.83500000000001},{"$f":"IF('INGRESO DE DATOS'!$G$21=\"Guayaquil/Santa Elena\",'Tablas Guayaquil'!F227,'Tablas Resto de Ecuador'!F227)","v":226.92833333333334},{"$f":"IF('INGRESO DE DATOS'!$G$21=\"Guayaquil/Santa Elena\",'Tablas Guayaquil'!G227,'Tablas Resto de Ecuador'!G227)","v":183.02666666666667}]
[29,null,{"$f":"IF('INGRESO DE DATOS'!$G$21=\"Guayaquil/Santa Elena\",'Tablas Guayaquil'!C228,'Tablas Resto de Ecuador'!C228)","v":274.18666666666667},{"$f":"IF('INGRESO DE DATOS'!$G$21=\"Guayaquil/Santa Elena\",'Tablas Guayaquil'!D228,'Tablas Resto de Ecuador'!D228)","v":268.70999999999998},{"$f":"IF('INGRESO DE DATOS'!$G$21=\"Guayaquil/Santa Elena\",'Tablas Guayaquil'!E228,'Tablas Resto de Ecuador'!E228)","v":253.25166666666667},{"$f":"IF('INGRESO DE DATOS'!$G$21=\"Guayaquil/Santa Elena\",'Tablas Guayaquil'!F228,'Tablas Resto de Ecuador'!F228)","v":230.72666666666666},{"$f":"IF('INGRESO DE DATOS'!$G$21=\"Guayaquil/Santa Elena\",'Tablas Guayaquil'!G228,'Tablas Resto de Ecuador'!G228)","v":187.70833333333334}]
[30,null,{"$f":"IF('INGRESO DE DATOS'!$G$21=\"Guayaquil/Santa Elena\",'Tablas Guayaquil'!C229,'Tablas Resto de Ecuador'!C229)","v":279.13333333333333},{"$f":"IF('INGRESO DE DATOS'!$G$21=\"Guayaquil/Santa Elena\",'Tablas Guayaquil'!D229,'Tablas Resto de Ecuador'!D229)","v":273.30333333333334},{"$f":"IF('INGRESO DE DATOS'!$G$21=\"Guayaquil/Santa Elena\",'Tablas Guayaquil'!E229,'Tablas Resto de Ecuador'!E229)","v":257.58},{"$f":"IF('INGRESO DE DATOS'!$G$21=\"Guayaquil/Santa Elena\",'Tablas Guayaquil'!F229,'Tablas Resto de Ecuador'!F229)","v":235.05500000000001},{"$f":"IF('INGRESO DE DATOS'!$G$21=\"Guayaquil/Santa Elena\",'Tablas Guayaquil'!G229,'Tablas Resto de Ecuador'!G229)","v":191.77166666666668}]
[31,null,{"$f":"IF('INGRESO DE DATOS'!$G$21=\"Guayaquil/Santa Elena\",'Tablas Guayaquil'!C230,'Tablas Resto de Ecuador'!C230)","v":283.55},{"$f":"IF('INGRESO DE DATOS'!$G$21=\"Guayaquil/Santa Elena\",'Tablas Guayaquil'!D230,'Tablas Resto de Ecuador'!D230)","v":277.80833333333334},{"$f":"IF('INGRESO DE DATOS'!$G$21=\"Guayaquil/Santa Elena\",'Tablas Guayaquil'!E230,'Tablas Resto de Ecuador'!E230)","v":261.64333333333332},{"$f":"IF('INGRESO DE DATOS'!$G$21=\"Guayaquil/Santa Elena\",'Tablas Guayaquil'!F230,'Tablas Resto de Ecuador'!F230)","v":238.85333333333332},{"$f":"IF('INGRESO DE DATOS'!$G$21=\"Guayaquil/Santa Elena\",'Tablas Guayaquil'!G230,'Tablas Resto de Ecuador'!G230)","v":196.01166666666666}]
[32,null,{"$f":"IF('INGRESO DE DATOS'!$G$21=\"Guayaquil/Santa Elena\",'Tablas Guayaquil'!C231,'Tablas Resto de Ecuador'!C231)","v":288.58499999999998},{"$f":"IF('INGRESO DE DATOS'!$G$21=\"Guayaquil/Santa Elena\",'Tablas Guayaquil'!D231,'Tablas Resto de Ecuador'!D231)","v":282.49},{"$f":"IF('INGRESO DE DATOS'!$G$21=\"Guayaquil/Santa Elena\",'Tablas Guayaquil'!E231,'Tablas Resto de Ecuador'!E231)","v":266.50166666666667},{"$f":"IF('INGRESO DE DATOS'!$G$21=\"Guayaquil/Santa Elena\",'Tablas Guayaquil'!F231,'Tablas Resto de Ecuador'!F231)","v":242.91666666666666},{"$f":"IF('INGRESO DE DATOS'!$G$21=\"Guayaquil/Santa Elena\",'Tablas Guayaquil'!G231,'Tablas Resto de Ecuador'!G231)","v":199.98666666666668}]
[33,null,{"$f":"IF('INGRESO DE DATOS'!$G$21=\"Guayaquil/Santa Elena\",'Tablas Guayaquil'!C232,'Tablas Resto de Ecuador'!C232)","v":296.27},{"$f":"IF('INGRESO DE DATOS'!$G$21=\"Guayaquil/Santa Elena\",'Tablas Guayaquil'!D232,'Tablas Resto de Ecuador'!D232)","v":290.26333333333332},{"$f":"IF('INGRESO DE DATOS'!$G$21=\"Guayaquil/Santa Elena\",'Tablas Guayaquil'!E232,'Tablas Resto de Ecuador'!E232)","v":273.65666666666664},{"$f":"IF('INGRESO DE DATOS'!$G$21=\"Guayaquil/Santa Elena\",'Tablas Guayaquil'!F232,'Tablas Resto de Ecuador'!F232)","v":249.18833333333333},{"$f":"IF('INGRESO DE DATOS'!$G$21=\"Guayaquil/Santa Elena\",'Tablas Guayaquil'!G232,'Tablas Resto de Ecuador'!G232)","v":206.25833333333333}]
[34,null,{"$f":"IF('INGRESO DE DATOS'!$G$21=\"Guayaquil/Santa Elena\",'Tablas Guayaquil'!C233,'Tablas Resto de Ecuador'!C233)","v":304.13166666666666},{"$f":"IF('INGRESO DE DATOS'!$G$21=\"Guayaquil/Santa Elena\",'Tablas Guayaquil'!D233,'Tablas Resto de Ecuador'!D233)","v":298.125},{"$f":"IF('INGRESO DE DATOS'!$G$21=\"Guayaquil/Santa Elena\",'Tablas Guayaquil'!E233,'Tablas Resto de Ecuador'!E233)","v":280.81166666666667},{"$f":"IF('INGRESO DE DATOS'!$G$21=\"Guayaquil/Santa Elena\",'Tablas Guayaquil'!F233,'Tablas Resto de Ecuador'!F233)","v":256.07833333333332},{"$f":"IF('INGRESO DE DATOS'!$G$21=\"Guayaquil/Santa Elena\",'Tablas Guayaquil'!G233,'Tablas Resto de Ecuador'!G233)","v":212.26499999999999}]
[35,null,{"$f":"IF('INGRESO DE DATOS'!$G$21=\"Guayaquil/Santa Elena\",'Tablas Guayaquil'!C234,'Tablas Resto de Ecuador'!C234)","v":311.99333333333334},{"$f":"IF('INGRESO DE DATOS'!$G$21=\"Guayaquil/Santa Elena\",'Tablas Guayaquil'!D234,'Tablas Resto de Ecuador'!D234)","v":305.81},{"$f":"IF('INGRESO DE DATOS'!$G$21=\"Guayaquil/Santa Elena\",'Tablas Guayaquil'!E234,'Tablas Resto de Ecuador'!E234)","v":288.40833333333336},{"$f":"IF('INGRESO DE DATOS'!$G$21=\"Guayaquil/Santa Elena\",'Tablas Guayaquil'!F234,'Tablas Resto de Ecuador'!F234)","v":262.79166666666669},{"$f":"IF('INGRESO DE DATOS'!$G$21=\"Guayaquil/Santa Elena\",'Tablas Guayaquil'!G234,'Tablas Resto de Ecuador'!G234)","v":218.27166666666668}]
[36,null,{"$f":"IF('INGRESO DE DATOS'!$G$21=\"Guayaquil/Santa Elena\",'Tablas Guayaquil'!C235,'Tablas Resto de Ecuador'!C235)","v":319.76666666666665},{"$f":"IF('INGRESO DE DATOS'!$G$21=\"Guayaquil/Santa Elena\",'Tablas Guayaquil'!D235,'Tablas Resto de Ecuador'!D235)","v":313.58333333333331},{"$f":"IF('INGRESO DE DATOS'!$G$21=\"Guayaquil/Santa Elena\",'Tablas Guayaquil'!E235,'Tablas Resto de Ecuador'!E235)","v":295.56333333333333},{"$f":"IF('INGRESO DE DATOS'!$G$21=\"Guayaquil/Santa Elena\",'Tablas Guayaquil'!F235,'Tablas Resto de Ecuador'!F235)","v":269.32833333333332},{"$f":"IF('INGRESO DE DATOS'!$G$21=\"Guayaquil/Santa Elena\",'Tablas Guayaquil'!G235,'Tablas Resto de Ecuador'!G235)","v":224.80833333333334}]
[37,null,{"$f":"IF('INGRESO DE DATOS'!$G$21=\"Guayaquil/Santa Elena\",'Tablas Guayaquil'!C236,'Tablas Resto de Ecuador'!C236)","v":327.54000000000002},{"$f":"IF('INGRESO DE DATOS'!$G$21=\"Guayaquil/Santa Elena\",'Tablas Guayaquil'!D236,'Tablas Resto de Ecuador'!D236)","v":321.35666666666668},{"$f":"IF('INGRESO DE DATOS'!$G$21=\"Guayaquil/Santa Elena\",'Tablas Guayaquil'!E236,'Tablas Resto de Ecuador'!E236)","v":302.80666666666667},{"$f":"IF('INGRESO DE DATOS'!$G$21=\"Guayaquil/Santa Elena\",'Tablas Guayaquil'!F236,'Tablas Resto de Ecuador'!F236)","v":276.30666666666667},{"$f":"IF('INGRESO DE DATOS'!$G$21=\"Guayaquil/Santa Elena\",'Tablas Guayaquil'!G236,'Tablas Resto de Ecuador'!G236)","v":230.55}]
[38,null,{"$f":"IF('INGRESO DE DATOS'!$G$21=\"Guayaquil/Santa Elena\",'Tablas Guayaquil'!C237,'Tablas Resto de Ecuador'!C237)","v":335.755},{"$f":"IF('INGRESO DE DATOS'!$G$21=\"Guayaquil/Santa Elena\",'Tablas Guayaquil'!D237,'Tablas Resto de Ecuador'!D237)","v":329.21833333333331},{"$f":"IF('INGRESO DE DATOS'!$G$21=\"Guayaquil/Santa Elena\",'Tablas Guayaquil'!E237,'Tablas Resto de Ecuador'!E237)","v":310.49166666666667},{"$f":"IF('INGRESO DE DATOS'!$G$21=\"Guayaquil/Santa Elena\",'Tablas Guayaquil'!F237,'Tablas Resto de Ecuador'!F237)","v":282.84333333333331},{"$f":"IF('INGRESO DE DATOS'!$G$21=\"Guayaquil/Santa Elena\",'Tablas Guayaquil'!G237,'Tablas Resto de Ecuador'!G237)","v":237.26333333333332}]
[39,null,{"$f":"IF('INGRESO DE DATOS'!$G$21=\"Guayaquil/Santa Elena\",'Tablas Guayaquil'!C238,'Tablas Resto de Ecuador'!C238)","v":343.97},{"$f":"IF('INGRESO DE DATOS'!$G$21=\"Guayaquil/Santa Elena\",'Tablas Guayaquil'!D238,'Tablas Resto de Ecuador'!D238)","v":336.815},{"$f":"IF('INGRESO DE DATOS'!$G$21=\"Guayaquil/Santa Elena\",'Tablas Guayaquil'!E238,'Tablas Resto de Ecuador'!E238)","v":317.55833333333334},{"$f":"IF('INGRESO DE DATOS'!$G$21=\"Guayaquil/Santa Elena\",'Tablas Guayaquil'!F238,'Tablas Resto de Ecuador'!F238)","v":289.91000000000003},{"$f":"IF('INGRESO DE DATOS'!$G$21=\"Guayaquil/Santa Elena\",'Tablas Guayaquil'!G238,'Tablas Resto de Ecuador'!G238)","v":243.535}]
[40,null,{"$f":"IF('INGRESO DE DATOS'!$G$21=\"Guayaquil/Santa Elena\",'Tablas Guayaquil'!C239,'Tablas Resto de Ecuador'!C239)","v":352.09666666666669},{"$f":"IF('INGRESO DE DATOS'!$G$21=\"Guayaquil/Santa Elena\",'Tablas Guayaquil'!D239,'Tablas Resto de Ecuador'!D239)","v":344.94166666666666},{"$f":"IF('INGRESO DE DATOS'!$G$21=\"Guayaquil/Santa Elena\",'Tablas Guayaquil'!E239,'Tablas Resto de Ecuador'!E239)","v":325.06666666666666},{"$f":"IF('INGRESO DE DATOS'!$G$21=\"Guayaquil/Santa Elena\",'Tablas Guayaquil'!F239,'Tablas Resto de Ecuador'!F239)","v":296.27},{"$f":"IF('INGRESO DE DATOS'!$G$21=\"Guayaquil/Santa Elena\",'Tablas Guayaquil'!G239,'Tablas Resto de Ecuador'!G239)","v":250.33666666666667}]
[41,null,{"$f":"IF('INGRESO DE DATOS'!$G$21=\"Guayaquil/Santa Elena\",'Tablas Guayaquil'!C240,'Tablas Resto de Ecuador'!C240)","v":360.31166666666667},{"$f":"IF('INGRESO DE DATOS'!$G$21=\"Guayaquil/Santa Elena\",'Tablas Guayaquil'!D240,'Tablas Resto de Ecuador'!D240)","v":353.06833333333333},{"$f":"IF('INGRESO DE DATOS'!$G$21=\"Guayaquil/Santa Elena\",'Tablas Guayaquil'!E240,'Tablas Resto de Ecuador'!E240)","v":332.57499999999999},{"$f":"IF('INGRESO DE DATOS'!$G$21=\"Guayaquil/Santa Elena\",'Tablas Guayaquil'!F240,'Tablas Resto de Ecuador'!F240)","v":303.07166666666666},{"$f":"IF('INGRESO DE DATOS'!$G$21=\"Guayaquil/Santa Elena\",'Tablas Guayaquil'!G240,'Tablas Resto de Ecuador'!G240)","v":256.60833333333335}]
[42,null,{"$f":"IF('INGRESO DE DATOS'!$G$21=\"Guayaquil/Santa Elena\",'Tablas Guayaquil'!C241,'Tablas Resto de Ecuador'!C241)","v":368.17333333333335},{"$f":"IF('INGRESO DE DATOS'!$G$21=\"Guayaquil/Santa Elena\",'Tablas Guayaquil'!D241,'Tablas Resto de Ecuador'!D241)","v":360.75333333333333},{"$f":"IF('INGRESO DE DATOS'!$G$21=\"Guayaquil/Santa Elena\",'Tablas Guayaquil'!E241,'Tablas Resto de Ecuador'!E241)","v":339.995},{"$f":"IF('INGRESO DE DATOS'!$G$21=\"Guayaquil/Santa Elena\",'Tablas Guayaquil'!F241,'Tablas Resto de Ecuador'!F241)","v":309.69666666666666},{"$f":"IF('INGRESO DE DATOS'!$G$21=\"Guayaquil/Santa Elena\",'Tablas Guayaquil'!G241,'Tablas Resto de Ecuador'!G241)","v":263.76333333333332}]
[43,null,{"$f":"IF('INGRESO DE DATOS'!$G$21=\"Guayaquil/Santa Elena\",'Tablas Guayaquil'!C242,'Tablas Resto de Ecuador'!C242)","v":382.66},{"$f":"IF('INGRESO DE DATOS'!$G$21=\"Guayaquil/Santa Elena\",'Tablas Guayaquil'!D242,'Tablas Resto de Ecuador'!D242)","v":375.06333333333333},{"$f":"IF('INGRESO DE DATOS'!$G$21=\"Guayaquil/Santa Elena\",'Tablas Guayaquil'!E242,'Tablas Resto de Ecuador'!E242)","v":353.33333333333331},{"$f":"IF('INGRESO DE DATOS'!$G$21=\"Guayaquil/Santa Elena\",'Tablas Guayaquil'!F242,'Tablas Resto de Ecuador'!F242)","v":322.41666666666669},{"$f":"IF('INGRESO DE DATOS'!$G$21=\"Guayaquil/Santa Elena\",'Tablas Guayaquil'!G242,'Tablas Resto de Ecuador'!G242)","v":274.62833333333333}]
[44,null,{"$f":"IF('INGRESO DE DATOS'!$G$21=\"Guayaquil/Santa Elena\",'Tablas Guayaquil'!C243,'Tablas Resto de Ecuador'!C243)","v":397.5},{"$f":"IF('INGRESO DE DATOS'!$G$21=\"Guayaquil/Santa Elena\",'Tablas Guayaquil'!D243,'Tablas Resto de Ecuador'!D243)","v":389.46166666666664},{"$f":"IF('INGRESO DE DATOS'!$G$21=\"Guayaquil/Santa Elena\",'Tablas Guayaquil'!E243,'Tablas Resto de Ecuador'!E243)","v":366.84833333333336},{"$f":"IF('INGRESO DE DATOS'!$G$21=\"Guayaquil/Santa Elena\",'Tablas Guayaquil'!F243,'Tablas Resto de Ecuador'!F243)","v":334.78333333333336},{"$f":"IF('INGRESO DE DATOS'!$G$21=\"Guayaquil/Santa Elena\",'Tablas Guayaquil'!G243,'Tablas Resto de Ecuador'!G243)","v":286.73}]
[45,null,{"$f":"IF('INGRESO DE DATOS'!$G$21=\"Guayaquil/Santa Elena\",'Tablas Guayaquil'!C244,'Tablas Resto de Ecuador'!C244)","v":412.42833333333334},{"$f":"IF('INGRESO DE DATOS'!$G$21=\"Guayaquil/Santa Elena\",'Tablas Guayaquil'!D244,'Tablas Resto de Ecuador'!D244)","v":403.50666666666666},{"$f":"IF('INGRESO DE DATOS'!$G$21=\"Guayaquil/Santa Elena\",'Tablas Guayaquil'!E244,'Tablas Resto de Ecuador'!E244)","v":380.36333333333334},{"$f":"IF('INGRESO DE DATOS'!$G$21=\"Guayaquil/Santa Elena\",'Tablas Guayaquil'!F244,'Tablas Resto de Ecuador'!F244)","v":346.97333333333336},{"$f":"IF('INGRESO DE DATOS'!$G$21=\"Guayaquil/Santa Elena\",'Tablas Guayaquil'!G244,'Tablas Resto de Ecuador'!G244)","v":298.21333333333331}]
[46,null,{"$f":"IF('INGRESO DE DATOS'!$G$21=\"Guayaquil/Santa Elena\",'Tablas Guayaquil'!C245,'Tablas Resto de Ecuador'!C245)","v":426.29666666666668},{"$f":"IF('INGRESO DE DATOS'!$G$21=\"Guayaquil/Santa Elena\",'Tablas Guayaquil'!D245,'Tablas Resto de Ecuador'!D245)","v":418.25833333333333},{"$f":"IF('INGRESO DE DATOS'!$G$21=\"Guayaquil/Santa Elena\",'Tablas Guayaquil'!E245,'Tablas Resto de Ecuador'!E245)","v":393.96666666666664},{"$f":"IF('INGRESO DE DATOS'!$G$21=\"Guayaquil/Santa Elena\",'Tablas Guayaquil'!F245,'Tablas Resto de Ecuador'!F245)","v":359.42833333333334},{"$f":"IF('INGRESO DE DATOS'!$G$21=\"Guayaquil/Santa Elena\",'Tablas Guayaquil'!G245,'Tablas Resto de Ecuador'!G245)","v":309.34333333333331}]
[47,null,{"$f":"IF('INGRESO DE DATOS'!$G$21=\"Guayaquil/Santa Elena\",'Tablas Guayaquil'!C246,'Tablas Resto de Ecuador'!C246)","v":441.31333333333333},{"$f":"IF('INGRESO DE DATOS'!$G$21=\"Guayaquil/Santa Elena\",'Tablas Guayaquil'!D246,'Tablas Resto de Ecuador'!D246)","v":432.30333333333334},{"$f":"IF('INGRESO DE DATOS'!$G$21=\"Guayaquil/Santa Elena\",'Tablas Guayaquil'!E246,'Tablas Resto de Ecuador'!E246)","v":407.65833333333336},{"$f":"IF('INGRESO DE DATOS'!$G$21=\"Guayaquil/Santa Elena\",'Tablas Guayaquil'!F246,'Tablas Resto de Ecuador'!F246)","v":371.70666666666665},{"$f":"IF('INGRESO DE DATOS'!$G$21=\"Guayaquil/Santa Elena\",'Tablas Guayaquil'!G246,'Tablas Resto de Ecuador'!G246)","v":321.35666666666668}]
[48,null,{"$f":"IF('INGRESO DE DATOS'!$G$21=\"Guayaquil/Santa Elena\",'Tablas Guayaquil'!C247,'Tablas Resto de Ecuador'!C247)","v":456.86},{"$f":"IF('INGRESO DE DATOS'!$G$21=\"Guayaquil/Santa Elena\",'Tablas Guayaquil'!D247,'Tablas Resto de Ecuador'!D247)","v":447.40833333333336},{"$f":"IF('INGRESO DE DATOS'!$G$21=\"Guayaquil/Santa Elena\",'Tablas Guayaquil'!E247,'Tablas Resto de Ecuador'!E247)","v":421.79166666666669},{"$f":"IF('INGRESO DE DATOS'!$G$21=\"Guayaquil/Santa Elena\",'Tablas Guayaquil'!F247,'Tablas Resto de Ecuador'!F247)","v":384.78},{"$f":"IF('INGRESO DE DATOS'!$G$21=\"Guayaquil/Santa Elena\",'Tablas Guayaquil'!G247,'Tablas Resto de Ecuador'!G247)","v":332.92833333333334}]
[49,null,{"$f":"IF('INGRESO DE DATOS'!$G$21=\"Guayaquil/Santa Elena\",'Tablas Guayaquil'!C248,'Tablas Resto de Ecuador'!C248)","v":472.14166666666665},{"$f":"IF('INGRESO DE DATOS'!$G$21=\"Guayaquil/Santa Elena\",'Tablas Guayaquil'!D248,'Tablas Resto de Ecuador'!D248)","v":462.77833333333331},{"$f":"IF('INGRESO DE DATOS'!$G$21=\"Guayaquil/Santa Elena\",'Tablas Guayaquil'!E248,'Tablas Resto de Ecuador'!E248)","v":436.10166666666669},{"$f":"IF('INGRESO DE DATOS'!$G$21=\"Guayaquil/Santa Elena\",'Tablas Guayaquil'!F248,'Tablas Resto de Ecuador'!F248)","v":397.58833333333331},{"$f":"IF('INGRESO DE DATOS'!$G$21=\"Guayaquil/Santa Elena\",'Tablas Guayaquil'!G248,'Tablas Resto de Ecuador'!G248)","v":345.38333333333333}]
[50,null,{"$f":"IF('INGRESO DE DATOS'!$G$21=\"Guayaquil/Santa Elena\",'Tablas Guayaquil'!C249,'Tablas Resto de Ecuador'!C249)","v":487.51166666666666},{"$f":"IF('INGRESO DE DATOS'!$G$21=\"Guayaquil/Santa Elena\",'Tablas Guayaquil'!D249,'Tablas Resto de Ecuador'!D249)","v":478.14833333333331},{"$f":"IF('INGRESO DE DATOS'!$G$21=\"Guayaquil/Santa Elena\",'Tablas Guayaquil'!E249,'Tablas Resto de Ecuador'!E249)","v":450.5},{"$f":"IF('INGRESO DE DATOS'!$G$21=\"Guayaquil/Santa Elena\",'Tablas Guayaquil'!F249,'Tablas Resto de Ecuador'!F249)","v":410.66166666666669},{"$f":"IF('INGRESO DE DATOS'!$G$21=\"Guayaquil/Santa Elena\",'Tablas Guayaquil'!G249,'Tablas Resto de Ecuador'!G249)","v":357.66166666666669}]
[51,null,{"$f":"IF('INGRESO DE DATOS'!$G$21=\"Guayaquil/Santa Elena\",'Tablas Guayaquil'!C250,'Tablas Resto de Ecuador'!C250)","v":502.88166666666666},{"$f":"IF('INGRESO DE DATOS'!$G$21=\"Guayaquil/Santa Elena\",'Tablas Guayaquil'!D250,'Tablas Resto de Ecuador'!D250)","v":493.34166666666664},{"$f":"IF('INGRESO DE DATOS'!$G$21=\"Guayaquil/Santa Elena\",'Tablas Guayaquil'!E250,'Tablas Resto de Ecuador'!E250)","v":464.63333333333333},{"$f":"IF('INGRESO DE DATOS'!$G$21=\"Guayaquil/Santa Elena\",'Tablas Guayaquil'!F250,'Tablas Resto de Ecuador'!F250)","v":423.82333333333332},{"$f":"IF('INGRESO DE DATOS'!$G$21=\"Guayaquil/Santa Elena\",'Tablas Guayaquil'!G250,'Tablas Resto de Ecuador'!G250)","v":369.76333333333332}]
[52,null,{"$f":"IF('INGRESO DE DATOS'!$G$21=\"Guayaquil/Santa Elena\",'Tablas Guayaquil'!C251,'Tablas Resto de Ecuador'!C251)","v":518.51666666666665},{"$f":"IF('INGRESO DE DATOS'!$G$21=\"Guayaquil/Santa Elena\",'Tablas Guayaquil'!D251,'Tablas Resto de Ecuador'!D251)","v":507.91666666666669},{"$f":"IF('INGRESO DE DATOS'!$G$21=\"Guayaquil/Santa Elena\",'Tablas Guayaquil'!E251,'Tablas Resto de Ecuador'!E251)","v":479.03166666666664},{"$f":"IF('INGRESO DE DATOS'!$G$21=\"Guayaquil/Santa Elena\",'Tablas Guayaquil'!F251,'Tablas Resto de Ecuador'!F251)","v":436.89666666666665},{"$f":"IF('INGRESO DE DATOS'!$G$21=\"Guayaquil/Santa Elena\",'Tablas Guayaquil'!G251,'Tablas Resto de Ecuador'!G251)","v":381.86500000000001}]
[53,null,{"$f":"IF('INGRESO DE DATOS'!$G$21=\"Guayaquil/Santa Elena\",'Tablas Guayaquil'!C252,'Tablas Resto de Ecuador'!C252)","v":536.71333333333337},{"$f":"IF('INGRESO DE DATOS'!$G$21=\"Guayaquil/Santa Elena\",'Tablas Guayaquil'!D252,'Tablas Resto de Ecuador'!D252)","v":526.37833333333333},{"$f":"IF('INGRESO DE DATOS'!$G$21=\"Guayaquil/Santa Elena\",'Tablas Guayaquil'!E252,'Tablas Resto de Ecuador'!E252)","v":495.99166666666667},{"$f":"IF('INGRESO DE DATOS'!$G$21=\"Guayaquil/Santa Elena\",'Tablas Guayaquil'!F252,'Tablas Resto de Ecuador'!F252)","v":452.17833333333334},{"$f":"IF('INGRESO DE DATOS'!$G$21=\"Guayaquil/Santa Elena\",'Tablas Guayaquil'!G252,'Tablas Resto de Ecuador'!G252)","v":396.97}]
[54,null,{"$f":"IF('INGRESO DE DATOS'!$G$21=\"Guayaquil/Santa Elena\",'Tablas Guayaquil'!C253,'Tablas Resto de Ecuador'!C253)","v":555.17499999999995},{"$f":"IF('INGRESO DE DATOS'!$G$21=\"Guayaquil/Santa Elena\",'Tablas Guayaquil'!D253,'Tablas Resto de Ecuador'!D253)","v":544.39833333333331},{"$f":"IF('INGRESO DE DATOS'!$G$21=\"Guayaquil/Santa Elena\",'Tablas Guayaquil'!E253,'Tablas Resto de Ecuador'!E253)","v":512.95166666666671},{"$f":"IF('INGRESO DE DATOS'!$G$21=\"Guayaquil/Santa Elena\",'Tablas Guayaquil'!F253,'Tablas Resto de Ecuador'!F253)","v":467.90166666666664},{"$f":"IF('INGRESO DE DATOS'!$G$21=\"Guayaquil/Santa Elena\",'Tablas Guayaquil'!G253,'Tablas Resto de Ecuador'!G253)","v":411.36833333333334}]
[55,null,{"$f":"IF('INGRESO DE DATOS'!$G$21=\"Guayaquil/Santa Elena\",'Tablas Guayaquil'!C254,'Tablas Resto de Ecuador'!C254)","v":573.2833333333333},{"$f":"IF('INGRESO DE DATOS'!$G$21=\"Guayaquil/Santa Elena\",'Tablas Guayaquil'!D254,'Tablas Resto de Ecuador'!D254)","v":562.33000000000004},{"$f":"IF('INGRESO DE DATOS'!$G$21=\"Guayaquil/Santa Elena\",'Tablas Guayaquil'!E254,'Tablas Resto de Ecuador'!E254)","v":530.08833333333337},{"$f":"IF('INGRESO DE DATOS'!$G$21=\"Guayaquil/Santa Elena\",'Tablas Guayaquil'!F254,'Tablas Resto de Ecuador'!F254)","v":483.27166666666665},{"$f":"IF('INGRESO DE DATOS'!$G$21=\"Guayaquil/Santa Elena\",'Tablas Guayaquil'!G254,'Tablas Resto de Ecuador'!G254)","v":426.12}]
[56,null,{"$f":"IF('INGRESO DE DATOS'!$G$21=\"Guayaquil/Santa Elena\",'Tablas Guayaquil'!C255,'Tablas Resto de Ecuador'!C255)","v":591.92166666666662},{"$f":"IF('INGRESO DE DATOS'!$G$21=\"Guayaquil/Santa Elena\",'Tablas Guayaquil'!D255,'Tablas Resto de Ecuador'!D255)","v":580.17333333333329},{"$f":"IF('INGRESO DE DATOS'!$G$21=\"Guayaquil/Santa Elena\",'Tablas Guayaquil'!E255,'Tablas Resto de Ecuador'!E255)","v":546.96},{"$f":"IF('INGRESO DE DATOS'!$G$21=\"Guayaquil/Santa Elena\",'Tablas Guayaquil'!F255,'Tablas Resto de Ecuador'!F255)","v":498.90666666666664},{"$f":"IF('INGRESO DE DATOS'!$G$21=\"Guayaquil/Santa Elena\",'Tablas Guayaquil'!G255,'Tablas Resto de Ecuador'!G255)","v":441.04833333333335}]
[57,null,{"$f":"IF('INGRESO DE DATOS'!$G$21=\"Guayaquil/Santa Elena\",'Tablas Guayaquil'!C256,'Tablas Resto de Ecuador'!C256)","v":610.20666666666671},{"$f":"IF('INGRESO DE DATOS'!$G$21=\"Guayaquil/Santa Elena\",'Tablas Guayaquil'!D256,'Tablas Resto de Ecuador'!D256)","v":598.19333333333338},{"$f":"IF('INGRESO DE DATOS'!$G$21=\"Guayaquil/Santa Elena\",'Tablas Guayaquil'!E256,'Tablas Resto de Ecuador'!E256)","v":563.39},{"$f":"IF('INGRESO DE DATOS'!$G$21=\"Guayaquil/Santa Elena\",'Tablas Guayaquil'!F256,'Tablas Resto de Ecuador'!F256)","v":513.6583333333333},{"$f":"IF('INGRESO DE DATOS'!$G$21=\"Guayaquil/Santa Elena\",'Tablas Guayaquil'!G256,'Tablas Resto de Ecuador'!G256)","v":455.8}]
[58,null,{"$f":"IF('INGRESO DE DATOS'!$G$21=\"Guayaquil/Santa Elena\",'Tablas Guayaquil'!C257,'Tablas Resto de Ecuador'!C257)","v":631.23},{"$f":"IF('INGRESO DE DATOS'!$G$21=\"Guayaquil/Santa Elena\",'Tablas Guayaquil'!D257,'Tablas Resto de Ecuador'!D257)","v":619.04},{"$f":"IF('INGRESO DE DATOS'!$G$21=\"Guayaquil/Santa Elena\",'Tablas Guayaquil'!E257,'Tablas Resto de Ecuador'!E257)","v":581.14499999999998},{"$f":"IF('INGRESO DE DATOS'!$G$21=\"Guayaquil/Santa Elena\",'Tablas Guayaquil'!F257,'Tablas Resto de Ecuador'!F257)","v":531.67833333333328},{"$f":"IF('INGRESO DE DATOS'!$G$21=\"Guayaquil/Santa Elena\",'Tablas Guayaquil'!G257,'Tablas Resto de Ecuador'!G257)","v":475.05666666666667}]
[59,null,{"$f":"IF('INGRESO DE DATOS'!$G$21=\"Guayaquil/Santa Elena\",'Tablas Guayaquil'!C258,'Tablas Resto de Ecuador'!C258)","v":652.07666666666671},{"$f":"IF('INGRESO DE DATOS'!$G$21=\"Guayaquil/Santa Elena\",'Tablas Guayaquil'!D258,'Tablas Resto de Ecuador'!D258)","v":639.26833333333332},{"$f":"IF('INGRESO DE DATOS'!$G$21=\"Guayaquil/Santa Elena\",'Tablas Guayaquil'!E258,'Tablas Resto de Ecuador'!E258)","v":599.07666666666671},{"$f":"IF('INGRESO DE DATOS'!$G$21=\"Guayaquil/Santa Elena\",'Tablas Guayaquil'!F258,'Tablas Resto de Ecuador'!F258)","v":549.43333333333328},{"$f":"IF('INGRESO DE DATOS'!$G$21=\"Guayaquil/Santa Elena\",'Tablas Guayaquil'!G258,'Tablas Resto de Ecuador'!G258)","v":494.40166666666664}]
[60,null,{"$f":"IF('INGRESO DE DATOS'!$G$21=\"Guayaquil/Santa Elena\",'Tablas Guayaquil'!C259,'Tablas Resto de Ecuador'!C259)","v":673.63},{"$f":"IF('INGRESO DE DATOS'!$G$21=\"Guayaquil/Santa Elena\",'Tablas Guayaquil'!D259,'Tablas Resto de Ecuador'!D259)","v":659.58500000000004},{"$f":"IF('INGRESO DE DATOS'!$G$21=\"Guayaquil/Santa Elena\",'Tablas Guayaquil'!E259,'Tablas Resto de Ecuador'!E259)","v":616.74333333333334},{"$f":"IF('INGRESO DE DATOS'!$G$21=\"Guayaquil/Santa Elena\",'Tablas Guayaquil'!F259,'Tablas Resto de Ecuador'!F259)","v":567.36500000000001},{"$f":"IF('INGRESO DE DATOS'!$G$21=\"Guayaquil/Santa Elena\",'Tablas Guayaquil'!G259,'Tablas Resto de Ecuador'!G259)","v":513.6583333333333}]
[61,null,{"$f":"IF('INGRESO DE DATOS'!$G$21=\"Guayaquil/Santa Elena\",'Tablas Guayaquil'!C260,'Tablas Resto de Ecuador'!C260)","v":699.07},{"$f":"IF('INGRESO DE DATOS'!$G$21=\"Guayaquil/Santa Elena\",'Tablas Guayaquil'!D260,'Tablas Resto de Ecuador'!D260)","v":685.02499999999998},{"$f":"IF('INGRESO DE DATOS'!$G$21=\"Guayaquil/Santa Elena\",'Tablas Guayaquil'!E260,'Tablas Resto de Ecuador'!E260)","v":643.50833333333333},{"$f":"IF('INGRESO DE DATOS'!$G$21=\"Guayaquil/Santa Elena\",'Tablas Guayaquil'!F260,'Tablas Resto de Ecuador'!F260)","v":588.65333333333331},{"$f":"IF('INGRESO DE DATOS'!$G$21=\"Guayaquil/Santa Elena\",'Tablas Guayaquil'!G260,'Tablas Resto de Ecuador'!G260)","v":532.91499999999996}]
[62,null,{"$f":"IF('INGRESO DE DATOS'!$G$21=\"Guayaquil/Santa Elena\",'Tablas Guayaquil'!C261,'Tablas Resto de Ecuador'!C261)","v":730.34},{"$f":"IF('INGRESO DE DATOS'!$G$21=\"Guayaquil/Santa Elena\",'Tablas Guayaquil'!D261,'Tablas Resto de Ecuador'!D261)","v":716.20666666666671},{"$f":"IF('INGRESO DE DATOS'!$G$21=\"Guayaquil/Santa Elena\",'Tablas Guayaquil'!E261,'Tablas Resto de Ecuador'!E261)","v":674.86666666666667},{"$f":"IF('INGRESO DE DATOS'!$G$21=\"Guayaquil/Santa Elena\",'Tablas Guayaquil'!F261,'Tablas Resto de Ecuador'!F261)","v":615.41833333333329},{"$f":"IF('INGRESO DE DATOS'!$G$21=\"Guayaquil/Santa Elena\",'Tablas Guayaquil'!G261,'Tablas Resto de Ecuador'!G261)","v":557.11833333333334}]
[63,null,{"$f":"IF('INGRESO DE DATOS'!$G$21=\"Guayaquil/Santa Elena\",'Tablas Guayaquil'!C262,'Tablas Resto de Ecuador'!C262)","v":768.23500000000001},{"$f":"IF('INGRESO DE DATOS'!$G$21=\"Guayaquil/Santa Elena\",'Tablas Guayaquil'!D262,'Tablas Resto de Ecuador'!D262)","v":752.68833333333328},{"$f":"IF('INGRESO DE DATOS'!$G$21=\"Guayaquil/Santa Elena\",'Tablas Guayaquil'!E262,'Tablas Resto de Ecuador'!E262)","v":709.40499999999997},{"$f":"IF('INGRESO DE DATOS'!$G$21=\"Guayaquil/Santa Elena\",'Tablas Guayaquil'!F262,'Tablas Resto de Ecuador'!F262)","v":646.6},{"$f":"IF('INGRESO DE DATOS'!$G$21=\"Guayaquil/Santa Elena\",'Tablas Guayaquil'!G262,'Tablas Resto de Ecuador'!G262)","v":585.65}]
[64,null,{"$f":"IF('INGRESO DE DATOS'!$G$21=\"Guayaquil/Santa Elena\",'Tablas Guayaquil'!C263,'Tablas Resto de Ecuador'!C263)","v":812.66666666666663},{"$f":"IF('INGRESO DE DATOS'!$G$21=\"Guayaquil/Santa Elena\",'Tablas Guayaquil'!D263,'Tablas Resto de Ecuador'!D263)","v":796.06},{"$f":"IF('INGRESO DE DATOS'!$G$21=\"Guayaquil/Santa Elena\",'Tablas Guayaquil'!E263,'Tablas Resto de Ecuador'!E263)","v":750.56833333333338},{"$f":"IF('INGRESO DE DATOS'!$G$21=\"Guayaquil/Santa Elena\",'Tablas Guayaquil'!F263,'Tablas Resto de Ecuador'!F263)","v":684.23},{"$f":"IF('INGRESO DE DATOS'!$G$21=\"Guayaquil/Santa Elena\",'Tablas Guayaquil'!G263,'Tablas Resto de Ecuador'!G263)","v":619.30499999999995}]
[65,null,{"$f":"IF('INGRESO DE DATOS'!$G$21=\"Guayaquil/Santa Elena\",'Tablas Guayaquil'!C264,'Tablas Resto de Ecuador'!C264)","v":865.57833333333338},{"$f":"IF('INGRESO DE DATOS'!$G$21=\"Guayaquil/Santa Elena\",'Tablas Guayaquil'!D264,'Tablas Resto de Ecuador'!D264)","v":847.91166666666663},{"$f":"IF('INGRESO DE DATOS'!$G$21=\"Guayaquil/Santa Elena\",'Tablas Guayaquil'!E264,'Tablas Resto de Ecuador'!E264)","v":799.68166666666662},{"$f":"IF('INGRESO DE DATOS'!$G$21=\"Guayaquil/Santa Elena\",'Tablas Guayaquil'!F264,'Tablas Resto de Ecuador'!F264)","v":729.01499999999999},{"$f":"IF('INGRESO DE DATOS'!$G$21=\"Guayaquil/Santa Elena\",'Tablas Guayaquil'!G264,'Tablas Resto de Ecuador'!G264)","v":665.23833333333334}]
[66,null,{"$f":"IF('INGRESO DE DATOS'!$G$21=\"Guayaquil/Santa Elena\",'Tablas Guayaquil'!C265,'Tablas Resto de Ecuador'!C265)","v":927.76499999999999},{"$f":"IF('INGRESO DE DATOS'!$G$21=\"Guayaquil/Santa Elena\",'Tablas Guayaquil'!D265,'Tablas Resto de Ecuador'!D265)","v":909.21500000000003},{"$f":"IF('INGRESO DE DATOS'!$G$21=\"Guayaquil/Santa Elena\",'Tablas Guayaquil'!E265,'Tablas Resto de Ecuador'!E265)","v":856.92166666666662},{"$f":"IF('INGRESO DE DATOS'!$G$21=\"Guayaquil/Santa Elena\",'Tablas Guayaquil'!F265,'Tablas Resto de Ecuador'!F265)","v":781.57333333333338},{"$f":"IF('INGRESO DE DATOS'!$G$21=\"Guayaquil/Santa Elena\",'Tablas Guayaquil'!G265,'Tablas Resto de Ecuador'!G265)","v":718.76833333333332}]
[67,null,{"$f":"IF('INGRESO DE DATOS'!$G$21=\"Guayaquil/Santa Elena\",'Tablas Guayaquil'!C266,'Tablas Resto de Ecuador'!C266)","v":1001.7},{"$f":"IF('INGRESO DE DATOS'!$G$21=\"Guayaquil/Santa Elena\",'Tablas Guayaquil'!D266,'Tablas Resto de Ecuador'!D266)","v":982.17833333333328},{"$f":"IF('INGRESO DE DATOS'!$G$21=\"Guayaquil/Santa Elena\",'Tablas Guayaquil'!E266,'Tablas Resto de Ecuador'!E266)","v":925.46833333333336},{"$f":"IF('INGRESO DE DATOS'!$G$21=\"Guayaquil/Santa Elena\",'Tablas Guayaquil'!F266,'Tablas Resto de Ecuador'!F266)","v":843.93666666666661},{"$f":"IF('INGRESO DE DATOS'!$G$21=\"Guayaquil/Santa Elena\",'Tablas Guayaquil'!G266,'Tablas Resto de Ecuador'!G266)","v":776.45}]
[68,null,{"$f":"IF('INGRESO DE DATOS'!$G$21=\"Guayaquil/Santa Elena\",'Tablas Guayaquil'!C267,'Tablas Resto de Ecuador'!C267)","v":1087.03},{"$f":"IF('INGRESO DE DATOS'!$G$21=\"Guayaquil/Santa Elena\",'Tablas Guayaquil'!D267,'Tablas Resto de Ecuador'!D267)","v":1064.9466666666667},{"$f":"IF('INGRESO DE DATOS'!$G$21=\"Guayaquil/Santa Elena\",'Tablas Guayaquil'!E267,'Tablas Resto de Ecuador'!E267)","v":1003.7316666666667},{"$f":"IF('INGRESO DE DATOS'!$G$21=\"Guayaquil/Santa Elena\",'Tablas Guayaquil'!F267,'Tablas Resto de Ecuador'!F267)","v":915.13333333333333},{"$f":"IF('INGRESO DE DATOS'!$G$21=\"Guayaquil/Santa Elena\",'Tablas Guayaquil'!G267,'Tablas Resto de Ecuador'!G267)","v":842.08166666666671}]
[69,null,{"$f":"IF('INGRESO DE DATOS'!$G$21=\"Guayaquil/Santa Elena\",'Tablas Guayaquil'!C268,'Tablas Resto de Ecuador'!C268)","v":1186.2283333333332},{"$f":"IF('INGRESO DE DATOS'!$G$21=\"Guayaquil/Santa Elena\",'Tablas Guayaquil'!D268,'Tablas Resto de Ecuador'!D268)","v":1162.7316666666666},{"$f":"IF('INGRESO DE DATOS'!$G$21=\"Guayaquil/Santa Elena\",'Tablas Guayaquil'!E268,'Tablas Resto de Ecuador'!E268)","v":1095.51},{"$f":"IF('INGRESO DE DATOS'!$G$21=\"Guayaquil/Santa Elena\",'Tablas Guayaquil'!F268,'Tablas Resto de Ecuador'!F268)","v":998.78499999999997},{"$f":"IF('INGRESO DE DATOS'!$G$21=\"Guayaquil/Santa Elena\",'Tablas Guayaquil'!G268,'Tablas Resto de Ecuador'!G268)","v":919.90333333333331}]
[70,null,{"$f":"IF('INGRESO DE DATOS'!$G$21=\"Guayaquil/Santa Elena\",'Tablas Guayaquil'!C269,'Tablas Resto de Ecuador'!C269)","v":1301.3266666666666},{"$f":"IF('INGRESO DE DATOS'!$G$21=\"Guayaquil/Santa Elena\",'Tablas Guayaquil'!D269,'Tablas Resto de Ecuador'!D269)","v":1274.8266666666666},{"$f":"IF('INGRESO DE DATOS'!$G$21=\"Guayaquil/Santa Elena\",'Tablas Guayaquil'!E269,'Tablas Resto de Ecuador'!E269)","v":1191.6166666666666},{"$f":"IF('INGRESO DE DATOS'!$G$21=\"Guayaquil/Santa Elena\",'Tablas Guayaquil'!F269,'Tablas Resto de Ecuador'!F269)","v":1095.5983333333334},{"$f":"IF('INGRESO DE DATOS'!$G$21=\"Guayaquil/Santa Elena\",'Tablas Guayaquil'!G269,'Tablas Resto de Ecuador'!G269)","v":1023.2533333333333}]
[71,null,{"$f":"IF('INGRESO DE DATOS'!$G$21=\"Guayaquil/Santa Elena\",'Tablas Guayaquil'!C270,'Tablas Resto de Ecuador'!C270)","v":1432.5016666666666},{"$f":"IF('INGRESO DE DATOS'!$G$21=\"Guayaquil/Santa Elena\",'Tablas Guayaquil'!D270,'Tablas Resto de Ecuador'!D270)","v":1403.97},{"$f":"IF('INGRESO DE DATOS'!$G$21=\"Guayaquil/Santa Elena\",'Tablas Guayaquil'!E270,'Tablas Resto de Ecuador'!E270)","v":1323.2333333333333},{"$f":"IF('INGRESO DE DATOS'!$G$21=\"Guayaquil/Santa Elena\",'Tablas Guayaquil'!F270,'Tablas Resto de Ecuador'!F270)","v":1206.3683333333333},{"$f":"IF('INGRESO DE DATOS'!$G$21=\"Guayaquil/Santa Elena\",'Tablas Guayaquil'!G270,'Tablas Resto de Ecuador'!G270)","v":1126.6916666666666}]
[72,null,{"$f":"IF('INGRESO DE DATOS'!$G$21=\"Guayaquil/Santa Elena\",'Tablas Guayaquil'!C271,'Tablas Resto de Ecuador'!C271)","v":1585.23},{"$f":"IF('INGRESO DE DATOS'!$G$21=\"Guayaquil/Santa Elena\",'Tablas Guayaquil'!D271,'Tablas Resto de Ecuador'!D271)","v":1553.165},{"$f":"IF('INGRESO DE DATOS'!$G$21=\"Guayaquil/Santa Elena\",'Tablas Guayaquil'!E271,'Tablas Resto de Ecuador'!E271)","v":1464.125},{"$f":"IF('INGRESO DE DATOS'!$G$21=\"Guayaquil/Santa Elena\",'Tablas Guayaquil'!F271,'Tablas Resto de Ecuador'!F271)","v":1334.9816666666666},{"$f":"IF('INGRESO DE DATOS'!$G$21=\"Guayaquil/Santa Elena\",'Tablas Guayaquil'!G271,'Tablas Resto de Ecuador'!G271)","v":1247.2666666666667}]
[73,null,{"$f":"IF('INGRESO DE DATOS'!$G$21=\"Guayaquil/Santa Elena\",'Tablas Guayaquil'!C272,'Tablas Resto de Ecuador'!C272)","v":1760.5716666666667},{"$f":"IF('INGRESO DE DATOS'!$G$21=\"Guayaquil/Santa Elena\",'Tablas Guayaquil'!D272,'Tablas Resto de Ecuador'!D272)","v":1724.9733333333334},{"$f":"IF('INGRESO DE DATOS'!$G$21=\"Guayaquil/Santa Elena\",'Tablas Guayaquil'!E272,'Tablas Resto de Ecuador'!E272)","v":1626.1283333333333},{"$f":"IF('INGRESO DE DATOS'!$G$21=\"Guayaquil/Santa Elena\",'Tablas Guayaquil'!F272,'Tablas Resto de Ecuador'!F272)","v":1482.5866666666666},{"$f":"IF('INGRESO DE DATOS'!$G$21=\"Guayaquil/Santa Elena\",'Tablas Guayaquil'!G272,'Tablas Resto de Ecuador'!G272)","v":1384.4483333333333}]
[74,null,{"$f":"IF('INGRESO DE DATOS'!$G$21=\"Guayaquil/Santa Elena\",'Tablas Guayaquil'!C273,'Tablas Resto de Ecuador'!C273)","v":1963.0316666666668},{"$f":"IF('INGRESO DE DATOS'!$G$21=\"Guayaquil/Santa Elena\",'Tablas Guayaquil'!D273,'Tablas Resto de Ecuador'!D273)","v":1923.635},{"$f":"IF('INGRESO DE DATOS'!$G$21=\"Guayaquil/Santa Elena\",'Tablas Guayaquil'!E273,'Tablas Resto de Ecuador'!E273)","v":1812.6},{"$f":"IF('INGRESO DE DATOS'!$G$21=\"Guayaquil/Santa Elena\",'Tablas Guayaquil'!F273,'Tablas Resto de Ecuador'!F273)","v":1652.6283333333333},{"$f":"IF('INGRESO DE DATOS'!$G$21=\"Guayaquil/Santa Elena\",'Tablas Guayaquil'!G273,'Tablas Resto de Ecuador'!G273)","v":1543.89}]
[75,null,{"$f":"IF('INGRESO DE DATOS'!$G$21=\"Guayaquil/Santa Elena\",'Tablas Guayaquil'!C274,'Tablas Resto de Ecuador'!C274)","v":2194.6416666666669},{"$f":"IF('INGRESO DE DATOS'!$G$21=\"Guayaquil/Santa Elena\",'Tablas Guayaquil'!D274,'Tablas Resto de Ecuador'!D274)","v":2150.3866666666668},{"$f":"IF('INGRESO DE DATOS'!$G$21=\"Guayaquil/Santa Elena\",'Tablas Guayaquil'!E274,'Tablas Resto de Ecuador'!E274)","v":2018.5050000000001},{"$f":"IF('INGRESO DE DATOS'!$G$21=\"Guayaquil/Santa Elena\",'Tablas Guayaquil'!F274,'Tablas Resto de Ecuador'!F274)","v":1847.7566666666667},{"$f":"IF('INGRESO DE DATOS'!$G$21=\"Guayaquil/Santa Elena\",'Tablas Guayaquil'!G274,'Tablas Resto de Ecuador'!G274)","v":1736.8983333333333}]
[76,null,{"$f":"IF('INGRESO DE DATOS'!$G$21=\"Guayaquil/Santa Elena\",'Tablas Guayaquil'!C275,'Tablas Resto de Ecuador'!C275)","v":2461.3200000000002},{"$f":"IF('INGRESO DE DATOS'!$G$21=\"Guayaquil/Santa Elena\",'Tablas Guayaquil'!D275,'Tablas Resto de Ecuador'!D275)","v":2411.0583333333334},{"$f":"IF('INGRESO DE DATOS'!$G$21=\"Guayaquil/Santa Elena\",'Tablas Guayaquil'!E275,'Tablas Resto de Ecuador'!E275)","v":2271.0500000000002},{"$f":"IF('INGRESO DE DATOS'!$G$21=\"Guayaquil/Santa Elena\",'Tablas Guayaquil'!F275,'Tablas Resto de Ecuador'!F275)","v":2072.1233333333334},{"$f":"IF('INGRESO DE DATOS'!$G$21=\"Guayaquil/Santa Elena\",'Tablas Guayaquil'!G275,'Tablas Resto de Ecuador'!G275)","v":1947.8383333333334}]
[77,null,{"$f":"IF('INGRESO DE DATOS'!$G$21=\"Guayaquil/Santa Elena\",'Tablas Guayaquil'!C276,'Tablas Resto de Ecuador'!C276)","v":2763.8616666666667},{"$f":"IF('INGRESO DE DATOS'!$G$21=\"Guayaquil/Santa Elena\",'Tablas Guayaquil'!D276,'Tablas Resto de Ecuador'!D276)","v":2708.1233333333334},{"$f":"IF('INGRESO DE DATOS'!$G$21=\"Guayaquil/Santa Elena\",'Tablas Guayaquil'!E276,'Tablas Resto de Ecuador'!E276)","v":2552.0383333333334},{"$f":"IF('INGRESO DE DATOS'!$G$21=\"Guayaquil/Santa Elena\",'Tablas Guayaquil'!F276,'Tablas Resto de Ecuador'!F276)","v":2327.3183333333332},{"$f":"IF('INGRESO DE DATOS'!$G$21=\"Guayaquil/Santa Elena\",'Tablas Guayaquil'!G276,'Tablas Resto de Ecuador'!G276)","v":2187.3983333333335}]
[78,null,{"$f":"IF('INGRESO DE DATOS'!$G$21=\"Guayaquil/Santa Elena\",'Tablas Guayaquil'!C277,'Tablas Resto de Ecuador'!C277)","v":3105.7116666666666},{"$f":"IF('INGRESO DE DATOS'!$G$21=\"Guayaquil/Santa Elena\",'Tablas Guayaquil'!D277,'Tablas Resto de Ecuador'!D277)","v":3042.9066666666668},{"$f":"IF('INGRESO DE DATOS'!$G$21=\"Guayaquil/Santa Elena\",'Tablas Guayaquil'!E277,'Tablas Resto de Ecuador'!E277)","v":2868.0066666666667},{"$f":"IF('INGRESO DE DATOS'!$G$21=\"Guayaquil/Santa Elena\",'Tablas Guayaquil'!F277,'Tablas Resto de Ecuador'!F277)","v":2614.8433333333332},{"$f":"IF('INGRESO DE DATOS'!$G$21=\"Guayaquil/Santa Elena\",'Tablas Guayaquil'!G277,'Tablas Resto de Ecuador'!G277)","v":2457.5216666666665}]
[79,null,{"$f":"IF('INGRESO DE DATOS'!$G$21=\"Guayaquil/Santa Elena\",'Tablas Guayaquil'!C278,'Tablas Resto de Ecuador'!C278)","v":3489.3433333333332},{"$f":"IF('INGRESO DE DATOS'!$G$21=\"Guayaquil/Santa Elena\",'Tablas Guayaquil'!D278,'Tablas Resto de Ecuador'!D278)","v":3419.2066666666665},{"$f":"IF('INGRESO DE DATOS'!$G$21=\"Guayaquil/Santa Elena\",'Tablas Guayaquil'!E278,'Tablas Resto de Ecuador'!E278)","v":3222.2233333333334},{"$f":"IF('INGRESO DE DATOS'!$G$21=\"Guayaquil/Santa Elena\",'Tablas Guayaquil'!F278,'Tablas Resto de Ecuador'!F278)","v":2937.8783333333331},{"$f":"IF('INGRESO DE DATOS'!$G$21=\"Guayaquil/Santa Elena\",'Tablas Guayaquil'!G278,'Tablas Resto de Ecuador'!G278)","v":2761.1233333333334}]
[80,"o más",{"$f":"IF('INGRESO DE DATOS'!$G$21=\"Guayaquil/Santa Elena\",'Tablas Guayaquil'!C279,'Tablas Resto de Ecuador'!C279)","v":3948.5883333333331},{"$f":"IF('INGRESO DE DATOS'!$G$21=\"Guayaquil/Santa Elena\",'Tablas Guayaquil'!D279,'Tablas Resto de Ecuador'!D279)","v":3868.8233333333333},{"$f":"IF('INGRESO DE DATOS'!$G$21=\"Guayaquil/Santa Elena\",'Tablas Guayaquil'!E279,'Tablas Resto de Ecuador'!E279)","v":3646.3116666666665},{"$f":"IF('INGRESO DE DATOS'!$G$21=\"Guayaquil/Santa Elena\",'Tablas Guayaquil'!F279,'Tablas Resto de Ecuador'!F279)","v":3324.6016666666665},{"$f":"IF('INGRESO DE DATOS'!$G$21=\"Guayaquil/Santa Elena\",'Tablas Guayaquil'!G279,'Tablas Resto de Ecuador'!G279)","v":3124.35}]
[1,"Hijo",{"$f":"IF('INGRESO DE DATOS'!$G$21=\"Guayaquil/Santa Elena\",'Tablas Guayaquil'!C280,'Tablas Resto de Ecuador'!C280)","v":117.21833333333333},{"$f":"IF('INGRESO DE DATOS'!$G$21=\"Guayaquil/Santa Elena\",'Tablas Guayaquil'!D280,'Tablas Resto de Ecuador'!D280)","v":114.56833333333333},{"$f":"IF('INGRESO DE DATOS'!$G$21=\"Guayaquil/Santa Elena\",'Tablas Guayaquil'!E280,'Tablas Resto de Ecuador'!E280)","v":107.855},{"$f":"IF('INGRESO DE DATOS'!$G$21=\"Guayaquil/Santa Elena\",'Tablas Guayaquil'!F280,'Tablas Resto de Ecuador'!F280)","v":98.756666666666661},{"$f":"IF('INGRESO DE DATOS'!$G$21=\"Guayaquil/Santa Elena\",'Tablas Guayaquil'!G280,'Tablas Resto de Ecuador'!G280)","v":58.123333333333335}]
[2,"Hijos",{"$f":"IF('INGRESO DE DATOS'!$G$21=\"Guayaquil/Santa Elena\",'Tablas Guayaquil'!C281,'Tablas Resto de Ecuador'!C281)","v":196.89500000000001},{"$f":"IF('INGRESO DE DATOS'!$G$21=\"Guayaquil/Santa Elena\",'Tablas Guayaquil'!D281,'Tablas Resto de Ecuador'!D281)","v":192.92},{"$f":"IF('INGRESO DE DATOS'!$G$21=\"Guayaquil/Santa Elena\",'Tablas Guayaquil'!E281,'Tablas Resto de Ecuador'!E281)","v":181.70166666666665},{"$f":"IF('INGRESO DE DATOS'!$G$21=\"Guayaquil/Santa Elena\",'Tablas Guayaquil'!F281,'Tablas Resto de Ecuador'!F281)","v":165.80166666666668},{"$f":"IF('INGRESO DE DATOS'!$G$21=\"Guayaquil/Santa Elena\",'Tablas Guayaquil'!G281,'Tablas Resto de Ecuador'!G281)","v":86.566666666666663}]
[3,"Hijos o más",{"$f":"IF('INGRESO DE DATOS'!$G$21=\"Guayaquil/Santa Elena\",'Tablas Guayaquil'!C282,'Tablas Resto de Ecuador'!C282)","v":288.76166666666666},{"$f":"IF('INGRESO DE DATOS'!$G$21=\"Guayaquil/Santa Elena\",'Tablas Guayaquil'!D282,'Tablas Resto de Ecuador'!D282)","v":282.755},{"$f":"IF('INGRESO DE DATOS'!$G$21=\"Guayaquil/Santa Elena\",'Tablas Guayaquil'!E282,'Tablas Resto de Ecuador'!E282)","v":266.50166666666667},{"$f":"IF('INGRESO DE DATOS'!$G$21=\"Guayaquil/Santa Elena\",'Tablas Guayaquil'!F282,'Tablas Resto de Ecuador'!F282)","v":243.27},{"$f":"IF('INGRESO DE DATOS'!$G$21=\"Guayaquil/Santa Elena\",'Tablas Guayaquil'!G282,'Tablas Resto de Ecuador'!G282)","v":123.84333333333333}]
[]
[]
["FLEX 50"]
["TARIFAS ANUALES"]
["EDAD"]
[" "," ","F50-1","F50-2","F50-3","F50-4","F50-5"]
[18,null,{"$f":"IF('INGRESO DE DATOS'!$G$21=\"Guayaquil/Santa Elena\",'Tablas Guayaquil'!C289,'Tablas Resto de Ecuador'!C289)","v":2054},{"$f":"IF('INGRESO DE DATOS'!$G$21=\"Guayaquil/Santa Elena\",'Tablas Guayaquil'!D289,'Tablas Resto de Ecuador'!D289)","v":2012},{"$f":"IF('INGRESO DE DATOS'!$G$21=\"Guayaquil/Santa Elena\",'Tablas Guayaquil'!E289,'Tablas Resto de Ecuador'!E289)","v":1897},{"$f":"IF('INGRESO DE DATOS'!$G$21=\"Guayaquil/Santa Elena\",'Tablas Guayaquil'!F289,'Tablas Resto de Ecuador'!F289)","v":1731},{"$f":"IF('INGRESO DE DATOS'!$G$21=\"Guayaquil/Santa Elena\",'Tablas Guayaquil'!G289,'Tablas Resto de Ecuador'!G289)","v":1336}]
[19,null,{"$f":"IF('INGRESO DE DATOS'!$G$21=\"Guayaquil/Santa Elena\",'Tablas Guayaquil'!C290,'Tablas Resto de Ecuador'!C290)","v":2087},{"$f":"IF('INGRESO DE DATOS'!$G$21=\"Guayaquil/Santa Elena\",'Tablas Guayaquil'!D290,'Tablas Resto de Ecuador'!D290)","v":2046},{"$f":"IF('INGRESO DE DATOS'!$G$21=\"Guayaquil/Santa Elena\",'Tablas Guayaquil'!E290,'Tablas Resto de Ecuador'!E290)","v":1925},{"$f":"IF('INGRESO DE DATOS'!$G$21=\"Guayaquil/Santa Elena\",'Tablas Guayaquil'!F290,'Tablas Resto de Ecuador'!F290)","v":1757},{"$f":"IF('INGRESO DE DATOS'!$G$21=\"Guayaquil/Santa Elena\",'Tablas Guayaquil'!G290,'Tablas Resto de Ecuador'!G290)","v":1365}]
[20,null,{"$f":"IF('INGRESO DE DATOS'!$G$21=\"Guayaquil/Santa Elena\",'Tablas Guayaquil'!C291,'Tablas Resto de Ecuador'!C291)","v":2125},{"$f":"IF('INGRESO DE DATOS'!$G$21=\"Guayaquil/Santa Elena\",'Tablas Guayaquil'!D291,'Tablas Resto de Ecuador'!D291)","v":2079},{"$f":"IF('INGRESO DE DATOS'!$G$21=\"Guayaquil/Santa Elena\",'Tablas Guayaquil'!E291,'Tablas Resto de Ecuador'!E291)","v":1960},{"$f":"IF('INGRESO DE DATOS'!$G$21=\"Guayaquil/Santa Elena\",'Tablas Guayaquil'!F291,'Tablas Resto de Ecuador'!F291)","v":1784},{"$f":"IF('INGRESO DE DATOS'!$G$21=\"Guayaquil/Santa Elena\",'Tablas Guayaquil'!G291,'Tablas Resto de Ecuador'!G291)","v":1394}]
[21,null,{"$f":"IF('INGRESO DE DATOS'!$G$21=\"Guayaquil/Santa Elena\",'Tablas Guayaquil'!C292,'Tablas Resto de Ecuador'!C292)","v":2160},{"$f":"IF('INGRESO DE DATOS'!$G$21=\"Guayaquil/Santa Elena\",'Tablas Guayaquil'!D292,'Tablas Resto de Ecuador'!D292)","v":2112},{"$f":"IF('INGRESO DE DATOS'!$G$21=\"Guayaquil/Santa Elena\",'Tablas Guayaquil'!E292,'Tablas Resto de Ecuador'!E292)","v":1998},{"$f":"IF('INGRESO DE DATOS'!$G$21=\"Guayaquil/Santa Elena\",'Tablas Guayaquil'!F292,'Tablas Resto de Ecuador'!F292)","v":1817},{"$f":"IF('INGRESO DE DATOS'!$G$21=\"Guayaquil/Santa Elena\",'Tablas Guayaquil'!G292,'Tablas Resto de Ecuador'!G292)","v":1427}]
[22,null,{"$f":"IF('INGRESO DE DATOS'!$G$21=\"Guayaquil/Santa Elena\",'Tablas Guayaquil'!C293,'Tablas Resto de Ecuador'!C293)","v":2194},{"$f":"IF('INGRESO DE DATOS'!$G$21=\"Guayaquil/Santa Elena\",'Tablas Guayaquil'!D293,'Tablas Resto de Ecuador'!D293)","v":2150},{"$f":"IF('INGRESO DE DATOS'!$G$21=\"Guayaquil/Santa Elena\",'Tablas Guayaquil'!E293,'Tablas Resto de Ecuador'!E293)","v":2027},{"$f":"IF('INGRESO DE DATOS'!$G$21=\"Guayaquil/Santa Elena\",'Tablas Guayaquil'!F293,'Tablas Resto de Ecuador'!F293)","v":1847},{"$f":"IF('INGRESO DE DATOS'!$G$21=\"Guayaquil/Santa Elena\",'Tablas Guayaquil'!G293,'Tablas Resto de Ecuador'!G293)","v":1455}]
[23,null,{"$f":"IF('INGRESO DE DATOS'!$G$21=\"Guayaquil/Santa Elena\",'Tablas Guayaquil'!C294,'Tablas Resto de Ecuador'!C294)","v":2231},{"$f":"IF('INGRESO DE DATOS'!$G$21=\"Guayaquil/Santa Elena\",'Tablas Guayaquil'!D294,'Tablas Resto de Ecuador'!D294)","v":2188},{"$f":"IF('INGRESO DE DATOS'!$G$21=\"Guayaquil/Santa Elena\",'Tablas Guayaquil'!E294,'Tablas Resto de Ecuador'!E294)","v":2058},{"$f":"IF('INGRESO DE DATOS'!$G$21=\"Guayaquil/Santa Elena\",'Tablas Guayaquil'!F294,'Tablas Resto de Ecuador'!F294)","v":1879},{"$f":"IF('INGRESO DE DATOS'!$G$21=\"Guayaquil/Santa Elena\",'Tablas Guayaquil'!G294,'Tablas Resto de Ecuador'!G294)","v":1486}]
[24,null,{"$f":"IF('INGRESO DE DATOS'!$G$21=\"Guayaquil/Santa Elena\",'Tablas Guayaquil'!C295,'Tablas Resto de Ecuador'!C295)","v":2266},{"$f":"IF('INGRESO DE DATOS'!$G$21=\"Guayaquil/Santa Elena\",'Tablas Guayaquil'!D295,'Tablas Resto de Ecuador'!D295)","v":2224},{"$f":"IF('INGRESO DE DATOS'!$G$21=\"Guayaquil/Santa Elena\",'Tablas Guayaquil'!E295,'Tablas Resto de Ecuador'!E295)","v":2095},{"$f":"IF('INGRESO DE DATOS'!$G$21=\"Guayaquil/Santa Elena\",'Tablas Guayaquil'!F295,'Tablas Resto de Ecuador'!F295)","v":1912},{"$f":"IF('INGRESO DE DATOS'!$G$21=\"Guayaquil/Santa Elena\",'Tablas Guayaquil'!G295,'Tablas Resto de Ecuador'!G295)","v":1517}]
[25,null,{"$f":"IF('INGRESO DE DATOS'!$G$21=\"Guayaquil/Santa Elena\",'Tablas Guayaquil'!C296,'Tablas Resto de Ecuador'!C296)","v":2305},{"$f":"IF('INGRESO DE DATOS'!$G$21=\"Guayaquil/Santa Elena\",'Tablas Guayaquil'!D296,'Tablas Resto de Ecuador'!D296)","v":2258},{"$f":"IF('INGRESO DE DATOS'!$G$21=\"Guayaquil/Santa Elena\",'Tablas Guayaquil'!E296,'Tablas Resto de Ecuador'!E296)","v":2129},{"$f":"IF('INGRESO DE DATOS'!$G$21=\"Guayaquil/Santa Elena\",'Tablas Guayaquil'!F296,'Tablas Resto de Ecuador'!F296)","v":1940},{"$f":"IF('INGRESO DE DATOS'!$G$21=\"Guayaquil/Santa Elena\",'Tablas Guayaquil'!G296,'Tablas Resto de Ecuador'!G296)","v":1543}]
[26,null,{"$f":"IF('INGRESO DE DATOS'!$G$21=\"Guayaquil/Santa Elena\",'Tablas Guayaquil'!C297,'Tablas Resto de Ecuador'!C297)","v":2338},{"$f":"IF('INGRESO DE DATOS'!$G$21=\"Guayaquil/Santa Elena\",'Tablas Guayaquil'!D297,'Tablas Resto de Ecuador'!D297)","v":2295},{"$f":"IF('INGRESO DE DATOS'!$G$21=\"Guayaquil/Santa Elena\",'Tablas Guayaquil'!E297,'Tablas Resto de Ecuador'!E297)","v":2162},{"$f":"IF('INGRESO DE DATOS'!$G$21=\"Guayaquil/Santa Elena\",'Tablas Guayaquil'!F297,'Tablas Resto de Ecuador'!F297)","v":1972},{"$f":"IF('INGRESO DE DATOS'!$G$21=\"Guayaquil/Santa Elena\",'Tablas Guayaquil'!G297,'Tablas Resto de Ecuador'!G297)","v":1575}]
[27,null,{"$f":"IF('INGRESO DE DATOS'!$G$21=\"Guayaquil/Santa Elena\",'Tablas Guayaquil'!C298,'Tablas Resto de Ecuador'!C298)","v":2379},{"$f":"IF('INGRESO DE DATOS'!$G$21=\"Guayaquil/Santa Elena\",'Tablas Guayaquil'!D298,'Tablas Resto de Ecuador'!D298)","v":2331},{"$f":"IF('INGRESO DE DATOS'!$G$21=\"Guayaquil/Santa Elena\",'Tablas Guayaquil'!E298,'Tablas Resto de Ecuador'!E298)","v":2194},{"$f":"IF('INGRESO DE DATOS'!$G$21=\"Guayaquil/Santa Elena\",'Tablas Guayaquil'!F298,'Tablas Resto de Ecuador'!F298)","v":2002},{"$f":"IF('INGRESO DE DATOS'!$G$21=\"Guayaquil/Santa Elena\",'Tablas Guayaquil'!G298,'Tablas Resto de Ecuador'!G298)","v":1608}]
[28,null,{"$f":"IF('INGRESO DE DATOS'!$G$21=\"Guayaquil/Santa Elena\",'Tablas Guayaquil'!C299,'Tablas Resto de Ecuador'!C299)","v":2420},{"$f":"IF('INGRESO DE DATOS'!$G$21=\"Guayaquil/Santa Elena\",'Tablas Guayaquil'!D299,'Tablas Resto de Ecuador'!D299)","v":2369},{"$f":"IF('INGRESO DE DATOS'!$G$21=\"Guayaquil/Santa Elena\",'Tablas Guayaquil'!E299,'Tablas Resto de Ecuador'!E299)","v":2232},{"$f":"IF('INGRESO DE DATOS'!$G$21=\"Guayaquil/Santa Elena\",'Tablas Guayaquil'!F299,'Tablas Resto de Ecuador'!F299)","v":2038},{"$f":"IF('INGRESO DE DATOS'!$G$21=\"Guayaquil/Santa Elena\",'Tablas Guayaquil'!G299,'Tablas Resto de Ecuador'!G299)","v":1646}]
[29,null,{"$f":"IF('INGRESO DE DATOS'!$G$21=\"Guayaquil/Santa Elena\",'Tablas Guayaquil'!C300,'Tablas Resto de Ecuador'!C300)","v":2465},{"$f":"IF('INGRESO DE DATOS'!$G$21=\"Guayaquil/Santa Elena\",'Tablas Guayaquil'!D300,'Tablas Resto de Ecuador'!D300)","v":2414},{"$f":"IF('INGRESO DE DATOS'!$G$21=\"Guayaquil/Santa Elena\",'Tablas Guayaquil'!E300,'Tablas Resto de Ecuador'!E300)","v":2276},{"$f":"IF('INGRESO DE DATOS'!$G$21=\"Guayaquil/Santa Elena\",'Tablas Guayaquil'!F300,'Tablas Resto de Ecuador'!F300)","v":2075},{"$f":"IF('INGRESO DE DATOS'!$G$21=\"Guayaquil/Santa Elena\",'Tablas Guayaquil'!G300,'Tablas Resto de Ecuador'!G300)","v":1683}]
[30,null,{"$f":"IF('INGRESO DE DATOS'!$G$21=\"Guayaquil/Santa Elena\",'Tablas Guayaquil'!C301,'Tablas Resto de Ecuador'!C301)","v":2506},{"$f":"IF('INGRESO DE DATOS'!$G$21=\"Guayaquil/Santa Elena\",'Tablas Guayaquil'!D301,'Tablas Resto de Ecuador'!D301)","v":2453},{"$f":"IF('INGRESO DE DATOS'!$G$21=\"Guayaquil/Santa Elena\",'Tablas Guayaquil'!E301,'Tablas Resto de Ecuador'!E301)","v":2316},{"$f":"IF('INGRESO DE DATOS'!$G$21=\"Guayaquil/Santa Elena\",'Tablas Guayaquil'!F301,'Tablas Resto de Ecuador'!F301)","v":2108},{"$f":"IF('INGRESO DE DATOS'!$G$21=\"Guayaquil/Santa Elena\",'Tablas Guayaquil'!G301,'Tablas Resto de Ecuador'!G301)","v":1723}]
[31,null,{"$f":"IF('INGRESO DE DATOS'!$G$21=\"Guayaquil/Santa Elena\",'Tablas Guayaquil'!C302,'Tablas Resto de Ecuador'!C302)","v":2549},{"$f":"IF('INGRESO DE DATOS'!$G$21=\"Guayaquil/Santa Elena\",'Tablas Guayaquil'!D302,'Tablas Resto de Ecuador'!D302)","v":2495},{"$f":"IF('INGRESO DE DATOS'!$G$21=\"Guayaquil/Santa Elena\",'Tablas Guayaquil'!E302,'Tablas Resto de Ecuador'!E302)","v":2356},{"$f":"IF('INGRESO DE DATOS'!$G$21=\"Guayaquil/Santa Elena\",'Tablas Guayaquil'!F302,'Tablas Resto de Ecuador'!F302)","v":2146},{"$f":"IF('INGRESO DE DATOS'!$G$21=\"Guayaquil/Santa Elena\",'Tablas Guayaquil'!G302,'Tablas Resto de Ecuador'!G302)","v":1757}]
[32,null,{"$f":"IF('INGRESO DE DATOS'!$G$21=\"Guayaquil/Santa Elena\",'Tablas Guayaquil'!C303,'Tablas Resto de Ecuador'!C303)","v":2588},{"$f":"IF('INGRESO DE DATOS'!$G$21=\"Guayaquil/Santa Elena\",'Tablas Guayaquil'!D303,'Tablas Resto de Ecuador'!D303)","v":2542},{"$f":"IF('INGRESO DE DATOS'!$G$21=\"Guayaquil/Santa Elena\",'Tablas Guayaquil'!E303,'Tablas Resto de Ecuador'!E303)","v":2393},{"$f":"IF('INGRESO DE DATOS'!$G$21=\"Guayaquil/Santa Elena\",'Tablas Guayaquil'!F303,'Tablas Resto de Ecuador'!F303)","v":2184},{"$f":"IF('INGRESO DE DATOS'!$G$21=\"Guayaquil/Santa Elena\",'Tablas Guayaquil'!G303,'Tablas Resto de Ecuador'!G303)","v":1801}]
[33,null,{"$f":"IF('INGRESO DE DATOS'!$G$21=\"Guayaquil/Santa Elena\",'Tablas Guayaquil'!C304,'Tablas Resto de Ecuador'!C304)","v":2661},{"$f":"IF('INGRESO DE DATOS'!$G$21=\"Guayaquil/Santa Elena\",'Tablas Guayaquil'!D304,'Tablas Resto de Ecuador'!D304)","v":2609},{"$f":"IF('INGRESO DE DATOS'!$G$21=\"Guayaquil/Santa Elena\",'Tablas Guayaquil'!E304,'Tablas Resto de Ecuador'!E304)","v":2461},{"$f":"IF('INGRESO DE DATOS'!$G$21=\"Guayaquil/Santa Elena\",'Tablas Guayaquil'!F304,'Tablas Resto de Ecuador'!F304)","v":2243},{"$f":"IF('INGRESO DE DATOS'!$G$21=\"Guayaquil/Santa Elena\",'Tablas Guayaquil'!G304,'Tablas Resto de Ecuador'!G304)","v":1851}]
[34,null,{"$f":"IF('INGRESO DE DATOS'!$G$21=\"Guayaquil/Santa Elena\",'Tablas Guayaquil'!C305,'Tablas Resto de Ecuador'!C305)","v":2735},{"$f":"IF('INGRESO DE DATOS'!$G$21=\"Guayaquil/Santa Elena\",'Tablas Guayaquil'!D305,'Tablas Resto de Ecuador'!D305)","v":2682},{"$f":"IF('INGRESO DE DATOS'!$G$21=\"Guayaquil/Santa Elena\",'Tablas Guayaquil'!E305,'Tablas Resto de Ecuador'!E305)","v":2525},{"$f":"IF('INGRESO DE DATOS'!$G$21=\"Guayaquil/Santa Elena\",'Tablas Guayaquil'!F305,'Tablas Resto de Ecuador'!F305)","v":2303},{"$f":"IF('INGRESO DE DATOS'!$G$21=\"Guayaquil/Santa Elena\",'Tablas Guayaquil'!G305,'Tablas Resto de Ecuador'!G305)","v":1906}]
[35,null,{"$f":"IF('INGRESO DE DATOS'!$G$21=\"Guayaquil/Santa Elena\",'Tablas Guayaquil'!C306,'Tablas Resto de Ecuador'!C306)","v":2802},{"$f":"IF('INGRESO DE DATOS'!$G$21=\"Guayaquil/Santa Elena\",'Tablas Guayaquil'!D306,'Tablas Resto de Ecuador'!D306)","v":2746},{"$f":"IF('INGRESO DE DATOS'!$G$21=\"Guayaquil/Santa Elena\",'Tablas Guayaquil'!E306,'Tablas Resto de Ecuador'!E306)","v":2588},{"$f":"IF('INGRESO DE DATOS'!$G$21=\"Guayaquil/Santa Elena\",'Tablas Guayaquil'!F306,'Tablas Resto de Ecuador'!F306)","v":2362},{"$f":"IF('INGRESO DE DATOS'!$G$21=\"Guayaquil/Santa Elena\",'Tablas Guayaquil'!G306,'Tablas Resto de Ecuador'!G306)","v":1960}]
[36,null,{"$f":"IF('INGRESO DE DATOS'!$G$21=\"Guayaquil/Santa Elena\",'Tablas Guayaquil'!C307,'Tablas Resto de Ecuador'!C307)","v":2875},{"$f":"IF('INGRESO DE DATOS'!$G$21=\"Guayaquil/Santa Elena\",'Tablas Guayaquil'!D307,'Tablas Resto de Ecuador'!D307)","v":2817},{"$f":"IF('INGRESO DE DATOS'!$G$21=\"Guayaquil/Santa Elena\",'Tablas Guayaquil'!E307,'Tablas Resto de Ecuador'!E307)","v":2657},{"$f":"IF('INGRESO DE DATOS'!$G$21=\"Guayaquil/Santa Elena\",'Tablas Guayaquil'!F307,'Tablas Resto de Ecuador'!F307)","v":2420},{"$f":"IF('INGRESO DE DATOS'!$G$21=\"Guayaquil/Santa Elena\",'Tablas Guayaquil'!G307,'Tablas Resto de Ecuador'!G307)","v":2017}]
[37,null,{"$f":"IF('INGRESO DE DATOS'!$G$21=\"Guayaquil/Santa Elena\",'Tablas Guayaquil'!C308,'Tablas Resto de Ecuador'!C308)","v":2946},{"$f":"IF('INGRESO DE DATOS'!$G$21=\"Guayaquil/Santa Elena\",'Tablas Guayaquil'!D308,'Tablas Resto de Ecuador'!D308)","v":2887},{"$f":"IF('INGRESO DE DATOS'!$G$21=\"Guayaquil/Santa Elena\",'Tablas Guayaquil'!E308,'Tablas Resto de Ecuador'!E308)","v":2719},{"$f":"IF('INGRESO DE DATOS'!$G$21=\"Guayaquil/Santa Elena\",'Tablas Guayaquil'!F308,'Tablas Resto de Ecuador'!F308)","v":2477},{"$f":"IF('INGRESO DE DATOS'!$G$21=\"Guayaquil/Santa Elena\",'Tablas Guayaquil'!G308,'Tablas Resto de Ecuador'!G308)","v":2073}]
[38,null,{"$f":"IF('INGRESO DE DATOS'!$G$21=\"Guayaquil/Santa Elena\",'Tablas Guayaquil'!C309,'Tablas Resto de Ecuador'!C309)","v":3017},{"$f":"IF('INGRESO DE DATOS'!$G$21=\"Guayaquil/Santa Elena\",'Tablas Guayaquil'!D309,'Tablas Resto de Ecuador'!D309)","v":2960},{"$f":"IF('INGRESO DE DATOS'!$G$21=\"Guayaquil/Santa Elena\",'Tablas Guayaquil'!E309,'Tablas Resto de Ecuador'!E309)","v":2788},{"$f":"IF('INGRESO DE DATOS'!$G$21=\"Guayaquil/Santa Elena\",'Tablas Guayaquil'!F309,'Tablas Resto de Ecuador'!F309)","v":2545},{"$f":"IF('INGRESO DE DATOS'!$G$21=\"Guayaquil/Santa Elena\",'Tablas Guayaquil'!G309,'Tablas Resto de Ecuador'!G309)","v":2129}]
[39,null,{"$f":"IF('INGRESO DE DATOS'!$G$21=\"Guayaquil/Santa Elena\",'Tablas Guayaquil'!C310,'Tablas Resto de Ecuador'!C310)","v":3091},{"$f":"IF('INGRESO DE DATOS'!$G$21=\"Guayaquil/Santa Elena\",'Tablas Guayaquil'!D310,'Tablas Resto de Ecuador'!D310)","v":3028},{"$f":"IF('INGRESO DE DATOS'!$G$21=\"Guayaquil/Santa Elena\",'Tablas Guayaquil'!E310,'Tablas Resto de Ecuador'!E310)","v":2853},{"$f":"IF('INGRESO DE DATOS'!$G$21=\"Guayaquil/Santa Elena\",'Tablas Guayaquil'!F310,'Tablas Resto de Ecuador'!F310)","v":2603},{"$f":"IF('INGRESO DE DATOS'!$G$21=\"Guayaquil/Santa Elena\",'Tablas Guayaquil'!G310,'Tablas Resto de Ecuador'!G310)","v":2190}]
[40,null,{"$f":"IF('INGRESO DE DATOS'!$G$21=\"Guayaquil/Santa Elena\",'Tablas Guayaquil'!C311,'Tablas Resto de Ecuador'!C311)","v":3164},{"$f":"IF('INGRESO DE DATOS'!$G$21=\"Guayaquil/Santa Elena\",'Tablas Guayaquil'!D311,'Tablas Resto de Ecuador'!D311)","v":3098},{"$f":"IF('INGRESO DE DATOS'!$G$21=\"Guayaquil/Santa Elena\",'Tablas Guayaquil'!E311,'Tablas Resto de Ecuador'!E311)","v":2919},{"$f":"IF('INGRESO DE DATOS'!$G$21=\"Guayaquil/Santa Elena\",'Tablas Guayaquil'!F311,'Tablas Resto de Ecuador'!F311)","v":2662},{"$f":"IF('INGRESO DE DATOS'!$G$21=\"Guayaquil/Santa Elena\",'Tablas Guayaquil'!G311,'Tablas Resto de Ecuador'!G311)","v":2250}]
[41,null,{"$f":"IF('INGRESO DE DATOS'!$G$21=\"Guayaquil/Santa Elena\",'Tablas Guayaquil'!C312,'Tablas Resto de Ecuador'!C312)","v":3235},{"$f":"IF('INGRESO DE DATOS'!$G$21=\"Guayaquil/Santa Elena\",'Tablas Guayaquil'!D312,'Tablas Resto de Ecuador'!D312)","v":3169},{"$f":"IF('INGRESO DE DATOS'!$G$21=\"Guayaquil/Santa Elena\",'Tablas Guayaquil'!E312,'Tablas Resto de Ecuador'!E312)","v":2986},{"$f":"IF('INGRESO DE DATOS'!$G$21=\"Guayaquil/Santa Elena\",'Tablas Guayaquil'!F312,'Tablas Resto de Ecuador'!F312)","v":2720},{"$f":"IF('INGRESO DE DATOS'!$G$21=\"Guayaquil/Santa Elena\",'Tablas Guayaquil'!G312,'Tablas Resto de Ecuador'!G312)","v":2305}]
[42,null,{"$f":"IF('INGRESO DE DATOS'!$G$21=\"Guayaquil/Santa Elena\",'Tablas Guayaquil'!C313,'Tablas Resto de Ecuador'!C313)","v":3308},{"$f":"IF('INGRESO DE DATOS'!$G$21=\"Guayaquil/Santa Elena\",'Tablas Guayaquil'!D313,'Tablas Resto de Ecuador'!D313)","v":3239},{"$f":"IF('INGRESO DE DATOS'!$G$21=\"Guayaquil/Santa Elena\",'Tablas Guayaquil'!E313,'Tablas Resto de Ecuador'!E313)","v":3056},{"$f":"IF('INGRESO DE DATOS'!$G$21=\"Guayaquil/Santa Elena\",'Tablas Guayaquil'!F313,'Tablas Resto de Ecuador'!F313)","v":2786},{"$f":"IF('INGRESO DE DATOS'!$G$21=\"Guayaquil/Santa Elena\",'Tablas Guayaquil'!G313,'Tablas Resto de Ecuador'!G313)","v":2364}]
[43,null,{"$f":"IF('INGRESO DE DATOS'!$G$21=\"Guayaquil/Santa Elena\",'Tablas Guayaquil'!C314,'Tablas Resto de Ecuador'!C314)","v":3438},{"$f":"IF('INGRESO DE DATOS'!$G$21=\"Guayaquil/Santa Elena\",'Tablas Guayaquil'!D314,'Tablas Resto de Ecuador'!D314)","v":3369},{"$f":"IF('INGRESO DE DATOS'!$G$21=\"Guayaquil/Santa Elena\",'Tablas Guayaquil'!E314,'Tablas Resto de Ecuador'!E314)","v":3172},{"$f":"IF('INGRESO DE DATOS'!$G$21=\"Guayaquil/Santa Elena\",'Tablas Guayaquil'!F314,'Tablas Resto de Ecuador'!F314)","v":2895},{"$f":"IF('INGRESO DE DATOS'!$G$21=\"Guayaquil/Santa Elena\",'Tablas Guayaquil'!G314,'Tablas Resto de Ecuador'!G314)","v":2471}]
[44,null,{"$f":"IF('INGRESO DE DATOS'!$G$21=\"Guayaquil/Santa Elena\",'Tablas Guayaquil'!C315,'Tablas Resto de Ecuador'!C315)","v":3571},{"$f":"IF('INGRESO DE DATOS'!$G$21=\"Guayaquil/Santa Elena\",'Tablas Guayaquil'!D315,'Tablas Resto de Ecuador'!D315)","v":3501},{"$f":"IF('INGRESO DE DATOS'!$G$21=\"Guayaquil/Santa Elena\",'Tablas Guayaquil'!E315,'Tablas Resto de Ecuador'!E315)","v":3297},{"$f":"IF('INGRESO DE DATOS'!$G$21=\"Guayaquil/Santa Elena\",'Tablas Guayaquil'!F315,'Tablas Resto de Ecuador'!F315)","v":3008},{"$f":"IF('INGRESO DE DATOS'!$G$21=\"Guayaquil/Santa Elena\",'Tablas Guayaquil'!G315,'Tablas Resto de Ecuador'!G315)","v":2573}]
[45,null,{"$f":"IF('INGRESO DE DATOS'!$G$21=\"Guayaquil/Santa Elena\",'Tablas Guayaquil'!C316,'Tablas Resto de Ecuador'!C316)","v":3704},{"$f":"IF('INGRESO DE DATOS'!$G$21=\"Guayaquil/Santa Elena\",'Tablas Guayaquil'!D316,'Tablas Resto de Ecuador'!D316)","v":3623},{"$f":"IF('INGRESO DE DATOS'!$G$21=\"Guayaquil/Santa Elena\",'Tablas Guayaquil'!E316,'Tablas Resto de Ecuador'!E316)","v":3421},{"$f":"IF('INGRESO DE DATOS'!$G$21=\"Guayaquil/Santa Elena\",'Tablas Guayaquil'!F316,'Tablas Resto de Ecuador'!F316)","v":3119},{"$f":"IF('INGRESO DE DATOS'!$G$21=\"Guayaquil/Santa Elena\",'Tablas Guayaquil'!G316,'Tablas Resto de Ecuador'!G316)","v":2682}]
[46,null,{"$f":"IF('INGRESO DE DATOS'!$G$21=\"Guayaquil/Santa Elena\",'Tablas Guayaquil'!C317,'Tablas Resto de Ecuador'!C317)","v":3834},{"$f":"IF('INGRESO DE DATOS'!$G$21=\"Guayaquil/Santa Elena\",'Tablas Guayaquil'!D317,'Tablas Resto de Ecuador'!D317)","v":3754},{"$f":"IF('INGRESO DE DATOS'!$G$21=\"Guayaquil/Santa Elena\",'Tablas Guayaquil'!E317,'Tablas Resto de Ecuador'!E317)","v":3539},{"$f":"IF('INGRESO DE DATOS'!$G$21=\"Guayaquil/Santa Elena\",'Tablas Guayaquil'!F317,'Tablas Resto de Ecuador'!F317)","v":3231},{"$f":"IF('INGRESO DE DATOS'!$G$21=\"Guayaquil/Santa Elena\",'Tablas Guayaquil'!G317,'Tablas Resto de Ecuador'!G317)","v":2782}]
[47,null,{"$f":"IF('INGRESO DE DATOS'!$G$21=\"Guayaquil/Santa Elena\",'Tablas Guayaquil'!C318,'Tablas Resto de Ecuador'!C318)","v":3965},{"$f":"IF('INGRESO DE DATOS'!$G$21=\"Guayaquil/Santa Elena\",'Tablas Guayaquil'!D318,'Tablas Resto de Ecuador'!D318)","v":3883},{"$f":"IF('INGRESO DE DATOS'!$G$21=\"Guayaquil/Santa Elena\",'Tablas Guayaquil'!E318,'Tablas Resto de Ecuador'!E318)","v":3663},{"$f":"IF('INGRESO DE DATOS'!$G$21=\"Guayaquil/Santa Elena\",'Tablas Guayaquil'!F318,'Tablas Resto de Ecuador'!F318)","v":3338},{"$f":"IF('INGRESO DE DATOS'!$G$21=\"Guayaquil/Santa Elena\",'Tablas Guayaquil'!G318,'Tablas Resto de Ecuador'!G318)","v":2887}]
[48,null,{"$f":"IF('INGRESO DE DATOS'!$G$21=\"Guayaquil/Santa Elena\",'Tablas Guayaquil'!C319,'Tablas Resto de Ecuador'!C319)","v":4104},{"$f":"IF('INGRESO DE DATOS'!$G$21=\"Guayaquil/Santa Elena\",'Tablas Guayaquil'!D319,'Tablas Resto de Ecuador'!D319)","v":4020},{"$f":"IF('INGRESO DE DATOS'!$G$21=\"Guayaquil/Santa Elena\",'Tablas Guayaquil'!E319,'Tablas Resto de Ecuador'!E319)","v":3790},{"$f":"IF('INGRESO DE DATOS'!$G$21=\"Guayaquil/Santa Elena\",'Tablas Guayaquil'!F319,'Tablas Resto de Ecuador'!F319)","v":3458},{"$f":"IF('INGRESO DE DATOS'!$G$21=\"Guayaquil/Santa Elena\",'Tablas Guayaquil'!G319,'Tablas Resto de Ecuador'!G319)","v":2994}]
[49,null,{"$f":"IF('INGRESO DE DATOS'!$G$21=\"Guayaquil/Santa Elena\",'Tablas Guayaquil'!C320,'Tablas Resto de Ecuador'!C320)","v":4243},{"$f":"IF('INGRESO DE DATOS'!$G$21=\"Guayaquil/Santa Elena\",'Tablas Guayaquil'!D320,'Tablas Resto de Ecuador'!D320)","v":4160},{"$f":"IF('INGRESO DE DATOS'!$G$21=\"Guayaquil/Santa Elena\",'Tablas Guayaquil'!E320,'Tablas Resto de Ecuador'!E320)","v":3916},{"$f":"IF('INGRESO DE DATOS'!$G$21=\"Guayaquil/Santa Elena\",'Tablas Guayaquil'!F320,'Tablas Resto de Ecuador'!F320)","v":3575},{"$f":"IF('INGRESO DE DATOS'!$G$21=\"Guayaquil/Santa Elena\",'Tablas Guayaquil'!G320,'Tablas Resto de Ecuador'!G320)","v":3104}]
[50,null,{"$f":"IF('INGRESO DE DATOS'!$G$21=\"Guayaquil/Santa Elena\",'Tablas Guayaquil'!C321,'Tablas Resto de Ecuador'!C321)","v":4380},{"$f":"IF('INGRESO DE DATOS'!$G$21=\"Guayaquil/Santa Elena\",'Tablas Guayaquil'!D321,'Tablas Resto de Ecuador'!D321)","v":4294},{"$f":"IF('INGRESO DE DATOS'!$G$21=\"Guayaquil/Santa Elena\",'Tablas Guayaquil'!E321,'Tablas Resto de Ecuador'!E321)","v":4047},{"$f":"IF('INGRESO DE DATOS'!$G$21=\"Guayaquil/Santa Elena\",'Tablas Guayaquil'!F321,'Tablas Resto de Ecuador'!F321)","v":3691},{"$f":"IF('INGRESO DE DATOS'!$G$21=\"Guayaquil/Santa Elena\",'Tablas Guayaquil'!G321,'Tablas Resto de Ecuador'!G321)","v":3212}]
[51,null,{"$f":"IF('INGRESO DE DATOS'!$G$21=\"Guayaquil/Santa Elena\",'Tablas Guayaquil'!C322,'Tablas Resto de Ecuador'!C322)","v":4519},{"$f":"IF('INGRESO DE DATOS'!$G$21=\"Guayaquil/Santa Elena\",'Tablas Guayaquil'!D322,'Tablas Resto de Ecuador'!D322)","v":4430},{"$f":"IF('INGRESO DE DATOS'!$G$21=\"Guayaquil/Santa Elena\",'Tablas Guayaquil'!E322,'Tablas Resto de Ecuador'!E322)","v":4174},{"$f":"IF('INGRESO DE DATOS'!$G$21=\"Guayaquil/Santa Elena\",'Tablas Guayaquil'!F322,'Tablas Resto de Ecuador'!F322)","v":3808},{"$f":"IF('INGRESO DE DATOS'!$G$21=\"Guayaquil/Santa Elena\",'Tablas Guayaquil'!G322,'Tablas Resto de Ecuador'!G322)","v":3319}]
[52,null,{"$f":"IF('INGRESO DE DATOS'!$G$21=\"Guayaquil/Santa Elena\",'Tablas Guayaquil'!C323,'Tablas Resto de Ecuador'!C323)","v":4658},{"$f":"IF('INGRESO DE DATOS'!$G$21=\"Guayaquil/Santa Elena\",'Tablas Guayaquil'!D323,'Tablas Resto de Ecuador'!D323)","v":4564},{"$f":"IF('INGRESO DE DATOS'!$G$21=\"Guayaquil/Santa Elena\",'Tablas Guayaquil'!E323,'Tablas Resto de Ecuador'!E323)","v":4304},{"$f":"IF('INGRESO DE DATOS'!$G$21=\"Guayaquil/Santa Elena\",'Tablas Guayaquil'!F323,'Tablas Resto de Ecuador'!F323)","v":3926},{"$f":"IF('INGRESO DE DATOS'!$G$21=\"Guayaquil/Santa Elena\",'Tablas Guayaquil'!G323,'Tablas Resto de Ecuador'!G323)","v":3430}]
[53,null,{"$f":"IF('INGRESO DE DATOS'!$G$21=\"Guayaquil/Santa Elena\",'Tablas Guayaquil'!C324,'Tablas Resto de Ecuador'!C324)","v":4824},{"$f":"IF('INGRESO DE DATOS'!$G$21=\"Guayaquil/Santa Elena\",'Tablas Guayaquil'!D324,'Tablas Resto de Ecuador'!D324)","v":4726},{"$f":"IF('INGRESO DE DATOS'!$G$21=\"Guayaquil/Santa Elena\",'Tablas Guayaquil'!E324,'Tablas Resto de Ecuador'!E324)","v":4453},{"$f":"IF('INGRESO DE DATOS'!$G$21=\"Guayaquil/Santa Elena\",'Tablas Guayaquil'!F324,'Tablas Resto de Ecuador'!F324)","v":4061},{"$f":"IF('INGRESO DE DATOS'!$G$21=\"Guayaquil/Santa Elena\",'Tablas Guayaquil'!G324,'Tablas Resto de Ecuador'!G324)","v":3561}]
[54,null,{"$f":"IF('INGRESO DE DATOS'!$G$21=\"Guayaquil/Santa Elena\",'Tablas Guayaquil'!C325,'Tablas Resto de Ecuador'!C325)","v":4991},{"$f":"IF('INGRESO DE DATOS'!$G$21=\"Guayaquil/Santa Elena\",'Tablas Guayaquil'!D325,'Tablas Resto de Ecuador'!D325)","v":4887},{"$f":"IF('INGRESO DE DATOS'!$G$21=\"Guayaquil/Santa Elena\",'Tablas Guayaquil'!E325,'Tablas Resto de Ecuador'!E325)","v":4606},{"$f":"IF('INGRESO DE DATOS'!$G$21=\"Guayaquil/Santa Elena\",'Tablas Guayaquil'!F325,'Tablas Resto de Ecuador'!F325)","v":4201},{"$f":"IF('INGRESO DE DATOS'!$G$21=\"Guayaquil/Santa Elena\",'Tablas Guayaquil'!G325,'Tablas Resto de Ecuador'!G325)","v":3695}]
[55,null,{"$f":"IF('INGRESO DE DATOS'!$G$21=\"Guayaquil/Santa Elena\",'Tablas Guayaquil'!C326,'Tablas Resto de Ecuador'!C326)","v":5154},{"$f":"IF('INGRESO DE DATOS'!$G$21=\"Guayaquil/Santa Elena\",'Tablas Guayaquil'!D326,'Tablas Resto de Ecuador'!D326)","v":5049},{"$f":"IF('INGRESO DE DATOS'!$G$21=\"Guayaquil/Santa Elena\",'Tablas Guayaquil'!E326,'Tablas Resto de Ecuador'!E326)","v":4759},{"$f":"IF('INGRESO DE DATOS'!$G$21=\"Guayaquil/Santa Elena\",'Tablas Guayaquil'!F326,'Tablas Resto de Ecuador'!F326)","v":4338},{"$f":"IF('INGRESO DE DATOS'!$G$21=\"Guayaquil/Santa Elena\",'Tablas Guayaquil'!G326,'Tablas Resto de Ecuador'!G326)","v":3830}]
[56,null,{"$f":"IF('INGRESO DE DATOS'!$G$21=\"Guayaquil/Santa Elena\",'Tablas Guayaquil'!C327,'Tablas Resto de Ecuador'!C327)","v":5317},{"$f":"IF('INGRESO DE DATOS'!$G$21=\"Guayaquil/Santa Elena\",'Tablas Guayaquil'!D327,'Tablas Resto de Ecuador'!D327)","v":5212},{"$f":"IF('INGRESO DE DATOS'!$G$21=\"Guayaquil/Santa Elena\",'Tablas Guayaquil'!E327,'Tablas Resto de Ecuador'!E327)","v":4911},{"$f":"IF('INGRESO DE DATOS'!$G$21=\"Guayaquil/Santa Elena\",'Tablas Guayaquil'!F327,'Tablas Resto de Ecuador'!F327)","v":4475},{"$f":"IF('INGRESO DE DATOS'!$G$21=\"Guayaquil/Santa Elena\",'Tablas Guayaquil'!G327,'Tablas Resto de Ecuador'!G327)","v":3960}]
[57,null,{"$f":"IF('INGRESO DE DATOS'!$G$21=\"Guayaquil/Santa Elena\",'Tablas Guayaquil'!C328,'Tablas Resto de Ecuador'!C328)","v":5482},{"$f":"IF('INGRESO DE DATOS'!$G$21=\"Guayaquil/Santa Elena\",'Tablas Guayaquil'!D328,'Tablas Resto de Ecuador'!D328)","v":5371},{"$f":"IF('INGRESO DE DATOS'!$G$21=\"Guayaquil/Santa Elena\",'Tablas Guayaquil'!E328,'Tablas Resto de Ecuador'!E328)","v":5067},{"$f":"IF('INGRESO DE DATOS'!$G$21=\"Guayaquil/Santa Elena\",'Tablas Guayaquil'!F328,'Tablas Resto de Ecuador'!F328)","v":4616},{"$f":"IF('INGRESO DE DATOS'!$G$21=\"Guayaquil/Santa Elena\",'Tablas Guayaquil'!G328,'Tablas Resto de Ecuador'!G328)","v":4094}]
[58,null,{"$f":"IF('INGRESO DE DATOS'!$G$21=\"Guayaquil/Santa Elena\",'Tablas Guayaquil'!C329,'Tablas Resto de Ecuador'!C329)","v":5676},{"$f":"IF('INGRESO DE DATOS'!$G$21=\"Guayaquil/Santa Elena\",'Tablas Guayaquil'!D329,'Tablas Resto de Ecuador'!D329)","v":5556},{"$f":"IF('INGRESO DE DATOS'!$G$21=\"Guayaquil/Santa Elena\",'Tablas Guayaquil'!E329,'Tablas Resto de Ecuador'!E329)","v":5226},{"$f":"IF('INGRESO DE DATOS'!$G$21=\"Guayaquil/Santa Elena\",'Tablas Guayaquil'!F329,'Tablas Resto de Ecuador'!F329)","v":4776},{"$f":"IF('INGRESO DE DATOS'!$G$21=\"Guayaquil/Santa Elena\",'Tablas Guayaquil'!G329,'Tablas Resto de Ecuador'!G329)","v":4269}]
[59,null,{"$f":"IF('INGRESO DE DATOS'!$G$21=\"Guayaquil/Santa Elena\",'Tablas Guayaquil'!C330,'Tablas Resto de Ecuador'!C330)","v":5864},{"$f":"IF('INGRESO DE DATOS'!$G$21=\"Guayaquil/Santa Elena\",'Tablas Guayaquil'!D330,'Tablas Resto de Ecuador'!D330)","v":5745},{"$f":"IF('INGRESO DE DATOS'!$G$21=\"Guayaquil/Santa Elena\",'Tablas Guayaquil'!E330,'Tablas Resto de Ecuador'!E330)","v":5385},{"$f":"IF('INGRESO DE DATOS'!$G$21=\"Guayaquil/Santa Elena\",'Tablas Guayaquil'!F330,'Tablas Resto de Ecuador'!F330)","v":4935},{"$f":"IF('INGRESO DE DATOS'!$G$21=\"Guayaquil/Santa Elena\",'Tablas Guayaquil'!G330,'Tablas Resto de Ecuador'!G330)","v":4442}]
[60,null,{"$f":"IF('INGRESO DE DATOS'!$G$21=\"Guayaquil/Santa Elena\",'Tablas Guayaquil'!C331,'Tablas Resto de Ecuador'!C331)","v":6055},{"$f":"IF('INGRESO DE DATOS'!$G$21=\"Guayaquil/Santa Elena\",'Tablas Guayaquil'!D331,'Tablas Resto de Ecuador'!D331)","v":5928},{"$f":"IF('INGRESO DE DATOS'!$G$21=\"Guayaquil/Santa Elena\",'Tablas Guayaquil'!E331,'Tablas Resto de Ecuador'!E331)","v":5541},{"$f":"IF('INGRESO DE DATOS'!$G$21=\"Guayaquil/Santa Elena\",'Tablas Guayaquil'!F331,'Tablas Resto de Ecuador'!F331)","v":5097},{"$f":"IF('INGRESO DE DATOS'!$G$21=\"Guayaquil/Santa Elena\",'Tablas Guayaquil'!G331,'Tablas Resto de Ecuador'!G331)","v":4615}]
[61,null,{"$f":"IF('INGRESO DE DATOS'!$G$21=\"Guayaquil/Santa Elena\",'Tablas Guayaquil'!C332,'Tablas Resto de Ecuador'!C332)","v":6281},{"$f":"IF('INGRESO DE DATOS'!$G$21=\"Guayaquil/Santa Elena\",'Tablas Guayaquil'!D332,'Tablas Resto de Ecuador'!D332)","v":6159},{"$f":"IF('INGRESO DE DATOS'!$G$21=\"Guayaquil/Santa Elena\",'Tablas Guayaquil'!E332,'Tablas Resto de Ecuador'!E332)","v":5782},{"$f":"IF('INGRESO DE DATOS'!$G$21=\"Guayaquil/Santa Elena\",'Tablas Guayaquil'!F332,'Tablas Resto de Ecuador'!F332)","v":5290},{"$f":"IF('INGRESO DE DATOS'!$G$21=\"Guayaquil/Santa Elena\",'Tablas Guayaquil'!G332,'Tablas Resto de Ecuador'!G332)","v":4787}]
[62,null,{"$f":"IF('INGRESO DE DATOS'!$G$21=\"Guayaquil/Santa Elena\",'Tablas Guayaquil'!C333,'Tablas Resto de Ecuador'!C333)","v":6564},{"$f":"IF('INGRESO DE DATOS'!$G$21=\"Guayaquil/Santa Elena\",'Tablas Guayaquil'!D333,'Tablas Resto de Ecuador'!D333)","v":6431},{"$f":"IF('INGRESO DE DATOS'!$G$21=\"Guayaquil/Santa Elena\",'Tablas Guayaquil'!E333,'Tablas Resto de Ecuador'!E333)","v":6063},{"$f":"IF('INGRESO DE DATOS'!$G$21=\"Guayaquil/Santa Elena\",'Tablas Guayaquil'!F333,'Tablas Resto de Ecuador'!F333)","v":5527},{"$f":"IF('INGRESO DE DATOS'!$G$21=\"Guayaquil/Santa Elena\",'Tablas Guayaquil'!G333,'Tablas Resto de Ecuador'!G333)","v":5002}]
[63,null,{"$f":"IF('INGRESO DE DATOS'!$G$21=\"Guayaquil/Santa Elena\",'Tablas Guayaquil'!C334,'Tablas Resto de Ecuador'!C334)","v":6904},{"$f":"IF('INGRESO DE DATOS'!$G$21=\"Guayaquil/Santa Elena\",'Tablas Guayaquil'!D334,'Tablas Resto de Ecuador'!D334)","v":6764},{"$f":"IF('INGRESO DE DATOS'!$G$21=\"Guayaquil/Santa Elena\",'Tablas Guayaquil'!E334,'Tablas Resto de Ecuador'!E334)","v":6378},{"$f":"IF('INGRESO DE DATOS'!$G$21=\"Guayaquil/Santa Elena\",'Tablas Guayaquil'!F334,'Tablas Resto de Ecuador'!F334)","v":5812},{"$f":"IF('INGRESO DE DATOS'!$G$21=\"Guayaquil/Santa Elena\",'Tablas Guayaquil'!G334,'Tablas Resto de Ecuador'!G334)","v":5260}]
[64,null,{"$f":"IF('INGRESO DE DATOS'!$G$21=\"Guayaquil/Santa Elena\",'Tablas Guayaquil'!C335,'Tablas Resto de Ecuador'!C335)","v":7300},{"$f":"IF('INGRESO DE DATOS'!$G$21=\"Guayaquil/Santa Elena\",'Tablas Guayaquil'!D335,'Tablas Resto de Ecuador'!D335)","v":7153},{"$f":"IF('INGRESO DE DATOS'!$G$21=\"Guayaquil/Santa Elena\",'Tablas Guayaquil'!E335,'Tablas Resto de Ecuador'!E335)","v":6742},{"$f":"IF('INGRESO DE DATOS'!$G$21=\"Guayaquil/Santa Elena\",'Tablas Guayaquil'!F335,'Tablas Resto de Ecuador'!F335)","v":6145},{"$f":"IF('INGRESO DE DATOS'!$G$21=\"Guayaquil/Santa Elena\",'Tablas Guayaquil'!G335,'Tablas Resto de Ecuador'!G335)","v":5561}]
[65,null,{"$f":"IF('INGRESO DE DATOS'!$G$21=\"Guayaquil/Santa Elena\",'Tablas Guayaquil'!C336,'Tablas Resto de Ecuador'!C336)","v":7777},{"$f":"IF('INGRESO DE DATOS'!$G$21=\"Guayaquil/Santa Elena\",'Tablas Guayaquil'!D336,'Tablas Resto de Ecuador'!D336)","v":7620},{"$f":"IF('INGRESO DE DATOS'!$G$21=\"Guayaquil/Santa Elena\",'Tablas Guayaquil'!E336,'Tablas Resto de Ecuador'!E336)","v":7179},{"$f":"IF('INGRESO DE DATOS'!$G$21=\"Guayaquil/Santa Elena\",'Tablas Guayaquil'!F336,'Tablas Resto de Ecuador'!F336)","v":6549},{"$f":"IF('INGRESO DE DATOS'!$G$21=\"Guayaquil/Santa Elena\",'Tablas Guayaquil'!G336,'Tablas Resto de Ecuador'!G336)","v":5976}]
[66,null,{"$f":"IF('INGRESO DE DATOS'!$G$21=\"Guayaquil/Santa Elena\",'Tablas Guayaquil'!C337,'Tablas Resto de Ecuador'!C337)","v":8337},{"$f":"IF('INGRESO DE DATOS'!$G$21=\"Guayaquil/Santa Elena\",'Tablas Guayaquil'!D337,'Tablas Resto de Ecuador'!D337)","v":8170},{"$f":"IF('INGRESO DE DATOS'!$G$21=\"Guayaquil/Santa Elena\",'Tablas Guayaquil'!E337,'Tablas Resto de Ecuador'!E337)","v":7701},{"$f":"IF('INGRESO DE DATOS'!$G$21=\"Guayaquil/Santa Elena\",'Tablas Guayaquil'!F337,'Tablas Resto de Ecuador'!F337)","v":7023},{"$f":"IF('INGRESO DE DATOS'!$G$21=\"Guayaquil/Santa Elena\",'Tablas Guayaquil'!G337,'Tablas Resto de Ecuador'!G337)","v":6457}]
[67,null,{"$f":"IF('INGRESO DE DATOS'!$G$21=\"Guayaquil/Santa Elena\",'Tablas Guayaquil'!C338,'Tablas Resto de Ecuador'!C338)","v":9000},{"$f":"IF('INGRESO DE DATOS'!$G$21=\"Guayaquil/Santa Elena\",'Tablas Guayaquil'!D338,'Tablas Resto de Ecuador'!D338)","v":8819},{"$f":"IF('INGRESO DE DATOS'!$G$21=\"Guayaquil/Santa Elena\",'Tablas Guayaquil'!E338,'Tablas Resto de Ecuador'!E338)","v":8312},{"$f":"IF('INGRESO DE DATOS'!$G$21=\"Guayaquil/Santa Elena\",'Tablas Guayaquil'!F338,'Tablas Resto de Ecuador'!F338)","v":7579},{"$f":"IF('INGRESO DE DATOS'!$G$21=\"Guayaquil/Santa Elena\",'Tablas Guayaquil'!G338,'Tablas Resto de Ecuador'!G338)","v":6974}]
[68,null,{"$f":"IF('INGRESO DE DATOS'!$G$21=\"Guayaquil/Santa Elena\",'Tablas Guayaquil'!C339,'Tablas Resto de Ecuador'!C339)","v":9766},{"$f":"IF('INGRESO DE DATOS'!$G$21=\"Guayaquil/Santa Elena\",'Tablas Guayaquil'!D339,'Tablas Resto de Ecuador'!D339)","v":9566},{"$f":"IF('INGRESO DE DATOS'!$G$21=\"Guayaquil/Santa Elena\",'Tablas Guayaquil'!E339,'Tablas Resto de Ecuador'!E339)","v":9016},{"$f":"IF('INGRESO DE DATOS'!$G$21=\"Guayaquil/Santa Elena\",'Tablas Guayaquil'!F339,'Tablas Resto de Ecuador'!F339)","v":8225},{"$f":"IF('INGRESO DE DATOS'!$G$21=\"Guayaquil/Santa Elena\",'Tablas Guayaquil'!G339,'Tablas Resto de Ecuador'!G339)","v":7566}]
[69,null,{"$f":"IF('INGRESO DE DATOS'!$G$21=\"Guayaquil/Santa Elena\",'Tablas Guayaquil'!C340,'Tablas Resto de Ecuador'!C340)","v":10655},{"$f":"IF('INGRESO DE DATOS'!$G$21=\"Guayaquil/Santa Elena\",'Tablas Guayaquil'!D340,'Tablas Resto de Ecuador'!D340)","v":10444},{"$f":"IF('INGRESO DE DATOS'!$G$21=\"Guayaquil/Santa Elena\",'Tablas Guayaquil'!E340,'Tablas Resto de Ecuador'!E340)","v":9844},{"$f":"IF('INGRESO DE DATOS'!$G$21=\"Guayaquil/Santa Elena\",'Tablas Guayaquil'!F340,'Tablas Resto de Ecuador'!F340)","v":8973},{"$f":"IF('INGRESO DE DATOS'!$G$21=\"Guayaquil/Santa Elena\",'Tablas Guayaquil'!G340,'Tablas Resto de Ecuador'!G340)","v":8260}]
[70,null,{"$f":"IF('INGRESO DE DATOS'!$G$21=\"Guayaquil/Santa Elena\",'Tablas Guayaquil'!C341,'Tablas Resto de Ecuador'!C341)","v":11687},{"$f":"IF('INGRESO DE DATOS'!$G$21=\"Guayaquil/Santa Elena\",'Tablas Guayaquil'!D341,'Tablas Resto de Ecuador'!D341)","v":11452},{"$f":"IF('INGRESO DE DATOS'!$G$21=\"Guayaquil/Santa Elena\",'Tablas Guayaquil'!E341,'Tablas Resto de Ecuador'!E341)","v":10702},{"$f":"IF('INGRESO DE DATOS'!$G$21=\"Guayaquil/Santa Elena\",'Tablas Guayaquil'!F341,'Tablas Resto de Ecuador'!F341)","v":9844},{"$f":"IF('INGRESO DE DATOS'!$G$21=\"Guayaquil/Santa Elena\",'Tablas Guayaquil'!G341,'Tablas Resto de Ecuador'!G341)","v":9190}]
[71,null,{"$f":"IF('INGRESO DE DATOS'!$G$21=\"Guayaquil/Santa Elena\",'Tablas Guayaquil'!C342,'Tablas Resto de Ecuador'!C342)","v":12873},{"$f":"IF('INGRESO DE DATOS'!$G$21=\"Guayaquil/Santa Elena\",'Tablas Guayaquil'!D342,'Tablas Resto de Ecuador'!D342)","v":12611},{"$f":"IF('INGRESO DE DATOS'!$G$21=\"Guayaquil/Santa Elena\",'Tablas Guayaquil'!E342,'Tablas Resto de Ecuador'!E342)","v":11884},{"$f":"IF('INGRESO DE DATOS'!$G$21=\"Guayaquil/Santa Elena\",'Tablas Guayaquil'!F342,'Tablas Resto de Ecuador'!F342)","v":10837},{"$f":"IF('INGRESO DE DATOS'!$G$21=\"Guayaquil/Santa Elena\",'Tablas Guayaquil'!G342,'Tablas Resto de Ecuador'!G342)","v":10121}]
[72,null,{"$f":"IF('INGRESO DE DATOS'!$G$21=\"Guayaquil/Santa Elena\",'Tablas Guayaquil'!C343,'Tablas Resto de Ecuador'!C343)","v":14240},{"$f":"IF('INGRESO DE DATOS'!$G$21=\"Guayaquil/Santa Elena\",'Tablas Guayaquil'!D343,'Tablas Resto de Ecuador'!D343)","v":13951},{"$f":"IF('INGRESO DE DATOS'!$G$21=\"Guayaquil/Santa Elena\",'Tablas Guayaquil'!E343,'Tablas Resto de Ecuador'!E343)","v":13150},{"$f":"IF('INGRESO DE DATOS'!$G$21=\"Guayaquil/Santa Elena\",'Tablas Guayaquil'!F343,'Tablas Resto de Ecuador'!F343)","v":11992},{"$f":"IF('INGRESO DE DATOS'!$G$21=\"Guayaquil/Santa Elena\",'Tablas Guayaquil'!G343,'Tablas Resto de Ecuador'!G343)","v":11204}]
[73,null,{"$f":"IF('INGRESO DE DATOS'!$G$21=\"Guayaquil/Santa Elena\",'Tablas Guayaquil'!C344,'Tablas Resto de Ecuador'!C344)","v":15813},{"$f":"IF('INGRESO DE DATOS'!$G$21=\"Guayaquil/Santa Elena\",'Tablas Guayaquil'!D344,'Tablas Resto de Ecuador'!D344)","v":15491},{"$f":"IF('INGRESO DE DATOS'!$G$21=\"Guayaquil/Santa Elena\",'Tablas Guayaquil'!E344,'Tablas Resto de Ecuador'!E344)","v":14607},{"$f":"IF('INGRESO DE DATOS'!$G$21=\"Guayaquil/Santa Elena\",'Tablas Guayaquil'!F344,'Tablas Resto de Ecuador'!F344)","v":13316},{"$f":"IF('INGRESO DE DATOS'!$G$21=\"Guayaquil/Santa Elena\",'Tablas Guayaquil'!G344,'Tablas Resto de Ecuador'!G344)","v":12435}]
[74,null,{"$f":"IF('INGRESO DE DATOS'!$G$21=\"Guayaquil/Santa Elena\",'Tablas Guayaquil'!C345,'Tablas Resto de Ecuador'!C345)","v":17630},{"$f":"IF('INGRESO DE DATOS'!$G$21=\"Guayaquil/Santa Elena\",'Tablas Guayaquil'!D345,'Tablas Resto de Ecuador'!D345)","v":17272},{"$f":"IF('INGRESO DE DATOS'!$G$21=\"Guayaquil/Santa Elena\",'Tablas Guayaquil'!E345,'Tablas Resto de Ecuador'!E345)","v":16283},{"$f":"IF('INGRESO DE DATOS'!$G$21=\"Guayaquil/Santa Elena\",'Tablas Guayaquil'!F345,'Tablas Resto de Ecuador'!F345)","v":14846},{"$f":"IF('INGRESO DE DATOS'!$G$21=\"Guayaquil/Santa Elena\",'Tablas Guayaquil'!G345,'Tablas Resto de Ecuador'!G345)","v":13869}]
[75,null,{"$f":"IF('INGRESO DE DATOS'!$G$21=\"Guayaquil/Santa Elena\",'Tablas Guayaquil'!C346,'Tablas Resto de Ecuador'!C346)","v":19712},{"$f":"IF('INGRESO DE DATOS'!$G$21=\"Guayaquil/Santa Elena\",'Tablas Guayaquil'!D346,'Tablas Resto de Ecuador'!D346)","v":19316},{"$f":"IF('INGRESO DE DATOS'!$G$21=\"Guayaquil/Santa Elena\",'Tablas Guayaquil'!E346,'Tablas Resto de Ecuador'!E346)","v":18132},{"$f":"IF('INGRESO DE DATOS'!$G$21=\"Guayaquil/Santa Elena\",'Tablas Guayaquil'!F346,'Tablas Resto de Ecuador'!F346)","v":16599},{"$f":"IF('INGRESO DE DATOS'!$G$21=\"Guayaquil/Santa Elena\",'Tablas Guayaquil'!G346,'Tablas Resto de Ecuador'!G346)","v":15595}]
[76,null,{"$f":"IF('INGRESO DE DATOS'!$G$21=\"Guayaquil/Santa Elena\",'Tablas Guayaquil'!C347,'Tablas Resto de Ecuador'!C347)","v":22103},{"$f":"IF('INGRESO DE DATOS'!$G$21=\"Guayaquil/Santa Elena\",'Tablas Guayaquil'!D347,'Tablas Resto de Ecuador'!D347)","v":21657},{"$f":"IF('INGRESO DE DATOS'!$G$21=\"Guayaquil/Santa Elena\",'Tablas Guayaquil'!E347,'Tablas Resto de Ecuador'!E347)","v":20396},{"$f":"IF('INGRESO DE DATOS'!$G$21=\"Guayaquil/Santa Elena\",'Tablas Guayaquil'!F347,'Tablas Resto de Ecuador'!F347)","v":18612},{"$f":"IF('INGRESO DE DATOS'!$G$21=\"Guayaquil/Santa Elena\",'Tablas Guayaquil'!G347,'Tablas Resto de Ecuador'!G347)","v":17494}]
[77,null,{"$f":"IF('INGRESO DE DATOS'!$G$21=\"Guayaquil/Santa Elena\",'Tablas Guayaquil'!C348,'Tablas Resto de Ecuador'!C348)","v":24826},{"$f":"IF('INGRESO DE DATOS'!$G$21=\"Guayaquil/Santa Elena\",'Tablas Guayaquil'!D348,'Tablas Resto de Ecuador'!D348)","v":24326},{"$f":"IF('INGRESO DE DATOS'!$G$21=\"Guayaquil/Santa Elena\",'Tablas Guayaquil'!E348,'Tablas Resto de Ecuador'!E348)","v":22927},{"$f":"IF('INGRESO DE DATOS'!$G$21=\"Guayaquil/Santa Elena\",'Tablas Guayaquil'!F348,'Tablas Resto de Ecuador'!F348)","v":20907},{"$f":"IF('INGRESO DE DATOS'!$G$21=\"Guayaquil/Santa Elena\",'Tablas Guayaquil'!G348,'Tablas Resto de Ecuador'!G348)","v":19646}]
[78,null,{"$f":"IF('INGRESO DE DATOS'!$G$21=\"Guayaquil/Santa Elena\",'Tablas Guayaquil'!C349,'Tablas Resto de Ecuador'!C349)","v":27895},{"$f":"IF('INGRESO DE DATOS'!$G$21=\"Guayaquil/Santa Elena\",'Tablas Guayaquil'!D349,'Tablas Resto de Ecuador'!D349)","v":27329},{"$f":"IF('INGRESO DE DATOS'!$G$21=\"Guayaquil/Santa Elena\",'Tablas Guayaquil'!E349,'Tablas Resto de Ecuador'!E349)","v":25761},{"$f":"IF('INGRESO DE DATOS'!$G$21=\"Guayaquil/Santa Elena\",'Tablas Guayaquil'!F349,'Tablas Resto de Ecuador'!F349)","v":23484},{"$f":"IF('INGRESO DE DATOS'!$G$21=\"Guayaquil/Santa Elena\",'Tablas Guayaquil'!G349,'Tablas Resto de Ecuador'!G349)","v":22074}]
[79,null,{"$f":"IF('INGRESO DE DATOS'!$G$21=\"Guayaquil/Santa Elena\",'Tablas Guayaquil'!C350,'Tablas Resto de Ecuador'!C350)","v":31341},{"$f":"IF('INGRESO DE DATOS'!$G$21=\"Guayaquil/Santa Elena\",'Tablas Guayaquil'!D350,'Tablas Resto de Ecuador'!D350)","v":30710},{"$f":"IF('INGRESO DE DATOS'!$G$21=\"Guayaquil/Santa Elena\",'Tablas Guayaquil'!E350,'Tablas Resto de Ecuador'!E350)","v":28946},{"$f":"IF('INGRESO DE DATOS'!$G$21=\"Guayaquil/Santa Elena\",'Tablas Guayaquil'!F350,'Tablas Resto de Ecuador'!F350)","v":26391},{"$f":"IF('INGRESO DE DATOS'!$G$21=\"Guayaquil/Santa Elena\",'Tablas Guayaquil'!G350,'Tablas Resto de Ecuador'!G350)","v":24802}]
[80,"o más",{"$f":"IF('INGRESO DE DATOS'!$G$21=\"Guayaquil/Santa Elena\",'Tablas Guayaquil'!C351,'Tablas Resto de Ecuador'!C351)","v":35466},{"$f":"IF('INGRESO DE DATOS'!$G$21=\"Guayaquil/Santa Elena\",'Tablas Guayaquil'!D351,'Tablas Resto de Ecuador'!D351)","v":34749},{"$f":"IF('INGRESO DE DATOS'!$G$21=\"Guayaquil/Santa Elena\",'Tablas Guayaquil'!E351,'Tablas Resto de Ecuador'!E351)","v":32749},{"$f":"IF('INGRESO DE DATOS'!$G$21=\"Guayaquil/Santa Elena\",'Tablas Guayaquil'!F351,'Tablas Resto de Ecuador'!F351)","v":29866},{"$f":"IF('INGRESO DE DATOS'!$G$21=\"Guayaquil/Santa Elena\",'Tablas Guayaquil'!G351,'Tablas Resto de Ecuador'!G351)","v":28064}]
[1,"Hijo",{"$f":"IF('INGRESO DE DATOS'!$G$21=\"Guayaquil/Santa Elena\",'Tablas Guayaquil'!C352,'Tablas Resto de Ecuador'!C352)","v":1047},{"$f":"IF('INGRESO DE DATOS'!$G$21=\"Guayaquil/Santa Elena\",'Tablas Guayaquil'!D352,'Tablas Resto de Ecuador'!D352)","v":1029},{"$f":"IF('INGRESO DE DATOS'!$G$21=\"Guayaquil/Santa Elena\",'Tablas Guayaquil'!E352,'Tablas Resto de Ecuador'!E352)","v":966},{"$f":"IF('INGRESO DE DATOS'!$G$21=\"Guayaquil/Santa Elena\",'Tablas Guayaquil'!F352,'Tablas Resto de Ecuador'!F352)","v":883},{"$f":"IF('INGRESO DE DATOS'!$G$21=\"Guayaquil/Santa Elena\",'Tablas Guayaquil'!G352,'Tablas Resto de Ecuador'!G352)","v":525}]
[2,"Hijos",{"$f":"IF('INGRESO DE DATOS'!$G$21=\"Guayaquil/Santa Elena\",'Tablas Guayaquil'!C353,'Tablas Resto de Ecuador'!C353)","v":1765},{"$f":"IF('INGRESO DE DATOS'!$G$21=\"Guayaquil/Santa Elena\",'Tablas Guayaquil'!D353,'Tablas Resto de Ecuador'!D353)","v":1732},{"$f":"IF('INGRESO DE DATOS'!$G$21=\"Guayaquil/Santa Elena\",'Tablas Guayaquil'!E353,'Tablas Resto de Ecuador'!E353)","v":1631},{"$f":"IF('INGRESO DE DATOS'!$G$21=\"Guayaquil/Santa Elena\",'Tablas Guayaquil'!F353,'Tablas Resto de Ecuador'!F353)","v":1488},{"$f":"IF('INGRESO DE DATOS'!$G$21=\"Guayaquil/Santa Elena\",'Tablas Guayaquil'!G353,'Tablas Resto de Ecuador'!G353)","v":775}]
[3,"Hijos o más",{"$f":"IF('INGRESO DE DATOS'!$G$21=\"Guayaquil/Santa Elena\",'Tablas Guayaquil'!C354,'Tablas Resto de Ecuador'!C354)","v":2594},{"$f":"IF('INGRESO DE DATOS'!$G$21=\"Guayaquil/Santa Elena\",'Tablas Guayaquil'!D354,'Tablas Resto de Ecuador'!D354)","v":2542},{"$f":"IF('INGRESO DE DATOS'!$G$21=\"Guayaquil/Santa Elena\",'Tablas Guayaquil'!E354,'Tablas Resto de Ecuador'!E354)","v":2393},{"$f":"IF('INGRESO DE DATOS'!$G$21=\"Guayaquil/Santa Elena\",'Tablas Guayaquil'!F354,'Tablas Resto de Ecuador'!F354)","v":2184},{"$f":"IF('INGRESO DE DATOS'!$G$21=\"Guayaquil/Santa Elena\",'Tablas Guayaquil'!G354,'Tablas Resto de Ecuador'!G354)","v":1117}]
[]
["TARIFAS MENSUALES"]
["EDAD"]
[" "," ","F50-1","F50-2","F50-3","F50-4","F50-5"]
[18,null,{"$f":"+C289*$M$2","v":181.43666666666667},177.72666666666666,167.56833333333333,152.905,118.01333333333334]
[19,null,184.35166666666666,180.73,170.04166666666666,155.20166666666665,120.575]
[20,null,187.70833333333334,183.64500000000001,173.13333333333333,157.58666666666667,123.13666666666667]
[21,null,190.8,186.56,176.49,160.50166666666667,126.05166666666666]
[22,null,193.80333333333334,189.91666666666666,179.05166666666668,163.15166666666667,128.52500000000001]
[23,null,197.07166666666666,193.27333333333334,181.79,165.97833333333332,131.26333333333332]
[24,null,200.16333333333333,196.45333333333332,185.05833333333334,168.89333333333335,134.00166666666667]
[25,null,203.60833333333332,199.45666666666668,188.06166666666667,171.36666666666667,136.29833333333335]
[26,null,206.52333333333334,202.72499999999999,190.97666666666666,174.19333333333333,139.125]
[27,null,210.14500000000001,205.905,193.80333333333334,176.84333333333333,142.04]
[28,null,{"$f":"+C299*$M$2","v":213.76666666666668},209.26166666666666,197.16,180.02333333333334,145.39666666666668]
[29,null,217.74166666666667,213.23666666666668,201.04666666666665,183.29166666666666,148.66499999999999]
[30,null,221.36333333333334,216.68166666666667,204.58,186.20666666666668,152.19833333333332]
[31,null,225.16166666666666,220.39166666666668,208.11333333333334,189.56333333333333,155.20166666666665]
[32,null,228.60666666666665,224.54333333333332,211.38166666666666,192.92,159.08833333333334]
[33,null,235.05500000000001,230.46166666666667,217.38833333333332,198.13166666666666,163.505]
[34,null,241.59166666666667,236.91,223.04166666666666,203.43166666666667,168.36333333333334]
[35,null,247.51,242.56333333333333,228.60666666666665,208.64333333333335,173.13333333333333]
[36,null,253.95833333333334,248.83500000000001,234.70166666666665,213.76666666666668,178.16833333333332]
[37,null,260.23,255.01833333333335,240.17833333333334,218.80166666666668,183.11500000000001]
[38,null,{"$f":"+C309*$M$2","v":266.50166666666667},261.46666666666664,246.27333333333334,224.80833333333334,188.06166666666667]
[39,null,273.03833333333336,267.47333333333336,252.01499999999999,229.93166666666667,193.45]
[40,null,279.48666666666668,273.65666666666664,257.84500000000003,235.14333333333335,198.75]
[41,null,285.75833333333333,279.92833333333334,263.76333333333332,240.26666666666668,203.60833333333332]
[42,null,292.20666666666665,286.11166666666668,269.94666666666666,246.09666666666666,208.82]
[43,null,303.69,297.59500000000003,280.19333333333333,255.72499999999999,218.27166666666668]
[44,null,315.43833333333333,309.255,291.23500000000001,265.70666666666665,227.28166666666667]
[45,null,327.18666666666667,320.03166666666664,302.18833333333333,275.51166666666666,236.91]
[46,null,338.67,331.60333333333335,312.61166666666668,285.40499999999997,245.74333333333334]
[47,null,350.24166666666667,342.99833333333333,323.565,294.85666666666668,255.01833333333335]
[48,null,{"$f":"+C319*$M$2","v":362.52},355.1,334.78333333333336,305.45666666666665,264.47000000000003]
[49,null,374.79833333333335,367.46666666666664,345.91333333333336,315.79166666666669,274.18666666666667]
[50,null,386.9,379.30333333333334,357.48500000000001,326.03833333333336,283.72666666666669]
[51,null,399.17833333333334,391.31666666666666,368.70333333333332,336.37333333333333,293.17833333333334]
[52,null,411.45666666666665,403.15333333333331,380.18666666666667,346.79666666666668,302.98333333333335]
[53,null,426.12,417.46333333333331,393.34833333333336,358.72166666666669,314.55500000000001]
[54,null,440.87166666666667,431.685,406.86333333333334,371.08833333333331,326.39166666666665]
[55,null,455.27,445.995,420.37833333333333,383.19,338.31666666666666]
[56,null,469.66833333333335,460.39333333333332,433.80500000000001,395.29166666666669,349.8]
[57,null,484.24333333333334,474.43833333333333,447.58499999999998,407.74666666666667,361.63666666666666]
[58,null,{"$f":"+C329*$M$2","v":501.38},490.78,461.63,421.88,377.09500000000003]
[59,null,517.98666666666668,507.47500000000002,475.67500000000001,435.92500000000001,392.37666666666667]
[60,null,534.85833333333335,523.64,489.45499999999998,450.23500000000001,407.65833333333336]
[61,null,554.82166666666672,544.04499999999996,510.74333333333334,467.28333333333336,422.85166666666669]
[62,null,579.82000000000005,568.07166666666672,535.56500000000005,488.21833333333331,441.84333333333331]
[63,null,609.85333333333335,597.48666666666668,563.39,513.39333333333332,464.63333333333333]
[64,null,644.83333333333337,631.84833333333336,595.54333333333329,542.80833333333328,491.22166666666669]
[65,null,686.96833333333336,673.1,634.14499999999998,578.495,527.88]
[66,null,736.43499999999995,721.68333333333328,680.255,620.36500000000001,570.36833333333334]
[67,null,795,779.01166666666666,734.22666666666669,669.47833333333335,616.03666666666663]
[68,null,{"$f":"+C339*$M$2","v":862.6633333333333},844.99666666666667,796.4133333333333,726.54166666666663,668.33]
[69,null,941.19166666666672,922.55333333333328,869.55333333333328,792.61500000000001,729.63333333333333]
[70,null,1032.3516666666667,1011.5933333333334,945.34333333333336,869.55333333333328,811.7833333333333]
[71,null,1137.115,1113.9716666666666,1049.7533333333333,957.26833333333332,894.02166666666665]
[72,null,1257.8666666666666,1232.3383333333334,1161.5833333333333,1059.2933333333333,989.68666666666661]
[73,null,1396.8150000000001,1368.3716666666667,1290.2850000000001,1176.2466666666667,1098.425]
[74,null,1557.3166666666666,1525.6933333333334,1438.3316666666667,1311.3966666666668,1225.095]
[75,null,1741.2266666666667,1706.2466666666667,1601.66,1466.2449999999999,1377.5583333333334]
[76,null,1952.4316666666666,1913.0350000000001,1801.6466666666668,1644.06,1545.3033333333333]
[77,null,2192.9633333333331,2148.7966666666666,2025.2183333333332,1846.7850000000001,1735.3966666666668]
[78,null,{"$f":"+C349*$M$2","v":2464.0583333333334},2414.0616666666665,2275.5549999999998,2074.42,1949.87]
[79,null,2768.4549999999999,2712.7166666666667,2556.8966666666665,2331.2049999999999,2190.8433333333332]
[80,"o más",3132.83,3069.4949999999999,2892.8283333333334,2638.1633333333334,2478.9866666666667]
[1,"Hijo",92.484999999999999,90.894999999999996,85.33,77.998333333333335,46.375]
[2,"Hijos",155.90833333333333,152.99333333333334,144.07166666666666,131.44,68.458333333333329]
[3,"Hijos o más",229.13666666666666,224.54333333333332,211.38166666666666,192.92,98.668333333333337]
[]
["ESSENTIAL"]
["TARIFAS ANUALES"]
["EDAD"]
[" "," ","ET1","ET2","ET3","ET4","ET5","ET6"]
[18,-24,{"$f":"L430*85%","v":3945.7},{"$f":"M430*85%","v":3334.5499999999997},2611.1999999999998,1902.3,1522.35,1150.8999999999999,null,null,null,{"$f":"IF('INGRESO DE DATOS'!$G$21=\"Guayaquil/Santa Elena\",'Tablas Guayaquil'!L430,'Tablas Resto de Ecuador'!L430)","v":4642},{"$f":"IF('INGRESO DE DATOS'!$G$21=\"Guayaquil/Santa Elena\",'Tablas Guayaquil'!M430,'Tablas Resto de Ecuador'!M430)","v":3923},{"$f":"IF('INGRESO DE DATOS'!$G$21=\"Guayaquil/Santa Elena\",'Tablas Guayaquil'!N430,'Tablas Resto de Ecuador'!N430)","v":3072},{"$f":"IF('INGRESO DE DATOS'!$G$21=\"Guayaquil/Santa Elena\",'Tablas Guayaquil'!O430,'Tablas Resto de Ecuador'!O430)","v":2238},{"$f":"IF('INGRESO DE DATOS'!$G$21=\"Guayaquil/Santa Elena\",'Tablas Guayaquil'!P430,'Tablas Resto de Ecuador'!P430)","v":1791},{"$f":"IF('INGRESO DE DATOS'!$G$21=\"Guayaquil/Santa Elena\",'Tablas Guayaquil'!Q430,'Tablas Resto de Ecuador'!Q430)","v":1354}]
[25,-29,{"$f":"L431*85%","v":4376.6499999999996},{"$f":"M431*85%","v":3672},{"$f":"N431*85%","v":2950.35},{"$f":"O431*85%","v":2119.9},{"$f":"P431*85%","v":1704.25},{"$f":"Q431*85%","v":1282.6499999999999},null,null,null,{"$f":"IF('INGRESO DE DATOS'!$G$21=\"Guayaquil/Santa Elena\",'Tablas Guayaquil'!L431,'Tablas Resto de Ecuador'!L431)","v":5149},{"$f":"IF('INGRESO DE DATOS'!$G$21=\"Guayaquil/Santa Elena\",'Tablas Guayaquil'!M431,'Tablas Resto de Ecuador'!M431)","v":4320},{"$f":"IF('INGRESO DE DATOS'!$G$21=\"Guayaquil/Santa Elena\",'Tablas Guayaquil'!N431,'Tablas Resto de Ecuador'!N431)","v":3471},{"$f":"IF('INGRESO DE DATOS'!$G$21=\"Guayaquil/Santa Elena\",'Tablas Guayaquil'!O431,'Tablas Resto de Ecuador'!O431)","v":2494},{"$f":"IF('INGRESO DE DATOS'!$G$21=\"Guayaquil/Santa Elena\",'Tablas Guayaquil'!P431,'Tablas Resto de Ecuador'!P431)","v":2005},{"$f":"IF('INGRESO DE DATOS'!$G$21=\"Guayaquil/Santa Elena\",'Tablas Guayaquil'!Q431,'Tablas Resto de Ecuador'!Q431)","v":1509}]
[30,-34,5063.45,4213.45,3470.5499999999997,2460.75,1968.6,1485.8,null,null,null,{"$f":"IF('INGRESO DE DATOS'!$G$21=\"Guayaquil/Santa Elena\",'Tablas Guayaquil'!L432,'Tablas Resto de Ecuador'!L432)","v":5957},{"$f":"IF('INGRESO DE DATOS'!$G$21=\"Guayaquil/Santa Elena\",'Tablas Guayaquil'!M432,'Tablas Resto de Ecuador'!M432)","v":4957},{"$f":"IF('INGRESO DE DATOS'!$G$21=\"Guayaquil/Santa Elena\",'Tablas Guayaquil'!N432,'Tablas Resto de Ecuador'!N432)","v":4083},{"$f":"IF('INGRESO DE DATOS'!$G$21=\"Guayaquil/Santa Elena\",'Tablas Guayaquil'!O432,'Tablas Resto de Ecuador'!O432)","v":2895},{"$f":"IF('INGRESO DE DATOS'!$G$21=\"Guayaquil/Santa Elena\",'Tablas Guayaquil'!P432,'Tablas Resto de Ecuador'!P432)","v":2316},{"$f":"IF('INGRESO DE DATOS'!$G$21=\"Guayaquil/Santa Elena\",'Tablas Guayaquil'!Q432,'Tablas Resto de Ecuador'!Q432)","v":1748}]
[35,-39,5598.95,4641.8499999999995,3879.4,2740.4,2189.6,1650.7,null,null,null,{"$f":"IF('INGRESO DE DATOS'!$G$21=\"Guayaquil/Santa Elena\",'Tablas Guayaquil'!L433,'Tablas Resto de Ecuador'!L433)","v":6587},{"$f":"IF('INGRESO DE DATOS'!$G$21=\"Guayaquil/Santa Elena\",'Tablas Guayaquil'!M433,'Tablas Resto de Ecuador'!M433)","v":5461},{"$f":"IF('INGRESO DE DATOS'!$G$21=\"Guayaquil/Santa Elena\",'Tablas Guayaquil'!N433,'Tablas Resto de Ecuador'!N433)","v":4564},{"$f":"IF('INGRESO DE DATOS'!$G$21=\"Guayaquil/Santa Elena\",'Tablas Guayaquil'!O433,'Tablas Resto de Ecuador'!O433)","v":3224},{"$f":"IF('INGRESO DE DATOS'!$G$21=\"Guayaquil/Santa Elena\",'Tablas Guayaquil'!P433,'Tablas Resto de Ecuador'!P433)","v":2576},{"$f":"IF('INGRESO DE DATOS'!$G$21=\"Guayaquil/Santa Elena\",'Tablas Guayaquil'!Q433,'Tablas Resto de Ecuador'!Q433)","v":1942}]
[40,-44,6314.65,5211.3499999999995,4427.6499999999996,3097.4,2482.85,1862.35,null,null,null,{"$f":"IF('INGRESO DE DATOS'!$G$21=\"Guayaquil/Santa Elena\",'Tablas Guayaquil'!L434,'Tablas Resto de Ecuador'!L434)","v":7429},{"$f":"IF('INGRESO DE DATOS'!$G$21=\"Guayaquil/Santa Elena\",'Tablas Guayaquil'!M434,'Tablas Resto de Ecuador'!M434)","v":6131},{"$f":"IF('INGRESO DE DATOS'!$G$21=\"Guayaquil/Santa Elena\",'Tablas Guayaquil'!N434,'Tablas Resto de Ecuador'!N434)","v":5209},{"$f":"IF('INGRESO DE DATOS'!$G$21=\"Guayaquil/Santa Elena\",'Tablas Guayaquil'!O434,'Tablas Resto de Ecuador'!O434)","v":3644},{"$f":"IF('INGRESO DE DATOS'!$G$21=\"Guayaquil/Santa Elena\",'Tablas Guayaquil'!P434,'Tablas Resto de Ecuador'!P434)","v":2921},{"$f":"IF('INGRESO DE DATOS'!$G$21=\"Guayaquil/Santa Elena\",'Tablas Guayaquil'!Q434,'Tablas Resto de Ecuador'!Q434)","v":2191}]
[45,-49,7320.2,6004.4,5194.3499999999995,3612.5,2885.75,2166.65,null,null,null,{"$f":"IF('INGRESO DE DATOS'!$G$21=\"Guayaquil/Santa Elena\",'Tablas Guayaquil'!L435,'Tablas Resto de Ecuador'!L435)","v":8612},{"$f":"IF('INGRESO DE DATOS'!$G$21=\"Guayaquil/Santa Elena\",'Tablas Guayaquil'!M435,'Tablas Resto de Ecuador'!M435)","v":7064},{"$f":"IF('INGRESO DE DATOS'!$G$21=\"Guayaquil/Santa Elena\",'Tablas Guayaquil'!N435,'Tablas Resto de Ecuador'!N435)","v":6111},{"$f":"IF('INGRESO DE DATOS'!$G$21=\"Guayaquil/Santa Elena\",'Tablas Guayaquil'!O435,'Tablas Resto de Ecuador'!O435)","v":4250},{"$f":"IF('INGRESO DE DATOS'!$G$21=\"Guayaquil/Santa Elena\",'Tablas Guayaquil'!P435,'Tablas Resto de Ecuador'!P435)","v":3395},{"$f":"IF('INGRESO DE DATOS'!$G$21=\"Guayaquil/Santa Elena\",'Tablas Guayaquil'!Q435,'Tablas Resto de Ecuador'!Q435)","v":2549}]
[50,-54,8015.5,6545.8499999999995,5720.5,3957.6,3166.25,2369.7999999999997,null,null,null,{"$f":"IF('INGRESO DE DATOS'!$G$21=\"Guayaquil/Santa Elena\",'Tablas Guayaquil'!L436,'Tablas Resto de Ecuador'!L436)","v":9430},{"$f":"IF('INGRESO DE DATOS'!$G$21=\"Guayaquil/Santa Elena\",'Tablas Guayaquil'!M436,'Tablas Resto de Ecuador'!M436)","v":7701},{"$f":"IF('INGRESO DE DATOS'!$G$21=\"Guayaquil/Santa Elena\",'Tablas Guayaquil'!N436,'Tablas Resto de Ecuador'!N436)","v":6730},{"$f":"IF('INGRESO DE DATOS'!$G$21=\"Guayaquil/Santa Elena\",'Tablas Guayaquil'!O436,'Tablas Resto de Ecuador'!O436)","v":4656},{"$f":"IF('INGRESO DE DATOS'!$G$21=\"Guayaquil/Santa Elena\",'Tablas Guayaquil'!P436,'Tablas Resto de Ecuador'!P436)","v":3725},{"$f":"IF('INGRESO DE DATOS'!$G$21=\"Guayaquil/Santa Elena\",'Tablas Guayaquil'!Q436,'Tablas Resto de Ecuador'!Q436)","v":2788}]
[55,-59,9473.25,7699.3,6832.3,4694.55,3761.25,2805.85,null,null,null,{"$f":"IF('INGRESO DE DATOS'!$G$21=\"Guayaquil/Santa Elena\",'Tablas Guayaquil'!L437,'Tablas Resto de Ecuador'!L437)","v":11145},{"$f":"IF('INGRESO DE DATOS'!$G$21=\"Guayaquil/Santa Elena\",'Tablas Guayaquil'!M437,'Tablas Resto de Ecuador'!M437)","v":9058},{"$f":"IF('INGRESO DE DATOS'!$G$21=\"Guayaquil/Santa Elena\",'Tablas Guayaquil'!N437,'Tablas Resto de Ecuador'!N437)","v":8038},{"$f":"IF('INGRESO DE DATOS'!$G$21=\"Guayaquil/Santa Elena\",'Tablas Guayaquil'!O437,'Tablas Resto de Ecuador'!O437)","v":5523},{"$f":"IF('INGRESO DE DATOS'!$G$21=\"Guayaquil/Santa Elena\",'Tablas Guayaquil'!P437,'Tablas Resto de Ecuador'!P437)","v":4425},{"$f":"IF('INGRESO DE DATOS'!$G$21=\"Guayaquil/Santa Elena\",'Tablas Guayaquil'!Q437,'Tablas Resto de Ecuador'!Q437)","v":3301}]
[60,null,9988.35,8059.7,7303.2,4975.05,3976.2999999999997,2969.9,null,null,null,{"$f":"IF('INGRESO DE DATOS'!$G$21=\"Guayaquil/Santa Elena\",'Tablas Guayaquil'!L438,'Tablas Resto de Ecuador'!L438)","v":11751},{"$f":"IF('INGRESO DE DATOS'!$G$21=\"Guayaquil/Santa Elena\",'Tablas Guayaquil'!M438,'Tablas Resto de Ecuador'!M438)","v":9482},{"$f":"IF('INGRESO DE DATOS'!$G$21=\"Guayaquil/Santa Elena\",'Tablas Guayaquil'!N438,'Tablas Resto de Ecuador'!N438)","v":8592},{"$f":"IF('INGRESO DE DATOS'!$G$21=\"Guayaquil/Santa Elena\",'Tablas Guayaquil'!O438,'Tablas Resto de Ecuador'!O438)","v":5853},{"$f":"IF('INGRESO DE DATOS'!$G$21=\"Guayaquil/Santa Elena\",'Tablas Guayaquil'!P438,'Tablas Resto de Ecuador'!P438)","v":4678},{"$f":"IF('INGRESO DE DATOS'!$G$21=\"Guayaquil/Santa Elena\",'Tablas Guayaquil'!Q438,'Tablas Resto de Ecuador'!Q438)","v":3494}]
[61,null,11242.1,9079.6999999999989,8216.1,5604.05,4482.8999999999996,3352.4,null,null,null,{"$f":"IF('INGRESO DE DATOS'!$G$21=\"Guayaquil/Santa Elena\",'Tablas Guayaquil'!L439,'Tablas Resto de Ecuador'!L439)","v":13226},{"$f":"IF('INGRESO DE DATOS'!$G$21=\"Guayaquil/Santa Elena\",'Tablas Guayaquil'!M439,'Tablas Resto de Ecuador'!M439)","v":10682},{"$f":"IF('INGRESO DE DATOS'!$G$21=\"Guayaquil/Santa Elena\",'Tablas Guayaquil'!N439,'Tablas Resto de Ecuador'!N439)","v":9666},{"$f":"IF('INGRESO DE DATOS'!$G$21=\"Guayaquil/Santa Elena\",'Tablas Guayaquil'!O439,'Tablas Resto de Ecuador'!O439)","v":6593},{"$f":"IF('INGRESO DE DATOS'!$G$21=\"Guayaquil/Santa Elena\",'Tablas Guayaquil'!P439,'Tablas Resto de Ecuador'!P439)","v":5274},{"$f":"IF('INGRESO DE DATOS'!$G$21=\"Guayaquil/Santa Elena\",'Tablas Guayaquil'!Q439,'Tablas Resto de Ecuador'!Q439)","v":3944}]
[62,null,12506.05,10094.6,9137.5,6232.2,4985.25,3732.35,null,null,null,{"$f":"IF('INGRESO DE DATOS'!$G$21=\"Guayaquil/Santa Elena\",'Tablas Guayaquil'!L440,'Tablas Resto de Ecuador'!L440)","v":14713},{"$f":"IF('INGRESO DE DATOS'!$G$21=\"Guayaquil/Santa Elena\",'Tablas Guayaquil'!M440,'Tablas Resto de Ecuador'!M440)","v":11876},{"$f":"IF('INGRESO DE DATOS'!$G$21=\"Guayaquil/Santa Elena\",'Tablas Guayaquil'!N440,'Tablas Resto de Ecuador'!N440)","v":10750},{"$f":"IF('INGRESO DE DATOS'!$G$21=\"Guayaquil/Santa Elena\",'Tablas Guayaquil'!O440,'Tablas Resto de Ecuador'!O440)","v":7332},{"$f":"IF('INGRESO DE DATOS'!$G$21=\"Guayaquil/Santa Elena\",'Tablas Guayaquil'!P440,'Tablas Resto de Ecuador'!P440)","v":5865},{"$f":"IF('INGRESO DE DATOS'!$G$21=\"Guayaquil/Santa Elena\",'Tablas Guayaquil'!Q440,'Tablas Resto de Ecuador'!Q440)","v":4391}]
[63,null,13756.4,11108.65,10053.799999999999,6863.75,5487.5999999999995,4105.5,null,null,null,{"$f":"IF('INGRESO DE DATOS'!$G$21=\"Guayaquil/Santa Elena\",'Tablas Guayaquil'!L441,'Tablas Resto de Ecuador'!L441)","v":16184},{"$f":"IF('INGRESO DE DATOS'!$G$21=\"Guayaquil/Santa Elena\",'Tablas Guayaquil'!M441,'Tablas Resto de Ecuador'!M441)","v":13069},{"$f":"IF('INGRESO DE DATOS'!$G$21=\"Guayaquil/Santa Elena\",'Tablas Guayaquil'!N441,'Tablas Resto de Ecuador'!N441)","v":11828},{"$f":"IF('INGRESO DE DATOS'!$G$21=\"Guayaquil/Santa Elena\",'Tablas Guayaquil'!O441,'Tablas Resto de Ecuador'!O441)","v":8075},{"$f":"IF('INGRESO DE DATOS'!$G$21=\"Guayaquil/Santa Elena\",'Tablas Guayaquil'!P441,'Tablas Resto de Ecuador'!P441)","v":6456},{"$f":"IF('INGRESO DE DATOS'!$G$21=\"Guayaquil/Santa Elena\",'Tablas Guayaquil'!Q441,'Tablas Resto de Ecuador'!Q441)","v":4830}]
[64,null,15011,12128.65,10972.65,7487.65,5991.65,4482.8999999999996,null,null,null,{"$f":"IF('INGRESO DE DATOS'!$G$21=\"Guayaquil/Santa Elena\",'Tablas Guayaquil'!L442,'Tablas Resto de Ecuador'!L442)","v":17660},{"$f":"IF('INGRESO DE DATOS'!$G$21=\"Guayaquil/Santa Elena\",'Tablas Guayaquil'!M442,'Tablas Resto de Ecuador'!M442)","v":14269},{"$f":"IF('INGRESO DE DATOS'!$G$21=\"Guayaquil/Santa Elena\",'Tablas Guayaquil'!N442,'Tablas Resto de Ecuador'!N442)","v":12909},{"$f":"IF('INGRESO DE DATOS'!$G$21=\"Guayaquil/Santa Elena\",'Tablas Guayaquil'!O442,'Tablas Resto de Ecuador'!O442)","v":8809},{"$f":"IF('INGRESO DE DATOS'!$G$21=\"Guayaquil/Santa Elena\",'Tablas Guayaquil'!P442,'Tablas Resto de Ecuador'!P442)","v":7049},{"$f":"IF('INGRESO DE DATOS'!$G$21=\"Guayaquil/Santa Elena\",'Tablas Guayaquil'!Q442,'Tablas Resto de Ecuador'!Q442)","v":5274}]
[65,null,15073.9,12138,11081.449999999999,7532.7,6026.5,4499.8999999999996,null,null,null,{"$f":"IF('INGRESO DE DATOS'!$G$21=\"Guayaquil/Santa Elena\",'Tablas Guayaquil'!L443,'Tablas Resto de Ecuador'!L443)","v":17734},{"$f":"IF('INGRESO DE DATOS'!$G$21=\"Guayaquil/Santa Elena\",'Tablas Guayaquil'!M443,'Tablas Resto de Ecuador'!M443)","v":14280},{"$f":"IF('INGRESO DE DATOS'!$G$21=\"Guayaquil/Santa Elena\",'Tablas Guayaquil'!N443,'Tablas Resto de Ecuador'!N443)","v":13037},{"$f":"IF('INGRESO DE DATOS'!$G$21=\"Guayaquil/Santa Elena\",'Tablas Guayaquil'!O443,'Tablas Resto de Ecuador'!O443)","v":8862},{"$f":"IF('INGRESO DE DATOS'!$G$21=\"Guayaquil/Santa Elena\",'Tablas Guayaquil'!P443,'Tablas Resto de Ecuador'!P443)","v":7090},{"$f":"IF('INGRESO DE DATOS'!$G$21=\"Guayaquil/Santa Elena\",'Tablas Guayaquil'!Q443,'Tablas Resto de Ecuador'!Q443)","v":5294}]
[66,null,15133.4,12150.75,11178.35,7580.3,6054.55,4508.3999999999996,null,null,null,{"$f":"IF('INGRESO DE DATOS'!$G$21=\"Guayaquil/Santa Elena\",'Tablas Guayaquil'!L444,'Tablas Resto de Ecuador'!L444)","v":17804},{"$f":"IF('INGRESO DE DATOS'!$G$21=\"Guayaquil/Santa Elena\",'Tablas Guayaquil'!M444,'Tablas Resto de Ecuador'!M444)","v":14295},{"$f":"IF('INGRESO DE DATOS'!$G$21=\"Guayaquil/Santa Elena\",'Tablas Guayaquil'!N444,'Tablas Resto de Ecuador'!N444)","v":13151},{"$f":"IF('INGRESO DE DATOS'!$G$21=\"Guayaquil/Santa Elena\",'Tablas Guayaquil'!O444,'Tablas Resto de Ecuador'!O444)","v":8918},{"$f":"IF('INGRESO DE DATOS'!$G$21=\"Guayaquil/Santa Elena\",'Tablas Guayaquil'!P444,'Tablas Resto de Ecuador'!P444)","v":7123},{"$f":"IF('INGRESO DE DATOS'!$G$21=\"Guayaquil/Santa Elena\",'Tablas Guayaquil'!Q444,'Tablas Resto de Ecuador'!Q444)","v":5304}]
[67,null,16823.2,13503.1,12429.55,8427.75,6737.95,5017.55,null,null,null,{"$f":"IF('INGRESO DE DATOS'!$G$21=\"Guayaquil/Santa Elena\",'Tablas Guayaquil'!L445,'Tablas Resto de Ecuador'!L445)","v":19792},{"$f":"IF('INGRESO DE DATOS'!$G$21=\"Guayaquil/Santa Elena\",'Tablas Guayaquil'!M445,'Tablas Resto de Ecuador'!M445)","v":15886},{"$f":"IF('INGRESO DE DATOS'!$G$21=\"Guayaquil/Santa Elena\",'Tablas Guayaquil'!N445,'Tablas Resto de Ecuador'!N445)","v":14623},{"$f":"IF('INGRESO DE DATOS'!$G$21=\"Guayaquil/Santa Elena\",'Tablas Guayaquil'!O445,'Tablas Resto de Ecuador'!O445)","v":9915},{"$f":"IF('INGRESO DE DATOS'!$G$21=\"Guayaquil/Santa Elena\",'Tablas Guayaquil'!P445,'Tablas Resto de Ecuador'!P445)","v":7927},{"$f":"IF('INGRESO DE DATOS'!$G$21=\"Guayaquil/Santa Elena\",'Tablas Guayaquil'!Q445,'Tablas Resto de Ecuador'!Q445)","v":5903}]
[68,null,18514.7,14869.9,13677.35,9268.4,7413.7,5527.55,null,null,null,{"$f":"IF('INGRESO DE DATOS'!$G$21=\"Guayaquil/Santa Elena\",'Tablas Guayaquil'!L446,'Tablas Resto de Ecuador'!L446)","v":21782},{"$f":"IF('INGRESO DE DATOS'!$G$21=\"Guayaquil/Santa Elena\",'Tablas Guayaquil'!M446,'Tablas Resto de Ecuador'!M446)","v":17494},{"$f":"IF('INGRESO DE DATOS'!$G$21=\"Guayaquil/Santa Elena\",'Tablas Guayaquil'!N446,'Tablas Resto de Ecuador'!N446)","v":16091},{"$f":"IF('INGRESO DE DATOS'!$G$21=\"Guayaquil/Santa Elena\",'Tablas Guayaquil'!O446,'Tablas Resto de Ecuador'!O446)","v":10904},{"$f":"IF('INGRESO DE DATOS'!$G$21=\"Guayaquil/Santa Elena\",'Tablas Guayaquil'!P446,'Tablas Resto de Ecuador'!P446)","v":8722},{"$f":"IF('INGRESO DE DATOS'!$G$21=\"Guayaquil/Santa Elena\",'Tablas Guayaquil'!Q446,'Tablas Resto de Ecuador'!Q446)","v":6503}]
[69,null,19357.05,15536.3,14302.949999999999,9696.7999999999993,7742.65,5784.25,null,null,null,{"$f":"IF('INGRESO DE DATOS'!$G$21=\"Guayaquil/Santa Elena\",'Tablas Guayaquil'!L447,'Tablas Resto de Ecuador'!L447)","v":22773},{"$f":"IF('INGRESO DE DATOS'!$G$21=\"Guayaquil/Santa Elena\",'Tablas Guayaquil'!M447,'Tablas Resto de Ecuador'!M447)","v":18278},{"$f":"IF('INGRESO DE DATOS'!$G$21=\"Guayaquil/Santa Elena\",'Tablas Guayaquil'!N447,'Tablas Resto de Ecuador'!N447)","v":16827},{"$f":"IF('INGRESO DE DATOS'!$G$21=\"Guayaquil/Santa Elena\",'Tablas Guayaquil'!O447,'Tablas Resto de Ecuador'!O447)","v":11408},{"$f":"IF('INGRESO DE DATOS'!$G$21=\"Guayaquil/Santa Elena\",'Tablas Guayaquil'!P447,'Tablas Resto de Ecuador'!P447)","v":9109},{"$f":"IF('INGRESO DE DATOS'!$G$21=\"Guayaquil/Santa Elena\",'Tablas Guayaquil'!Q447,'Tablas Resto de Ecuador'!Q447)","v":6805}]
[70,null,19493.899999999998,15572,14547.75,9801.35,7827.65,5813.15,null,null,null,{"$f":"IF('INGRESO DE DATOS'!$G$21=\"Guayaquil/Santa Elena\",'Tablas Guayaquil'!L448,'Tablas Resto de Ecuador'!L448)","v":22934},{"$f":"IF('INGRESO DE DATOS'!$G$21=\"Guayaquil/Santa Elena\",'Tablas Guayaquil'!M448,'Tablas Resto de Ecuador'!M448)","v":18320},{"$f":"IF('INGRESO DE DATOS'!$G$21=\"Guayaquil/Santa Elena\",'Tablas Guayaquil'!N448,'Tablas Resto de Ecuador'!N448)","v":17115},{"$f":"IF('INGRESO DE DATOS'!$G$21=\"Guayaquil/Santa Elena\",'Tablas Guayaquil'!O448,'Tablas Resto de Ecuador'!O448)","v":11531},{"$f":"IF('INGRESO DE DATOS'!$G$21=\"Guayaquil/Santa Elena\",'Tablas Guayaquil'!P448,'Tablas Resto de Ecuador'!P448)","v":9209},{"$f":"IF('INGRESO DE DATOS'!$G$21=\"Guayaquil/Santa Elena\",'Tablas Guayaquil'!Q448,'Tablas Resto de Ecuador'!Q448)","v":6839}]
[71,null,21938.5,17522.75,16365.9,11028.75,8807.6999999999989,6543.3,null,null,null,{"$f":"IF('INGRESO DE DATOS'!$G$21=\"Guayaquil/Santa Elena\",'Tablas Guayaquil'!L449,'Tablas Resto de Ecuador'!L449)","v":25810},{"$f":"IF('INGRESO DE DATOS'!$G$21=\"Guayaquil/Santa Elena\",'Tablas Guayaquil'!M449,'Tablas Resto de Ecuador'!M449)","v":20615},{"$f":"IF('INGRESO DE DATOS'!$G$21=\"Guayaquil/Santa Elena\",'Tablas Guayaquil'!N449,'Tablas Resto de Ecuador'!N449)","v":19254},{"$f":"IF('INGRESO DE DATOS'!$G$21=\"Guayaquil/Santa Elena\",'Tablas Guayaquil'!O449,'Tablas Resto de Ecuador'!O449)","v":12975},{"$f":"IF('INGRESO DE DATOS'!$G$21=\"Guayaquil/Santa Elena\",'Tablas Guayaquil'!P449,'Tablas Resto de Ecuador'!P449)","v":10362},{"$f":"IF('INGRESO DE DATOS'!$G$21=\"Guayaquil/Santa Elena\",'Tablas Guayaquil'!Q449,'Tablas Resto de Ecuador'!Q449)","v":7698}]
[72,null,24380.55,19475.2,18199.349999999999,12259.55,9790.2999999999993,7278.55,null,null,null,{"$f":"IF('INGRESO DE DATOS'!$G$21=\"Guayaquil/Santa Elena\",'Tablas Guayaquil'!L450,'Tablas Resto de Ecuador'!L450)","v":28683},{"$f":"IF('INGRESO DE DATOS'!$G$21=\"Guayaquil/Santa Elena\",'Tablas Guayaquil'!M450,'Tablas Resto de Ecuador'!M450)","v":22912},{"$f":"IF('INGRESO DE DATOS'!$G$21=\"Guayaquil/Santa Elena\",'Tablas Guayaquil'!N450,'Tablas Resto de Ecuador'!N450)","v":21411},{"$f":"IF('INGRESO DE DATOS'!$G$21=\"Guayaquil/Santa Elena\",'Tablas Guayaquil'!O450,'Tablas Resto de Ecuador'!O450)","v":14423},{"$f":"IF('INGRESO DE DATOS'!$G$21=\"Guayaquil/Santa Elena\",'Tablas Guayaquil'!P450,'Tablas Resto de Ecuador'!P450)","v":11518},{"$f":"IF('INGRESO DE DATOS'!$G$21=\"Guayaquil/Santa Elena\",'Tablas Guayaquil'!Q450,'Tablas Resto de Ecuador'!Q450)","v":8563}]
[73,null,26826.85,21442.1,20021.75,13490.35,10777.15,8007.8499999999995,null,null,null,{"$f":"IF('INGRESO DE DATOS'!$G$21=\"Guayaquil/Santa Elena\",'Tablas Guayaquil'!L451,'Tablas Resto de Ecuador'!L451)","v":31561},{"$f":"IF('INGRESO DE DATOS'!$G$21=\"Guayaquil/Santa Elena\",'Tablas Guayaquil'!M451,'Tablas Resto de Ecuador'!M451)","v":25226},{"$f":"IF('INGRESO DE DATOS'!$G$21=\"Guayaquil/Santa Elena\",'Tablas Guayaquil'!N451,'Tablas Resto de Ecuador'!N451)","v":23555},{"$f":"IF('INGRESO DE DATOS'!$G$21=\"Guayaquil/Santa Elena\",'Tablas Guayaquil'!O451,'Tablas Resto de Ecuador'!O451)","v":15871},{"$f":"IF('INGRESO DE DATOS'!$G$21=\"Guayaquil/Santa Elena\",'Tablas Guayaquil'!P451,'Tablas Resto de Ecuador'!P451)","v":12679},{"$f":"IF('INGRESO DE DATOS'!$G$21=\"Guayaquil/Santa Elena\",'Tablas Guayaquil'!Q451,'Tablas Resto de Ecuador'!Q451)","v":9421}]
[74,null,29268.899999999998,23390.3,21850.95,14720.3,11760.6,8743.1,null,null,null,{"$f":"IF('INGRESO DE DATOS'!$G$21=\"Guayaquil/Santa Elena\",'Tablas Guayaquil'!L452,'Tablas Resto de Ecuador'!L452)","v":34434},{"$f":"IF('INGRESO DE DATOS'!$G$21=\"Guayaquil/Santa Elena\",'Tablas Guayaquil'!M452,'Tablas Resto de Ecuador'!M452)","v":27518},{"$f":"IF('INGRESO DE DATOS'!$G$21=\"Guayaquil/Santa Elena\",'Tablas Guayaquil'!N452,'Tablas Resto de Ecuador'!N452)","v":25707},{"$f":"IF('INGRESO DE DATOS'!$G$21=\"Guayaquil/Santa Elena\",'Tablas Guayaquil'!O452,'Tablas Resto de Ecuador'!O452)","v":17318},{"$f":"IF('INGRESO DE DATOS'!$G$21=\"Guayaquil/Santa Elena\",'Tablas Guayaquil'!P452,'Tablas Resto de Ecuador'!P452)","v":13836},{"$f":"IF('INGRESO DE DATOS'!$G$21=\"Guayaquil/Santa Elena\",'Tablas Guayaquil'!Q452,'Tablas Resto de Ecuador'!Q452)","v":10286}]
[75,"o más",31972.75,25497.45,23962.35,16105.8,12868.15,9556.5499999999993,null,null,null,{"$f":"IF('INGRESO DE DATOS'!$G$21=\"Guayaquil/Santa Elena\",'Tablas Guayaquil'!L453,'Tablas Resto de Ecuador'!L453)","v":37615},{"$f":"IF('INGRESO DE DATOS'!$G$21=\"Guayaquil/Santa Elena\",'Tablas Guayaquil'!M453,'Tablas Resto de Ecuador'!M453)","v":29997},{"$f":"IF('INGRESO DE DATOS'!$G$21=\"Guayaquil/Santa Elena\",'Tablas Guayaquil'!N453,'Tablas Resto de Ecuador'!N453)","v":28191},{"$f":"IF('INGRESO DE DATOS'!$G$21=\"Guayaquil/Santa Elena\",'Tablas Guayaquil'!O453,'Tablas Resto de Ecuador'!O453)","v":18948},{"$f":"IF('INGRESO DE DATOS'!$G$21=\"Guayaquil/Santa Elena\",'Tablas Guayaquil'!P453,'Tablas Resto de Ecuador'!P453)","v":15139},{"$f":"IF('INGRESO DE DATOS'!$G$21=\"Guayaquil/Santa Elena\",'Tablas Guayaquil'!Q453,'Tablas Resto de Ecuador'!Q453)","v":11243}]
[1,"Hijo",1798.6,1619.25,957.94999999999993,776.05,619.65,458.15,null,null,null,{"$f":"IF('INGRESO DE DATOS'!$G$21=\"Guayaquil/Santa Elena\",'Tablas Guayaquil'!L454,'Tablas Resto de Ecuador'!L454)","v":2116},{"$f":"IF('INGRESO DE DATOS'!$G$21=\"Guayaquil/Santa Elena\",'Tablas Guayaquil'!M454,'Tablas Resto de Ecuador'!M454)","v":1905},{"$f":"IF('INGRESO DE DATOS'!$G$21=\"Guayaquil/Santa Elena\",'Tablas Guayaquil'!N454,'Tablas Resto de Ecuador'!N454)","v":1127},{"$f":"IF('INGRESO DE DATOS'!$G$21=\"Guayaquil/Santa Elena\",'Tablas Guayaquil'!O454,'Tablas Resto de Ecuador'!O454)","v":913},{"$f":"IF('INGRESO DE DATOS'!$G$21=\"Guayaquil/Santa Elena\",'Tablas Guayaquil'!P454,'Tablas Resto de Ecuador'!P454)","v":729},{"$f":"IF('INGRESO DE DATOS'!$G$21=\"Guayaquil/Santa Elena\",'Tablas Guayaquil'!Q454,'Tablas Resto de Ecuador'!Q454)","v":539}]
[2,"Hijos",2951.2,2731.0499999999997,1423.75,1215.5,971.55,719.1,null,null,null,{"$f":"IF('INGRESO DE DATOS'!$G$21=\"Guayaquil/Santa Elena\",'Tablas Guayaquil'!L455,'Tablas Resto de Ecuador'!L455)","v":3472},{"$f":"IF('INGRESO DE DATOS'!$G$21=\"Guayaquil/Santa Elena\",'Tablas Guayaquil'!M455,'Tablas Resto de Ecuador'!M455)","v":3213},{"$f":"IF('INGRESO DE DATOS'!$G$21=\"Guayaquil/Santa Elena\",'Tablas Guayaquil'!N455,'Tablas Resto de Ecuador'!N455)","v":1675},{"$f":"IF('INGRESO DE DATOS'!$G$21=\"Guayaquil/Santa Elena\",'Tablas Guayaquil'!O455,'Tablas Resto de Ecuador'!O455)","v":1430},{"$f":"IF('INGRESO DE DATOS'!$G$21=\"Guayaquil/Santa Elena\",'Tablas Guayaquil'!P455,'Tablas Resto de Ecuador'!P455)","v":1143},{"$f":"IF('INGRESO DE DATOS'!$G$21=\"Guayaquil/Santa Elena\",'Tablas Guayaquil'!Q455,'Tablas Resto de Ecuador'!Q455)","v":846}]
[3,"Hijos o más",{"$f":"L456*85%","v":4319.7},4000.1,2042.55,1765.45,1410.1499999999999,1040.3999999999999,null,null,null,{"$f":"IF('INGRESO DE DATOS'!$G$21=\"Guayaquil/Santa Elena\",'Tablas Guayaquil'!L456,'Tablas Resto de Ecuador'!L456)","v":5082},{"$f":"IF('INGRESO DE DATOS'!$G$21=\"Guayaquil/Santa Elena\",'Tablas Guayaquil'!M456,'Tablas Resto de Ecuador'!M456)","v":4706},{"$f":"IF('INGRESO DE DATOS'!$G$21=\"Guayaquil/Santa Elena\",'Tablas Guayaquil'!N456,'Tablas Resto de Ecuador'!N456)","v":2403},{"$f":"IF('INGRESO DE DATOS'!$G$21=\"Guayaquil/Santa Elena\",'Tablas Guayaquil'!O456,'Tablas Resto de Ecuador'!O456)","v":2077},{"$f":"IF('INGRESO DE DATOS'!$G$21=\"Guayaquil/Santa Elena\",'Tablas Guayaquil'!P456,'Tablas Resto de Ecuador'!P456)","v":1659},{"$f":"IF('INGRESO DE DATOS'!$G$21=\"Guayaquil/Santa Elena\",'Tablas Guayaquil'!Q456,'Tablas Resto de Ecuador'!Q456)","v":1224}]
[]
["TARIFAS MENSUALES"]
["EDAD"]
[" "," ","ET1","ET2","ET3","ET4","ET5","ET6"]
[18,-24,{"$f":"+C430*$M$2","v":348.53683333333333},294.55191666666661,230.65599999999998,168.03649999999999,134.47424999999998,101.66283333333332]
[25,-29,{"$f":"+C431*$M$2","v":386.60408333333328},324.36,260.61424999999997,187.25783333333334,{"$f":"+G431*$M$2","v":150.54208333333332},113.30074999999999]
[30,-34,447.27141666666665,372.18808333333334,306.56524999999999,217.36625000000001,{"$f":"+G432*$M$2","v":173.893},131.24566666666666]
[35,-39,494.57391666666666,410.03008333333327,342.68033333333335,242.06866666666667,{"$f":"+G433*$M$2","v":193.41466666666665},145.81183333333334]
[40,-44,557.79408333333333,460.33591666666661,391.10908333333327,273.6036666666667,{"$f":"+G434*$M$2","v":219.31841666666665},164.50758333333332]
[45,-49,646.61766666666665,530.38866666666661,458.83424999999994,319.10416666666669,{"$f":"+G435*$M$2","v":254.90791666666667},191.38741666666667]
[50,-54,708.03583333333336,578.21674999999993,505.31083333333333,349.58799999999997,{"$f":"+G436*$M$2","v":279.68541666666664},209.33233333333331]
[55,-59,836.80375000000004,680.10483333333332,603.51983333333339,414.68525,{"$f":"+G437*$M$2","v":332.24374999999998},247.85008333333332]
[60,null,882.30425000000002,711.94016666666664,645.11599999999999,439.46275000000003,{"$f":"+G438*$M$2","v":351.23983333333331},262.34116666666665]
[61,null,993.05216666666672,802.04016666666655,725.75549999999998,495.0244166666667,{"$f":"+G439*$M$2","v":395.98949999999996},296.12866666666667]
[62,null,1104.7010833333334,891.68966666666665,807.14583333333337,550.51099999999997,{"$f":"+G440*$M$2","v":440.36374999999998},329.69091666666668]
[63,null,1215.1486666666667,981.26408333333325,888.08566666666661,606.29791666666665,{"$f":"+G441*$M$2","v":484.73799999999994},362.65249999999997]
[64,null,1325.9716666666666,1071.3640833333334,969.25074999999993,661.40908333333334,{"$f":"+G442*$M$2","v":529.26241666666658},395.98949999999996]
[65,null,1331.5278333333333,1072.19,978.86141666666651,665.38850000000002,{"$f":"+G443*$M$2","v":532.34083333333331},397.49116666666663]
[66,null,1336.7836666666667,1073.3162500000001,987.4209166666667,669.59316666666666,{"$f":"+G444*$M$2","v":534.81858333333332},398.24199999999996]
[67,null,1486.0493333333334,1192.7738333333334,1097.9435833333332,744.45124999999996,{"$f":"+G445*$M$2","v":595.18558333333328},443.21691666666669]
[68,null,1635.4651666666666,1313.5078333333333,1208.1659166666666,818.70866666666666,{"$f":"+G446*$M$2","v":654.87683333333337},488.2669166666667]
[69,null,1709.87275,1372.3731666666665,1263.42725,856.55066666666664,{"$f":"+G447*$M$2","v":683.93408333333332},510.94208333333336]
[70,null,1721.9611666666665,1375.5266666666666,1285.05125,865.78591666666671,{"$f":"+G448*$M$2","v":691.44241666666665},513.49491666666665]
[71,null,1937.9008333333334,1547.8429166666667,1445.6544999999999,974.20624999999995,{"$f":"+G449*$M$2","v":778.01349999999991},577.99149999999997]
[72,null,2153.6152499999998,1720.3093333333334,1607.60925,1082.9269166666666,{"$f":"+G450*$M$2","v":864.80983333333324},642.93858333333333]
[73,null,2369.7050833333333,1894.0521666666666,1768.5879166666666,1191.6475833333334,{"$f":"+G451*$M$2","v":951.98158333333333},707.36008333333325]
[74,null,2585.4195,2066.1431666666667,1930.16725,1300.2931666666666,{"$f":"+G452*$M$2","v":1038.8530000000001},772.30716666666672]
[75,"o más",2824.2595833333335,2252.27475,2116.67425,1422.6789999999999,{"$f":"+G453*$M$2","v":1136.6865833333334},844.16191666666657]
[1,"Hijo",158.87633333333332,143.03375,84.618916666666664,68.551083333333324,{"$f":"+G454*$M$2","v":54.735749999999996},40.469916666666663]
[2,"Hijos",260.68933333333331,241.24274999999997,125.76458333333333,107.36916666666667,{"$f":"+G455*$M$2","v":85.820250000000001},63.520499999999998]
[3,"Hijos o más",381.57349999999997,353.34216666666669,180.42525000000001,155.94808333333333,{"$f":"+G456*$M$2","v":124.56324999999998},91.901999999999987]
[]
["ESSENTIAL 500"]
["TARIFAS SEMESTRALES"]
["EDAD"]
[" "," ","F500-1","F500-2","F500-3","F500-4","F500-5"]
[18,null,{"$f":"+C6*$M$3","v":1124.76},{"$f":"+D6*$M$3","v":962.02},704.52,485.64500000000004,264.70999999999998,156.56,90.125]
[19,null,{"$f":"+C7*$M$3","v":1143.3},962.02,704.52,486.16,267.28500000000003,159.13499999999999,92.185000000000002]
[20,null,{"$f":"+C8*$M$3","v":1163.385},962.02,704.52,487.70500000000004,270.375,161.19499999999999,94.245000000000005]
[21,null,{"$f":"+C9*$M$3","v":1185.53},962.02,705.55000000000007,490.79500000000002,273.46500000000003,164.8,96.820000000000007]
[22,null,{"$f":"+C10*$M$3","v":1204.585},962.02,707.61,494.40000000000003,277.58499999999998,167.89000000000001,99.394999999999996]
[23,null,{"$f":"+C11*$M$3","v":1224.67},964.59500000000003,712.245,499.55,282.22000000000003,172.01,101.97]
[24,null,{"$f":"+C12*$M$3","v":1227.76},969.23,717.91,506.245,287.37,176.13,105.575]
[25,null,{"$f":"+C13*$M$3","v":1233.425},975.92500000000007,725.63499999999999,513.97,293.55,180.76500000000001,109.18]
[26,null,{"$f":"+C14*$M$3","v":1242.6949999999999},985.71,735.93500000000006,522.72500000000002,300.76,186.43,112.785]
[27,null,{"$f":"+C15*$M$3","v":1255.0550000000001},998.07,747.78,533.02499999999998,308.48500000000001,192.095,116.905]
[28,null,{"$f":"+C16*$M$3","v":1270.5050000000001},1013.005,761.17000000000007,544.87,317.24,198.79,121.54]
[29,null,{"$f":"+C17*$M$3","v":1289.0450000000001},1030,776.62,558.26,327.02500000000003,206,127.205]
[30,null,{"$f":"+C18*$M$3","v":1310.675},1050.6000000000001,794.64499999999998,573.19500000000005,337.84000000000003,213.21,132.35499999999999]
[31,null,{"$f":"+C19*$M$3","v":1336.425},1073.7750000000001,814.73,589.67500000000007,349.17,221.965,139.05000000000001]
[32,null,{"$f":"+C20*$M$3","v":1366.2950000000001},1100.5550000000001,836.875,607.70000000000005,362.56,231.23500000000001,145.22999999999999]
[33,null,{"$f":"+C21*$M$3","v":1399.77},1129.9100000000001,862.11,628.30000000000007,375.95,241.535,152.44]
[34,null,{"$f":"+C22*$M$3","v":1436.8500000000001},1162.8700000000001,889.92000000000007,650.96,391.40000000000003,251.83500000000001,160.68]
[35,null,{"$f":"+C23*$M$3","v":1478.05},1198.92,920.82,675.68000000000006,407.88,264.19499999999999,168.92000000000002]
[36,null,{"$f":"+C24*$M$3","v":1523.885},1239.605,954.29500000000007,701.94500000000005,426.42,277.58499999999998,178.70500000000001]
[37,null,{"$f":"+C25*$M$3","v":1574.355},1283.3800000000001,990.34500000000003,731.30000000000007,446.505,291.49,188.49]
[38,null,{"$f":"+C26*$M$3","v":1628.9449999999999},1330.76,1030,763.23,468.13499999999999,306.94,199.82]
[39,null,{"$f":"+C27*$M$3","v":1688.6849999999999},1382.7750000000001,1073.7750000000001,797.73500000000001,491.31,323.42,211.66499999999999]
[40,null,{"$f":"+C28*$M$3","v":1736.5800000000002},1439.425,1121.155,835.33,517.06000000000006,341.96000000000004,225.05500000000001]
[41,null,{"$f":"+C29*$M$3","v":1775.2050000000002},1500.71,1171.625,875.5,543.84,361.53000000000003,239.47499999999999]
[42,null,{"$f":"+C30*$M$3","v":1816.92},1567.66,1227.2450000000001,920.30500000000006,574.22500000000002,382.64499999999998,254.92500000000001]
[43,null,{"$f":"+C31*$M$3","v":1886.4449999999999},1639.2450000000001,1286.9850000000001,967.68500000000006,606.66999999999996,406.33500000000004,271.92]
[44,null,{"$f":"+C32*$M$3","v":1959.06},1704.135,1351.3600000000001,1019.1850000000001,641.69000000000005,431.57,290.45999999999998]
[45,null,{"$f":"+C33*$M$3","v":2031.675},1765.9349999999999,1420.885,1075.32,679.28499999999997,458.86500000000001,310.03000000000003]
[46,null,{"$f":"+C34*$M$3","v":2103.2600000000002},1829.28,1496.075,1135.06,721,488.22,331.66]
[47,null,{"$f":"+C35*$M$3","v":2176.9050000000002},1892.1100000000001,1576.93,1199.95,764.77499999999998,520.15,355.35]
[48,null,{"$f":"+C36*$M$3","v":2254.1550000000002},1959.06,1664.48,1270.5050000000001,812.67000000000007,555.16999999999996,381.1]
[49,null,{"$f":"+C37*$M$3","v":2329.3450000000003},2025.4950000000001,1758.21,1346.21,864.68500000000006,593.28,408.91]
[50,null,{"$f":"+C38*$M$3","v":2405.0500000000002},2092.4450000000002,1866.3600000000001,1433.76,925.45500000000004,637.05500000000006,441.35500000000002]
[51,null,{"$f":"+C39*$M$3","v":2480.7550000000001},2157.85,1967.3,1539.335,999.1,690.61500000000001,481.01]
[52,null,{"$f":"+C40*$M$3","v":2556.9749999999999},2224.2849999999999,2028.0700000000002,1652.635,1077.3800000000001,748.29500000000007,523.755]
[53,null,{"$f":"+C41*$M$3","v":2648.13},2302.0500000000002,2100.6849999999999,1774.175,1161.8399999999999,810.09500000000003,570.10500000000002]
[54,null,{"$f":"+C42*$M$3","v":2738.77},2381.36,2171.7550000000001,1905.5,1252.9950000000001,876.01499999999999,619.54500000000007]
[55,null,{"$f":"+C43*$M$3","v":2830.9549999999999},2461.1849999999999,2242.8250000000003,1979.145,1350.33,947.08500000000004,672.59]
[56,null,{"$f":"+C44*$M$3","v":2921.08},2538.9500000000003,2313.895,2047.125,1429.125,1023.82,729.24]
[57,null,{"$f":"+C45*$M$3","v":3009.66},2618.2600000000002,2386.5100000000002,2116.1350000000002,1473.415,1106.22,791.04]
[58,null,{"$f":"+C46*$M$3","v":3114.2049999999999},2707.355,2461.7000000000003,2206.7750000000001,1532.125,1194.2850000000001,856.44500000000005]
[59,null,{"$f":"+C47*$M$3","v":3218.2350000000001},2798.51,2535.86,2295.87,1589.8050000000001,1289.0450000000001,927]
[60,null,{"$f":"+C48*$M$3","v":3321.75},2888.12,2612.08,2385.9949999999999,1648.5150000000001,1391.53,1003.735]
[61,null,{"$f":"+C49*$M$3","v":3449.9850000000001},2998.8450000000003,2724.35,2474.5750000000003,1709.8,1501.2250000000001,1085.105]
[62,null,{"$f":"+C50*$M$3","v":3604.4850000000001},3133.7750000000001,2857.7350000000001,2586.33,1787.5650000000001,1620.19,1173.6849999999999]
[63,null,{"$f":"+C51*$M$3","v":3789.8850000000002},3294.9700000000003,3006.0550000000003,2719.2000000000003,1880.78,1747.395,1268.4449999999999]
[64,null,{"$f":"+C52*$M$3","v":4008.2449999999999},3486.0350000000003,3177.55,2875.76,2088.3250000000003,1885.415,1369.9]
[65,null,{"$f":"+C53*$M$3","v":4270.8950000000004},3712.6350000000002,3385.0950000000003,3091.03,2235.6150000000002,2034.25,1480.1100000000001]
[66,null,{"$f":"+C54*$M$3","v":4577.32},3980.4349999999999,3629.7200000000003,3338.23,2408.14,2194.415,1598.56]
[67,null,{"$f":"+C55*$M$3","v":4942.97},4298.7049999999999,3920.1800000000003,3607.5750000000003,2600.75,2367.4549999999999,1726.28]
[68,null,{"$f":"+C56*$M$3","v":5363.7250000000004},4662.8100000000004,4252.87,3911.4250000000002,2820.14,2553.8850000000002,1863.27]
[69,null,{"$f":"+C57*$M$3","v":5852.46},5089.2300000000005,4640.1500000000005,4271.41,2933.9549999999999,2755.25,2011.075]
[70,null,{"$f":"+C58*$M$3","v":6418.96},5582.085,5045.4549999999999,4753.45,3243.9850000000001,2971.55,2169.1799999999998]
[71,null,{"$f":"+C59*$M$3","v":7069.92},6148.07,5604.7449999999999,5234.46,3573.585,3204.33,2338.1]
[72,null,{"$f":"+C60*$M$3","v":7820.2750000000005},6800.06,6201.63,5793.2350000000006,3955.2000000000003,3453.59,2518.35]
[73,null,{"$f":"+C61*$M$3","v":8686.505000000001},7552.4750000000004,6885.55,6431.3200000000006,4389.3450000000003,3720.875,2710.4450000000002]
[74,null,{"$f":"+C62*$M$3","v":9684.06},8419.7350000000006,7677.1050000000005,7171.375,4895.59,4005.67,2912.84]
[75,null,{"$f":"+C63*$M$3","v":10827.36},9415.7450000000008,8550.0300000000007,8069.02,5492.99,4307.46,3125.5349999999999]
[76,null,{"$f":"+C64*$M$3","v":12143.184999999999},10558.53,9619.6849999999995,9047.52,6159.4000000000005,4626.2449999999999,3346.9850000000001]
[77,null,{"$f":"+C65*$M$3","v":13636.17},11858.905000000001,10811.91,10087.305,6918.51,4959.9650000000001,3575.13]
[78,null,{"$f":"+C66*$M$3","v":15322.795},13324.08,12147.82,10820.15,7449.99,5306.0450000000001,3807.395]
[79,null,{"$f":"+C67*$M$3","v":17215.935000000001},14969.505000000001,13649.56,11590.075000000001,7974.26,5661.91,4037.6]
[80,"o más",{"$f":"+C68*$M$3","v":19348.55},16940.924999999999,15080.23,12393.475,8515.01,6021.8950000000004,4261.625]
[1,"Hijo",{"$f":"+C69*$M$3","v":742.63},645.29500000000007,467.62,320.33,175.1,103.515,59.225000000000001]
[2,"Hijos",{"$f":"+C70*$M$3","v":877.56000000000006},762.2,552.59500000000003,378.52500000000003,206.51500000000001,122.05500000000001,70.040000000000006]
[3,"Hijos o más",{"$f":"+C71*$M$3","v":1214.885},1055.75,764.77499999999998,524.27,286.34000000000003,168.92000000000002,97.335000000000008]
[]
["ESSENTIAL 100"]
["TARIFAS SEMESTRALES"]
["EDAD"]
[" "," ","F100-1","F100-2","F100-3","F100-4","F100-5"]
[18,null,{"$f":"+C147*$M$3","v":1330.2450000000001},{"$f":"+D147*$M$3","v":1302.95},1230.8500000000001,1122.7,{"$f":"+G147*$M$3","v":868.80500000000006}]
[19,null,{"$f":"+C148*$M$3","v":1354.9650000000001},1328.1849999999999,1252.48,1142.7850000000001,886.31500000000005]
[20,null,{"$f":"+C149*$M$3","v":1377.625},1347.24,1272.5650000000001,1159.2650000000001,903.31000000000006]
[21,null,{"$f":"+C150*$M$3","v":1400.8},1372.4750000000001,1292.6500000000001,1178.32,922.88]
[22,null,{"$f":"+C151*$M$3","v":1422.43},1398.74,1314.7950000000001,1200.98,943.48]
[23,null,{"$f":"+C152*$M$3","v":1449.21},1419.3400000000001,1337.97,1218.49,962.53499999999997]
[24,null,{"$f":"+C153*$M$3","v":1473.415},1443.03,1360.63,1240.1200000000001,981.59]
[25,null,{"$f":"+C154*$M$3","v":1495.56},1465.69,1378.655,1261.75,1004.765]
[26,null,{"$f":"+C155*$M$3","v":1519.7650000000001},1489.895,1403.375,1279.26,1021.76]
[27,null,{"$f":"+C156*$M$3","v":1541.395},1511.5250000000001,1422.43,1299.8600000000001,1041.845]
[28,null,{"$f":"+C157*$M$3","v":1570.2350000000001},1539.8500000000001,1450.7550000000001,1323.0350000000001,1067.08]
[29,null,{"$f":"+C158*$M$3","v":1598.56},1566.63,1476.5050000000001,1345.18,1094.375]
[30,null,{"$f":"+C159*$M$3","v":1627.4},1593.41,1501.74,1370.415,1118.0650000000001]
[31,null,{"$f":"+C160*$M$3","v":1653.15},1619.675,1525.43,1392.56,1142.7850000000001]
[32,null,{"$f":"+C161*$M$3","v":1682.5050000000001},1646.97,1553.7550000000001,1416.25,1165.96]
[33,null,{"$f":"+C162*$M$3","v":1727.31},1692.29,1595.47,1452.8150000000001,1202.5250000000001]
[34,null,{"$f":"+C163*$M$3","v":1773.145},1738.125,1637.1849999999999,1492.9850000000001,1237.5450000000001]
[35,null,{"$f":"+C164*$M$3","v":1818.98},1782.93,1681.4750000000001,1532.125,1272.5650000000001]
[36,null,{"$f":"+C165*$M$3","v":1864.3},1828.25,1723.19,1570.2350000000001,1310.675]
[37,null,{"$f":"+C166*$M$3","v":1909.6200000000001},1873.57,1765.42,1610.92,1344.15]
[38,null,{"$f":"+C167*$M$3","v":1957.5150000000001},1919.405,1810.2250000000001,1649.03,1383.29]
[39,null,{"$f":"+C168*$M$3","v":2005.41},1963.6950000000002,1851.425,1690.23,1419.855]
[40,null,{"$f":"+C169*$M$3","v":2052.79},2011.075,1895.2,1727.31,1459.51]
[41,null,{"$f":"+C170*$M$3","v":2100.6849999999999},2058.4549999999999,1938.9750000000001,1766.9650000000001,1496.075]
[42,null,{"$f":"+C171*$M$3","v":2146.52},2103.2600000000002,1982.2350000000001,1805.5900000000001,1537.79]
[43,null,{"$f":"+C172*$M$3","v":2230.98},2186.69,2060,1879.75,1601.135]
[44,null,{"$f":"+C173*$M$3","v":2317.5},2270.6350000000002,2138.7950000000001,1951.8500000000001,1671.69]
[45,null,{"$f":"+C174*$M$3","v":2404.5349999999999},2352.52,2217.59,2022.92,1738.64]
[46,null,{"$f":"+C175*$M$3","v":2485.39},2438.5250000000001,2296.9,2095.5349999999999,1803.53]
[47,null,{"$f":"+C176*$M$3","v":2572.94},2520.41,2376.7249999999999,2167.12,1873.57]
[48,null,{"$f":"+C177*$M$3","v":2663.58},2608.4749999999999,2459.125,2243.34,1941.0350000000001]
[49,null,{"$f":"+C178*$M$3","v":2752.6750000000002},2698.085,2542.5550000000003,2318.0149999999999,2013.65]
[50,null,{"$f":"+C179*$M$3","v":2842.2849999999999},2787.6950000000002,2626.5,2394.2350000000001,2085.2350000000001]
[51,null,{"$f":"+C180*$M$3","v":2931.895},2876.2750000000001,2708.9,2470.9700000000003,2155.79]
[52,null,{"$f":"+C181*$M$3","v":3023.05},2961.25,2792.8450000000003,2547.19,2226.3450000000003]
[53,null,{"$f":"+C182*$M$3","v":3129.14},3068.8850000000002,2891.7249999999999,2636.2849999999999,2314.41]
[54,null,{"$f":"+C183*$M$3","v":3236.7750000000001},3173.9450000000002,2990.605,2727.9549999999999,2398.355]
[55,null,{"$f":"+C184*$M$3","v":3342.35},3278.4900000000002,3090.5149999999999,2817.5650000000001,2484.36]
[56,null,{"$f":"+C185*$M$3","v":3451.0149999999999},3382.52,3188.88,2908.7200000000003,2571.395]
[57,null,{"$f":"+C186*$M$3","v":3557.62},3487.58,3284.67,2994.7249999999999,2657.4]
[58,null,{"$f":"+C187*$M$3","v":3680.19},3609.12,3388.1849999999999,3099.7849999999999,2769.67]
[59,null,{"$f":"+C188*$M$3","v":3801.73},3727.0550000000003,3492.73,3203.3,2882.4549999999999]
[60,null,{"$f":"+C189*$M$3","v":3927.3900000000003},3845.5050000000001,3595.73,3307.8450000000003,2994.7249999999999]
[61,null,{"$f":"+C190*$M$3","v":4075.71},3993.8250000000003,3751.7750000000001,3431.96,3106.9949999999999]
[62,null,{"$f":"+C191*$M$3","v":4258.0200000000004},4175.62,3934.6,3588.0050000000001,3248.105]
[63,null,{"$f":"+C192*$M$3","v":4478.9549999999999},4388.3150000000005,4135.9650000000001,3769.8,3414.4500000000003]
[64,null,{"$f":"+C193*$M$3","v":4738},4641.18,4375.9549999999999,3989.19,3610.665]
[65,null,{"$f":"+C194*$M$3","v":5046.4850000000006},4943.4850000000006,4662.2950000000001,4250.2950000000001,3878.4650000000001]
[66,null,{"$f":"+C195*$M$3","v":5409.0450000000001},5300.8950000000004,4996.0150000000003,4556.72,4190.5550000000003]
[67,null,{"$f":"+C196*$M$3","v":5840.1},5726.2849999999999,5395.6549999999997,4920.3100000000004,4526.8500000000004]
[68,null,{"$f":"+C197*$M$3","v":6337.59},6208.84,5851.9449999999997,5335.4000000000005,4909.4949999999999]
[69,null,{"$f":"+C198*$M$3","v":6915.9350000000004},6778.9450000000006,6387.03,5823.1050000000005,5363.21]
[70,null,{"$f":"+C199*$M$3","v":7586.9800000000005},7432.4800000000005,6947.35,6387.5450000000001,5965.76]
[71,null,{"$f":"+C200*$M$3","v":8351.755000000001},8185.41,7714.7,7033.3550000000005,6568.8249999999998]
[72,null,{"$f":"+C201*$M$3","v":9242.19},9055.2450000000008,8536.125,7783.1950000000006,7271.8]
[73,null,{"$f":"+C202*$M$3","v":10264.465},10056.92,9480.6350000000002,8643.76,8071.5950000000003]
[74,null,{"$f":"+C203*$M$3","v":11444.845000000001},11215.155000000001,10567.800000000001,9635.1350000000002,9001.17]
[75,null,{"$f":"+C204*$M$3","v":12795.175000000001},12537.16,11768.264999999999,10772.77,10126.445]
[76,null,{"$f":"+C205*$M$3","v":14349.960000000001},14056.925000000001,13240.65,12080.87,11356.264999999999]
[77,null,{"$f":"+C206*$M$3","v":16113.835000000001},15788.87,14878.865,13568.705,12752.945]
[78,null,{"$f":"+C207*$M$3","v":18106.885000000002},17740.72,16721.02,15245.03,14327.815000000001]
[79,null,{"$f":"+C208*$M$3","v":20343.53},19934.62,18786.170000000002,17128.385000000002,16097.87]
[80,"o más",{"$f":"+C209*$M$3","v":23021.014999999999},22555.97,21258.685000000001,19383.055,18215.55]
[1,"Hijo",{"$f":"+C210*$M$3","v":683.40499999999997},667.95500000000004,628.81500000000005,575.77,338.87]
[2,"Hijos",{"$f":"+C211*$M$3","v":1147.9349999999999},1124.76,1059.355,966.65499999999997,504.7]
[3,"Hijos o más",{"$f":"+C212*$M$3","v":1683.5350000000001},1648.5150000000001,1553.7550000000001,1418.31,722.03]
[]
["ESSENTIAL 50"]
["TARIFAS SEMESTRALES"]
["EDAD"]
[" "," ","F50-1","F50-2","F50-3","F50-4","F50-5"]
[18,null,{"$f":"+C289*$M$3","v":1057.81},{"$f":"+D289*$M$3","v":1036.18},976.95500000000004,891.46500000000003,688.04]
[19,null,{"$f":"+C290*$M$3","v":1074.8050000000001},1053.69,991.375,904.85500000000002,702.97500000000002]
[20,null,{"$f":"+C291*$M$3","v":1094.375},1070.6849999999999,1009.4,918.76,717.91]
[21,null,{"$f":"+C292*$M$3","v":1112.4000000000001},1087.68,1028.97,935.755,734.90499999999997]
[22,null,{"$f":"+C293*$M$3","v":1129.9100000000001},1107.25,1043.905,951.20500000000004,749.32500000000005]
[23,null,{"$f":"+C294*$M$3","v":1148.9649999999999},1126.82,1059.8700000000001,967.68500000000006,765.29]
[24,null,{"$f":"+C295*$M$3","v":1166.99},1145.3600000000001,1078.925,984.68000000000006,781.255]
[25,null,{"$f":"+C296*$M$3","v":1187.075},1162.8700000000001,1096.4349999999999,999.1,794.64499999999998]
[26,null,{"$f":"+C297*$M$3","v":1204.07},1181.925,1113.43,1015.58,811.125]
[27,null,{"$f":"+C298*$M$3","v":1225.1849999999999},1200.4649999999999,1129.9100000000001,1031.03,828.12]
[28,null,{"$f":"+C299*$M$3","v":1246.3},1220.0350000000001,1149.48,1049.57,847.69]
[29,null,{"$f":"+C300*$M$3","v":1269.4750000000001},1243.21,1172.1400000000001,1068.625,866.745]
[30,null,{"$f":"+C301*$M$3","v":1290.5900000000001},1263.2950000000001,1192.74,1085.6200000000001,887.34500000000003]
[31,null,{"$f":"+C302*$M$3","v":1312.7350000000001},1284.925,1213.3399999999999,1105.19,904.85500000000002]
[32,null,{"$f":"+C303*$M$3","v":1332.82},1309.1300000000001,1232.395,1124.76,927.51499999999999]
[33,null,{"$f":"+C304*$M$3","v":1370.415},1343.635,1267.415,1155.145,953.26499999999999]
[34,null,{"$f":"+C305*$M$3","v":1408.5250000000001},1381.23,1300.375,1186.0450000000001,981.59]
[35,null,{"$f":"+C306*$M$3","v":1443.03},1414.19,1332.82,1216.43,1009.4]
[36,null,{"$f":"+C307*$M$3","v":1480.625},1450.7550000000001,1368.355,1246.3,1038.7550000000001]
[37,null,{"$f":"+C308*$M$3","v":1517.19},1486.8050000000001,1400.2850000000001,1275.655,1067.595]
[38,null,{"$f":"+C309*$M$3","v":1553.7550000000001},1524.4,1435.82,1310.675,1096.4349999999999]
[39,null,{"$f":"+C310*$M$3","v":1591.865},1559.42,1469.2950000000001,1340.5450000000001,1127.8500000000001]
[40,null,{"$f":"+C311*$M$3","v":1629.46},1595.47,1503.2850000000001,1370.93,1158.75]
[41,null,{"$f":"+C312*$M$3","v":1666.0250000000001},1632.0350000000001,1537.79,1400.8,1187.075]
[42,null,{"$f":"+C313*$M$3","v":1703.6200000000001},1668.085,1573.8400000000001,1434.79,1217.46]
[43,null,{"$f":"+C314*$M$3","v":1770.57},1735.0350000000001,1633.5800000000002,1490.925,1272.5650000000001]
[44,null,{"$f":"+C315*$M$3","v":1839.0650000000001},1803.0150000000001,1697.9550000000002,1549.1200000000001,1325.095]
[45,null,{"$f":"+C316*$M$3","v":1907.56},1865.845,1761.8150000000001,1606.2850000000001,1381.23]
[46,null,{"$f":"+C317*$M$3","v":1974.51},1933.31,1822.585,1663.9650000000001,1432.73]
[47,null,{"$f":"+C318*$M$3","v":2041.9750000000001},1999.7450000000001,1886.4449999999999,1719.07,1486.8050000000001]
[48,null,{"$f":"+C319*$M$3","v":2113.56},2070.3000000000002,1951.8500000000001,1780.8700000000001,1541.91]
[49,null,{"$f":"+C320*$M$3","v":2185.145},2142.4,2016.74,1841.125,1598.56]
[50,null,{"$f":"+C321*$M$3","v":2255.7000000000003},2211.41,2084.2049999999999,1900.865,1654.18]
[51,null,{"$f":"+C322*$M$3","v":2327.2849999999999},2281.4500000000003,2149.61,1961.1200000000001,1709.2850000000001]
[52,null,{"$f":"+C323*$M$3","v":2398.87},2350.46,2216.56,2021.89,1766.45]
[53,null,{"$f":"+C324*$M$3","v":2484.36},2433.89,2293.2950000000001,2091.415,1833.915]
[54,null,{"$f":"+C325*$M$3","v":2570.3650000000002},2516.8050000000003,2372.09,2163.5149999999999,1902.925]
[55,null,{"$f":"+C326*$M$3","v":2654.31},2600.2350000000001,2450.8850000000002,2234.0700000000002,1972.45]
[56,null,{"$f":"+C327*$M$3","v":2738.2550000000001},2684.1800000000003,2529.165,2304.625,2039.4]
[57,null,{"$f":"+C328*$M$3","v":2823.23},2766.0650000000001,2609.5050000000001,2377.2400000000002,2108.41]
[58,null,{"$f":"+C329*$M$3","v":2923.14},2861.34,2691.39,2459.64,2198.5349999999999]
[59,null,{"$f":"+C330*$M$3","v":3019.96},2958.6750000000002,2773.2750000000001,2541.5250000000001,2287.63]
[60,null,{"$f":"+C331*$M$3","v":3118.3250000000003},3052.92,2853.6150000000002,2624.9549999999999,2376.7249999999999]
[61,null,{"$f":"+C332*$M$3","v":3234.7150000000001},3171.8850000000002,2977.73,2724.35,2465.3050000000003]
[62,null,{"$f":"+C333*$M$3","v":3380.46},3311.9650000000001,3122.4450000000002,2846.4050000000002,2576.0300000000002]
[63,null,{"$f":"+C334*$M$3","v":3555.56},3483.46,3284.67,2993.1800000000003,2708.9]
[64,null,{"$f":"+C335*$M$3","v":3759.5},3683.7950000000001,3472.13,3164.6750000000002,2863.915]
[65,null,{"$f":"+C336*$M$3","v":4005.1550000000002},3924.3,3697.1849999999999,3372.7350000000001,3077.64]
[66,null,{"$f":"+C337*$M$3","v":4293.5550000000003},4207.55,3966.0150000000003,3616.8450000000003,3325.355]
[67,null,{"$f":"+C338*$M$3","v":4635},4541.7849999999999,4280.68,3903.1849999999999,3591.61]
[68,null,{"$f":"+C339*$M$3","v":5029.49},4926.49,4643.24,4235.875,3896.4900000000002]
[69,null,{"$f":"+C340*$M$3","v":5487.3249999999998},5378.66,5069.66,4621.0950000000003,4253.9000000000005]
[70,null,{"$f":"+C341*$M$3","v":6018.8050000000003},5897.78,5511.53,5069.66,4732.8500000000004]
[71,null,{"$f":"+C342*$M$3","v":6629.5950000000003},6494.665,6120.26,5581.0550000000003,5212.3150000000005]
[72,null,{"$f":"+C343*$M$3","v":7333.6},7184.7650000000003,6772.25,6175.88,5770.06]
[73,null,{"$f":"+C344*$M$3","v":8143.6950000000006},7977.8649999999998,7522.6050000000005,6857.74,6404.0250000000005]
[74,null,{"$f":"+C345*$M$3","v":9079.4500000000007},8895.08,8385.7450000000008,7645.6900000000005,7142.5349999999999]
[75,null,{"$f":"+C346*$M$3","v":10151.68},9947.74,9337.98,8548.4850000000006,8031.4250000000002]
[76,null,{"$f":"+C347*$M$3","v":11383.045},11153.355,10503.94,9585.18,9009.41]
[77,null,{"$f":"+C348*$M$3","v":12785.390000000001},12527.89,11807.405000000001,10767.105,10117.69]
[78,null,{"$f":"+C349*$M$3","v":14365.925000000001},14074.434999999999,13266.915000000001,12094.26,11368.11]
[79,null,{"$f":"+C350*$M$3","v":16140.615},15815.65,14907.19,13591.365,12773.03]
[80,"o más",{"$f":"+C351*$M$3","v":18264.990000000002},17895.735000000001,16865.735000000001,15380.99,14452.960000000001]
[1,"Hijo",{"$f":"+C352*$M$3","v":539.20500000000004},529.93500000000006,497.49,454.745,270.375]
[2,"Hijos",{"$f":"+C353*$M$3","v":908.97500000000002},891.98,839.96500000000003,766.32,399.125]
[3,"Hijos o más",{"$f":"+C354*$M$3","v":1335.91},1309.1300000000001,1232.395,1124.76,575.255]
[]
["ESSENTIAL 500"]
["TARIFAS TRIMESTRALES"]
["EDAD"]
[" "," ","F500-1","F500-2","F500-3","F500-4","F500-5"]
[18,null,{"$f":"+C6*$M$4","v":570.56999999999994},{"$f":"+D6*$M$4","v":488.01499999999999},357.39,246.35874999999999,134.2825,79.419999999999987,45.71875]
[19,null,{"$f":"+C7*$M$4","v":579.97499999999991},488.01499999999999,357.39,246.61999999999998,135.58875,80.726249999999993,46.763749999999995]
[20,null,{"$f":"+C8*$M$4","v":590.16374999999994},488.01499999999999,357.39,247.40374999999997,137.15625,81.771249999999995,47.808749999999996]
[21,null,{"$f":"+C9*$M$4","v":601.39749999999992},488.01499999999999,357.91249999999997,248.97124999999997,138.72375,83.6,49.114999999999995]
[22,null,{"$f":"+C10*$M$4","v":611.06374999999991},488.01499999999999,358.95749999999998,250.79999999999998,140.81375,85.16749999999999,50.421249999999993]
[23,null,{"$f":"+C11*$M$4","v":621.25249999999994},489.32124999999996,361.30874999999997,253.41249999999999,143.16499999999999,87.257499999999993,51.727499999999999]
[24,null,{"$f":"+C12*$M$4","v":622.81999999999994},491.67249999999996,364.18249999999995,256.80874999999997,145.7775,89.347499999999997,53.556249999999999]
[25,null,{"$f":"+C13*$M$4","v":625.69374999999991},495.06874999999997,368.10124999999999,260.72749999999996,148.91249999999999,91.69874999999999,55.384999999999998]
[26,null,{"$f":"+C14*$M$4","v":630.39625000000001},500.03249999999997,373.32624999999996,265.16874999999999,152.57,94.572499999999991,57.213749999999997]
[27,null,{"$f":"+C15*$M$4","v":636.66624999999999},506.30249999999995,379.33499999999998,270.39374999999995,156.48874999999998,97.446249999999992,59.303749999999994]
[28,null,{"$f":"+C16*$M$4","v":644.50374999999997},513.87874999999997,386.1275,276.40249999999997,160.92999999999998,100.84249999999999,61.654999999999994]
[29,null,{"$f":"+C17*$M$4","v":653.90874999999994},522.5,393.96499999999997,283.19499999999999,165.89374999999998,104.5,64.528750000000002]
[30,null,{"$f":"+C18*$M$4","v":664.88124999999991},532.94999999999993,403.10874999999999,290.77124999999995,171.38,108.1575,67.141249999999999]
[31,null,{"$f":"+C19*$M$4","v":677.94374999999991},544.70624999999995,413.29749999999996,299.13124999999997,177.1275,112.59875,70.537499999999994]
[32,null,{"$f":"+C20*$M$4","v":693.09624999999994},558.29124999999999,424.53124999999994,308.27499999999998,183.92,117.30125,73.672499999999999]
[33,null,{"$f":"+C21*$M$4","v":710.07749999999999},573.1825,437.33249999999998,318.72499999999997,190.71249999999998,122.52624999999999,77.33]
[34,null,{"$f":"+C22*$M$4","v":728.88749999999993},589.90249999999992,451.43999999999994,330.21999999999997,198.54999999999998,127.75124999999998,81.509999999999991]
[35,null,{"$f":"+C23*$M$4","v":749.78749999999991},608.18999999999994,467.11499999999995,342.76,206.91,134.02124999999998,85.69]
[36,null,{"$f":"+C24*$M$4","v":773.03874999999994},628.82875000000001,484.09624999999994,356.08374999999995,216.315,140.81375,90.653749999999988]
[37,null,{"$f":"+C25*$M$4","v":798.6412499999999},651.03499999999997,502.38374999999996,370.97499999999997,226.50375,147.86749999999998,95.617499999999993]
[38,null,{"$f":"+C26*$M$4","v":826.3337499999999},675.06999999999994,522.5,387.17249999999996,237.47624999999999,155.70499999999998,101.36499999999999]
[39,null,{"$f":"+C27*$M$4","v":856.63874999999996},701.45624999999995,544.70624999999995,404.67624999999998,249.23249999999999,164.065,107.37374999999999]
[40,null,{"$f":"+C28*$M$4","v":880.93499999999995},730.19374999999991,568.74124999999992,423.74749999999995,262.29499999999996,173.47,114.16624999999999]
[41,null,{"$f":"+C29*$M$4","v":900.52874999999995},761.28249999999991,594.34375,444.12499999999994,275.88,183.39749999999998,121.48124999999999]
[42,null,{"$f":"+C30*$M$4","v":921.68999999999994},795.24499999999989,622.55874999999992,466.85374999999999,291.29374999999999,194.10874999999999,129.31874999999999]
[43,null,{"$f":"+C31*$M$4","v":956.9587499999999},831.55874999999992,652.86374999999998,490.88874999999996,307.7525,206.12625,137.94]
[44,null,{"$f":"+C32*$M$4","v":993.79499999999996},864.47624999999994,685.52,517.01374999999996,325.51749999999998,218.92749999999998,147.345]
[45,null,{"$f":"+C33*$M$4","v":1030.6312499999999},895.82624999999996,720.78874999999994,545.49,344.58875,232.77374999999998,157.27249999999998]
[46,null,{"$f":"+C34*$M$4","v":1066.9449999999999},927.95999999999992,758.93124999999998,575.79499999999996,365.75,247.66499999999999,168.24499999999998]
[47,null,{"$f":"+C35*$M$4","v":1104.30375},959.83249999999998,799.94749999999999,608.71249999999998,387.95624999999995,263.86249999999995,180.26249999999999]
[48,null,{"$f":"+C36*$M$4","v":1143.4912499999998},993.79499999999996,844.3599999999999,644.50374999999997,412.2525,281.6275,193.32499999999999]
[49,null,{"$f":"+C37*$M$4","v":1181.63375},1027.4962499999999,891.90749999999991,682.90749999999991,438.63874999999996,300.95999999999998,207.43249999999998]
[50,null,{"$f":"+C38*$M$4","v":1220.0374999999999},1061.45875,946.77,727.31999999999994,469.46624999999995,323.16624999999999,223.89124999999999]
[51,null,{"$f":"+C39*$M$4","v":1258.4412499999999},1094.6374999999998,997.97499999999991,780.87624999999991,506.82499999999999,350.33624999999995,244.00749999999999]
[52,null,{"$f":"+C40*$M$4","v":1297.1062499999998},1128.3387499999999,1028.8025,838.35124999999994,546.53499999999997,379.59625,265.69124999999997]
[53,null,{"$f":"+C41*$M$4","v":1343.3474999999999},1167.7874999999999,1065.6387499999998,900.00624999999991,589.38,410.94624999999996,289.20374999999996]
[54,null,{"$f":"+C42*$M$4","v":1389.3274999999999},1208.02,1101.6912499999999,966.62499999999989,635.62124999999992,444.38624999999996,314.28375]
[55,null,{"$f":"+C43*$M$4","v":1436.0912499999999},1248.5137499999998,1137.7437499999999,1003.98375,684.99749999999995,480.43874999999997,341.1925]
[56,null,{"$f":"+C44*$M$4","v":1481.81},1287.9624999999999,1173.7962499999999,1038.46875,724.96875,519.36500000000001,369.92999999999995]
[57,null,{"$f":"+C45*$M$4","v":1526.7449999999999},1328.1949999999999,1210.6324999999999,1073.4762499999999,747.43624999999997,561.16499999999996,401.28]
[58,null,{"$f":"+C46*$M$4","v":1579.7787499999999},1373.3912499999999,1248.7749999999999,1119.45625,777.21875,605.83875,434.45874999999995]
[59,null,{"$f":"+C47*$M$4","v":1632.55125},1419.6324999999999,1286.395,1164.6524999999999,806.47874999999999,653.90874999999994,470.24999999999994]
[60,null,{"$f":"+C48*$M$4","v":1685.0624999999998},1465.09,1325.06,1210.3712499999999,836.2612499999999,705.89749999999992,509.17624999999998]
[61,null,{"$f":"+C49*$M$4","v":1750.11375},1521.25875,1382.0124999999998,1255.3062499999999,867.34999999999991,761.54374999999993,550.45375000000001]
[62,null,{"$f":"+C50*$M$4","v":1828.48875},1589.70625,1449.67625,1311.9974999999999,906.79874999999993,821.89249999999993,595.38874999999996]
[63,null,{"$f":"+C51*$M$4","v":1922.5387499999999},1671.4775,1524.91625,1379.3999999999999,954.08499999999992,886.42124999999999,643.45875000000001]
[64,null,{"$f":"+C52*$M$4","v":2033.3087499999999},1768.4012499999999,1611.9124999999999,1458.82,1059.3687499999999,956.43624999999997,694.92499999999995]
[65,null,{"$f":"+C53*$M$4","v":2166.5462499999999},1883.3512499999999,1717.19625,1568.0224999999998,1134.0862499999998,1031.9375,750.83249999999998]
[66,null,{"$f":"+C54*$M$4","v":2321.9899999999998},2019.2012499999998,1841.29,1693.4224999999999,1221.605,1113.18625,810.92]
[67,null,{"$f":"+C55*$M$4","v":2507.4775},2180.6537499999999,1988.6349999999998,1830.0562499999999,1319.3125,1200.9662499999999,875.70999999999992]
[68,null,{"$f":"+C56*$M$4","v":2720.9187499999998},2365.3574999999996,2157.4024999999997,1984.1937499999999,1430.6049999999998,1295.5387499999999,945.20249999999999]
[69,null,{"$f":"+C57*$M$4","v":2968.8449999999998},2581.6724999999997,2353.8624999999997,2166.8074999999999,1488.3412499999999,1397.6875,1020.18125]
[70,null,{"$f":"+C58*$M$4","v":3256.22},2831.6887499999998,2559.4662499999999,2411.3374999999996,1645.61375,1507.4124999999999,1100.385]
[71,null,{"$f":"+C59*$M$4","v":3586.4399999999996},3118.8024999999998,2843.1837499999997,2655.3449999999998,1812.8137499999998,1625.4974999999999,1186.0749999999998]
[72,null,{"$f":"+C60*$M$4","v":3967.0812499999997},3449.5449999999996,3145.9724999999999,2938.80125,2006.3999999999999,1751.9424999999999,1277.5124999999998]
[73,null,{"$f":"+C61*$M$4","v":4406.5037499999999},3831.2312499999998,3492.9124999999999,3262.49,2226.63375,1887.5312499999998,1374.95875]
[74,null,{"$f":"+C62*$M$4","v":4912.5450000000001},4271.1762499999995,3894.4537499999997,3637.9062499999995,2483.4424999999997,2032.0024999999998,1477.6299999999999]
[75,null,{"$f":"+C63*$M$4","v":5492.5199999999995},4776.4337499999992,4337.2725,4093.2649999999999,2786.4924999999998,2185.0949999999998,1585.5262499999999]
[76,null,{"$f":"+C64*$M$4","v":6160.0137499999992},5356.1475,4879.8887500000001,4589.6399999999994,3124.5499999999997,2346.8087499999997,1697.86375]
[77,null,{"$f":"+C65*$M$4","v":6917.3774999999996},6015.80375,5484.6824999999999,5117.1037499999993,3509.6324999999997,2516.0987499999997,1813.5974999999999]
[78,null,{"$f":"+C66*$M$4","v":7772.9712499999996},6759.0599999999995,6162.3649999999998,5488.8624999999993,3779.2424999999998,2691.6587499999996,1931.4212499999999]
[79,null,{"$f":"+C67*$M$4","v":8733.3262500000001},7593.7537499999999,6924.1699999999992,5879.4312499999996,4045.1949999999997,2872.1824999999999,2048.1999999999998]
[80,"o más",{"$f":"+C68*$M$4","v":9815.1624999999985},8593.8187499999985,7649.9224999999997,6286.9812499999998,4319.5074999999997,3054.7962499999999,2161.84375]
[1,"Hijo",{"$f":"+C69*$M$4","v":376.72249999999997},327.34625,237.21499999999997,162.4975,88.824999999999989,52.511249999999997,30.043749999999999]
[2,"Hijos",{"$f":"+C70*$M$4","v":445.16999999999996},386.65,280.32124999999996,192.01874999999998,104.76124999999999,61.916249999999998,35.53]
[3,"Hijos o más",{"$f":"+C71*$M$4","v":616.28874999999994},535.5625,387.95624999999995,265.95249999999999,145.255,85.69,49.376249999999999]
[]
["ESSENTIAL 100"]
["TARIFAS TRIMESTRALES"]
["EDAD"]
[" "," ","F100-1","F100-2","F100-3","F100-4","F100-5"]
[18,null,{"$f":"+C147*$M$4","v":674.80874999999992},{"$f":"+D147*$M$4","v":660.96249999999998},624.38749999999993,569.52499999999998,440.72874999999999]
[19,null,{"$f":"+C148*$M$4","v":687.34875},673.76374999999996,635.3599999999999,579.71375,449.61124999999998]
[20,null,{"$f":"+C149*$M$4","v":698.84375},683.43,645.54874999999993,588.0737499999999,458.23249999999996]
[21,null,{"$f":"+C150*$M$4","v":710.59999999999991},696.23124999999993,655.73749999999995,597.74,468.15999999999997]
[22,null,{"$f":"+C151*$M$4","v":721.57249999999999},709.55499999999995,666.97124999999994,609.23500000000001,478.60999999999996]
[23,null,{"$f":"+C152*$M$4","v":735.15749999999991},720.005,678.72749999999996,618.11749999999995,488.27624999999995]
[24,null,{"$f":"+C153*$M$4","v":747.43624999999997},732.02249999999992,690.22249999999997,629.08999999999992,497.94249999999994]
[25,null,{"$f":"+C154*$M$4","v":758.67},743.51749999999993,699.36624999999992,640.0625,509.69874999999996]
[26,null,{"$f":"+C155*$M$4","v":770.9487499999999},755.79624999999999,711.90625,648.94499999999994,518.31999999999994]
[27,null,{"$f":"+C156*$M$4","v":781.92124999999999},766.76874999999995,721.57249999999999,659.39499999999998,528.50874999999996]
[28,null,{"$f":"+C157*$M$4","v":796.55124999999998},781.13749999999993,735.94124999999997,671.15125,541.30999999999995]
[29,null,{"$f":"+C158*$M$4","v":810.92},794.72249999999997,749.00374999999997,682.38499999999999,555.15625]
[30,null,{"$f":"+C159*$M$4","v":825.55},808.30749999999989,761.80499999999995,695.18624999999997,567.17374999999993]
[31,null,{"$f":"+C160*$M$4","v":838.61249999999995},821.63124999999991,773.82249999999999,706.42,579.71375]
[32,null,{"$f":"+C161*$M$4","v":853.50374999999997},835.47749999999996,788.19124999999997,718.4375,591.46999999999991]
[33,null,{"$f":"+C162*$M$4","v":876.23249999999996},858.46749999999997,809.35249999999996,736.98624999999993,610.01874999999995]
[34,null,{"$f":"+C163*$M$4","v":899.48374999999999},881.71874999999989,830.51374999999996,757.36374999999998,627.78374999999994]
[35,null,{"$f":"+C164*$M$4","v":922.7349999999999},904.44749999999999,852.98124999999993,777.21875,645.54874999999993]
[36,null,{"$f":"+C165*$M$4","v":945.72499999999991},927.43749999999989,874.14249999999993,796.55124999999998,664.88124999999991]
[37,null,{"$f":"+C166*$M$4","v":968.71499999999992},950.4274999999999,895.56499999999994,817.18999999999994,681.86249999999995]
[38,null,{"$f":"+C167*$M$4","v":993.0112499999999},973.67874999999992,918.29374999999993,836.52249999999992,701.71749999999997]
[39,null,{"$f":"+C168*$M$4","v":1017.3074999999999},996.1462499999999,939.19374999999991,857.4224999999999,720.2662499999999]
[40,null,{"$f":"+C169*$M$4","v":1041.3425},1020.18125,961.4,876.23249999999996,740.38249999999994]
[41,null,{"$f":"+C170*$M$4","v":1065.6387499999998},1044.2162499999999,983.60624999999993,896.34875,758.93124999999998]
[42,null,{"$f":"+C171*$M$4","v":1088.8899999999999},1066.9449999999999,1005.55125,915.94249999999988,780.09249999999997]
[43,null,{"$f":"+C172*$M$4","v":1131.7349999999999},1109.2674999999999,1045,953.56249999999989,812.22624999999994]
[44,null,{"$f":"+C173*$M$4","v":1175.625},1151.8512499999999,1084.9712499999998,990.13749999999993,848.01749999999993]
[45,null,{"$f":"+C174*$M$4","v":1219.7762499999999},1193.3899999999999,1124.9424999999999,1026.1899999999998,881.9799999999999]
[46,null,{"$f":"+C175*$M$4","v":1260.7925},1237.01875,1165.175,1063.0262499999999,914.89749999999992]
[47,null,{"$f":"+C176*$M$4","v":1305.2049999999999},1278.5574999999999,1205.6687499999998,1099.3399999999999,950.4274999999999]
[48,null,{"$f":"+C177*$M$4","v":1351.1849999999999},1323.2312499999998,1247.46875,1138.0049999999999,984.65124999999989]
[49,null,{"$f":"+C178*$M$4","v":1396.3812499999999},1368.6887499999998,1289.79125,1175.88625,1021.4875]
[50,null,{"$f":"+C179*$M$4","v":1441.8387499999999},1414.14625,1332.375,1214.55125,1057.80125]
[51,null,{"$f":"+C180*$M$4","v":1487.2962499999999},1459.08125,1374.175,1253.4775,1093.5925]
[52,null,{"$f":"+C181*$M$4","v":1533.5374999999999},1502.1875,1416.75875,1292.1424999999999,1129.38375]
[53,null,{"$f":"+C182*$M$4","v":1587.3549999999998},1556.7887499999999,1466.9187499999998,1337.3387499999999,1174.0574999999999]
[54,null,{"$f":"+C183*$M$4","v":1641.95625},1610.0837499999998,1517.0787499999999,1383.8412499999999,1216.6412499999999]
[55,null,{"$f":"+C184*$M$4","v":1695.5124999999998},1663.1174999999998,1567.7612499999998,1429.2987499999999,1260.27]
[56,null,{"$f":"+C185*$M$4","v":1750.6362499999998},1715.8899999999999,1617.6599999999999,1475.54,1304.4212499999999]
[57,null,{"$f":"+C186*$M$4","v":1804.7149999999999},1769.1849999999999,1666.2524999999998,1519.1687499999998,1348.05]
[58,null,{"$f":"+C187*$M$4","v":1866.8924999999999},1830.84,1718.7637499999998,1572.4637499999999,1405.0024999999998]
[59,null,{"$f":"+C188*$M$4","v":1928.5474999999999},1890.6662499999998,1771.7974999999999,1624.9749999999999,1462.2162499999999]
[60,null,{"$f":"+C189*$M$4","v":1992.2924999999998},1950.7537499999999,1824.0474999999999,1678.00875,1519.1687499999998]
[61,null,{"$f":"+C190*$M$4","v":2067.5324999999998},2025.9937499999999,1903.20625,1740.9699999999998,1576.1212499999999]
[62,null,{"$f":"+C191*$M$4","v":2160.0149999999999},2118.2149999999997,1995.9499999999998,1820.1287499999999,1647.7037499999999]
[63,null,{"$f":"+C192*$M$4","v":2272.0912499999999},2226.1112499999999,2098.0987499999997,1912.35,1732.0874999999999]
[64,null,{"$f":"+C193*$M$4","v":2403.5},2354.3849999999998,2219.8412499999999,2023.6424999999999,1831.62375]
[65,null,{"$f":"+C194*$M$4","v":2559.98875},2507.73875,2365.0962500000001,2156.0962500000001,1967.4737499999999]
[66,null,{"$f":"+C195*$M$4","v":2743.9087499999996},2689.0462499999999,2534.38625,2311.54,2125.7912499999998]
[67,null,{"$f":"+C196*$M$4","v":2962.5749999999998},2904.8387499999999,2737.11625,2495.9824999999996,2296.3874999999998]
[68,null,{"$f":"+C197*$M$4","v":3214.9424999999997},3149.6299999999997,2968.5837499999998,2706.5499999999997,2490.4962499999997]
[69,null,{"$f":"+C198*$M$4","v":3508.3262499999996},3438.8337499999998,3240.0224999999996,2953.9537499999997,2720.6574999999998]
[70,null,{"$f":"+C199*$M$4","v":3848.7349999999997},3770.3599999999997,3524.2624999999998,3240.2837499999996,3026.3199999999997]
[71,null,{"$f":"+C200*$M$4","v":4236.6912499999999},4152.3074999999999,3913.5249999999996,3567.8912499999997,3332.2437499999996]
[72,null,{"$f":"+C201*$M$4","v":4688.3924999999999},4593.5587499999992,4330.21875,3948.2712499999998,3688.85]
[73,null,{"$f":"+C202*$M$4","v":5206.9737499999992},5101.6899999999996,4809.3512499999997,4384.82,4094.5712499999995]
[74,null,{"$f":"+C203*$M$4","v":5805.75875},5689.24125,5360.8499999999995,4887.7262499999997,4566.1274999999996]
[75,null,{"$f":"+C204*$M$4","v":6490.7562499999995},6359.87,5969.8237499999996,5464.8274999999994,5136.9587499999998]
[76,null,{"$f":"+C205*$M$4","v":7279.4699999999993},7130.8187499999995,6716.7374999999993,6128.4024999999992,5760.8237499999996]
[77,null,{"$f":"+C206*$M$4","v":8174.2512499999993},8009.4024999999992,7547.7737499999994,6883.1537499999995,6469.3337499999998]
[78,null,{"$f":"+C207*$M$4","v":9185.2887499999997},8999.5399999999991,8482.2649999999994,7733.5224999999991,7268.2362499999999]
[79,null,{"$f":"+C208*$M$4","v":10319.897499999999},10112.465,9529.8774999999987,8688.9137499999997,8166.1524999999992]
[80,"o más",{"$f":"+C209*$M$4","v":11678.13625},11442.227499999999,10784.13875,9832.6662500000002,9240.4124999999985]
[1,"Hijo",{"$f":"+C210*$M$4","v":346.67874999999998},338.84125,318.98624999999998,292.07749999999999,171.90249999999997]
[2,"Hijos",{"$f":"+C211*$M$4","v":582.32624999999996},570.56999999999994,537.39125000000001,490.36624999999998,256.02499999999998]
[3,"Hijos o más",{"$f":"+C212*$M$4","v":854.02624999999989},836.2612499999999,788.19124999999997,719.48249999999996,366.27249999999998]
[]
["ESSENTIAL 50"]
["TARIFAS TRIMESTRALES"]
["EDAD"]
[" "," ","F50-1","F50-2","F50-3","F50-4","F50-5"]
[18,null,{"$f":"+C289*$M$4","v":536.60749999999996},{"$f":"+D289*$M$4","v":525.63499999999999},495.59124999999995,452.22375,349.03]
[19,null,{"$f":"+C290*$M$4","v":545.22874999999999},534.51749999999993,502.90624999999994,459.01624999999996,356.60624999999999]
[20,null,{"$f":"+C291*$M$4","v":555.15625},543.13874999999996,512.04999999999995,466.07,364.18249999999995]
[21,null,{"$f":"+C292*$M$4","v":564.29999999999995},551.76,521.97749999999996,474.69124999999997,372.80374999999998]
[22,null,{"$f":"+C293*$M$4","v":573.1825},561.6875,529.55374999999992,482.52874999999995,380.11874999999998]
[23,null,{"$f":"+C294*$M$4","v":582.84875},571.61500000000001,537.65249999999992,490.88874999999996,388.21749999999997]
[24,null,{"$f":"+C295*$M$4","v":591.99249999999995},581.02,547.31874999999991,499.51,396.31624999999997]
[25,null,{"$f":"+C296*$M$4","v":602.18124999999998},589.90249999999992,556.20124999999996,506.82499999999999,403.10874999999999]
[26,null,{"$f":"+C297*$M$4","v":610.80250000000001},599.56874999999991,564.82249999999999,515.18499999999995,411.46875]
[27,null,{"$f":"+C298*$M$4","v":621.51374999999996},608.97375,573.1825,523.02249999999992,420.09]
[28,null,{"$f":"+C299*$M$4","v":632.22499999999991},618.90125,583.11,532.42750000000001,430.01749999999998]
[29,null,{"$f":"+C300*$M$4","v":643.98124999999993},630.65749999999991,594.6049999999999,542.09375,439.68374999999997]
[30,null,{"$f":"+C301*$M$4","v":654.6925},640.84624999999994,605.05499999999995,550.71499999999992,450.13374999999996]
[31,null,{"$f":"+C302*$M$4","v":665.92624999999998},651.81874999999991,615.505,560.64249999999993,459.01624999999996]
[32,null,{"$f":"+C303*$M$4","v":676.11500000000001},664.09749999999997,625.17124999999999,570.56999999999994,470.51124999999996]
[33,null,{"$f":"+C304*$M$4","v":695.18624999999997},681.60124999999994,642.93624999999997,585.98374999999999,483.57374999999996]
[34,null,{"$f":"+C305*$M$4","v":714.51874999999995},700.6724999999999,659.65625,601.65874999999994,497.94249999999994]
[35,null,{"$f":"+C306*$M$4","v":732.02249999999992},717.39249999999993,676.11500000000001,617.07249999999999,512.04999999999995]
[36,null,{"$f":"+C307*$M$4","v":751.09375},735.94124999999997,694.1412499999999,632.22499999999991,526.94124999999997]
[37,null,{"$f":"+C308*$M$4","v":769.64249999999993},754.22874999999999,710.33875,647.11624999999992,541.57124999999996]
[38,null,{"$f":"+C309*$M$4","v":788.19124999999997},773.3,728.3649999999999,664.88124999999991,556.20124999999996]
[39,null,{"$f":"+C310*$M$4","v":807.52374999999995},791.06499999999994,745.34624999999994,680.03374999999994,572.13749999999993]
[40,null,{"$f":"+C311*$M$4","v":826.59499999999991},809.35249999999996,762.58875,695.44749999999999,587.8125]
[41,null,{"$f":"+C312*$M$4","v":845.14374999999995},827.90124999999989,780.09249999999997,710.59999999999991,602.18124999999998]
[42,null,{"$f":"+C313*$M$4","v":864.21499999999992},846.18874999999991,798.38,727.84249999999997,617.59499999999991]
[43,null,{"$f":"+C314*$M$4","v":898.1774999999999},880.15124999999989,828.68499999999995,756.31874999999991,645.54874999999993]
[44,null,{"$f":"+C315*$M$4","v":932.92374999999993},914.6362499999999,861.34124999999995,785.83999999999992,672.19624999999996]
[45,null,{"$f":"+C316*$M$4","v":967.67},946.50874999999996,893.73624999999993,814.83874999999989,700.6724999999999]
[46,null,{"$f":"+C317*$M$4","v":1001.6324999999999},980.73249999999996,924.56374999999991,844.09875,726.7974999999999]
[47,null,{"$f":"+C318*$M$4","v":1035.8562499999998},1014.4337499999999,956.9587499999999,872.0524999999999,754.22874999999999]
[48,null,{"$f":"+C319*$M$4","v":1072.1699999999998},1050.2249999999999,990.13749999999993,903.40249999999992,782.18249999999989]
[49,null,{"$f":"+C320*$M$4","v":1108.4837499999999},1086.8,1023.0549999999999,933.96874999999989,810.92]
[50,null,{"$f":"+C321*$M$4","v":1144.2749999999999},1121.8074999999999,1057.2787499999999,964.27374999999995,839.13499999999999]
[51,null,{"$f":"+C322*$M$4","v":1180.5887499999999},1157.3374999999999,1090.4575,994.83999999999992,867.08874999999989]
[52,null,{"$f":"+C323*$M$4","v":1216.9024999999999},1192.345,1124.4199999999998,1025.6675,896.08749999999998]
[53,null,{"$f":"+C324*$M$4","v":1260.27},1234.6675,1163.3462499999998,1060.93625,930.31124999999997]
[54,null,{"$f":"+C325*$M$4","v":1303.8987499999998},1276.72875,1203.3174999999999,1097.51125,965.31874999999991]
[55,null,{"$f":"+C326*$M$4","v":1346.4824999999998},1319.05125,1243.2887499999999,1133.3025,1000.5875]
[56,null,{"$f":"+C327*$M$4","v":1389.0662499999999},1361.635,1282.99875,1169.09375,1034.55]
[57,null,{"$f":"+C328*$M$4","v":1432.1724999999999},1403.1737499999999,1323.7537499999999,1205.9299999999998,1069.5574999999999]
[58,null,{"$f":"+C329*$M$4","v":1482.8549999999998},1451.5049999999999,1365.2925,1247.73,1115.2762499999999]
[59,null,{"$f":"+C330*$M$4","v":1531.9699999999998},1500.8812499999999,1406.83125,1289.26875,1160.4724999999999]
[60,null,{"$f":"+C331*$M$4","v":1581.8687499999999},1548.6899999999998,1447.5862499999998,1331.5912499999999,1205.6687499999998]
[61,null,{"$f":"+C332*$M$4","v":1640.9112499999999},1609.0387499999999,1510.5474999999999,1382.0124999999998,1250.60375]
[62,null,{"$f":"+C333*$M$4","v":1714.8449999999998},1680.0987499999999,1583.9587499999998,1443.9287499999998,1306.7724999999998]
[63,null,{"$f":"+C334*$M$4","v":1803.6699999999998},1767.0949999999998,1666.2524999999998,1518.385,1374.175]
[64,null,{"$f":"+C335*$M$4","v":1907.1249999999998},1868.7212499999998,1761.3474999999999,1605.3812499999999,1452.81125]
[65,null,{"$f":"+C336*$M$4","v":2031.7412499999998},1990.7249999999999,1875.5137499999998,1710.92625,1561.2299999999998]
[66,null,{"$f":"+C337*$M$4","v":2178.0412499999998},2134.4124999999999,2011.8862499999998,1834.75875,1686.8912499999999]
[67,null,{"$f":"+C338*$M$4","v":2351.25},2303.9637499999999,2171.5099999999998,1980.0137499999998,1821.9575]
[68,null,{"$f":"+C339*$M$4","v":2551.3674999999998},2499.1174999999998,2355.4299999999998,2148.78125,1976.6174999999998]
[69,null,{"$f":"+C340*$M$4","v":2783.6187499999996},2728.4949999999999,2571.7449999999999,2344.19625,2157.9249999999997]
[70,null,{"$f":"+C341*$M$4","v":3053.2287499999998},2991.8349999999996,2795.8975,2571.7449999999999,2400.8874999999998]
[71,null,{"$f":"+C342*$M$4","v":3363.07125},3294.6237499999997,3104.6949999999997,2831.1662499999998,2644.1112499999999]
[72,null,{"$f":"+C343*$M$4","v":3720.2},3644.6987499999996,3435.4374999999995,3132.91,2927.0449999999996]
[73,null,{"$f":"+C344*$M$4","v":4131.1462499999998},4047.0237499999998,3816.0787499999997,3478.8049999999998,3248.6437499999997]
[74,null,{"$f":"+C345*$M$4","v":4605.8374999999996},4512.3099999999995,4253.9337500000001,3878.5174999999999,3623.2762499999999]
[75,null,{"$f":"+C346*$M$4","v":5149.7599999999993},5046.3049999999994,4736.9849999999997,4336.4887499999995,4074.1937499999999]
[76,null,{"$f":"+C347*$M$4","v":5774.4087499999996},5657.8912499999997,5328.4549999999999,4862.3849999999993,4570.3074999999999]
[77,null,{"$f":"+C348*$M$4","v":6485.7924999999996},6355.1674999999996,5989.67875,5461.9537499999997,5132.5174999999999]
[78,null,{"$f":"+C349*$M$4","v":7287.5687499999995},7139.7012499999992,6730.0612499999997,6135.1949999999997,5766.8324999999995]
[79,null,{"$f":"+C350*$M$4","v":8187.8362499999994},8022.9874999999993,7562.1424999999999,6894.6487499999994,6479.5224999999991]
[80,"o más",{"$f":"+C351*$M$4","v":9265.4924999999985},9078.1762499999986,8555.6762499999986,7802.4924999999994,7331.7199999999993]
[1,"Hijo",{"$f":"+C352*$M$4","v":273.52875},268.82624999999996,252.36749999999998,230.68374999999997,137.15625]
[2,"Hijos",{"$f":"+C353*$M$4","v":461.10624999999999},452.48499999999996,426.09875,388.73999999999995,202.46875]
[3,"Hijos o más",{"$f":"+C354*$M$4","v":677.6825},664.09749999999997,625.17124999999999,570.56999999999994,291.81624999999997]
[]
[]
["ESSENTIAL 1000"]
["TARIFAS ANUALES"]
["EDAD"]
[" "," ","F50-1","F50-2","F50-3","F50-4","F50-5","F50-4","F50-5"]
[18,null,{"$f":"IF('INGRESO DE DATOS'!$G$21=\"Guayaquil/Santa Elena\",'Tablas Guayaquil'!C920,'Tablas Resto de Ecuador'!C920)","v":2570},{"$f":"IF('INGRESO DE DATOS'!$G$21=\"Guayaquil/Santa Elena\",'Tablas Guayaquil'!D920,'Tablas Resto de Ecuador'!D920)","v":2238},{"$f":"IF('INGRESO DE DATOS'!$G$21=\"Guayaquil/Santa Elena\",'Tablas Guayaquil'!E920,'Tablas Resto de Ecuador'!E920)","v":1919},{"$f":"IF('INGRESO DE DATOS'!$G$21=\"Guayaquil/Santa Elena\",'Tablas Guayaquil'!F920,'Tablas Resto de Ecuador'!F920)","v":1338},{"$f":"IF('INGRESO DE DATOS'!$G$21=\"Guayaquil/Santa Elena\",'Tablas Guayaquil'!G920,'Tablas Resto de Ecuador'!G920)","v":738},{"$f":"IF('INGRESO DE DATOS'!$G$21=\"Guayaquil/Santa Elena\",'Tablas Guayaquil'!H920,'Tablas Resto de Ecuador'!H920)","v":442},{"$f":"IF('INGRESO DE DATOS'!$G$21=\"Guayaquil/Santa Elena\",'Tablas Guayaquil'!I920,'Tablas Resto de Ecuador'!I920)","v":259}]
[19,null,{"$f":"IF('INGRESO DE DATOS'!$G$21=\"Guayaquil/Santa Elena\",'Tablas Guayaquil'!C921,'Tablas Resto de Ecuador'!C921)","v":2613},{"$f":"IF('INGRESO DE DATOS'!$G$21=\"Guayaquil/Santa Elena\",'Tablas Guayaquil'!D921,'Tablas Resto de Ecuador'!D921)","v":2277},{"$f":"IF('INGRESO DE DATOS'!$G$21=\"Guayaquil/Santa Elena\",'Tablas Guayaquil'!E921,'Tablas Resto de Ecuador'!E921)","v":1919},{"$f":"IF('INGRESO DE DATOS'!$G$21=\"Guayaquil/Santa Elena\",'Tablas Guayaquil'!F921,'Tablas Resto de Ecuador'!F921)","v":1338},{"$f":"IF('INGRESO DE DATOS'!$G$21=\"Guayaquil/Santa Elena\",'Tablas Guayaquil'!G921,'Tablas Resto de Ecuador'!G921)","v":744},{"$f":"IF('INGRESO DE DATOS'!$G$21=\"Guayaquil/Santa Elena\",'Tablas Guayaquil'!H921,'Tablas Resto de Ecuador'!H921)","v":448},{"$f":"IF('INGRESO DE DATOS'!$G$21=\"Guayaquil/Santa Elena\",'Tablas Guayaquil'!I921,'Tablas Resto de Ecuador'!I921)","v":264}]
[20,null,{"$f":"IF('INGRESO DE DATOS'!$G$21=\"Guayaquil/Santa Elena\",'Tablas Guayaquil'!C922,'Tablas Resto de Ecuador'!C922)","v":2658},{"$f":"IF('INGRESO DE DATOS'!$G$21=\"Guayaquil/Santa Elena\",'Tablas Guayaquil'!D922,'Tablas Resto de Ecuador'!D922)","v":2313},{"$f":"IF('INGRESO DE DATOS'!$G$21=\"Guayaquil/Santa Elena\",'Tablas Guayaquil'!E922,'Tablas Resto de Ecuador'!E922)","v":1919},{"$f":"IF('INGRESO DE DATOS'!$G$21=\"Guayaquil/Santa Elena\",'Tablas Guayaquil'!F922,'Tablas Resto de Ecuador'!F922)","v":1342},{"$f":"IF('INGRESO DE DATOS'!$G$21=\"Guayaquil/Santa Elena\",'Tablas Guayaquil'!G922,'Tablas Resto de Ecuador'!G922)","v":752},{"$f":"IF('INGRESO DE DATOS'!$G$21=\"Guayaquil/Santa Elena\",'Tablas Guayaquil'!H922,'Tablas Resto de Ecuador'!H922)","v":455},{"$f":"IF('INGRESO DE DATOS'!$G$21=\"Guayaquil/Santa Elena\",'Tablas Guayaquil'!I922,'Tablas Resto de Ecuador'!I922)","v":270}]
[21,null,{"$f":"IF('INGRESO DE DATOS'!$G$21=\"Guayaquil/Santa Elena\",'Tablas Guayaquil'!C923,'Tablas Resto de Ecuador'!C923)","v":2708},{"$f":"IF('INGRESO DE DATOS'!$G$21=\"Guayaquil/Santa Elena\",'Tablas Guayaquil'!D923,'Tablas Resto de Ecuador'!D923)","v":2355},{"$f":"IF('INGRESO DE DATOS'!$G$21=\"Guayaquil/Santa Elena\",'Tablas Guayaquil'!E923,'Tablas Resto de Ecuador'!E923)","v":1919},{"$f":"IF('INGRESO DE DATOS'!$G$21=\"Guayaquil/Santa Elena\",'Tablas Guayaquil'!F923,'Tablas Resto de Ecuador'!F923)","v":1348},{"$f":"IF('INGRESO DE DATOS'!$G$21=\"Guayaquil/Santa Elena\",'Tablas Guayaquil'!G923,'Tablas Resto de Ecuador'!G923)","v":760},{"$f":"IF('INGRESO DE DATOS'!$G$21=\"Guayaquil/Santa Elena\",'Tablas Guayaquil'!H923,'Tablas Resto de Ecuador'!H923)","v":463},{"$f":"IF('INGRESO DE DATOS'!$G$21=\"Guayaquil/Santa Elena\",'Tablas Guayaquil'!I923,'Tablas Resto de Ecuador'!I923)","v":276}]
[22,null,{"$f":"IF('INGRESO DE DATOS'!$G$21=\"Guayaquil/Santa Elena\",'Tablas Guayaquil'!C924,'Tablas Resto de Ecuador'!C924)","v":2753},{"$f":"IF('INGRESO DE DATOS'!$G$21=\"Guayaquil/Santa Elena\",'Tablas Guayaquil'!D924,'Tablas Resto de Ecuador'!D924)","v":2393},{"$f":"IF('INGRESO DE DATOS'!$G$21=\"Guayaquil/Santa Elena\",'Tablas Guayaquil'!E924,'Tablas Resto de Ecuador'!E924)","v":1924},{"$f":"IF('INGRESO DE DATOS'!$G$21=\"Guayaquil/Santa Elena\",'Tablas Guayaquil'!F924,'Tablas Resto de Ecuador'!F924)","v":1358},{"$f":"IF('INGRESO DE DATOS'!$G$21=\"Guayaquil/Santa Elena\",'Tablas Guayaquil'!G924,'Tablas Resto de Ecuador'!G924)","v":771},{"$f":"IF('INGRESO DE DATOS'!$G$21=\"Guayaquil/Santa Elena\",'Tablas Guayaquil'!H924,'Tablas Resto de Ecuador'!H924)","v":472},{"$f":"IF('INGRESO DE DATOS'!$G$21=\"Guayaquil/Santa Elena\",'Tablas Guayaquil'!I924,'Tablas Resto de Ecuador'!I924)","v":283}]
[23,null,{"$f":"IF('INGRESO DE DATOS'!$G$21=\"Guayaquil/Santa Elena\",'Tablas Guayaquil'!C925,'Tablas Resto de Ecuador'!C925)","v":2798},{"$f":"IF('INGRESO DE DATOS'!$G$21=\"Guayaquil/Santa Elena\",'Tablas Guayaquil'!D925,'Tablas Resto de Ecuador'!D925)","v":2432},{"$f":"IF('INGRESO DE DATOS'!$G$21=\"Guayaquil/Santa Elena\",'Tablas Guayaquil'!E925,'Tablas Resto de Ecuador'!E925)","v":1934},{"$f":"IF('INGRESO DE DATOS'!$G$21=\"Guayaquil/Santa Elena\",'Tablas Guayaquil'!F925,'Tablas Resto de Ecuador'!F925)","v":1370},{"$f":"IF('INGRESO DE DATOS'!$G$21=\"Guayaquil/Santa Elena\",'Tablas Guayaquil'!G925,'Tablas Resto de Ecuador'!G925)","v":783},{"$f":"IF('INGRESO DE DATOS'!$G$21=\"Guayaquil/Santa Elena\",'Tablas Guayaquil'!H925,'Tablas Resto de Ecuador'!H925)","v":482},{"$f":"IF('INGRESO DE DATOS'!$G$21=\"Guayaquil/Santa Elena\",'Tablas Guayaquil'!I925,'Tablas Resto de Ecuador'!I925)","v":291}]
[24,null,{"$f":"IF('INGRESO DE DATOS'!$G$21=\"Guayaquil/Santa Elena\",'Tablas Guayaquil'!C926,'Tablas Resto de Ecuador'!C926)","v":2844},{"$f":"IF('INGRESO DE DATOS'!$G$21=\"Guayaquil/Santa Elena\",'Tablas Guayaquil'!D926,'Tablas Resto de Ecuador'!D926)","v":2472},{"$f":"IF('INGRESO DE DATOS'!$G$21=\"Guayaquil/Santa Elena\",'Tablas Guayaquil'!E926,'Tablas Resto de Ecuador'!E926)","v":1949},{"$f":"IF('INGRESO DE DATOS'!$G$21=\"Guayaquil/Santa Elena\",'Tablas Guayaquil'!F926,'Tablas Resto de Ecuador'!F926)","v":1387},{"$f":"IF('INGRESO DE DATOS'!$G$21=\"Guayaquil/Santa Elena\",'Tablas Guayaquil'!G926,'Tablas Resto de Ecuador'!G926)","v":797},{"$f":"IF('INGRESO DE DATOS'!$G$21=\"Guayaquil/Santa Elena\",'Tablas Guayaquil'!H926,'Tablas Resto de Ecuador'!H926)","v":494},{"$f":"IF('INGRESO DE DATOS'!$G$21=\"Guayaquil/Santa Elena\",'Tablas Guayaquil'!I926,'Tablas Resto de Ecuador'!I926)","v":301}]
[25,null,{"$f":"IF('INGRESO DE DATOS'!$G$21=\"Guayaquil/Santa Elena\",'Tablas Guayaquil'!C927,'Tablas Resto de Ecuador'!C927)","v":2888},{"$f":"IF('INGRESO DE DATOS'!$G$21=\"Guayaquil/Santa Elena\",'Tablas Guayaquil'!D927,'Tablas Resto de Ecuador'!D927)","v":2514},{"$f":"IF('INGRESO DE DATOS'!$G$21=\"Guayaquil/Santa Elena\",'Tablas Guayaquil'!E927,'Tablas Resto de Ecuador'!E927)","v":1968},{"$f":"IF('INGRESO DE DATOS'!$G$21=\"Guayaquil/Santa Elena\",'Tablas Guayaquil'!F927,'Tablas Resto de Ecuador'!F927)","v":1405},{"$f":"IF('INGRESO DE DATOS'!$G$21=\"Guayaquil/Santa Elena\",'Tablas Guayaquil'!G927,'Tablas Resto de Ecuador'!G927)","v":813},{"$f":"IF('INGRESO DE DATOS'!$G$21=\"Guayaquil/Santa Elena\",'Tablas Guayaquil'!H927,'Tablas Resto de Ecuador'!H927)","v":506},{"$f":"IF('INGRESO DE DATOS'!$G$21=\"Guayaquil/Santa Elena\",'Tablas Guayaquil'!I927,'Tablas Resto de Ecuador'!I927)","v":310}]
[26,null,{"$f":"IF('INGRESO DE DATOS'!$G$21=\"Guayaquil/Santa Elena\",'Tablas Guayaquil'!C928,'Tablas Resto de Ecuador'!C928)","v":2934},{"$f":"IF('INGRESO DE DATOS'!$G$21=\"Guayaquil/Santa Elena\",'Tablas Guayaquil'!D928,'Tablas Resto de Ecuador'!D928)","v":2552},{"$f":"IF('INGRESO DE DATOS'!$G$21=\"Guayaquil/Santa Elena\",'Tablas Guayaquil'!E928,'Tablas Resto de Ecuador'!E928)","v":1993},{"$f":"IF('INGRESO DE DATOS'!$G$21=\"Guayaquil/Santa Elena\",'Tablas Guayaquil'!F928,'Tablas Resto de Ecuador'!F928)","v":1429},{"$f":"IF('INGRESO DE DATOS'!$G$21=\"Guayaquil/Santa Elena\",'Tablas Guayaquil'!G928,'Tablas Resto de Ecuador'!G928)","v":832},{"$f":"IF('INGRESO DE DATOS'!$G$21=\"Guayaquil/Santa Elena\",'Tablas Guayaquil'!H928,'Tablas Resto de Ecuador'!H928)","v":520},{"$f":"IF('INGRESO DE DATOS'!$G$21=\"Guayaquil/Santa Elena\",'Tablas Guayaquil'!I928,'Tablas Resto de Ecuador'!I928)","v":320}]
[27,null,{"$f":"IF('INGRESO DE DATOS'!$G$21=\"Guayaquil/Santa Elena\",'Tablas Guayaquil'!C929,'Tablas Resto de Ecuador'!C929)","v":2979},{"$f":"IF('INGRESO DE DATOS'!$G$21=\"Guayaquil/Santa Elena\",'Tablas Guayaquil'!D929,'Tablas Resto de Ecuador'!D929)","v":2590},{"$f":"IF('INGRESO DE DATOS'!$G$21=\"Guayaquil/Santa Elena\",'Tablas Guayaquil'!E929,'Tablas Resto de Ecuador'!E929)","v":2023},{"$f":"IF('INGRESO DE DATOS'!$G$21=\"Guayaquil/Santa Elena\",'Tablas Guayaquil'!F929,'Tablas Resto de Ecuador'!F929)","v":1457},{"$f":"IF('INGRESO DE DATOS'!$G$21=\"Guayaquil/Santa Elena\",'Tablas Guayaquil'!G929,'Tablas Resto de Ecuador'!G929)","v":852},{"$f":"IF('INGRESO DE DATOS'!$G$21=\"Guayaquil/Santa Elena\",'Tablas Guayaquil'!H929,'Tablas Resto de Ecuador'!H929)","v":536},{"$f":"IF('INGRESO DE DATOS'!$G$21=\"Guayaquil/Santa Elena\",'Tablas Guayaquil'!I929,'Tablas Resto de Ecuador'!I929)","v":333}]
[28,null,{"$f":"IF('INGRESO DE DATOS'!$G$21=\"Guayaquil/Santa Elena\",'Tablas Guayaquil'!C930,'Tablas Resto de Ecuador'!C930)","v":3035},{"$f":"IF('INGRESO DE DATOS'!$G$21=\"Guayaquil/Santa Elena\",'Tablas Guayaquil'!D930,'Tablas Resto de Ecuador'!D930)","v":2635},{"$f":"IF('INGRESO DE DATOS'!$G$21=\"Guayaquil/Santa Elena\",'Tablas Guayaquil'!E930,'Tablas Resto de Ecuador'!E930)","v":2058},{"$f":"IF('INGRESO DE DATOS'!$G$21=\"Guayaquil/Santa Elena\",'Tablas Guayaquil'!F930,'Tablas Resto de Ecuador'!F930)","v":1488},{"$f":"IF('INGRESO DE DATOS'!$G$21=\"Guayaquil/Santa Elena\",'Tablas Guayaquil'!G930,'Tablas Resto de Ecuador'!G930)","v":875},{"$f":"IF('INGRESO DE DATOS'!$G$21=\"Guayaquil/Santa Elena\",'Tablas Guayaquil'!H930,'Tablas Resto de Ecuador'!H930)","v":554},{"$f":"IF('INGRESO DE DATOS'!$G$21=\"Guayaquil/Santa Elena\",'Tablas Guayaquil'!I930,'Tablas Resto de Ecuador'!I930)","v":345}]
[29,null,{"$f":"IF('INGRESO DE DATOS'!$G$21=\"Guayaquil/Santa Elena\",'Tablas Guayaquil'!C931,'Tablas Resto de Ecuador'!C931)","v":3088},{"$f":"IF('INGRESO DE DATOS'!$G$21=\"Guayaquil/Santa Elena\",'Tablas Guayaquil'!D931,'Tablas Resto de Ecuador'!D931)","v":2688},{"$f":"IF('INGRESO DE DATOS'!$G$21=\"Guayaquil/Santa Elena\",'Tablas Guayaquil'!E931,'Tablas Resto de Ecuador'!E931)","v":2099},{"$f":"IF('INGRESO DE DATOS'!$G$21=\"Guayaquil/Santa Elena\",'Tablas Guayaquil'!F931,'Tablas Resto de Ecuador'!F931)","v":1523},{"$f":"IF('INGRESO DE DATOS'!$G$21=\"Guayaquil/Santa Elena\",'Tablas Guayaquil'!G931,'Tablas Resto de Ecuador'!G931)","v":902},{"$f":"IF('INGRESO DE DATOS'!$G$21=\"Guayaquil/Santa Elena\",'Tablas Guayaquil'!H931,'Tablas Resto de Ecuador'!H931)","v":572},{"$f":"IF('INGRESO DE DATOS'!$G$21=\"Guayaquil/Santa Elena\",'Tablas Guayaquil'!I931,'Tablas Resto de Ecuador'!I931)","v":359}]
[30,null,{"$f":"IF('INGRESO DE DATOS'!$G$21=\"Guayaquil/Santa Elena\",'Tablas Guayaquil'!C932,'Tablas Resto de Ecuador'!C932)","v":3142},{"$f":"IF('INGRESO DE DATOS'!$G$21=\"Guayaquil/Santa Elena\",'Tablas Guayaquil'!D932,'Tablas Resto de Ecuador'!D932)","v":2734},{"$f":"IF('INGRESO DE DATOS'!$G$21=\"Guayaquil/Santa Elena\",'Tablas Guayaquil'!E932,'Tablas Resto de Ecuador'!E932)","v":2147},{"$f":"IF('INGRESO DE DATOS'!$G$21=\"Guayaquil/Santa Elena\",'Tablas Guayaquil'!F932,'Tablas Resto de Ecuador'!F932)","v":1562},{"$f":"IF('INGRESO DE DATOS'!$G$21=\"Guayaquil/Santa Elena\",'Tablas Guayaquil'!G932,'Tablas Resto de Ecuador'!G932)","v":929},{"$f":"IF('INGRESO DE DATOS'!$G$21=\"Guayaquil/Santa Elena\",'Tablas Guayaquil'!H932,'Tablas Resto de Ecuador'!H932)","v":594},{"$f":"IF('INGRESO DE DATOS'!$G$21=\"Guayaquil/Santa Elena\",'Tablas Guayaquil'!I932,'Tablas Resto de Ecuador'!I932)","v":374}]
[31,null,{"$f":"IF('INGRESO DE DATOS'!$G$21=\"Guayaquil/Santa Elena\",'Tablas Guayaquil'!C933,'Tablas Resto de Ecuador'!C933)","v":3194},{"$f":"IF('INGRESO DE DATOS'!$G$21=\"Guayaquil/Santa Elena\",'Tablas Guayaquil'!D933,'Tablas Resto de Ecuador'!D933)","v":2780},{"$f":"IF('INGRESO DE DATOS'!$G$21=\"Guayaquil/Santa Elena\",'Tablas Guayaquil'!E933,'Tablas Resto de Ecuador'!E933)","v":2199},{"$f":"IF('INGRESO DE DATOS'!$G$21=\"Guayaquil/Santa Elena\",'Tablas Guayaquil'!F933,'Tablas Resto de Ecuador'!F933)","v":1607},{"$f":"IF('INGRESO DE DATOS'!$G$21=\"Guayaquil/Santa Elena\",'Tablas Guayaquil'!G933,'Tablas Resto de Ecuador'!G933)","v":960},{"$f":"IF('INGRESO DE DATOS'!$G$21=\"Guayaquil/Santa Elena\",'Tablas Guayaquil'!H933,'Tablas Resto de Ecuador'!H933)","v":617},{"$f":"IF('INGRESO DE DATOS'!$G$21=\"Guayaquil/Santa Elena\",'Tablas Guayaquil'!I933,'Tablas Resto de Ecuador'!I933)","v":391}]
[32,null,{"$f":"IF('INGRESO DE DATOS'!$G$21=\"Guayaquil/Santa Elena\",'Tablas Guayaquil'!C934,'Tablas Resto de Ecuador'!C934)","v":3250},{"$f":"IF('INGRESO DE DATOS'!$G$21=\"Guayaquil/Santa Elena\",'Tablas Guayaquil'!D934,'Tablas Resto de Ecuador'!D934)","v":2823},{"$f":"IF('INGRESO DE DATOS'!$G$21=\"Guayaquil/Santa Elena\",'Tablas Guayaquil'!E934,'Tablas Resto de Ecuador'!E934)","v":2258},{"$f":"IF('INGRESO DE DATOS'!$G$21=\"Guayaquil/Santa Elena\",'Tablas Guayaquil'!F934,'Tablas Resto de Ecuador'!F934)","v":1655},{"$f":"IF('INGRESO DE DATOS'!$G$21=\"Guayaquil/Santa Elena\",'Tablas Guayaquil'!G934,'Tablas Resto de Ecuador'!G934)","v":995},{"$f":"IF('INGRESO DE DATOS'!$G$21=\"Guayaquil/Santa Elena\",'Tablas Guayaquil'!H934,'Tablas Resto de Ecuador'!H934)","v":641},{"$f":"IF('INGRESO DE DATOS'!$G$21=\"Guayaquil/Santa Elena\",'Tablas Guayaquil'!I934,'Tablas Resto de Ecuador'!I934)","v":410}]
[33,null,{"$f":"IF('INGRESO DE DATOS'!$G$21=\"Guayaquil/Santa Elena\",'Tablas Guayaquil'!C935,'Tablas Resto de Ecuador'!C935)","v":3338},{"$f":"IF('INGRESO DE DATOS'!$G$21=\"Guayaquil/Santa Elena\",'Tablas Guayaquil'!D935,'Tablas Resto de Ecuador'!D935)","v":2904},{"$f":"IF('INGRESO DE DATOS'!$G$21=\"Guayaquil/Santa Elena\",'Tablas Guayaquil'!E935,'Tablas Resto de Ecuador'!E935)","v":2324},{"$f":"IF('INGRESO DE DATOS'!$G$21=\"Guayaquil/Santa Elena\",'Tablas Guayaquil'!F935,'Tablas Resto de Ecuador'!F935)","v":1709},{"$f":"IF('INGRESO DE DATOS'!$G$21=\"Guayaquil/Santa Elena\",'Tablas Guayaquil'!G935,'Tablas Resto de Ecuador'!G935)","v":1032},{"$f":"IF('INGRESO DE DATOS'!$G$21=\"Guayaquil/Santa Elena\",'Tablas Guayaquil'!H935,'Tablas Resto de Ecuador'!H935)","v":669},{"$f":"IF('INGRESO DE DATOS'!$G$21=\"Guayaquil/Santa Elena\",'Tablas Guayaquil'!I935,'Tablas Resto de Ecuador'!I935)","v":429}]
[34,null,{"$f":"IF('INGRESO DE DATOS'!$G$21=\"Guayaquil/Santa Elena\",'Tablas Guayaquil'!C936,'Tablas Resto de Ecuador'!C936)","v":3427},{"$f":"IF('INGRESO DE DATOS'!$G$21=\"Guayaquil/Santa Elena\",'Tablas Guayaquil'!D936,'Tablas Resto de Ecuador'!D936)","v":2979},{"$f":"IF('INGRESO DE DATOS'!$G$21=\"Guayaquil/Santa Elena\",'Tablas Guayaquil'!E936,'Tablas Resto de Ecuador'!E936)","v":2398},{"$f":"IF('INGRESO DE DATOS'!$G$21=\"Guayaquil/Santa Elena\",'Tablas Guayaquil'!F936,'Tablas Resto de Ecuador'!F936)","v":1769},{"$f":"IF('INGRESO DE DATOS'!$G$21=\"Guayaquil/Santa Elena\",'Tablas Guayaquil'!G936,'Tablas Resto de Ecuador'!G936)","v":1074},{"$f":"IF('INGRESO DE DATOS'!$G$21=\"Guayaquil/Santa Elena\",'Tablas Guayaquil'!H936,'Tablas Resto de Ecuador'!H936)","v":699},{"$f":"IF('INGRESO DE DATOS'!$G$21=\"Guayaquil/Santa Elena\",'Tablas Guayaquil'!I936,'Tablas Resto de Ecuador'!I936)","v":451}]
[35,null,{"$f":"IF('INGRESO DE DATOS'!$G$21=\"Guayaquil/Santa Elena\",'Tablas Guayaquil'!C937,'Tablas Resto de Ecuador'!C937)","v":3515},{"$f":"IF('INGRESO DE DATOS'!$G$21=\"Guayaquil/Santa Elena\",'Tablas Guayaquil'!D937,'Tablas Resto de Ecuador'!D937)","v":3057},{"$f":"IF('INGRESO DE DATOS'!$G$21=\"Guayaquil/Santa Elena\",'Tablas Guayaquil'!E937,'Tablas Resto de Ecuador'!E937)","v":2478},{"$f":"IF('INGRESO DE DATOS'!$G$21=\"Guayaquil/Santa Elena\",'Tablas Guayaquil'!F937,'Tablas Resto de Ecuador'!F937)","v":1834},{"$f":"IF('INGRESO DE DATOS'!$G$21=\"Guayaquil/Santa Elena\",'Tablas Guayaquil'!G937,'Tablas Resto de Ecuador'!G937)","v":1119},{"$f":"IF('INGRESO DE DATOS'!$G$21=\"Guayaquil/Santa Elena\",'Tablas Guayaquil'!H937,'Tablas Resto de Ecuador'!H937)","v":731},{"$f":"IF('INGRESO DE DATOS'!$G$21=\"Guayaquil/Santa Elena\",'Tablas Guayaquil'!I937,'Tablas Resto de Ecuador'!I937)","v":474}]
[36,null,{"$f":"IF('INGRESO DE DATOS'!$G$21=\"Guayaquil/Santa Elena\",'Tablas Guayaquil'!C938,'Tablas Resto de Ecuador'!C938)","v":3603},{"$f":"IF('INGRESO DE DATOS'!$G$21=\"Guayaquil/Santa Elena\",'Tablas Guayaquil'!D938,'Tablas Resto de Ecuador'!D938)","v":3134},{"$f":"IF('INGRESO DE DATOS'!$G$21=\"Guayaquil/Santa Elena\",'Tablas Guayaquil'!E938,'Tablas Resto de Ecuador'!E938)","v":2567},{"$f":"IF('INGRESO DE DATOS'!$G$21=\"Guayaquil/Santa Elena\",'Tablas Guayaquil'!F938,'Tablas Resto de Ecuador'!F938)","v":1905},{"$f":"IF('INGRESO DE DATOS'!$G$21=\"Guayaquil/Santa Elena\",'Tablas Guayaquil'!G938,'Tablas Resto de Ecuador'!G938)","v":1168},{"$f":"IF('INGRESO DE DATOS'!$G$21=\"Guayaquil/Santa Elena\",'Tablas Guayaquil'!H938,'Tablas Resto de Ecuador'!H938)","v":766},{"$f":"IF('INGRESO DE DATOS'!$G$21=\"Guayaquil/Santa Elena\",'Tablas Guayaquil'!I938,'Tablas Resto de Ecuador'!I938)","v":501}]
[37,null,{"$f":"IF('INGRESO DE DATOS'!$G$21=\"Guayaquil/Santa Elena\",'Tablas Guayaquil'!C939,'Tablas Resto de Ecuador'!C939)","v":3694},{"$f":"IF('INGRESO DE DATOS'!$G$21=\"Guayaquil/Santa Elena\",'Tablas Guayaquil'!D939,'Tablas Resto de Ecuador'!D939)","v":3213},{"$f":"IF('INGRESO DE DATOS'!$G$21=\"Guayaquil/Santa Elena\",'Tablas Guayaquil'!E939,'Tablas Resto de Ecuador'!E939)","v":2663},{"$f":"IF('INGRESO DE DATOS'!$G$21=\"Guayaquil/Santa Elena\",'Tablas Guayaquil'!F939,'Tablas Resto de Ecuador'!F939)","v":1983},{"$f":"IF('INGRESO DE DATOS'!$G$21=\"Guayaquil/Santa Elena\",'Tablas Guayaquil'!G939,'Tablas Resto de Ecuador'!G939)","v":1222},{"$f":"IF('INGRESO DE DATOS'!$G$21=\"Guayaquil/Santa Elena\",'Tablas Guayaquil'!H939,'Tablas Resto de Ecuador'!H939)","v":805},{"$f":"IF('INGRESO DE DATOS'!$G$21=\"Guayaquil/Santa Elena\",'Tablas Guayaquil'!I939,'Tablas Resto de Ecuador'!I939)","v":528}]
[38,null,{"$f":"IF('INGRESO DE DATOS'!$G$21=\"Guayaquil/Santa Elena\",'Tablas Guayaquil'!C940,'Tablas Resto de Ecuador'!C940)","v":3785},{"$f":"IF('INGRESO DE DATOS'!$G$21=\"Guayaquil/Santa Elena\",'Tablas Guayaquil'!D940,'Tablas Resto de Ecuador'!D940)","v":3293},{"$f":"IF('INGRESO DE DATOS'!$G$21=\"Guayaquil/Santa Elena\",'Tablas Guayaquil'!E940,'Tablas Resto de Ecuador'!E940)","v":2769},{"$f":"IF('INGRESO DE DATOS'!$G$21=\"Guayaquil/Santa Elena\",'Tablas Guayaquil'!F940,'Tablas Resto de Ecuador'!F940)","v":2068},{"$f":"IF('INGRESO DE DATOS'!$G$21=\"Guayaquil/Santa Elena\",'Tablas Guayaquil'!G940,'Tablas Resto de Ecuador'!G940)","v":1280},{"$f":"IF('INGRESO DE DATOS'!$G$21=\"Guayaquil/Santa Elena\",'Tablas Guayaquil'!H940,'Tablas Resto de Ecuador'!H940)","v":847},{"$f":"IF('INGRESO DE DATOS'!$G$21=\"Guayaquil/Santa Elena\",'Tablas Guayaquil'!I940,'Tablas Resto de Ecuador'!I940)","v":559}]
[39,null,{"$f":"IF('INGRESO DE DATOS'!$G$21=\"Guayaquil/Santa Elena\",'Tablas Guayaquil'!C941,'Tablas Resto de Ecuador'!C941)","v":3877},{"$f":"IF('INGRESO DE DATOS'!$G$21=\"Guayaquil/Santa Elena\",'Tablas Guayaquil'!D941,'Tablas Resto de Ecuador'!D941)","v":3369},{"$f":"IF('INGRESO DE DATOS'!$G$21=\"Guayaquil/Santa Elena\",'Tablas Guayaquil'!E941,'Tablas Resto de Ecuador'!E941)","v":2884},{"$f":"IF('INGRESO DE DATOS'!$G$21=\"Guayaquil/Santa Elena\",'Tablas Guayaquil'!F941,'Tablas Resto de Ecuador'!F941)","v":2160},{"$f":"IF('INGRESO DE DATOS'!$G$21=\"Guayaquil/Santa Elena\",'Tablas Guayaquil'!G941,'Tablas Resto de Ecuador'!G941)","v":1343},{"$f":"IF('INGRESO DE DATOS'!$G$21=\"Guayaquil/Santa Elena\",'Tablas Guayaquil'!H941,'Tablas Resto de Ecuador'!H941)","v":893},{"$f":"IF('INGRESO DE DATOS'!$G$21=\"Guayaquil/Santa Elena\",'Tablas Guayaquil'!I941,'Tablas Resto de Ecuador'!I941)","v":593}]
[40,null,{"$f":"IF('INGRESO DE DATOS'!$G$21=\"Guayaquil/Santa Elena\",'Tablas Guayaquil'!C942,'Tablas Resto de Ecuador'!C942)","v":3967},{"$f":"IF('INGRESO DE DATOS'!$G$21=\"Guayaquil/Santa Elena\",'Tablas Guayaquil'!D942,'Tablas Resto de Ecuador'!D942)","v":3448},{"$f":"IF('INGRESO DE DATOS'!$G$21=\"Guayaquil/Santa Elena\",'Tablas Guayaquil'!E942,'Tablas Resto de Ecuador'!E942)","v":3008},{"$f":"IF('INGRESO DE DATOS'!$G$21=\"Guayaquil/Santa Elena\",'Tablas Guayaquil'!F942,'Tablas Resto de Ecuador'!F942)","v":2260},{"$f":"IF('INGRESO DE DATOS'!$G$21=\"Guayaquil/Santa Elena\",'Tablas Guayaquil'!G942,'Tablas Resto de Ecuador'!G942)","v":1412},{"$f":"IF('INGRESO DE DATOS'!$G$21=\"Guayaquil/Santa Elena\",'Tablas Guayaquil'!H942,'Tablas Resto de Ecuador'!H942)","v":942},{"$f":"IF('INGRESO DE DATOS'!$G$21=\"Guayaquil/Santa Elena\",'Tablas Guayaquil'!I942,'Tablas Resto de Ecuador'!I942)","v":628}]
[41,null,{"$f":"IF('INGRESO DE DATOS'!$G$21=\"Guayaquil/Santa Elena\",'Tablas Guayaquil'!C943,'Tablas Resto de Ecuador'!C943)","v":4055},{"$f":"IF('INGRESO DE DATOS'!$G$21=\"Guayaquil/Santa Elena\",'Tablas Guayaquil'!D943,'Tablas Resto de Ecuador'!D943)","v":3529},{"$f":"IF('INGRESO DE DATOS'!$G$21=\"Guayaquil/Santa Elena\",'Tablas Guayaquil'!E943,'Tablas Resto de Ecuador'!E943)","v":3144},{"$f":"IF('INGRESO DE DATOS'!$G$21=\"Guayaquil/Santa Elena\",'Tablas Guayaquil'!F943,'Tablas Resto de Ecuador'!F943)","v":2369},{"$f":"IF('INGRESO DE DATOS'!$G$21=\"Guayaquil/Santa Elena\",'Tablas Guayaquil'!G943,'Tablas Resto de Ecuador'!G943)","v":1486},{"$f":"IF('INGRESO DE DATOS'!$G$21=\"Guayaquil/Santa Elena\",'Tablas Guayaquil'!H943,'Tablas Resto de Ecuador'!H943)","v":995},{"$f":"IF('INGRESO DE DATOS'!$G$21=\"Guayaquil/Santa Elena\",'Tablas Guayaquil'!I943,'Tablas Resto de Ecuador'!I943)","v":667}]
[42,null,{"$f":"IF('INGRESO DE DATOS'!$G$21=\"Guayaquil/Santa Elena\",'Tablas Guayaquil'!C944,'Tablas Resto de Ecuador'!C944)","v":4150},{"$f":"IF('INGRESO DE DATOS'!$G$21=\"Guayaquil/Santa Elena\",'Tablas Guayaquil'!D944,'Tablas Resto de Ecuador'!D944)","v":3605},{"$f":"IF('INGRESO DE DATOS'!$G$21=\"Guayaquil/Santa Elena\",'Tablas Guayaquil'!E944,'Tablas Resto de Ecuador'!E944)","v":3290},{"$f":"IF('INGRESO DE DATOS'!$G$21=\"Guayaquil/Santa Elena\",'Tablas Guayaquil'!F944,'Tablas Resto de Ecuador'!F944)","v":2488},{"$f":"IF('INGRESO DE DATOS'!$G$21=\"Guayaquil/Santa Elena\",'Tablas Guayaquil'!G944,'Tablas Resto de Ecuador'!G944)","v":1566},{"$f":"IF('INGRESO DE DATOS'!$G$21=\"Guayaquil/Santa Elena\",'Tablas Guayaquil'!H944,'Tablas Resto de Ecuador'!H944)","v":1054},{"$f":"IF('INGRESO DE DATOS'!$G$21=\"Guayaquil/Santa Elena\",'Tablas Guayaquil'!I944,'Tablas Resto de Ecuador'!I944)","v":710}]
[43,null,{"$f":"IF('INGRESO DE DATOS'!$G$21=\"Guayaquil/Santa Elena\",'Tablas Guayaquil'!C945,'Tablas Resto de Ecuador'!C945)","v":4310},{"$f":"IF('INGRESO DE DATOS'!$G$21=\"Guayaquil/Santa Elena\",'Tablas Guayaquil'!D945,'Tablas Resto de Ecuador'!D945)","v":3750},{"$f":"IF('INGRESO DE DATOS'!$G$21=\"Guayaquil/Santa Elena\",'Tablas Guayaquil'!E945,'Tablas Resto de Ecuador'!E945)","v":3422},{"$f":"IF('INGRESO DE DATOS'!$G$21=\"Guayaquil/Santa Elena\",'Tablas Guayaquil'!F945,'Tablas Resto de Ecuador'!F945)","v":2614},{"$f":"IF('INGRESO DE DATOS'!$G$21=\"Guayaquil/Santa Elena\",'Tablas Guayaquil'!G945,'Tablas Resto de Ecuador'!G945)","v":1653},{"$f":"IF('INGRESO DE DATOS'!$G$21=\"Guayaquil/Santa Elena\",'Tablas Guayaquil'!H945,'Tablas Resto de Ecuador'!H945)","v":1117},{"$f":"IF('INGRESO DE DATOS'!$G$21=\"Guayaquil/Santa Elena\",'Tablas Guayaquil'!I945,'Tablas Resto de Ecuador'!I945)","v":757}]
[44,null,{"$f":"IF('INGRESO DE DATOS'!$G$21=\"Guayaquil/Santa Elena\",'Tablas Guayaquil'!C946,'Tablas Resto de Ecuador'!C946)","v":4477},{"$f":"IF('INGRESO DE DATOS'!$G$21=\"Guayaquil/Santa Elena\",'Tablas Guayaquil'!D946,'Tablas Resto de Ecuador'!D946)","v":3894},{"$f":"IF('INGRESO DE DATOS'!$G$21=\"Guayaquil/Santa Elena\",'Tablas Guayaquil'!E946,'Tablas Resto de Ecuador'!E946)","v":3552},{"$f":"IF('INGRESO DE DATOS'!$G$21=\"Guayaquil/Santa Elena\",'Tablas Guayaquil'!F946,'Tablas Resto de Ecuador'!F946)","v":2753},{"$f":"IF('INGRESO DE DATOS'!$G$21=\"Guayaquil/Santa Elena\",'Tablas Guayaquil'!G946,'Tablas Resto de Ecuador'!G946)","v":1748},{"$f":"IF('INGRESO DE DATOS'!$G$21=\"Guayaquil/Santa Elena\",'Tablas Guayaquil'!H946,'Tablas Resto de Ecuador'!H946)","v":1185},{"$f":"IF('INGRESO DE DATOS'!$G$21=\"Guayaquil/Santa Elena\",'Tablas Guayaquil'!I946,'Tablas Resto de Ecuador'!I946)","v":807}]
[45,null,{"$f":"IF('INGRESO DE DATOS'!$G$21=\"Guayaquil/Santa Elena\",'Tablas Guayaquil'!C947,'Tablas Resto de Ecuador'!C947)","v":4642},{"$f":"IF('INGRESO DE DATOS'!$G$21=\"Guayaquil/Santa Elena\",'Tablas Guayaquil'!D947,'Tablas Resto de Ecuador'!D947)","v":4035},{"$f":"IF('INGRESO DE DATOS'!$G$21=\"Guayaquil/Santa Elena\",'Tablas Guayaquil'!E947,'Tablas Resto de Ecuador'!E947)","v":3679},{"$f":"IF('INGRESO DE DATOS'!$G$21=\"Guayaquil/Santa Elena\",'Tablas Guayaquil'!F947,'Tablas Resto de Ecuador'!F947)","v":2902},{"$f":"IF('INGRESO DE DATOS'!$G$21=\"Guayaquil/Santa Elena\",'Tablas Guayaquil'!G947,'Tablas Resto de Ecuador'!G947)","v":1850},{"$f":"IF('INGRESO DE DATOS'!$G$21=\"Guayaquil/Santa Elena\",'Tablas Guayaquil'!H947,'Tablas Resto de Ecuador'!H947)","v":1259},{"$f":"IF('INGRESO DE DATOS'!$G$21=\"Guayaquil/Santa Elena\",'Tablas Guayaquil'!I947,'Tablas Resto de Ecuador'!I947)","v":862}]
[46,null,{"$f":"IF('INGRESO DE DATOS'!$G$21=\"Guayaquil/Santa Elena\",'Tablas Guayaquil'!C948,'Tablas Resto de Ecuador'!C948)","v":4805},{"$f":"IF('INGRESO DE DATOS'!$G$21=\"Guayaquil/Santa Elena\",'Tablas Guayaquil'!D948,'Tablas Resto de Ecuador'!D948)","v":4179},{"$f":"IF('INGRESO DE DATOS'!$G$21=\"Guayaquil/Santa Elena\",'Tablas Guayaquil'!E948,'Tablas Resto de Ecuador'!E948)","v":3813},{"$f":"IF('INGRESO DE DATOS'!$G$21=\"Guayaquil/Santa Elena\",'Tablas Guayaquil'!F948,'Tablas Resto de Ecuador'!F948)","v":3062},{"$f":"IF('INGRESO DE DATOS'!$G$21=\"Guayaquil/Santa Elena\",'Tablas Guayaquil'!G948,'Tablas Resto de Ecuador'!G948)","v":1960},{"$f":"IF('INGRESO DE DATOS'!$G$21=\"Guayaquil/Santa Elena\",'Tablas Guayaquil'!H948,'Tablas Resto de Ecuador'!H948)","v":1339},{"$f":"IF('INGRESO DE DATOS'!$G$21=\"Guayaquil/Santa Elena\",'Tablas Guayaquil'!I948,'Tablas Resto de Ecuador'!I948)","v":922}]
[47,null,{"$f":"IF('INGRESO DE DATOS'!$G$21=\"Guayaquil/Santa Elena\",'Tablas Guayaquil'!C949,'Tablas Resto de Ecuador'!C949)","v":4973},{"$f":"IF('INGRESO DE DATOS'!$G$21=\"Guayaquil/Santa Elena\",'Tablas Guayaquil'!D949,'Tablas Resto de Ecuador'!D949)","v":4323},{"$f":"IF('INGRESO DE DATOS'!$G$21=\"Guayaquil/Santa Elena\",'Tablas Guayaquil'!E949,'Tablas Resto de Ecuador'!E949)","v":3942},{"$f":"IF('INGRESO DE DATOS'!$G$21=\"Guayaquil/Santa Elena\",'Tablas Guayaquil'!F949,'Tablas Resto de Ecuador'!F949)","v":3235},{"$f":"IF('INGRESO DE DATOS'!$G$21=\"Guayaquil/Santa Elena\",'Tablas Guayaquil'!G949,'Tablas Resto de Ecuador'!G949)","v":2080},{"$f":"IF('INGRESO DE DATOS'!$G$21=\"Guayaquil/Santa Elena\",'Tablas Guayaquil'!H949,'Tablas Resto de Ecuador'!H949)","v":1426},{"$f":"IF('INGRESO DE DATOS'!$G$21=\"Guayaquil/Santa Elena\",'Tablas Guayaquil'!I949,'Tablas Resto de Ecuador'!I949)","v":986}]
[48,null,{"$f":"IF('INGRESO DE DATOS'!$G$21=\"Guayaquil/Santa Elena\",'Tablas Guayaquil'!C950,'Tablas Resto de Ecuador'!C950)","v":5149},{"$f":"IF('INGRESO DE DATOS'!$G$21=\"Guayaquil/Santa Elena\",'Tablas Guayaquil'!D950,'Tablas Resto de Ecuador'!D950)","v":4475},{"$f":"IF('INGRESO DE DATOS'!$G$21=\"Guayaquil/Santa Elena\",'Tablas Guayaquil'!E950,'Tablas Resto de Ecuador'!E950)","v":4079},{"$f":"IF('INGRESO DE DATOS'!$G$21=\"Guayaquil/Santa Elena\",'Tablas Guayaquil'!F950,'Tablas Resto de Ecuador'!F950)","v":3422},{"$f":"IF('INGRESO DE DATOS'!$G$21=\"Guayaquil/Santa Elena\",'Tablas Guayaquil'!G950,'Tablas Resto de Ecuador'!G950)","v":2210},{"$f":"IF('INGRESO DE DATOS'!$G$21=\"Guayaquil/Santa Elena\",'Tablas Guayaquil'!H950,'Tablas Resto de Ecuador'!H950)","v":1521},{"$f":"IF('INGRESO DE DATOS'!$G$21=\"Guayaquil/Santa Elena\",'Tablas Guayaquil'!I950,'Tablas Resto de Ecuador'!I950)","v":1056}]
[49,null,{"$f":"IF('INGRESO DE DATOS'!$G$21=\"Guayaquil/Santa Elena\",'Tablas Guayaquil'!C951,'Tablas Resto de Ecuador'!C951)","v":5322},{"$f":"IF('INGRESO DE DATOS'!$G$21=\"Guayaquil/Santa Elena\",'Tablas Guayaquil'!D951,'Tablas Resto de Ecuador'!D951)","v":4628},{"$f":"IF('INGRESO DE DATOS'!$G$21=\"Guayaquil/Santa Elena\",'Tablas Guayaquil'!E951,'Tablas Resto de Ecuador'!E951)","v":4220},{"$f":"IF('INGRESO DE DATOS'!$G$21=\"Guayaquil/Santa Elena\",'Tablas Guayaquil'!F951,'Tablas Resto de Ecuador'!F951)","v":3624},{"$f":"IF('INGRESO DE DATOS'!$G$21=\"Guayaquil/Santa Elena\",'Tablas Guayaquil'!G951,'Tablas Resto de Ecuador'!G951)","v":2350},{"$f":"IF('INGRESO DE DATOS'!$G$21=\"Guayaquil/Santa Elena\",'Tablas Guayaquil'!H951,'Tablas Resto de Ecuador'!H951)","v":1623},{"$f":"IF('INGRESO DE DATOS'!$G$21=\"Guayaquil/Santa Elena\",'Tablas Guayaquil'!I951,'Tablas Resto de Ecuador'!I951)","v":1133}]
[50,null,{"$f":"IF('INGRESO DE DATOS'!$G$21=\"Guayaquil/Santa Elena\",'Tablas Guayaquil'!C952,'Tablas Resto de Ecuador'!C952)","v":5495},{"$f":"IF('INGRESO DE DATOS'!$G$21=\"Guayaquil/Santa Elena\",'Tablas Guayaquil'!D952,'Tablas Resto de Ecuador'!D952)","v":4780},{"$f":"IF('INGRESO DE DATOS'!$G$21=\"Guayaquil/Santa Elena\",'Tablas Guayaquil'!E952,'Tablas Resto de Ecuador'!E952)","v":4357},{"$f":"IF('INGRESO DE DATOS'!$G$21=\"Guayaquil/Santa Elena\",'Tablas Guayaquil'!F952,'Tablas Resto de Ecuador'!F952)","v":3794},{"$f":"IF('INGRESO DE DATOS'!$G$21=\"Guayaquil/Santa Elena\",'Tablas Guayaquil'!G952,'Tablas Resto de Ecuador'!G952)","v":2512},{"$f":"IF('INGRESO DE DATOS'!$G$21=\"Guayaquil/Santa Elena\",'Tablas Guayaquil'!H952,'Tablas Resto de Ecuador'!H952)","v":1654},{"$f":"IF('INGRESO DE DATOS'!$G$21=\"Guayaquil/Santa Elena\",'Tablas Guayaquil'!I952,'Tablas Resto de Ecuador'!I952)","v":1222}]
[51,null,{"$f":"IF('INGRESO DE DATOS'!$G$21=\"Guayaquil/Santa Elena\",'Tablas Guayaquil'!C953,'Tablas Resto de Ecuador'!C953)","v":5668},{"$f":"IF('INGRESO DE DATOS'!$G$21=\"Guayaquil/Santa Elena\",'Tablas Guayaquil'!D953,'Tablas Resto de Ecuador'!D953)","v":4930},{"$f":"IF('INGRESO DE DATOS'!$G$21=\"Guayaquil/Santa Elena\",'Tablas Guayaquil'!E953,'Tablas Resto de Ecuador'!E953)","v":4495},{"$f":"IF('INGRESO DE DATOS'!$G$21=\"Guayaquil/Santa Elena\",'Tablas Guayaquil'!F953,'Tablas Resto de Ecuador'!F953)","v":3923},{"$f":"IF('INGRESO DE DATOS'!$G$21=\"Guayaquil/Santa Elena\",'Tablas Guayaquil'!G953,'Tablas Resto de Ecuador'!G953)","v":2710},{"$f":"IF('INGRESO DE DATOS'!$G$21=\"Guayaquil/Santa Elena\",'Tablas Guayaquil'!H953,'Tablas Resto de Ecuador'!H953)","v":1793},{"$f":"IF('INGRESO DE DATOS'!$G$21=\"Guayaquil/Santa Elena\",'Tablas Guayaquil'!I953,'Tablas Resto de Ecuador'!I953)","v":1331}]
[52,null,{"$f":"IF('INGRESO DE DATOS'!$G$21=\"Guayaquil/Santa Elena\",'Tablas Guayaquil'!C954,'Tablas Resto de Ecuador'!C954)","v":5843},{"$f":"IF('INGRESO DE DATOS'!$G$21=\"Guayaquil/Santa Elena\",'Tablas Guayaquil'!D954,'Tablas Resto de Ecuador'!D954)","v":5082},{"$f":"IF('INGRESO DE DATOS'!$G$21=\"Guayaquil/Santa Elena\",'Tablas Guayaquil'!E954,'Tablas Resto de Ecuador'!E954)","v":4634},{"$f":"IF('INGRESO DE DATOS'!$G$21=\"Guayaquil/Santa Elena\",'Tablas Guayaquil'!F954,'Tablas Resto de Ecuador'!F954)","v":4052},{"$f":"IF('INGRESO DE DATOS'!$G$21=\"Guayaquil/Santa Elena\",'Tablas Guayaquil'!G954,'Tablas Resto de Ecuador'!G954)","v":2841},{"$f":"IF('INGRESO DE DATOS'!$G$21=\"Guayaquil/Santa Elena\",'Tablas Guayaquil'!H954,'Tablas Resto de Ecuador'!H954)","v":1941},{"$f":"IF('INGRESO DE DATOS'!$G$21=\"Guayaquil/Santa Elena\",'Tablas Guayaquil'!I954,'Tablas Resto de Ecuador'!I954)","v":1448}]
[53,null,{"$f":"IF('INGRESO DE DATOS'!$G$21=\"Guayaquil/Santa Elena\",'Tablas Guayaquil'!C955,'Tablas Resto de Ecuador'!C955)","v":6049},{"$f":"IF('INGRESO DE DATOS'!$G$21=\"Guayaquil/Santa Elena\",'Tablas Guayaquil'!D955,'Tablas Resto de Ecuador'!D955)","v":5260},{"$f":"IF('INGRESO DE DATOS'!$G$21=\"Guayaquil/Santa Elena\",'Tablas Guayaquil'!E955,'Tablas Resto de Ecuador'!E955)","v":4799},{"$f":"IF('INGRESO DE DATOS'!$G$21=\"Guayaquil/Santa Elena\",'Tablas Guayaquil'!F955,'Tablas Resto de Ecuador'!F955)","v":4210},{"$f":"IF('INGRESO DE DATOS'!$G$21=\"Guayaquil/Santa Elena\",'Tablas Guayaquil'!G955,'Tablas Resto de Ecuador'!G955)","v":2944},{"$f":"IF('INGRESO DE DATOS'!$G$21=\"Guayaquil/Santa Elena\",'Tablas Guayaquil'!H955,'Tablas Resto de Ecuador'!H955)","v":2023},{"$f":"IF('INGRESO DE DATOS'!$G$21=\"Guayaquil/Santa Elena\",'Tablas Guayaquil'!I955,'Tablas Resto de Ecuador'!I955)","v":1575}]
[54,null,{"$f":"IF('INGRESO DE DATOS'!$G$21=\"Guayaquil/Santa Elena\",'Tablas Guayaquil'!C956,'Tablas Resto de Ecuador'!C956)","v":6257},{"$f":"IF('INGRESO DE DATOS'!$G$21=\"Guayaquil/Santa Elena\",'Tablas Guayaquil'!D956,'Tablas Resto de Ecuador'!D956)","v":5440},{"$f":"IF('INGRESO DE DATOS'!$G$21=\"Guayaquil/Santa Elena\",'Tablas Guayaquil'!E956,'Tablas Resto de Ecuador'!E956)","v":4962},{"$f":"IF('INGRESO DE DATOS'!$G$21=\"Guayaquil/Santa Elena\",'Tablas Guayaquil'!F956,'Tablas Resto de Ecuador'!F956)","v":4365},{"$f":"IF('INGRESO DE DATOS'!$G$21=\"Guayaquil/Santa Elena\",'Tablas Guayaquil'!G956,'Tablas Resto de Ecuador'!G956)","v":3048},{"$f":"IF('INGRESO DE DATOS'!$G$21=\"Guayaquil/Santa Elena\",'Tablas Guayaquil'!H956,'Tablas Resto de Ecuador'!H956)","v":2187},{"$f":"IF('INGRESO DE DATOS'!$G$21=\"Guayaquil/Santa Elena\",'Tablas Guayaquil'!I956,'Tablas Resto de Ecuador'!I956)","v":1711}]
[55,null,{"$f":"IF('INGRESO DE DATOS'!$G$21=\"Guayaquil/Santa Elena\",'Tablas Guayaquil'!C957,'Tablas Resto de Ecuador'!C957)","v":6467},{"$f":"IF('INGRESO DE DATOS'!$G$21=\"Guayaquil/Santa Elena\",'Tablas Guayaquil'!D957,'Tablas Resto de Ecuador'!D957)","v":5623},{"$f":"IF('INGRESO DE DATOS'!$G$21=\"Guayaquil/Santa Elena\",'Tablas Guayaquil'!E957,'Tablas Resto de Ecuador'!E957)","v":5124},{"$f":"IF('INGRESO DE DATOS'!$G$21=\"Guayaquil/Santa Elena\",'Tablas Guayaquil'!F957,'Tablas Resto de Ecuador'!F957)","v":4522},{"$f":"IF('INGRESO DE DATOS'!$G$21=\"Guayaquil/Santa Elena\",'Tablas Guayaquil'!G957,'Tablas Resto de Ecuador'!G957)","v":3159},{"$f":"IF('INGRESO DE DATOS'!$G$21=\"Guayaquil/Santa Elena\",'Tablas Guayaquil'!H957,'Tablas Resto de Ecuador'!H957)","v":2364},{"$f":"IF('INGRESO DE DATOS'!$G$21=\"Guayaquil/Santa Elena\",'Tablas Guayaquil'!I957,'Tablas Resto de Ecuador'!I957)","v":1857}]
[56,null,{"$f":"IF('INGRESO DE DATOS'!$G$21=\"Guayaquil/Santa Elena\",'Tablas Guayaquil'!C958,'Tablas Resto de Ecuador'!C958)","v":6673},{"$f":"IF('INGRESO DE DATOS'!$G$21=\"Guayaquil/Santa Elena\",'Tablas Guayaquil'!D958,'Tablas Resto de Ecuador'!D958)","v":5802},{"$f":"IF('INGRESO DE DATOS'!$G$21=\"Guayaquil/Santa Elena\",'Tablas Guayaquil'!E958,'Tablas Resto de Ecuador'!E958)","v":5287},{"$f":"IF('INGRESO DE DATOS'!$G$21=\"Guayaquil/Santa Elena\",'Tablas Guayaquil'!F958,'Tablas Resto de Ecuador'!F958)","v":4678},{"$f":"IF('INGRESO DE DATOS'!$G$21=\"Guayaquil/Santa Elena\",'Tablas Guayaquil'!G958,'Tablas Resto de Ecuador'!G958)","v":3264},{"$f":"IF('INGRESO DE DATOS'!$G$21=\"Guayaquil/Santa Elena\",'Tablas Guayaquil'!H958,'Tablas Resto de Ecuador'!H958)","v":2457},{"$f":"IF('INGRESO DE DATOS'!$G$21=\"Guayaquil/Santa Elena\",'Tablas Guayaquil'!I958,'Tablas Resto de Ecuador'!I958)","v":2013}]
[57,null,{"$f":"IF('INGRESO DE DATOS'!$G$21=\"Guayaquil/Santa Elena\",'Tablas Guayaquil'!C959,'Tablas Resto de Ecuador'!C959)","v":6875},{"$f":"IF('INGRESO DE DATOS'!$G$21=\"Guayaquil/Santa Elena\",'Tablas Guayaquil'!D959,'Tablas Resto de Ecuador'!D959)","v":5982},{"$f":"IF('INGRESO DE DATOS'!$G$21=\"Guayaquil/Santa Elena\",'Tablas Guayaquil'!E959,'Tablas Resto de Ecuador'!E959)","v":5453},{"$f":"IF('INGRESO DE DATOS'!$G$21=\"Guayaquil/Santa Elena\",'Tablas Guayaquil'!F959,'Tablas Resto de Ecuador'!F959)","v":4835},{"$f":"IF('INGRESO DE DATOS'!$G$21=\"Guayaquil/Santa Elena\",'Tablas Guayaquil'!G959,'Tablas Resto de Ecuador'!G959)","v":3366},{"$f":"IF('INGRESO DE DATOS'!$G$21=\"Guayaquil/Santa Elena\",'Tablas Guayaquil'!H959,'Tablas Resto de Ecuador'!H959)","v":2654},{"$f":"IF('INGRESO DE DATOS'!$G$21=\"Guayaquil/Santa Elena\",'Tablas Guayaquil'!I959,'Tablas Resto de Ecuador'!I959)","v":2182}]
[58,null,{"$f":"IF('INGRESO DE DATOS'!$G$21=\"Guayaquil/Santa Elena\",'Tablas Guayaquil'!C960,'Tablas Resto de Ecuador'!C960)","v":7114},{"$f":"IF('INGRESO DE DATOS'!$G$21=\"Guayaquil/Santa Elena\",'Tablas Guayaquil'!D960,'Tablas Resto de Ecuador'!D960)","v":6185},{"$f":"IF('INGRESO DE DATOS'!$G$21=\"Guayaquil/Santa Elena\",'Tablas Guayaquil'!E960,'Tablas Resto de Ecuador'!E960)","v":5624},{"$f":"IF('INGRESO DE DATOS'!$G$21=\"Guayaquil/Santa Elena\",'Tablas Guayaquil'!F960,'Tablas Resto de Ecuador'!F960)","v":5042},{"$f":"IF('INGRESO DE DATOS'!$G$21=\"Guayaquil/Santa Elena\",'Tablas Guayaquil'!G960,'Tablas Resto de Ecuador'!G960)","v":3501},{"$f":"IF('INGRESO DE DATOS'!$G$21=\"Guayaquil/Santa Elena\",'Tablas Guayaquil'!H960,'Tablas Resto de Ecuador'!H960)","v":2865},{"$f":"IF('INGRESO DE DATOS'!$G$21=\"Guayaquil/Santa Elena\",'Tablas Guayaquil'!I960,'Tablas Resto de Ecuador'!I960)","v":2364}]
[59,null,{"$f":"IF('INGRESO DE DATOS'!$G$21=\"Guayaquil/Santa Elena\",'Tablas Guayaquil'!C961,'Tablas Resto de Ecuador'!C961)","v":7353},{"$f":"IF('INGRESO DE DATOS'!$G$21=\"Guayaquil/Santa Elena\",'Tablas Guayaquil'!D961,'Tablas Resto de Ecuador'!D961)","v":6394},{"$f":"IF('INGRESO DE DATOS'!$G$21=\"Guayaquil/Santa Elena\",'Tablas Guayaquil'!E961,'Tablas Resto de Ecuador'!E961)","v":5794},{"$f":"IF('INGRESO DE DATOS'!$G$21=\"Guayaquil/Santa Elena\",'Tablas Guayaquil'!F961,'Tablas Resto de Ecuador'!F961)","v":5245},{"$f":"IF('INGRESO DE DATOS'!$G$21=\"Guayaquil/Santa Elena\",'Tablas Guayaquil'!G961,'Tablas Resto de Ecuador'!G961)","v":3633},{"$f":"IF('INGRESO DE DATOS'!$G$21=\"Guayaquil/Santa Elena\",'Tablas Guayaquil'!H961,'Tablas Resto de Ecuador'!H961)","v":2970},{"$f":"IF('INGRESO DE DATOS'!$G$21=\"Guayaquil/Santa Elena\",'Tablas Guayaquil'!I961,'Tablas Resto de Ecuador'!I961)","v":2559}]
[60,null,{"$f":"IF('INGRESO DE DATOS'!$G$21=\"Guayaquil/Santa Elena\",'Tablas Guayaquil'!C962,'Tablas Resto de Ecuador'!C962)","v":7589},{"$f":"IF('INGRESO DE DATOS'!$G$21=\"Guayaquil/Santa Elena\",'Tablas Guayaquil'!D962,'Tablas Resto de Ecuador'!D962)","v":6598},{"$f":"IF('INGRESO DE DATOS'!$G$21=\"Guayaquil/Santa Elena\",'Tablas Guayaquil'!E962,'Tablas Resto de Ecuador'!E962)","v":5967},{"$f":"IF('INGRESO DE DATOS'!$G$21=\"Guayaquil/Santa Elena\",'Tablas Guayaquil'!F962,'Tablas Resto de Ecuador'!F962)","v":5450},{"$f":"IF('INGRESO DE DATOS'!$G$21=\"Guayaquil/Santa Elena\",'Tablas Guayaquil'!G962,'Tablas Resto de Ecuador'!G962)","v":3766},{"$f":"IF('INGRESO DE DATOS'!$G$21=\"Guayaquil/Santa Elena\",'Tablas Guayaquil'!H962,'Tablas Resto de Ecuador'!H962)","v":3207},{"$f":"IF('INGRESO DE DATOS'!$G$21=\"Guayaquil/Santa Elena\",'Tablas Guayaquil'!I962,'Tablas Resto de Ecuador'!I962)","v":2770}]
[61,null,{"$f":"IF('INGRESO DE DATOS'!$G$21=\"Guayaquil/Santa Elena\",'Tablas Guayaquil'!C963,'Tablas Resto de Ecuador'!C963)","v":7882},{"$f":"IF('INGRESO DE DATOS'!$G$21=\"Guayaquil/Santa Elena\",'Tablas Guayaquil'!D963,'Tablas Resto de Ecuador'!D963)","v":6852},{"$f":"IF('INGRESO DE DATOS'!$G$21=\"Guayaquil/Santa Elena\",'Tablas Guayaquil'!E963,'Tablas Resto de Ecuador'!E963)","v":6224},{"$f":"IF('INGRESO DE DATOS'!$G$21=\"Guayaquil/Santa Elena\",'Tablas Guayaquil'!F963,'Tablas Resto de Ecuador'!F963)","v":5654},{"$f":"IF('INGRESO DE DATOS'!$G$21=\"Guayaquil/Santa Elena\",'Tablas Guayaquil'!G963,'Tablas Resto de Ecuador'!G963)","v":3906},{"$f":"IF('INGRESO DE DATOS'!$G$21=\"Guayaquil/Santa Elena\",'Tablas Guayaquil'!H963,'Tablas Resto de Ecuador'!H963)","v":3461},{"$f":"IF('INGRESO DE DATOS'!$G$21=\"Guayaquil/Santa Elena\",'Tablas Guayaquil'!I963,'Tablas Resto de Ecuador'!I963)","v":2996}]
[62,null,{"$f":"IF('INGRESO DE DATOS'!$G$21=\"Guayaquil/Santa Elena\",'Tablas Guayaquil'!C964,'Tablas Resto de Ecuador'!C964)","v":8380},{"$f":"IF('INGRESO DE DATOS'!$G$21=\"Guayaquil/Santa Elena\",'Tablas Guayaquil'!D964,'Tablas Resto de Ecuador'!D964)","v":7195},{"$f":"IF('INGRESO DE DATOS'!$G$21=\"Guayaquil/Santa Elena\",'Tablas Guayaquil'!E964,'Tablas Resto de Ecuador'!E964)","v":6529},{"$f":"IF('INGRESO DE DATOS'!$G$21=\"Guayaquil/Santa Elena\",'Tablas Guayaquil'!F964,'Tablas Resto de Ecuador'!F964)","v":5909},{"$f":"IF('INGRESO DE DATOS'!$G$21=\"Guayaquil/Santa Elena\",'Tablas Guayaquil'!G964,'Tablas Resto de Ecuador'!G964)","v":4084},{"$f":"IF('INGRESO DE DATOS'!$G$21=\"Guayaquil/Santa Elena\",'Tablas Guayaquil'!H964,'Tablas Resto de Ecuador'!H964)","v":3580},{"$f":"IF('INGRESO DE DATOS'!$G$21=\"Guayaquil/Santa Elena\",'Tablas Guayaquil'!I964,'Tablas Resto de Ecuador'!I964)","v":3240}]
[63,null,{"$f":"IF('INGRESO DE DATOS'!$G$21=\"Guayaquil/Santa Elena\",'Tablas Guayaquil'!C965,'Tablas Resto de Ecuador'!C965)","v":8962},{"$f":"IF('INGRESO DE DATOS'!$G$21=\"Guayaquil/Santa Elena\",'Tablas Guayaquil'!D965,'Tablas Resto de Ecuador'!D965)","v":7715},{"$f":"IF('INGRESO DE DATOS'!$G$21=\"Guayaquil/Santa Elena\",'Tablas Guayaquil'!E965,'Tablas Resto de Ecuador'!E965)","v":6868},{"$f":"IF('INGRESO DE DATOS'!$G$21=\"Guayaquil/Santa Elena\",'Tablas Guayaquil'!F965,'Tablas Resto de Ecuador'!F965)","v":6213},{"$f":"IF('INGRESO DE DATOS'!$G$21=\"Guayaquil/Santa Elena\",'Tablas Guayaquil'!G965,'Tablas Resto de Ecuador'!G965)","v":4296},{"$f":"IF('INGRESO DE DATOS'!$G$21=\"Guayaquil/Santa Elena\",'Tablas Guayaquil'!H965,'Tablas Resto de Ecuador'!H965)","v":3863},{"$f":"IF('INGRESO DE DATOS'!$G$21=\"Guayaquil/Santa Elena\",'Tablas Guayaquil'!I965,'Tablas Resto de Ecuador'!I965)","v":3503}]
[64,null,{"$f":"IF('INGRESO DE DATOS'!$G$21=\"Guayaquil/Santa Elena\",'Tablas Guayaquil'!C966,'Tablas Resto de Ecuador'!C966)","v":9585},{"$f":"IF('INGRESO DE DATOS'!$G$21=\"Guayaquil/Santa Elena\",'Tablas Guayaquil'!D966,'Tablas Resto de Ecuador'!D966)","v":8275},{"$f":"IF('INGRESO DE DATOS'!$G$21=\"Guayaquil/Santa Elena\",'Tablas Guayaquil'!E966,'Tablas Resto de Ecuador'!E966)","v":7260},{"$f":"IF('INGRESO DE DATOS'!$G$21=\"Guayaquil/Santa Elena\",'Tablas Guayaquil'!F966,'Tablas Resto de Ecuador'!F966)","v":6570},{"$f":"IF('INGRESO DE DATOS'!$G$21=\"Guayaquil/Santa Elena\",'Tablas Guayaquil'!G966,'Tablas Resto de Ecuador'!G966)","v":4544},{"$f":"IF('INGRESO DE DATOS'!$G$21=\"Guayaquil/Santa Elena\",'Tablas Guayaquil'!H966,'Tablas Resto de Ecuador'!H966)","v":4170},{"$f":"IF('INGRESO DE DATOS'!$G$21=\"Guayaquil/Santa Elena\",'Tablas Guayaquil'!I966,'Tablas Resto de Ecuador'!I966)","v":3789}]
[65,null,{"$f":"IF('INGRESO DE DATOS'!$G$21=\"Guayaquil/Santa Elena\",'Tablas Guayaquil'!C967,'Tablas Resto de Ecuador'!C967)","v":10257},{"$f":"IF('INGRESO DE DATOS'!$G$21=\"Guayaquil/Santa Elena\",'Tablas Guayaquil'!D967,'Tablas Resto de Ecuador'!D967)","v":8878},{"$f":"IF('INGRESO DE DATOS'!$G$21=\"Guayaquil/Santa Elena\",'Tablas Guayaquil'!E967,'Tablas Resto de Ecuador'!E967)","v":7734},{"$f":"IF('INGRESO DE DATOS'!$G$21=\"Guayaquil/Santa Elena\",'Tablas Guayaquil'!F967,'Tablas Resto de Ecuador'!F967)","v":7062},{"$f":"IF('INGRESO DE DATOS'!$G$21=\"Guayaquil/Santa Elena\",'Tablas Guayaquil'!G967,'Tablas Resto de Ecuador'!G967)","v":4864},{"$f":"IF('INGRESO DE DATOS'!$G$21=\"Guayaquil/Santa Elena\",'Tablas Guayaquil'!H967,'Tablas Resto de Ecuador'!H967)","v":4306},{"$f":"IF('INGRESO DE DATOS'!$G$21=\"Guayaquil/Santa Elena\",'Tablas Guayaquil'!I967,'Tablas Resto de Ecuador'!I967)","v":4096}]
[66,null,{"$f":"IF('INGRESO DE DATOS'!$G$21=\"Guayaquil/Santa Elena\",'Tablas Guayaquil'!C968,'Tablas Resto de Ecuador'!C968)","v":10978},{"$f":"IF('INGRESO DE DATOS'!$G$21=\"Guayaquil/Santa Elena\",'Tablas Guayaquil'!D968,'Tablas Resto de Ecuador'!D968)","v":9528},{"$f":"IF('INGRESO DE DATOS'!$G$21=\"Guayaquil/Santa Elena\",'Tablas Guayaquil'!E968,'Tablas Resto de Ecuador'!E968)","v":8292},{"$f":"IF('INGRESO DE DATOS'!$G$21=\"Guayaquil/Santa Elena\",'Tablas Guayaquil'!F968,'Tablas Resto de Ecuador'!F968)","v":7627},{"$f":"IF('INGRESO DE DATOS'!$G$21=\"Guayaquil/Santa Elena\",'Tablas Guayaquil'!G968,'Tablas Resto de Ecuador'!G968)","v":5238},{"$f":"IF('INGRESO DE DATOS'!$G$21=\"Guayaquil/Santa Elena\",'Tablas Guayaquil'!H968,'Tablas Resto de Ecuador'!H968)","v":4649},{"$f":"IF('INGRESO DE DATOS'!$G$21=\"Guayaquil/Santa Elena\",'Tablas Guayaquil'!I968,'Tablas Resto de Ecuador'!I968)","v":4427}]
[67,null,{"$f":"IF('INGRESO DE DATOS'!$G$21=\"Guayaquil/Santa Elena\",'Tablas Guayaquil'!C969,'Tablas Resto de Ecuador'!C969)","v":11753},{"$f":"IF('INGRESO DE DATOS'!$G$21=\"Guayaquil/Santa Elena\",'Tablas Guayaquil'!D969,'Tablas Resto de Ecuador'!D969)","v":10227},{"$f":"IF('INGRESO DE DATOS'!$G$21=\"Guayaquil/Santa Elena\",'Tablas Guayaquil'!E969,'Tablas Resto de Ecuador'!E969)","v":8955},{"$f":"IF('INGRESO DE DATOS'!$G$21=\"Guayaquil/Santa Elena\",'Tablas Guayaquil'!F969,'Tablas Resto de Ecuador'!F969)","v":8242},{"$f":"IF('INGRESO DE DATOS'!$G$21=\"Guayaquil/Santa Elena\",'Tablas Guayaquil'!G969,'Tablas Resto de Ecuador'!G969)","v":5660},{"$f":"IF('INGRESO DE DATOS'!$G$21=\"Guayaquil/Santa Elena\",'Tablas Guayaquil'!H969,'Tablas Resto de Ecuador'!H969)","v":5018},{"$f":"IF('INGRESO DE DATOS'!$G$21=\"Guayaquil/Santa Elena\",'Tablas Guayaquil'!I969,'Tablas Resto de Ecuador'!I969)","v":4784}]
[68,null,{"$f":"IF('INGRESO DE DATOS'!$G$21=\"Guayaquil/Santa Elena\",'Tablas Guayaquil'!C970,'Tablas Resto de Ecuador'!C970)","v":12584},{"$f":"IF('INGRESO DE DATOS'!$G$21=\"Guayaquil/Santa Elena\",'Tablas Guayaquil'!D970,'Tablas Resto de Ecuador'!D970)","v":10979},{"$f":"IF('INGRESO DE DATOS'!$G$21=\"Guayaquil/Santa Elena\",'Tablas Guayaquil'!E970,'Tablas Resto de Ecuador'!E970)","v":9715},{"$f":"IF('INGRESO DE DATOS'!$G$21=\"Guayaquil/Santa Elena\",'Tablas Guayaquil'!F970,'Tablas Resto de Ecuador'!F970)","v":8937},{"$f":"IF('INGRESO DE DATOS'!$G$21=\"Guayaquil/Santa Elena\",'Tablas Guayaquil'!G970,'Tablas Resto de Ecuador'!G970)","v":6136},{"$f":"IF('INGRESO DE DATOS'!$G$21=\"Guayaquil/Santa Elena\",'Tablas Guayaquil'!H970,'Tablas Resto de Ecuador'!H970)","v":5662},{"$f":"IF('INGRESO DE DATOS'!$G$21=\"Guayaquil/Santa Elena\",'Tablas Guayaquil'!I970,'Tablas Resto de Ecuador'!I970)","v":5170}]
[69,null,{"$f":"IF('INGRESO DE DATOS'!$G$21=\"Guayaquil/Santa Elena\",'Tablas Guayaquil'!C971,'Tablas Resto de Ecuador'!C971)","v":13478},{"$f":"IF('INGRESO DE DATOS'!$G$21=\"Guayaquil/Santa Elena\",'Tablas Guayaquil'!D971,'Tablas Resto de Ecuador'!D971)","v":11788},{"$f":"IF('INGRESO DE DATOS'!$G$21=\"Guayaquil/Santa Elena\",'Tablas Guayaquil'!E971,'Tablas Resto de Ecuador'!E971)","v":10600},{"$f":"IF('INGRESO DE DATOS'!$G$21=\"Guayaquil/Santa Elena\",'Tablas Guayaquil'!F971,'Tablas Resto de Ecuador'!F971)","v":9759},{"$f":"IF('INGRESO DE DATOS'!$G$21=\"Guayaquil/Santa Elena\",'Tablas Guayaquil'!G971,'Tablas Resto de Ecuador'!G971)","v":6702},{"$f":"IF('INGRESO DE DATOS'!$G$21=\"Guayaquil/Santa Elena\",'Tablas Guayaquil'!H971,'Tablas Resto de Ecuador'!H971)","v":6114},{"$f":"IF('INGRESO DE DATOS'!$G$21=\"Guayaquil/Santa Elena\",'Tablas Guayaquil'!I971,'Tablas Resto de Ecuador'!I971)","v":5586}]
[70,null,{"$f":"IF('INGRESO DE DATOS'!$G$21=\"Guayaquil/Santa Elena\",'Tablas Guayaquil'!C972,'Tablas Resto de Ecuador'!C972)","v":14664},{"$f":"IF('INGRESO DE DATOS'!$G$21=\"Guayaquil/Santa Elena\",'Tablas Guayaquil'!D972,'Tablas Resto de Ecuador'!D972)","v":12753},{"$f":"IF('INGRESO DE DATOS'!$G$21=\"Guayaquil/Santa Elena\",'Tablas Guayaquil'!E972,'Tablas Resto de Ecuador'!E972)","v":11527},{"$f":"IF('INGRESO DE DATOS'!$G$21=\"Guayaquil/Santa Elena\",'Tablas Guayaquil'!F972,'Tablas Resto de Ecuador'!F972)","v":10860},{"$f":"IF('INGRESO DE DATOS'!$G$21=\"Guayaquil/Santa Elena\",'Tablas Guayaquil'!G972,'Tablas Resto de Ecuador'!G972)","v":7412},{"$f":"IF('INGRESO DE DATOS'!$G$21=\"Guayaquil/Santa Elena\",'Tablas Guayaquil'!H972,'Tablas Resto de Ecuador'!H972)","v":6601},{"$f":"IF('INGRESO DE DATOS'!$G$21=\"Guayaquil/Santa Elena\",'Tablas Guayaquil'!I972,'Tablas Resto de Ecuador'!I972)","v":6035}]
[71,null,{"$f":"IF('INGRESO DE DATOS'!$G$21=\"Guayaquil/Santa Elena\",'Tablas Guayaquil'!C973,'Tablas Resto de Ecuador'!C973)","v":16150},{"$f":"IF('INGRESO DE DATOS'!$G$21=\"Guayaquil/Santa Elena\",'Tablas Guayaquil'!D973,'Tablas Resto de Ecuador'!D973)","v":14045},{"$f":"IF('INGRESO DE DATOS'!$G$21=\"Guayaquil/Santa Elena\",'Tablas Guayaquil'!E973,'Tablas Resto de Ecuador'!E973)","v":12804},{"$f":"IF('INGRESO DE DATOS'!$G$21=\"Guayaquil/Santa Elena\",'Tablas Guayaquil'!F973,'Tablas Resto de Ecuador'!F973)","v":11959},{"$f":"IF('INGRESO DE DATOS'!$G$21=\"Guayaquil/Santa Elena\",'Tablas Guayaquil'!G973,'Tablas Resto de Ecuador'!G973)","v":8164},{"$f":"IF('INGRESO DE DATOS'!$G$21=\"Guayaquil/Santa Elena\",'Tablas Guayaquil'!H973,'Tablas Resto de Ecuador'!H973)","v":7434},{"$f":"IF('INGRESO DE DATOS'!$G$21=\"Guayaquil/Santa Elena\",'Tablas Guayaquil'!I973,'Tablas Resto de Ecuador'!I973)","v":6516}]
[72,null,{"$f":"IF('INGRESO DE DATOS'!$G$21=\"Guayaquil/Santa Elena\",'Tablas Guayaquil'!C974,'Tablas Resto de Ecuador'!C974)","v":17865},{"$f":"IF('INGRESO DE DATOS'!$G$21=\"Guayaquil/Santa Elena\",'Tablas Guayaquil'!D974,'Tablas Resto de Ecuador'!D974)","v":15535},{"$f":"IF('INGRESO DE DATOS'!$G$21=\"Guayaquil/Santa Elena\",'Tablas Guayaquil'!E974,'Tablas Resto de Ecuador'!E974)","v":14167},{"$f":"IF('INGRESO DE DATOS'!$G$21=\"Guayaquil/Santa Elena\",'Tablas Guayaquil'!F974,'Tablas Resto de Ecuador'!F974)","v":13235},{"$f":"IF('INGRESO DE DATOS'!$G$21=\"Guayaquil/Santa Elena\",'Tablas Guayaquil'!G974,'Tablas Resto de Ecuador'!G974)","v":9036},{"$f":"IF('INGRESO DE DATOS'!$G$21=\"Guayaquil/Santa Elena\",'Tablas Guayaquil'!H974,'Tablas Resto de Ecuador'!H974)","v":8024},{"$f":"IF('INGRESO DE DATOS'!$G$21=\"Guayaquil/Santa Elena\",'Tablas Guayaquil'!I974,'Tablas Resto de Ecuador'!I974)","v":7034}]
[73,null,{"$f":"IF('INGRESO DE DATOS'!$G$21=\"Guayaquil/Santa Elena\",'Tablas Guayaquil'!C975,'Tablas Resto de Ecuador'!C975)","v":19844},{"$f":"IF('INGRESO DE DATOS'!$G$21=\"Guayaquil/Santa Elena\",'Tablas Guayaquil'!D975,'Tablas Resto de Ecuador'!D975)","v":17254},{"$f":"IF('INGRESO DE DATOS'!$G$21=\"Guayaquil/Santa Elena\",'Tablas Guayaquil'!E975,'Tablas Resto de Ecuador'!E975)","v":15730},{"$f":"IF('INGRESO DE DATOS'!$G$21=\"Guayaquil/Santa Elena\",'Tablas Guayaquil'!F975,'Tablas Resto de Ecuador'!F975)","v":14693},{"$f":"IF('INGRESO DE DATOS'!$G$21=\"Guayaquil/Santa Elena\",'Tablas Guayaquil'!G975,'Tablas Resto de Ecuador'!G975)","v":10028},{"$f":"IF('INGRESO DE DATOS'!$G$21=\"Guayaquil/Santa Elena\",'Tablas Guayaquil'!H975,'Tablas Resto de Ecuador'!H975)","v":8659},{"$f":"IF('INGRESO DE DATOS'!$G$21=\"Guayaquil/Santa Elena\",'Tablas Guayaquil'!I975,'Tablas Resto de Ecuador'!I975)","v":7587}]
[74,null,{"$f":"IF('INGRESO DE DATOS'!$G$21=\"Guayaquil/Santa Elena\",'Tablas Guayaquil'!C976,'Tablas Resto de Ecuador'!C976)","v":22123},{"$f":"IF('INGRESO DE DATOS'!$G$21=\"Guayaquil/Santa Elena\",'Tablas Guayaquil'!D976,'Tablas Resto de Ecuador'!D976)","v":19235},{"$f":"IF('INGRESO DE DATOS'!$G$21=\"Guayaquil/Santa Elena\",'Tablas Guayaquil'!E976,'Tablas Resto de Ecuador'!E976)","v":17538},{"$f":"IF('INGRESO DE DATOS'!$G$21=\"Guayaquil/Santa Elena\",'Tablas Guayaquil'!F976,'Tablas Resto de Ecuador'!F976)","v":16383},{"$f":"IF('INGRESO DE DATOS'!$G$21=\"Guayaquil/Santa Elena\",'Tablas Guayaquil'!G976,'Tablas Resto de Ecuador'!G976)","v":11183},{"$f":"IF('INGRESO DE DATOS'!$G$21=\"Guayaquil/Santa Elena\",'Tablas Guayaquil'!H976,'Tablas Resto de Ecuador'!H976)","v":9725},{"$f":"IF('INGRESO DE DATOS'!$G$21=\"Guayaquil/Santa Elena\",'Tablas Guayaquil'!I976,'Tablas Resto de Ecuador'!I976)","v":8177}]
[75,null,{"$f":"IF('INGRESO DE DATOS'!$G$21=\"Guayaquil/Santa Elena\",'Tablas Guayaquil'!C977,'Tablas Resto de Ecuador'!C977)","v":24735},{"$f":"IF('INGRESO DE DATOS'!$G$21=\"Guayaquil/Santa Elena\",'Tablas Guayaquil'!D977,'Tablas Resto de Ecuador'!D977)","v":21510},{"$f":"IF('INGRESO DE DATOS'!$G$21=\"Guayaquil/Santa Elena\",'Tablas Guayaquil'!E977,'Tablas Resto de Ecuador'!E977)","v":19532},{"$f":"IF('INGRESO DE DATOS'!$G$21=\"Guayaquil/Santa Elena\",'Tablas Guayaquil'!F977,'Tablas Resto de Ecuador'!F977)","v":18434},{"$f":"IF('INGRESO DE DATOS'!$G$21=\"Guayaquil/Santa Elena\",'Tablas Guayaquil'!G977,'Tablas Resto de Ecuador'!G977)","v":12549},{"$f":"IF('INGRESO DE DATOS'!$G$21=\"Guayaquil/Santa Elena\",'Tablas Guayaquil'!H977,'Tablas Resto de Ecuador'!H977)","v":10480},{"$f":"IF('INGRESO DE DATOS'!$G$21=\"Guayaquil/Santa Elena\",'Tablas Guayaquil'!I977,'Tablas Resto de Ecuador'!I977)","v":8803}]
[76,null,{"$f":"IF('INGRESO DE DATOS'!$G$21=\"Guayaquil/Santa Elena\",'Tablas Guayaquil'!C978,'Tablas Resto de Ecuador'!C978)","v":27740},{"$f":"IF('INGRESO DE DATOS'!$G$21=\"Guayaquil/Santa Elena\",'Tablas Guayaquil'!D978,'Tablas Resto de Ecuador'!D978)","v":24120},{"$f":"IF('INGRESO DE DATOS'!$G$21=\"Guayaquil/Santa Elena\",'Tablas Guayaquil'!E978,'Tablas Resto de Ecuador'!E978)","v":21975},{"$f":"IF('INGRESO DE DATOS'!$G$21=\"Guayaquil/Santa Elena\",'Tablas Guayaquil'!F978,'Tablas Resto de Ecuador'!F978)","v":20669},{"$f":"IF('INGRESO DE DATOS'!$G$21=\"Guayaquil/Santa Elena\",'Tablas Guayaquil'!G978,'Tablas Resto de Ecuador'!G978)","v":14070},{"$f":"IF('INGRESO DE DATOS'!$G$21=\"Guayaquil/Santa Elena\",'Tablas Guayaquil'!H978,'Tablas Resto de Ecuador'!H978)","v":11285},{"$f":"IF('INGRESO DE DATOS'!$G$21=\"Guayaquil/Santa Elena\",'Tablas Guayaquil'!I978,'Tablas Resto de Ecuador'!I978)","v":9463}]
[77,null,{"$f":"IF('INGRESO DE DATOS'!$G$21=\"Guayaquil/Santa Elena\",'Tablas Guayaquil'!C979,'Tablas Resto de Ecuador'!C979)","v":31152},{"$f":"IF('INGRESO DE DATOS'!$G$21=\"Guayaquil/Santa Elena\",'Tablas Guayaquil'!D979,'Tablas Resto de Ecuador'!D979)","v":27090},{"$f":"IF('INGRESO DE DATOS'!$G$21=\"Guayaquil/Santa Elena\",'Tablas Guayaquil'!E979,'Tablas Resto de Ecuador'!E979)","v":24699},{"$f":"IF('INGRESO DE DATOS'!$G$21=\"Guayaquil/Santa Elena\",'Tablas Guayaquil'!F979,'Tablas Resto de Ecuador'!F979)","v":23213},{"$f":"IF('INGRESO DE DATOS'!$G$21=\"Guayaquil/Santa Elena\",'Tablas Guayaquil'!G979,'Tablas Resto de Ecuador'!G979)","v":15806},{"$f":"IF('INGRESO DE DATOS'!$G$21=\"Guayaquil/Santa Elena\",'Tablas Guayaquil'!H979,'Tablas Resto de Ecuador'!H979)","v":12618},{"$f":"IF('INGRESO DE DATOS'!$G$21=\"Guayaquil/Santa Elena\",'Tablas Guayaquil'!I979,'Tablas Resto de Ecuador'!I979)","v":10153}]
[78,null,{"$f":"IF('INGRESO DE DATOS'!$G$21=\"Guayaquil/Santa Elena\",'Tablas Guayaquil'!C980,'Tablas Resto de Ecuador'!C980)","v":35004},{"$f":"IF('INGRESO DE DATOS'!$G$21=\"Guayaquil/Santa Elena\",'Tablas Guayaquil'!D980,'Tablas Resto de Ecuador'!D980)","v":30438},{"$f":"IF('INGRESO DE DATOS'!$G$21=\"Guayaquil/Santa Elena\",'Tablas Guayaquil'!E980,'Tablas Resto de Ecuador'!E980)","v":27752},{"$f":"IF('INGRESO DE DATOS'!$G$21=\"Guayaquil/Santa Elena\",'Tablas Guayaquil'!F980,'Tablas Resto de Ecuador'!F980)","v":26080},{"$f":"IF('INGRESO DE DATOS'!$G$21=\"Guayaquil/Santa Elena\",'Tablas Guayaquil'!G980,'Tablas Resto de Ecuador'!G980)","v":17758},{"$f":"IF('INGRESO DE DATOS'!$G$21=\"Guayaquil/Santa Elena\",'Tablas Guayaquil'!H980,'Tablas Resto de Ecuador'!H980)","v":13549},{"$f":"IF('INGRESO DE DATOS'!$G$21=\"Guayaquil/Santa Elena\",'Tablas Guayaquil'!I980,'Tablas Resto de Ecuador'!I980)","v":10869}]
[79,null,{"$f":"IF('INGRESO DE DATOS'!$G$21=\"Guayaquil/Santa Elena\",'Tablas Guayaquil'!C981,'Tablas Resto de Ecuador'!C981)","v":39329},{"$f":"IF('INGRESO DE DATOS'!$G$21=\"Guayaquil/Santa Elena\",'Tablas Guayaquil'!D981,'Tablas Resto de Ecuador'!D981)","v":34197},{"$f":"IF('INGRESO DE DATOS'!$G$21=\"Guayaquil/Santa Elena\",'Tablas Guayaquil'!E981,'Tablas Resto de Ecuador'!E981)","v":31182},{"$f":"IF('INGRESO DE DATOS'!$G$21=\"Guayaquil/Santa Elena\",'Tablas Guayaquil'!F981,'Tablas Resto de Ecuador'!F981)","v":29307},{"$f":"IF('INGRESO DE DATOS'!$G$21=\"Guayaquil/Santa Elena\",'Tablas Guayaquil'!G981,'Tablas Resto de Ecuador'!G981)","v":19954},{"$f":"IF('INGRESO DE DATOS'!$G$21=\"Guayaquil/Santa Elena\",'Tablas Guayaquil'!H981,'Tablas Resto de Ecuador'!H981)","v":14517},{"$f":"IF('INGRESO DE DATOS'!$G$21=\"Guayaquil/Santa Elena\",'Tablas Guayaquil'!I981,'Tablas Resto de Ecuador'!I981)","v":11603}]
[80,"o más",{"$f":"IF('INGRESO DE DATOS'!$G$21=\"Guayaquil/Santa Elena\",'Tablas Guayaquil'!C982,'Tablas Resto de Ecuador'!C982)","v":44504},{"$f":"IF('INGRESO DE DATOS'!$G$21=\"Guayaquil/Santa Elena\",'Tablas Guayaquil'!D982,'Tablas Resto de Ecuador'!D982)","v":38702},{"$f":"IF('INGRESO DE DATOS'!$G$21=\"Guayaquil/Santa Elena\",'Tablas Guayaquil'!E982,'Tablas Resto de Ecuador'!E982)","v":35283},{"$f":"IF('INGRESO DE DATOS'!$G$21=\"Guayaquil/Santa Elena\",'Tablas Guayaquil'!F982,'Tablas Resto de Ecuador'!F982)","v":33162},{"$f":"IF('INGRESO DE DATOS'!$G$21=\"Guayaquil/Santa Elena\",'Tablas Guayaquil'!G982,'Tablas Resto de Ecuador'!G982)","v":22578},{"$f":"IF('INGRESO DE DATOS'!$G$21=\"Guayaquil/Santa Elena\",'Tablas Guayaquil'!H982,'Tablas Resto de Ecuador'!H982)","v":16111},{"$f":"IF('INGRESO DE DATOS'!$G$21=\"Guayaquil/Santa Elena\",'Tablas Guayaquil'!I982,'Tablas Resto de Ecuador'!I982)","v":12341}]
[1,"Hijo",{"$f":"IF('INGRESO DE DATOS'!$G$21=\"Guayaquil/Santa Elena\",'Tablas Guayaquil'!C983,'Tablas Resto de Ecuador'!C983)","v":1695},{"$f":"IF('INGRESO DE DATOS'!$G$21=\"Guayaquil/Santa Elena\",'Tablas Guayaquil'!D983,'Tablas Resto de Ecuador'!D983)","v":1477},{"$f":"IF('INGRESO DE DATOS'!$G$21=\"Guayaquil/Santa Elena\",'Tablas Guayaquil'!E983,'Tablas Resto de Ecuador'!E983)","v":1275},{"$f":"IF('INGRESO DE DATOS'!$G$21=\"Guayaquil/Santa Elena\",'Tablas Guayaquil'!F983,'Tablas Resto de Ecuador'!F983)","v":883},{"$f":"IF('INGRESO DE DATOS'!$G$21=\"Guayaquil/Santa Elena\",'Tablas Guayaquil'!G983,'Tablas Resto de Ecuador'!G983)","v":488},{"$f":"IF('INGRESO DE DATOS'!$G$21=\"Guayaquil/Santa Elena\",'Tablas Guayaquil'!H983,'Tablas Resto de Ecuador'!H983)","v":291},{"$f":"IF('INGRESO DE DATOS'!$G$21=\"Guayaquil/Santa Elena\",'Tablas Guayaquil'!I983,'Tablas Resto de Ecuador'!I983)","v":171}]
[2,"Hijos",{"$f":"IF('INGRESO DE DATOS'!$G$21=\"Guayaquil/Santa Elena\",'Tablas Guayaquil'!C984,'Tablas Resto de Ecuador'!C984)","v":2004},{"$f":"IF('INGRESO DE DATOS'!$G$21=\"Guayaquil/Santa Elena\",'Tablas Guayaquil'!D984,'Tablas Resto de Ecuador'!D984)","v":1745},{"$f":"IF('INGRESO DE DATOS'!$G$21=\"Guayaquil/Santa Elena\",'Tablas Guayaquil'!E984,'Tablas Resto de Ecuador'!E984)","v":1507},{"$f":"IF('INGRESO DE DATOS'!$G$21=\"Guayaquil/Santa Elena\",'Tablas Guayaquil'!F984,'Tablas Resto de Ecuador'!F984)","v":1044},{"$f":"IF('INGRESO DE DATOS'!$G$21=\"Guayaquil/Santa Elena\",'Tablas Guayaquil'!G984,'Tablas Resto de Ecuador'!G984)","v":576},{"$f":"IF('INGRESO DE DATOS'!$G$21=\"Guayaquil/Santa Elena\",'Tablas Guayaquil'!H984,'Tablas Resto de Ecuador'!H984)","v":345},{"$f":"IF('INGRESO DE DATOS'!$G$21=\"Guayaquil/Santa Elena\",'Tablas Guayaquil'!I984,'Tablas Resto de Ecuador'!I984)","v":202}]
[3,"Hijos o más",{"$f":"IF('INGRESO DE DATOS'!$G$21=\"Guayaquil/Santa Elena\",'Tablas Guayaquil'!C985,'Tablas Resto de Ecuador'!C985)","v":2775},{"$f":"IF('INGRESO DE DATOS'!$G$21=\"Guayaquil/Santa Elena\",'Tablas Guayaquil'!D985,'Tablas Resto de Ecuador'!D985)","v":2417},{"$f":"IF('INGRESO DE DATOS'!$G$21=\"Guayaquil/Santa Elena\",'Tablas Guayaquil'!E985,'Tablas Resto de Ecuador'!E985)","v":2087},{"$f":"IF('INGRESO DE DATOS'!$G$21=\"Guayaquil/Santa Elena\",'Tablas Guayaquil'!F985,'Tablas Resto de Ecuador'!F985)","v":1445},{"$f":"IF('INGRESO DE DATOS'!$G$21=\"Guayaquil/Santa Elena\",'Tablas Guayaquil'!G985,'Tablas Resto de Ecuador'!G985)","v":798},{"$f":"IF('INGRESO DE DATOS'!$G$21=\"Guayaquil/Santa Elena\",'Tablas Guayaquil'!H985,'Tablas Resto de Ecuador'!H985)","v":478},{"$f":"IF('INGRESO DE DATOS'!$G$21=\"Guayaquil/Santa Elena\",'Tablas Guayaquil'!I985,'Tablas Resto de Ecuador'!I985)","v":280}]
[]
["ESSENTIAL 1000"]
["TARIFAS MENSUALES"]
["EDAD"]
[" "," ","F50-1","F50-2","F50-3","F50-4","F50-5"]
[18,null,{"$f":"C920*$M$2","v":227.01666666666668},{"$f":"D920*$M$2","v":197.69},169.51166666666666,118.19,65.19,39.043333333333337,22.878333333333334]
[19,null,{"$f":"C921*$M$2","v":230.815},201.13499999999999,169.51166666666666,118.19,65.72,39.573333333333331,23.32]
[20,null,{"$f":"C922*$M$2","v":234.79},204.315,169.51166666666666,118.54333333333334,66.426666666666662,40.19166666666667,23.85]
[21,null,{"$f":"C923*$M$2","v":239.20666666666668},208.02500000000001,169.51166666666666,119.07333333333334,67.13333333333334,40.898333333333333,24.38]
[22,null,{"$f":"C924*$M$2","v":243.18166666666667},211.38166666666666,169.95333333333332,119.95666666666666,68.105000000000004,41.693333333333335,24.998333333333335]
[23,null,{"$f":"C925*$M$2","v":247.15666666666667},214.82666666666665,170.83666666666667,121.01666666666667,69.165000000000006,42.576666666666668,25.704999999999998]
[24,null,{"$f":"C926*$M$2","v":251.22},218.36,172.16166666666666,122.51833333333333,70.401666666666671,43.636666666666663,26.588333333333335]
[25,null,{"$f":"C927*$M$2","v":255.10666666666665},222.07,173.84,124.10833333333333,71.814999999999998,44.696666666666665,27.383333333333333]
[26,null,{"$f":"C928*$M$2","v":259.17},225.42666666666668,176.04833333333335,126.22833333333334,73.493333333333339,45.93333333333333,28.266666666666666]
[27,null,{"$f":"C929*$M$2","v":263.14499999999998},228.78333333333333,178.69833333333332,128.70166666666665,75.260000000000005,47.346666666666664,29.414999999999999]
[28,null,{"$f":"C930*$M$2","v":268.09166666666664},232.75833333333333,181.79,131.44,77.291666666666671,48.936666666666667,30.475000000000001]
[29,null,{"$f":"C931*$M$2","v":272.77333333333331},237.44,185.41166666666666,134.53166666666667,79.676666666666662,50.526666666666664,31.711666666666666]
[30,null,{"$f":"C932*$M$2","v":277.54333333333335},241.50333333333333,189.65166666666667,137.97666666666666,82.061666666666667,52.47,33.036666666666669]
[31,null,{"$f":"C933*$M$2","v":282.13666666666666},245.56666666666666,194.245,141.95166666666665,84.8,54.501666666666665,34.538333333333334]
[32,null,{"$f":"C934*$M$2","v":287.08333333333331},249.36500000000001,199.45666666666668,146.19166666666666,87.891666666666666,56.62166666666667,36.216666666666669]
[33,null,{"$f":"C935*$M$2","v":294.85666666666668},256.52,205.28666666666666,150.96166666666667,91.16,59.094999999999999,37.895000000000003]
[34,null,{"$f":"C936*$M$2","v":302.71833333333331},263.14499999999998,211.82333333333332,156.26166666666666,94.87,61.744999999999997,39.838333333333331]
[35,null,{"$f":"C937*$M$2","v":310.49166666666667},270.03500000000003,218.89,162.00333333333333,98.844999999999999,64.571666666666673,41.87]
[36,null,{"$f":"C938*$M$2","v":318.26499999999999},276.83666666666664,226.75166666666667,168.27500000000001,103.17333333333333,67.663333333333327,44.255000000000003]
[37,null,{"$f":"C939*$M$2","v":326.30333333333334},283.815,235.23166666666665,175.16499999999999,107.94333333333333,71.108333333333334,46.64]
[38,null,{"$f":"C940*$M$2","v":334.34166666666664},290.88166666666666,244.595,182.67333333333335,113.06666666666666,74.818333333333328,49.37833333333333]
[39,null,{"$f":"C941*$M$2","v":342.46833333333331},297.59500000000003,254.75333333333333,190.8,118.63166666666666,78.881666666666661,52.381666666666668]
[40,null,{"$f":"C942*$M$2","v":350.41833333333335},304.57333333333332,265.70666666666665,199.63333333333333,124.72666666666666,83.21,55.473333333333336]
[41,null,{"$f":"C943*$M$2","v":358.19166666666666},311.72833333333335,277.72000000000003,209.26166666666666,131.26333333333332,87.891666666666666,58.918333333333337]
[42,null,{"$f":"C944*$M$2","v":366.58333333333331},318.44166666666666,290.61666666666667,219.77333333333334,138.33000000000001,93.103333333333339,62.716666666666669]
[43,null,{"$f":"C945*$M$2","v":380.71666666666664},331.25,302.27666666666664,230.90333333333334,146.01499999999999,98.668333333333337,66.868333333333339]
[44,null,{"$f":"C946*$M$2","v":395.46833333333331},343.97,313.76,243.18166666666667,154.40666666666667,104.675,71.284999999999997]
[45,null,{"$f":"C947*$M$2","v":410.04333333333335},356.42500000000001,324.97833333333335,256.34333333333331,163.41666666666666,111.21166666666667,76.143333333333331]
[46,null,{"$f":"C948*$M$2","v":424.44166666666666},369.14499999999998,336.815,270.47666666666669,173.13333333333333,118.27833333333334,81.443333333333328]
[47,null,{"$f":"C949*$M$2","v":439.28166666666664},381.86500000000001,348.21,285.75833333333333,183.73333333333332,125.96333333333334,87.096666666666664]
[48,null,{"$f":"C950*$M$2","v":454.82833333333332},395.29166666666669,360.31166666666667,302.27666666666664,195.21666666666667,134.35499999999999,93.28]
[49,null,{"$f":"C951*$M$2","v":470.11},408.80666666666667,372.76666666666665,320.12,207.58333333333334,143.36500000000001,100.08166666666666]
[50,null,{"$f":"C952*$M$2","v":485.39166666666665},422.23333333333335,384.86833333333334,335.13666666666666,221.89333333333335,146.10333333333332,107.94333333333333]
[51,null,{"$f":"C953*$M$2","v":500.67333333333335},435.48333333333335,397.05833333333334,346.53166666666664,239.38333333333333,158.38166666666666,117.57166666666667]
[52,null,{"$f":"C954*$M$2","v":516.13166666666666},448.91,409.33666666666664,357.92666666666668,250.95500000000001,171.45500000000001,127.90666666666667]
[53,null,{"$f":"C955*$M$2","v":534.32833333333338},464.63333333333333,423.91166666666669,371.88333333333333,260.05333333333334,178.69833333333332,139.125]
[54,null,{"$f":"C956*$M$2","v":552.70166666666671},480.53333333333336,438.31,385.57499999999999,269.24,193.185,151.13833333333332]
[55,null,{"$f":"C957*$M$2","v":571.25166666666667},496.69833333333332,452.62,399.44333333333333,279.04500000000002,208.82,164.035]
[56,null,{"$f":"C958*$M$2","v":589.44833333333338},512.51,467.01833333333332,413.22333333333336,288.32,217.035,177.815]
[57,null,{"$f":"C959*$M$2","v":607.29166666666663},528.41,481.68166666666667,427.09166666666664,297.33,234.43666666666667,192.74333333333334]
[58,null,{"$f":"C960*$M$2","v":628.40333333333331},546.3416666666667,496.78666666666669,445.37666666666667,309.255,253.07499999999999,208.82]
[59,null,{"$f":"C961*$M$2","v":649.51499999999999},564.80333333333328,511.80333333333334,463.30833333333334,320.91500000000002,262.35000000000002,226.04499999999999]
[60,null,{"$f":"C962*$M$2","v":670.36166666666668},582.82333333333338,527.08500000000004,481.41666666666669,332.66333333333336,283.28500000000003,244.68333333333334]
[61,null,{"$f":"C963*$M$2","v":696.24333333333334},605.26,549.78666666666663,499.43666666666667,345.03,305.72166666666669,264.64666666666665]
[62,null,{"$f":"C964*$M$2","v":740.23333333333335},635.55833333333328,576.72833333333335,521.9616666666667,360.75333333333333,316.23333333333335,286.2]
[63,null,{"$f":"C965*$M$2","v":791.64333333333332},681.49166666666667,606.67333333333329,548.81500000000005,379.48,341.23166666666668,309.43166666666667]
[64,null,{"$f":"C966*$M$2","v":846.67499999999995},730.95833333333337,641.29999999999995,580.35,401.38666666666666,368.35,334.69499999999999]
[65,null,{"$f":"C967*$M$2","v":906.03499999999997},784.22333333333336,683.17,623.80999999999995,429.65333333333331,380.36333333333334,361.81333333333333]
[66,null,{"$f":"C968*$M$2","v":969.72333333333336},841.64,732.46,673.71833333333336,462.69,410.66166666666669,391.05166666666668]
[67,null,{"$f":"C969*$M$2","v":1038.1816666666666},903.38499999999999,791.02499999999998,728.04333333333329,499.96666666666664,443.25666666666666,422.58666666666664]
[68,null,{"$f":"C970*$M$2","v":1111.5866666666666},969.81166666666661,858.1583333333333,789.43499999999995,542.01333333333332,500.14333333333332,456.68333333333334]
[69,null,{"$f":"C971*$M$2","v":1190.5566666666666},1041.2733333333333,936.33333333333337,862.04499999999996,592.01,540.07000000000005,493.43]
[70,null,{"$f":"C972*$M$2","v":1295.32},1126.5150000000001,1018.2183333333334,959.3,654.72666666666669,583.08833333333337,533.0916666666667]
[71,null,{"$f":"C973*$M$2","v":1426.5833333333333},1240.6416666666667,1131.02,1056.3783333333333,721.15333333333331,656.67,575.58000000000004]
[72,null,{"$f":"C974*$M$2","v":1578.075},1372.2583333333334,1251.4183333333333,1169.0916666666667,798.18,708.78666666666663,621.3366666666667]
[73,null,{"$f":"C975*$M$2","v":1752.8866666666668},1524.1033333333332,1389.4833333333333,1297.8816666666667,885.80666666666662,764.87833333333333,670.18499999999995]
[74,null,{"$f":"C976*$M$2","v":1954.1983333333333},1699.0916666666667,1549.19,1447.165,987.83166666666671,859.04166666666663,722.30166666666662]
[75,null,{"$f":"C977*$M$2","v":2184.9250000000002},1900.05,1725.3266666666666,1628.3366666666666,1108.4949999999999,925.73333333333335,777.59833333333336]
[76,null,{"$f":"C978*$M$2","v":2450.3666666666668},2130.6,1941.125,1825.7616666666668,1242.8499999999999,996.8416666666667,835.89833333333331]
[77,null,{"$f":"C979*$M$2","v":2751.76},2392.9499999999998,2181.7449999999999,2050.4816666666666,1396.1966666666667,1114.5899999999999,896.84833333333336]
[78,null,{"$f":"C980*$M$2","v":3092.02},2688.69,2451.4266666666667,2303.7333333333331,1568.6233333333332,1196.8283333333334,960.09500000000003]
[79,null,{"$f":"C981*$M$2","v":3474.0616666666665},3020.7350000000001,2754.41,2588.7849999999999,1762.6033333333332,1282.335,1024.9316666666666]
[80,"o más",{"$f":"C982*$M$2","v":3931.1866666666665},3418.6766666666667,3116.665,2929.31,1994.39,1423.1383333333333,1090.1216666666667]
[1,"Hijo",{"$f":"C983*$M$2","v":149.72499999999999},130.46833333333333,112.625,77.998333333333335,43.106666666666669,25.704999999999998,15.105]
[2,"Hijos",{"$f":"C984*$M$2","v":177.02},154.14166666666668,133.11833333333334,92.22,50.88,30.475000000000001,17.843333333333334]
[3,"Hijos o más",{"$f":"C985*$M$2","v":245.125},213.50166666666667,184.35166666666666,127.64166666666667,70.489999999999995,42.223333333333336,24.733333333333334]
[]
["ESSENTIAL 1000"]
["TARIFAS TRIMESTRAL"]
["EDAD"]
[" "," ","F50-1","F50-2","F50-3","F50-4","F50-5"]
[18,null,{"$f":"C920*$M$4","v":671.41249999999991},{"$f":"D920*$M$4","v":584.67750000000001},501.33874999999995,349.55249999999995,192.80249999999998,115.4725,67.663749999999993]
[19,null,{"$f":"C921*$M$4","v":682.64625000000001},594.86624999999992,501.33874999999995,349.55249999999995,194.36999999999998,117.03999999999999,68.97]
[20,null,{"$f":"C922*$M$4","v":694.40249999999992},604.27125000000001,501.33874999999995,350.59749999999997,196.45999999999998,118.86874999999999,70.537499999999994]
[21,null,{"$f":"C923*$M$4","v":707.46499999999992},615.24374999999998,501.33874999999995,352.16499999999996,198.54999999999998,120.95874999999999,72.10499999999999]
[22,null,{"$f":"C924*$M$4","v":719.22124999999994},625.17124999999999,502.64499999999998,354.77749999999997,201.42374999999998,123.30999999999999,73.933749999999989]
[23,null,{"$f":"C925*$M$4","v":730.97749999999996},635.3599999999999,505.25749999999999,357.91249999999997,204.55874999999997,125.92249999999999,76.023749999999993]
[24,null,{"$f":"C926*$M$4","v":742.995},645.80999999999995,509.17624999999998,362.35374999999999,208.21624999999997,129.0575,78.63624999999999]
[25,null,{"$f":"C927*$M$4","v":754.4899999999999},656.78249999999991,514.14,367.05624999999998,212.39624999999998,132.1925,80.987499999999997]
[26,null,{"$f":"C928*$M$4","v":766.50749999999994},666.70999999999992,520.67124999999999,373.32624999999996,217.35999999999999,135.85,83.6]
[27,null,{"$f":"C929*$M$4","v":778.26374999999996},676.63749999999993,528.50874999999996,380.64124999999996,222.58499999999998,140.03,86.996249999999989]
[28,null,{"$f":"C930*$M$4","v":792.89374999999995},688.39374999999995,537.65249999999992,388.73999999999995,228.59374999999997,144.73249999999999,90.131249999999994]
[29,null,{"$f":"C931*$M$4","v":806.7399999999999},702.24,548.36374999999998,397.88374999999996,235.64749999999998,149.435,93.788749999999993]
[30,null,{"$f":"C932*$M$4","v":820.84749999999997},714.25749999999994,560.90374999999995,408.07249999999999,242.70124999999999,155.18249999999998,97.707499999999996]
[31,null,{"$f":"C933*$M$4","v":834.43249999999989},726.27499999999998,574.48874999999998,419.82874999999996,250.79999999999998,161.19125,102.14874999999999]
[32,null,{"$f":"C934*$M$4","v":849.06249999999989},737.50874999999996,589.90249999999992,432.36874999999998,259.94374999999997,167.46124999999998,107.1125]
[33,null,{"$f":"C935*$M$4","v":872.0524999999999},758.67,607.14499999999998,446.47624999999999,269.60999999999996,174.77624999999998,112.07624999999999]
[34,null,{"$f":"C936*$M$4","v":895.30374999999992},778.26374999999996,626.47749999999996,462.15124999999995,280.58249999999998,182.61374999999998,117.82374999999999]
[35,null,{"$f":"C937*$M$4","v":918.29374999999993},798.6412499999999,647.37749999999994,479.13249999999999,292.33875,190.97375,123.8325]
[36,null,{"$f":"C938*$M$4","v":941.28374999999994},818.75749999999994,670.62874999999997,497.68124999999998,305.14,200.11749999999998,130.88624999999999]
[37,null,{"$f":"C939*$M$4","v":965.05749999999989},839.3962499999999,695.70875000000001,518.05874999999992,319.2475,210.30624999999998,137.94]
[38,null,{"$f":"C940*$M$4","v":988.83124999999995},860.29624999999999,723.40125,540.26499999999999,334.4,221.27874999999997,146.03874999999999]
[39,null,{"$f":"C941*$M$4","v":1012.8662499999999},880.15124999999989,753.44499999999994,564.29999999999995,350.85874999999999,233.29624999999999,154.92124999999999]
[40,null,{"$f":"C942*$M$4","v":1036.3787499999999},900.79,785.83999999999992,590.42499999999995,368.88499999999999,246.0975,164.065]
[41,null,{"$f":"C943*$M$4","v":1059.3687499999999},921.95124999999996,821.36999999999989,618.90125,388.21749999999997,259.94374999999997,174.25375]
[42,null,{"$f":"C944*$M$4","v":1084.1875},941.80624999999998,859.51249999999993,649.99,409.11749999999995,275.35749999999996,185.48749999999998]
[43,null,{"$f":"C945*$M$4","v":1125.9875},979.68749999999989,893.99749999999995,682.90749999999991,431.84625,291.81624999999997,197.76624999999999]
[44,null,{"$f":"C946*$M$4","v":1169.6162499999998},1017.3074999999999,927.95999999999992,719.22124999999994,456.66499999999996,309.58124999999995,210.82874999999999]
[45,null,{"$f":"C947*$M$4","v":1212.7224999999999},1054.14375,961.13874999999996,758.14749999999992,483.31249999999994,328.91374999999999,225.19749999999999]
[46,null,{"$f":"C948*$M$4","v":1255.3062499999999},1091.7637499999998,996.1462499999999,799.94749999999999,512.04999999999995,349.81374999999997,240.87249999999997]
[47,null,{"$f":"C949*$M$4","v":1299.19625},1129.38375,1029.8474999999999,845.14374999999995,543.4,372.54249999999996,257.59249999999997]
[48,null,{"$f":"C950*$M$4","v":1345.17625},1169.09375,1065.6387499999998,893.99749999999995,577.36249999999995,397.36124999999998,275.88]
[49,null,{"$f":"C951*$M$4","v":1390.3724999999999},1209.0649999999998,1102.4749999999999,946.77,613.9375,424.00874999999996,295.99624999999997]
[50,null,{"$f":"C952*$M$4","v":1435.5687499999999},1248.7749999999999,1138.2662499999999,991.18249999999989,656.26,432.10749999999996,319.2475]
[51,null,{"$f":"C953*$M$4","v":1480.7649999999999},1287.9624999999999,1174.3187499999999,1024.88375,707.98749999999995,468.42124999999999,347.72375]
[52,null,{"$f":"C954*$M$4","v":1526.4837499999999},1327.6724999999999,1210.6324999999999,1058.585,742.21124999999995,507.08624999999995,378.28999999999996]
[53,null,{"$f":"C955*$M$4","v":1580.30125},1374.175,1253.73875,1099.8625,769.11999999999989,528.50874999999996,411.46875]
[54,null,{"$f":"C956*$M$4","v":1634.6412499999999},1421.1999999999998,1296.3225,1140.3562499999998,796.29,571.35374999999999,446.99874999999997]
[55,null,{"$f":"C957*$M$4","v":1689.5037499999999},1469.00875,1338.645,1181.3724999999999,825.28874999999994,617.59499999999991,485.14124999999996]
[56,null,{"$f":"C958*$M$4","v":1743.32125},1515.7724999999998,1381.22875,1222.1274999999998,852.71999999999991,641.8912499999999,525.89625000000001]
[57,null,{"$f":"C959*$M$4","v":1796.0937499999998},1562.7974999999999,1424.5962499999998,1263.14375,879.36749999999995,693.35749999999996,570.04750000000001]
[58,null,{"$f":"C960*$M$4","v":1858.5324999999998},1615.83125,1469.27,1317.2224999999999,914.6362499999999,748.48124999999993,617.59499999999991]
[59,null,{"$f":"C961*$M$4","v":1920.9712499999998},1670.4324999999999,1513.6824999999999,1370.2562499999999,949.12124999999992,775.91249999999991,668.53874999999994]
[60,null,{"$f":"C962*$M$4","v":1982.6262499999998},1723.7275,1558.8787499999999,1423.8125,983.86749999999995,837.8287499999999,723.66249999999991]
[61,null,{"$f":"C963*$M$4","v":2059.1724999999997},1790.0849999999998,1626.02,1477.1074999999998,1020.4424999999999,904.18624999999997,782.70499999999993]
[62,null,{"$f":"C964*$M$4","v":2189.2749999999996},1879.6937499999999,1705.7012499999998,1543.7262499999999,1066.9449999999999,935.27499999999998,846.44999999999993]
[63,null,{"$f":"C965*$M$4","v":2341.3224999999998},2015.5437499999998,1794.2649999999999,1623.1462499999998,1122.33,1009.2087499999999,915.15874999999994]
[64,null,{"$f":"C966*$M$4","v":2504.0812499999997},2161.84375,1896.675,1716.4124999999999,1187.1199999999999,1089.4124999999999,989.87624999999991]
[65,null,{"$f":"C967*$M$4","v":2679.6412499999997},2319.3775000000001,2020.5074999999999,1844.9474999999998,1270.7199999999998,1124.9424999999999,1070.08]
[66,null,{"$f":"C968*$M$4","v":2868.0024999999996},2489.19,2166.2849999999999,1992.5537499999998,1368.4275,1214.55125,1156.5537499999998]
[67,null,{"$f":"C969*$M$4","v":3070.4712499999996},2671.80375,2339.4937499999996,2153.2224999999999,1478.675,1310.9524999999999,1249.82]
[68,null,{"$f":"C970*$M$4","v":3287.5699999999997},2868.2637499999996,2538.0437499999998,2334.7912499999998,1603.03,1479.1975,1350.6624999999999]
[69,null,{"$f":"C971*$M$4","v":3521.1274999999996},3079.6149999999998,2769.25,2549.5387499999997,1750.8974999999998,1597.2824999999998,1459.3425]
[70,null,{"$f":"C972*$M$4","v":3830.97},3331.7212499999996,3011.4287499999996,2837.1749999999997,1936.3849999999998,1724.5112499999998,1576.64375]
[71,null,{"$f":"C973*$M$4","v":4219.1875},3669.2562499999999,3345.0449999999996,3124.2887499999997,2132.8449999999998,1942.1324999999999,1702.3049999999998]
[72,null,{"$f":"C974*$M$4","v":4667.2312499999998},4058.5187499999997,3701.1287499999999,3457.6437499999997,2360.6549999999997,2096.27,1837.6324999999999]
[73,null,{"$f":"C975*$M$4","v":5184.2449999999999},4507.6075000000001,4109.4624999999996,3838.5462499999999,2619.8149999999996,2262.1637499999997,1982.1037499999998]
[74,null,{"$f":"C976*$M$4","v":5779.63375},5025.1437499999993,4581.8024999999998,4280.0587500000001,2921.5587499999997,2540.65625,2136.24125]
[75,null,{"$f":"C977*$M$4","v":6462.0187499999993},5619.4874999999993,5102.7349999999997,4815.8824999999997,3278.42625,2737.8999999999996,2299.7837500000001]
[76,null,{"$f":"C978*$M$4","v":7247.0749999999998},6301.3499999999995,5740.96875,5399.7762499999999,3675.7874999999999,2948.2062499999997,2472.2087499999998]
[77,null,{"$f":"C979*$M$4","v":8138.4599999999991},7077.2624999999998,6452.6137499999995,6064.3962499999998,4129.3175000000001,3296.4524999999999,2652.4712499999996]
[78,null,{"$f":"C980*$M$4","v":9144.7950000000001},7951.9274999999998,7250.2099999999991,6813.4,4639.2774999999992,3539.67625,2839.5262499999999]
[79,null,{"$f":"C981*$M$4","v":10274.70125},8933.9662499999995,8146.2974999999997,7656.4537499999997,5212.9825000000001,3792.5662499999999,3031.2837499999996]
[80,"o más",{"$f":"C982*$M$4","v":11626.67},10110.897499999999,9217.6837500000001,8663.5725000000002,5898.5024999999996,4208.9987499999997,3224.0862499999998]
[1,"Hijo",{"$f":"C983*$M$4","v":442.81874999999997},385.86624999999998,333.09375,230.68374999999997,127.49,76.023749999999993,44.673749999999998]
[2,"Hijos",{"$f":"C984*$M$4","v":523.54499999999996},455.88124999999997,393.70374999999996,272.745,150.47999999999999,90.131249999999994,52.772499999999994]
[3,"Hijos o más",{"$f":"C985*$M$4","v":724.96875},631.44124999999997,545.22874999999999,377.50624999999997,208.47749999999999,124.8775,73.149999999999991]
[]
["ESSENTIAL 1000"]
["TARIFAS SEMESTRAL"]
["EDAD"]
[" "," ","F50-1","F50-2","F50-3","F50-4","F50-5"]
[18,null,{"$f":"C920*$M$3","v":1323.55},{"$f":"D920*$M$3","v":1152.57},988.28500000000008,689.07,380.07,227.63,133.38499999999999]
[19,null,{"$f":"C921*$M$3","v":1345.6949999999999},1172.655,988.28500000000008,689.07,383.16,230.72,135.96]
[20,null,{"$f":"C922*$M$3","v":1368.8700000000001},1191.1949999999999,988.28500000000008,691.13,387.28000000000003,234.32500000000002,139.05000000000001]
[21,null,{"$f":"C923*$M$3","v":1394.6200000000001},1212.825,988.28500000000008,694.22,391.40000000000003,238.44499999999999,142.14000000000001]
[22,null,{"$f":"C924*$M$3","v":1417.7950000000001},1232.395,990.86,699.37,397.065,243.08,145.745]
[23,null,{"$f":"C925*$M$3","v":1440.97},1252.48,996.01,705.55000000000007,403.245,248.23000000000002,149.86500000000001]
[24,null,{"$f":"C926*$M$3","v":1464.66},1273.08,1003.735,714.30500000000006,410.45499999999998,254.41,155.01500000000001]
[25,null,{"$f":"C927*$M$3","v":1487.32},1294.71,1013.52,723.57500000000005,418.69499999999999,260.59000000000003,159.65]
[26,null,{"$f":"C928*$M$3","v":1511.01},1314.28,1026.395,735.93500000000006,428.48,267.8,164.8]
[27,null,{"$f":"C929*$M$3","v":1534.1849999999999},1333.8500000000001,1041.845,750.35500000000002,438.78000000000003,276.04000000000002,171.495]
[28,null,{"$f":"C930*$M$3","v":1563.0250000000001},1357.0250000000001,1059.8700000000001,766.32,450.625,285.31,177.67500000000001]
[29,null,{"$f":"C931*$M$3","v":1590.32},1384.32,1080.9850000000001,784.34500000000003,464.53000000000003,294.58,184.88499999999999]
[30,null,{"$f":"C932*$M$3","v":1618.13},1408.01,1105.7049999999999,804.43000000000006,478.435,305.91000000000003,192.61]
[31,null,{"$f":"C933*$M$3","v":1644.91},1431.7,1132.4850000000001,827.60500000000002,494.40000000000003,317.755,201.36500000000001]
[32,null,{"$f":"C934*$M$3","v":1673.75},1453.845,1162.8700000000001,852.32500000000005,512.42500000000007,330.11500000000001,211.15]
[33,null,{"$f":"C935*$M$3","v":1719.07},1495.56,1196.8600000000001,880.13499999999999,531.48,344.53500000000003,220.935]
[34,null,{"$f":"C936*$M$3","v":1764.905},1534.1849999999999,1234.97,911.03499999999997,553.11,359.98500000000001,232.26500000000001]
[35,null,{"$f":"C937*$M$3","v":1810.2250000000001},1574.355,1276.17,944.51,576.28499999999997,376.46500000000003,244.11]
[36,null,{"$f":"C938*$M$3","v":1855.5450000000001},1614.01,1322.0050000000001,981.07500000000005,601.52,394.49,258.01499999999999]
[37,null,{"$f":"C939*$M$3","v":1902.41},1654.6949999999999,1371.4449999999999,1021.245,629.33000000000004,414.57499999999999,271.92]
[38,null,{"$f":"C940*$M$3","v":1949.2750000000001},1695.895,1426.0350000000001,1065.02,659.2,436.20499999999998,287.88499999999999]
[39,null,{"$f":"C941*$M$3","v":1996.655},1735.0350000000001,1485.26,1112.4000000000001,691.64499999999998,459.89500000000004,305.39499999999998]
[40,null,{"$f":"C942*$M$3","v":2043.0050000000001},1775.72,1549.1200000000001,1163.9000000000001,727.18000000000006,485.13,323.42]
[41,null,{"$f":"C943*$M$3","v":2088.3250000000003},1817.4349999999999,1619.16,1220.0350000000001,765.29,512.42500000000007,343.505]
[42,null,{"$f":"C944*$M$3","v":2137.25},1856.575,1694.3500000000001,1281.32,806.49,542.81000000000006,365.65000000000003]
[43,null,{"$f":"C945*$M$3","v":2219.65},1931.25,1762.3300000000002,1346.21,851.29500000000007,575.255,389.85500000000002]
[44,null,{"$f":"C946*$M$3","v":2305.6550000000002},2005.41,1829.28,1417.7950000000001,900.22,610.27499999999998,415.60500000000002]
[45,null,{"$f":"C947*$M$3","v":2390.63},2078.0250000000001,1894.6849999999999,1494.53,952.75,648.38499999999999,443.93]
[46,null,{"$f":"C948*$M$3","v":2474.5750000000003},2152.1849999999999,1963.6950000000002,1576.93,1009.4,689.58500000000004,474.83]
[47,null,{"$f":"C949*$M$3","v":2561.0950000000003},2226.3450000000003,2030.13,1666.0250000000001,1071.2,734.39,507.79]
[48,null,{"$f":"C950*$M$3","v":2651.7350000000001},2304.625,2100.6849999999999,1762.3300000000002,1138.1500000000001,783.31500000000005,543.84]
[49,null,{"$f":"C951*$M$3","v":2740.83},2383.42,2173.3000000000002,1866.3600000000001,1210.25,835.84500000000003,583.495]
[50,null,{"$f":"C952*$M$3","v":2829.9250000000002},2461.7000000000003,2243.855,1953.91,1293.68,851.81000000000006,629.33000000000004]
[51,null,{"$f":"C953*$M$3","v":2919.02},2538.9500000000003,2314.9250000000002,2020.345,1395.65,923.39499999999998,685.46500000000003]
[52,null,{"$f":"C954*$M$3","v":3009.145},2617.23,2386.5100000000002,2086.7800000000002,1463.115,999.61500000000001,745.72]
[53,null,{"$f":"C955*$M$3","v":3115.2350000000001},2708.9,2471.4850000000001,2168.15,1516.16,1041.845,811.125]
[54,null,{"$f":"C956*$M$3","v":3222.355},2801.6,2555.4300000000003,2247.9749999999999,1569.72,1126.3050000000001,881.16500000000008]
[55,null,{"$f":"C957*$M$3","v":3330.5050000000001},2895.8450000000003,2638.86,2328.83,1626.885,1217.46,956.35500000000002]
[56,null,{"$f":"C958*$M$3","v":3436.5950000000003},2988.03,2722.8050000000003,2409.17,1680.96,1265.355,1036.6949999999999]
[57,null,{"$f":"C959*$M$3","v":3540.625},3080.73,2808.2950000000001,2490.0250000000001,1733.49,1366.81,1123.73]
[58,null,{"$f":"C960*$M$3","v":3663.71},3185.2750000000001,2896.36,2596.63,1803.0150000000001,1475.4750000000001,1217.46]
[59,null,{"$f":"C961*$M$3","v":3786.7950000000001},3292.9100000000003,2983.91,2701.1750000000002,1870.9950000000001,1529.55,1317.885]
[60,null,{"$f":"C962*$M$3","v":3908.335},3397.9700000000003,3073.0050000000001,2806.75,1939.49,1651.605,1426.55]
[61,null,{"$f":"C963*$M$3","v":4059.23},3528.78,3205.36,2911.81,2011.5900000000001,1782.415,1542.94]
[62,null,{"$f":"C964*$M$3","v":4315.7},3705.4250000000002,3362.4349999999999,3043.1350000000002,2103.2600000000002,1843.7,1668.6000000000001]
[63,null,{"$f":"C965*$M$3","v":4615.43},3973.2249999999999,3537.02,3199.6950000000002,2212.44,1989.4450000000002,1804.0450000000001]
[64,null,{"$f":"C966*$M$3","v":4936.2750000000005},4261.625,3738.9,3383.55,2340.16,2147.5500000000002,1951.335]
[65,null,{"$f":"C967*$M$3","v":5282.3550000000005},4572.17,3983.01,3636.9300000000003,2504.96,2217.59,2109.44]
[66,null,{"$f":"C968*$M$3","v":5653.67},4906.92,4270.38,3927.9050000000002,2697.57,2394.2350000000001,2279.9050000000002]
[67,null,{"$f":"C969*$M$3","v":6052.7950000000001},5266.9049999999997,4611.8249999999998,4244.63,2914.9,2584.27,2463.7600000000002]
[68,null,{"$f":"C970*$M$3","v":6480.76},5654.1850000000004,5003.2250000000004,4602.5550000000003,3160.04,2915.9300000000003,2662.55]
[69,null,{"$f":"C971*$M$3","v":6941.17},6070.82,5459,5025.8850000000002,3451.53,3148.71,2876.79]
[70,null,{"$f":"C972*$M$3","v":7551.96},6567.7950000000001,5936.4049999999997,5592.9000000000005,3817.1800000000003,3399.5149999999999,3108.0250000000001]
[71,null,{"$f":"C973*$M$3","v":8317.25},7233.1750000000002,6594.06,6158.8850000000002,4204.46,3828.51,3355.7400000000002]
[72,null,{"$f":"C974*$M$3","v":9200.4750000000004},8000.5250000000005,7296.0050000000001,6816.0250000000005,4653.54,4132.3599999999997,3622.51]
[73,null,{"$f":"C975*$M$3","v":10219.66},8885.81,8100.95,7566.8950000000004,5164.42,4459.3850000000002,3907.3050000000003]
[74,null,{"$f":"C976*$M$3","v":11393.345000000001},9906.0249999999996,9032.07,8437.2450000000008,5759.2449999999999,5008.375,4211.1549999999997]
[75,null,{"$f":"C977*$M$3","v":12738.525},11077.65,10058.98,9493.51,6462.7350000000006,5397.2,4533.5450000000001]
[76,null,{"$f":"C978*$M$3","v":14286.1},12421.800000000001,11317.125,10644.535,7246.05,5811.7750000000005,4873.4449999999997]
[77,null,{"$f":"C979*$M$3","v":16043.28},13951.35,12719.985000000001,11954.695,8140.09,6498.27,5228.7950000000001]
[78,null,{"$f":"C980*$M$3","v":18027.060000000001},15675.57,14292.28,13431.2,9145.3700000000008,6977.7350000000006,5597.5349999999999]
[79,null,{"$f":"C981*$M$3","v":20254.435000000001},17611.455000000002,16058.73,15093.105,10276.31,7476.2550000000001,5975.5450000000001]
[80,"o más",{"$f":"C982*$M$3","v":22919.56},19931.53,18170.744999999999,17078.43,11627.67,8297.1650000000009,6355.6149999999998]
[1,"Hijo",{"$f":"C983*$M$3","v":872.92500000000007},760.65499999999997,656.625,454.745,251.32,149.86500000000001,88.064999999999998]
[2,"Hijos",{"$f":"C984*$M$3","v":1032.06},898.67500000000007,776.10500000000002,537.66,296.64,177.67500000000001,104.03]
[3,"Hijos o más",{"$f":"C985*$M$3","v":1429.125},1244.7550000000001,1074.8050000000001,744.17500000000007,410.97,246.17000000000002,144.20000000000002]

{"sheet":"Tablas Guayaquil","index":8,"n_rows":1198,"n_cols":17,"rows_kept":1198,"cut":false,"hidden":true,"merged":[[73,0,73,1],[73,2,73,6],[1,0,1,6],[2,0,2,6],[3,0,3,1],[3,2,3,6],[72,0,72,6],[356,0,356,1],[356,2,356,6],[142,0,142,6],[143,0,143,6],[144,0,144,1],[144,2,144,6],[213,0,213,6],[214,0,214,1],[214,2,214,6],[284,0,284,6],[285,0,285,6],[286,0,286,1],[286,2,286,6],[355,0,355,6],[560,0,560,6],[425,0,425,6],[426,0,426,6],[427,0,427,1],[427,2,427,6],[457,0,457,6],[458,0,458,1],[458,2,458,6],[488,0,488,6],[489,0,489,6],[490,0,490,1],[490,2,490,6],[559,0,559,6],[773,0,773,6],[561,0,561,1],[561,2,561,6],[630,0,630,6],[631,0,631,6],[632,0,632,1],[632,2,632,6],[701,0,701,6],[702,0,702,6],[703,0,703,1],[703,2,703,6],[772,0,772,6],[987,0,987,6],[774,0,774,1],[774,2,774,6],[843,0,843,6],[844,0,844,6],[845,0,845,1],[845,2,845,6],[915,0,915,6],[916,0,916,6],[917,0,917,1],[917,2,917,6],[986,0,986,6],[1128,0,1128,6],[1129,0,1129,6],[1130,0,1130,1],[1130,2,1130,6],[988,0,988,1],[988,2,988,6],[1057,0,1057,6],[1058,0,1058,6],[1059,0,1059,1],[1059,2,1059,6]]}
[]
["FLEX 500",null,null,null,null,null,null,null,null,null,"FACTOR MENSUAL:",null,{"$f":"1.06/12","v":8.8333333333333333E-2}]
["TARIFAS ANUALES",null,null,null,null,null,null,null,null,null,"FACTOR SEMESTRAL:",null,{"$f":"1.03/2","v":0.51500000000000001}]
["EDAD",null,null,null,null,null,null,null,null,null,"FACTOR TRIMESTRAL:",null,{"$f":"1.045/4","v":0.26124999999999998}]
[" "," ","F500-1","F500-2","F500-3","F500-4","F500-5","F500-6","F500-7"]
[18,null,2184,1868,1368,943,514,304,175]
[19,null,2220,1868,1368,944,519,309,179]
[20,null,2259,1868,1368,947,525,313,183]
[21,null,2302,1868,1370,953,531,320,188]
[22,null,2339,1868,1374,960,539,326,193]
[23,null,2378,1873,1383,970,548,334,198]
[24,null,2384,1882,1394,983,558,342,205]
[25,null,2395,1895,1409,998,570,351,212]
[26,null,2413,1914,1429,1015,584,362,219]
[27,null,2437,1938,1452,1035,599,373,227]
[28,null,2467,1967,1478,1058,616,386,236]
[29,null,2503,2000,1508,1084,635,400,247]
[30,null,2545,2040,1543,1113,656,414,257]
[31,null,2595,2085,1582,1145,678,431,270]
[32,null,2653,2137,1625,1180,704,449,282]
[33,null,2718,2194,1674,1220,730,469,296]
[34,null,2790,2258,1728,1264,760,489,312]
[35,null,2870,2328,1788,1312,792,513,328]
[36,null,2959,2407,1853,1363,828,539,347]
[37,null,3057,2492,1923,1420,867,566,366]
[38,null,3163,2584,2000,1482,909,596,388]
[39,null,3279,2685,2085,1549,954,628,411]
[40,null,3372,2795,2177,1622,1004,664,437]
[41,null,3447,2914,2275,1700,1056,702,465]
[42,null,3528,3044,2383,1787,1115,743,495]
[43,null,3663,3183,2499,1879,1178,789,528]
[44,null,3804,3309,2624,1979,1246,838,564]
[45,null,3945,3429,2759,2088,1319,891,602]
[46,null,4084,3552,2905,2204,1400,948,644]
[47,null,4227,3674,3062,2330,1485,1010,690]
[48,null,4377,3804,3232,2467,1578,1078,740]
[49,null,4523,3933,3414,2614,1679,1152,794]
[50,null,4670,4063,3624,2784,1797,1237,857]
[51,null,4817,4190,3820,2989,1940,1341,934]
[52,null,4965,4319,3938,3209,2092,1453,1017]
[53,null,5142,4470,4079,3445,2256,1573,1107]
[54,null,5318,4624,4217,3700,2433,1701,1203]
[55,null,5497,4779,4355,3843,2622,1839,1306]
[56,null,5672,4930,4493,3975,2775,1988,1416]
[57,null,5844,5084,4634,4109,2861,2148,1536]
[58,null,6047,5257,4780,4285,2975,2319,1663]
[59,null,6249,5434,4924,4458,3087,2503,1800]
[60,null,6450,5608,5072,4633,3201,2702,1949]
[61,null,6699,5823,5290,4805,3320,2915,2107]
[62,null,6999,6085,5549,5022,3471,3146,2279]
[63,null,7359,6398,5837,5280,3652,3393,2463]
[64,null,7783,6769,6170,5584,4055,3661,2660]
[65,null,8293,7209,6573,6002,4341,3950,2874]
[66,null,8888,7729,7048,6482,4676,4261,3104]
[67,null,9598,8347,7612,7005,5050,4597,3352]
[68,null,10415,9054,8258,7595,5476,4959,3618]
[69,null,11364,9882,9010,8294,5697,5350,3905]
[70,null,12464,10839,9797,9230,6299,5770,4212]
[71,null,13728,11938,10883,10164,6939,6222,4540]
[72,null,15185,13204,12042,11249,7680,6706,4890]
[73,null,16867,14665,13370,12488,8523,7225,5263]
[74,null,18804,16349,14907,13925,9506,7778,5656]
[75,null,21024,18283,16602,15668,10666,8364,6069]
[76,null,23579,20502,18679,17568,11960,8983,6499]
[77,null,26478,23027,20994,19587,13434,9631,6942]
[78,null,29753,25872,23588,21010,14466,10303,7393]
[79,null,33429,29067,26504,22505,15484,10994,7840]
[80,"o más",37570,32895,29282,24065,16534,11693,8275]
[1,"Hijo",1442,1253,908,622,340,201,115]
[2,"Hijos",1704,1480,1073,735,401,237,136]
[3,"Hijos o más",2359,2050,1485,1018,556,328,189]
[]
["TARIFAS MENSUALES"]
["EDAD"]
[" "," ","F500-1","F500-2","F500-3","F500-4","F500-5"]
[18,null,{"$f":"+C6*$M$2","v":192.92},{"$f":"+D6*$M$2","v":165.00666666666666},120.84,83.298333333333332,45.403333333333336,26.853333333333332,15.458333333333334]
[19,null,{"$f":"+C7*$M$2","v":196.1},165.00666666666666,120.84,83.38666666666667,45.844999999999999,27.295000000000002,15.811666666666667]
[20,null,199.54499999999999,165.00666666666666,120.84,83.651666666666671,46.375,27.648333333333333,16.164999999999999]
[21,null,203.34333333333333,165.00666666666666,121.01666666666667,84.181666666666672,46.905000000000001,28.266666666666666,16.606666666666666]
[22,null,206.61166666666668,165.00666666666666,121.37,84.8,47.611666666666665,28.796666666666667,17.048333333333332]
[23,null,210.05666666666667,165.44833333333332,122.16500000000001,85.683333333333337,48.406666666666666,29.503333333333334,17.489999999999998]
[24,null,210.58666666666667,166.24333333333334,123.13666666666667,86.831666666666663,49.29,30.21,18.108333333333334]
[25,null,211.55833333333334,167.39166666666668,124.46166666666667,88.156666666666666,50.35,31.004999999999999,18.726666666666667]
[26,null,213.14833333333334,169.07,126.22833333333334,89.658333333333331,51.586666666666666,31.976666666666667,19.344999999999999]
[27,null,215.26833333333335,171.19,128.26,91.424999999999997,52.911666666666669,32.948333333333331,20.051666666666666]
[28,null,217.91833333333332,173.75166666666667,130.55666666666667,93.456666666666663,54.413333333333334,34.096666666666664,20.846666666666668]
[29,null,221.09833333333333,176.66666666666666,133.20666666666668,95.75333333333333,56.091666666666669,35.333333333333336,21.818333333333332]
[30,null,224.80833333333334,180.2,136.29833333333335,98.314999999999998,57.946666666666665,36.57,22.701666666666668]
[31,null,229.22499999999999,184.17500000000001,139.74333333333334,101.14166666666667,59.89,38.071666666666665,23.85]
[32,null,234.34833333333333,188.76833333333335,143.54166666666666,104.23333333333333,62.186666666666667,39.661666666666669,24.91]
[33,null,240.09,193.80333333333334,147.87,107.76666666666667,64.483333333333334,41.428333333333335,26.146666666666668]
[34,null,246.45,199.45666666666668,152.63999999999999,111.65333333333334,67.13333333333334,43.195,27.56]
[35,null,{"$f":"+C23*$M$2","v":253.51666666666668},205.64,157.94,115.89333333333333,69.959999999999994,45.314999999999998,28.973333333333333]
[36,null,261.37833333333333,212.61833333333334,163.68166666666667,120.39833333333333,73.14,47.611666666666665,30.651666666666667]
[37,null,270.03500000000003,220.12666666666667,169.86500000000001,125.43333333333334,76.584999999999994,49.99666666666667,32.33]
[38,null,279.39833333333331,228.25333333333333,176.66666666666666,130.91,80.295000000000002,52.646666666666668,34.273333333333333]
[39,null,289.64499999999998,237.17500000000001,184.17500000000001,136.82833333333332,84.27,55.473333333333336,36.305]
[40,null,297.86,246.89166666666668,192.30166666666668,143.27666666666667,88.686666666666667,58.653333333333336,38.601666666666667]
[41,null,304.48500000000001,257.40333333333331,200.95833333333334,150.16666666666666,93.28,62.01,41.075000000000003]
[42,null,311.64,268.88666666666666,210.49833333333333,157.85166666666666,98.49166666666666,65.631666666666661,43.725000000000001]
[43,null,323.565,281.16500000000002,220.745,165.97833333333332,104.05666666666667,69.694999999999993,46.64]
[44,null,336.02,292.29500000000002,231.78666666666666,174.81166666666667,110.06333333333333,74.023333333333326,49.82]
[45,null,348.47500000000002,302.89499999999998,243.71166666666667,184.44,116.51166666666667,78.704999999999998,53.176666666666669]
[46,null,360.75333333333333,313.76,256.60833333333335,194.68666666666667,123.66666666666667,83.74,56.886666666666663]
[47,null,373.38499999999999,324.53666666666669,270.47666666666669,205.81666666666666,131.17500000000001,89.216666666666669,60.95]
[48,null,386.63499999999999,336.02,285.49333333333334,217.91833333333332,139.38999999999999,95.223333333333329,65.36666666666666]
[49,null,399.53166666666664,347.41500000000002,301.57,230.90333333333334,148.31166666666667,101.76,70.13666666666667]
[50,null,412.51666666666665,358.89833333333331,320.12,245.92,158.73500000000001,109.26833333333333,75.701666666666668]
[51,null,{"$f":"+C39*$M$2","v":425.50166666666667},370.11666666666667,337.43333333333334,264.02833333333331,171.36666666666667,118.455,82.50333333333333]
[52,null,438.57499999999999,381.51166666666666,347.85666666666668,283.46166666666664,184.79333333333332,128.34833333333333,89.834999999999994]
[53,null,454.21,394.85,360.31166666666667,304.30833333333334,199.28,138.94833333333332,97.784999999999997]
[54,null,469.75666666666666,408.45333333333332,372.50166666666667,326.83333333333331,214.91499999999999,150.255,106.265]
[55,null,485.56833333333333,422.14499999999998,384.69166666666666,339.46499999999997,231.61,162.44499999999999,115.36333333333333]
[56,null,501.02666666666664,435.48333333333335,396.88166666666666,351.125,245.125,175.60666666666665,125.08]
[57,null,516.22,449.08666666666664,409.33666666666664,362.96166666666664,252.72166666666666,189.74,135.68]
[58,null,534.15166666666664,464.36833333333334,422.23333333333335,378.50833333333333,262.79166666666669,204.845,146.89833333333334]
[59,null,551.995,480.00333333333333,434.95333333333332,393.79,272.685,221.09833333333333,159]
[60,null,569.75,495.37333333333333,448.02666666666664,409.24833333333333,282.755,238.67666666666668,172.16166666666666]
[61,null,591.745,514.36500000000001,467.28333333333336,424.44166666666666,293.26666666666665,257.49166666666667,186.11833333333334]
[62,null,618.245,537.50833333333333,490.16166666666669,443.61,306.60500000000002,277.89666666666665,201.31166666666667]
[63,null,650.04499999999996,565.15666666666664,515.60166666666669,466.4,322.59333333333331,299.71499999999997,217.565]
[64,null,687.49833333333333,597.92833333333328,545.01666666666665,493.25333333333333,358.19166666666666,323.38833333333332,234.96666666666667]
[65,null,732.54833333333329,636.79499999999996,580.61500000000001,530.17666666666662,383.45499999999998,348.91666666666669,253.87]
[66,null,785.10666666666668,682.72833333333335,622.57333333333338,572.57666666666671,413.04666666666668,376.38833333333332,274.18666666666667]
[67,null,{"$f":"+C55*$M$2","v":847.82333333333338},737.31833333333338,672.39333333333332,618.77499999999998,446.08333333333331,406.06833333333333,296.09333333333331]
[68,null,919.99166666666667,799.77,729.45666666666671,670.89166666666665,483.71333333333331,438.04500000000002,319.58999999999997]
[69,null,1003.82,872.91,795.88333333333333,732.63666666666666,503.23500000000001,472.58333333333331,344.94166666666666]
[70,null,1100.9866666666667,957.44500000000005,865.40166666666664,815.31666666666672,556.41166666666663,509.68333333333334,372.06]
[71,null,1212.6400000000001,1054.5233333333333,961.33166666666671,897.82,612.94500000000005,549.61,401.03333333333336]
[72,null,1341.3416666666667,1166.3533333333332,1063.71,993.66166666666663,678.4,592.36333333333334,431.95]
[73,null,1489.9183333333333,1295.4083333333333,1181.0166666666667,1103.1066666666666,752.86500000000001,638.20833333333337,464.89833333333331]
[74,null,1661.02,1444.1616666666666,1316.7850000000001,1230.0416666666667,839.69666666666672,687.05666666666662,499.61333333333334]
[75,null,1857.12,1614.9983333333332,1466.51,1384.0066666666667,942.1633333333333,738.82,536.09500000000003]
[76,null,2082.8116666666665,1811.01,1649.9783333333332,1551.84,1056.4666666666667,793.49833333333333,574.07833333333338]
[77,null,2338.89,2034.0516666666667,1854.47,1730.1849999999999,1186.67,850.73833333333334,613.21]
[78,null,2628.1816666666668,2285.36,2083.6066666666666,1855.8833333333334,1277.83,910.09833333333336,653.04833333333329]
[79,null,2952.895,2567.585,2341.1866666666665,1987.9416666666666,1367.7533333333333,971.13666666666666,692.5333333333333]
[80,"o más",3318.6833333333334,2905.7249999999999,2586.5766666666668,2125.7416666666668,1460.5033333333333,1032.8816666666667,730.95833333333337]
[1,"Hijo",127.37666666666667,110.68166666666667,80.206666666666663,54.943333333333335,30.033333333333335,17.754999999999999,10.158333333333333]
[2,"Hijos",150.52000000000001,130.73333333333332,94.781666666666666,64.924999999999997,35.421666666666667,20.934999999999999,12.013333333333334]
[3,"Hijos o más",{"$f":"+C71*$M$2","v":208.37833333333333},181.08333333333334,131.17500000000001,89.923333333333332,49.11333333333333,28.973333333333333,16.695]
[]
["FLEX 100"]
["TARIFAS ANUALES"]
["EDAD"]
[" "," ","F100-1","F100-2","F100-3","F100-4","F100-5"]
[18,null,2583,2530,2390,2180,1687]
[19,null,2631,2579,2432,2219,1721]
[20,null,2675,2616,2471,2251,1754]
[21,null,2720,2665,2510,2288,1792]
[22,null,2762,2716,2553,2332,1832]
[23,null,2814,2756,2598,2366,1869]
[24,null,2861,2802,2642,2408,1906]
[25,null,2904,2846,2677,2450,1951]
[26,null,2951,2893,2725,2484,1984]
[27,null,2993,2935,2762,2524,2023]
[28,null,3049,2990,2817,2569,2072]
[29,null,3104,3042,2867,2612,2125]
[30,null,3160,3094,2916,2661,2171]
[31,null,3210,3145,2962,2704,2219]
[32,null,3267,3198,3017,2750,2264]
[33,null,3354,3286,3098,2821,2335]
[34,null,3443,3375,3179,2899,2403]
[35,null,3532,3462,3265,2975,2471]
[36,null,3620,3550,3346,3049,2545]
[37,null,3708,3638,3428,3128,2610]
[38,null,3801,3727,3515,3202,2686]
[39,null,3894,3813,3595,3282,2757]
[40,null,3986,3905,3680,3354,2834]
[41,null,4079,3997,3765,3431,2905]
[42,null,4168,4084,3849,3506,2986]
[43,null,4332,4246,4000,3650,3109]
[44,null,4500,4409,4153,3790,3246]
[45,null,4669,4568,4306,3928,3376]
[46,null,4826,4735,4460,4069,3502]
[47,null,4996,4894,4615,4208,3638]
[48,null,5172,5065,4775,4356,3769]
[49,null,5345,5239,4937,4501,3910]
[50,null,5519,5413,5100,4649,4049]
[51,null,5693,5585,5260,4798,4186]
[52,null,5870,5750,5423,4946,4323]
[53,null,6076,5959,5615,5119,4494]
[54,null,6285,6163,5807,5297,4657]
[55,null,6490,6366,6001,5471,4824]
[56,null,6701,6568,6192,5648,4993]
[57,null,6908,6772,6378,5815,5160]
[58,null,7146,7008,6579,6019,5378]
[59,null,7382,7237,6782,6220,5597]
[60,null,7626,7467,6982,6423,5815]
[61,null,7914,7755,7285,6664,6033]
[62,null,8268,8108,7640,6967,6307]
[63,null,8697,8521,8031,7320,6630]
[64,null,9200,9012,8497,7746,7011]
[65,null,9799,9599,9053,8253,7531]
[66,null,10503,10293,9701,8848,8137]
[67,null,11340,11119,10477,9554,8790]
[68,null,12306,12056,11363,10360,9533]
[69,null,13429,13163,12402,11307,10414]
[70,null,14732,14432,13490,12403,11584]
[71,null,16217,15894,14980,13657,12755]
[72,null,17946,17583,16575,15113,14120]
[73,null,19931,19528,18409,16784,15673]
[74,null,22223,21777,20520,18709,17478]
[75,null,24845,24344,22851,20918,19663]
[76,null,27864,27295,25710,23458,22051]
[77,null,31289,30658,28891,26347,24763]
[78,null,35159,34448,32468,29602,27821]
[79,null,39502,38708,36478,33259,31258]
[80,"o más",44701,43798,41279,37637,35370]
[1,"Hijo",1327,1297,1221,1118,658]
[2,"Hijos",2229,2184,2057,1877,980]
[3,"Hijos o más",3269,3201,3017,2754,1402]
[]
["TARIFAS MENSUALES"]
["EDAD"]
[" "," ","F100-1","F100-2","F100-3","F100-4","F100-5"]
[18,null,{"$f":"+C147*$M$2","v":228.16499999999999},223.48333333333332,211.11666666666667,192.56666666666666,149.01833333333335]
[19,null,232.405,227.81166666666667,214.82666666666665,196.01166666666666,152.02166666666668]
[20,null,236.29166666666666,231.08,218.27166666666668,198.83833333333334,154.93666666666667]
[21,null,240.26666666666668,235.40833333333333,221.71666666666667,202.10666666666665,158.29333333333332]
[22,null,243.97666666666666,239.91333333333333,225.51499999999999,205.99333333333334,161.82666666666665]
[23,null,248.57,243.44666666666666,229.49,208.99666666666667,165.095]
[24,null,252.72166666666666,247.51,233.37666666666667,212.70666666666668,168.36333333333334]
[25,null,256.52,251.39666666666668,236.46833333333333,216.41666666666666,172.33833333333334]
[26,null,260.67166666666668,255.54833333333335,240.70833333333334,219.42,175.25333333333333]
[27,null,264.38166666666666,259.25833333333333,243.97666666666666,222.95333333333332,178.69833333333332]
[28,null,269.32833333333332,264.11666666666667,248.83500000000001,226.92833333333334,183.02666666666667]
[29,null,274.18666666666667,268.70999999999998,253.25166666666667,230.72666666666666,187.70833333333334]
[30,null,279.13333333333333,273.30333333333334,257.58,235.05500000000001,191.77166666666668]
[31,null,283.55,277.80833333333334,261.64333333333332,238.85333333333332,196.01166666666666]
[32,null,288.58499999999998,282.49,266.50166666666667,242.91666666666666,199.98666666666668]
[33,null,296.27,290.26333333333332,273.65666666666664,249.18833333333333,206.25833333333333]
[34,null,{"$f":"+C163*$M$2","v":304.13166666666666},298.125,280.81166666666667,256.07833333333332,212.26499999999999]
[35,null,311.99333333333334,305.81,288.40833333333336,262.79166666666669,218.27166666666668]
[36,null,319.76666666666665,313.58333333333331,295.56333333333333,269.32833333333332,224.80833333333334]
[37,null,327.54000000000002,321.35666666666668,302.80666666666667,276.30666666666667,230.55]
[38,null,335.755,329.21833333333331,310.49166666666667,282.84333333333331,237.26333333333332]
[39,null,343.97,336.815,317.55833333333334,289.91000000000003,243.535]
[40,null,352.09666666666669,344.94166666666666,325.06666666666666,296.27,250.33666666666667]
[41,null,360.31166666666667,353.06833333333333,332.57499999999999,303.07166666666666,256.60833333333335]
[42,null,368.17333333333335,360.75333333333333,339.995,309.69666666666666,263.76333333333332]
[43,null,382.66,375.06333333333333,353.33333333333331,322.41666666666669,274.62833333333333]
[44,null,397.5,389.46166666666664,366.84833333333336,334.78333333333336,286.73]
[45,null,412.42833333333334,403.50666666666666,380.36333333333334,346.97333333333336,298.21333333333331]
[46,null,426.29666666666668,418.25833333333333,393.96666666666664,359.42833333333334,309.34333333333331]
[47,null,441.31333333333333,432.30333333333334,407.65833333333336,371.70666666666665,321.35666666666668]
[48,null,456.86,447.40833333333336,421.79166666666669,384.78,332.92833333333334]
[49,null,472.14166666666665,462.77833333333331,436.10166666666669,397.58833333333331,345.38333333333333]
[50,null,{"$f":"+C179*$M$2","v":487.51166666666666},478.14833333333331,450.5,410.66166666666669,357.66166666666669]
[51,null,502.88166666666666,493.34166666666664,464.63333333333333,423.82333333333332,369.76333333333332]
[52,null,518.51666666666665,507.91666666666669,479.03166666666664,436.89666666666665,381.86500000000001]
[53,null,536.71333333333337,526.37833333333333,495.99166666666667,452.17833333333334,396.97]
[54,null,555.17499999999995,544.39833333333331,512.95166666666671,467.90166666666664,411.36833333333334]
[55,null,573.2833333333333,562.33000000000004,530.08833333333337,483.27166666666665,426.12]
[56,null,591.92166666666662,580.17333333333329,546.96,498.90666666666664,441.04833333333335]
[57,null,610.20666666666671,598.19333333333338,563.39,513.6583333333333,455.8]
[58,null,631.23,619.04,581.14499999999998,531.67833333333328,475.05666666666667]
[59,null,652.07666666666671,639.26833333333332,599.07666666666671,549.43333333333328,494.40166666666664]
[60,null,673.63,659.58500000000004,616.74333333333334,567.36500000000001,513.6583333333333]
[61,null,699.07,685.02499999999998,643.50833333333333,588.65333333333331,532.91499999999996]
[62,null,730.34,716.20666666666671,674.86666666666667,615.41833333333329,557.11833333333334]
[63,null,768.23500000000001,752.68833333333328,709.40499999999997,646.6,585.65]
[64,null,812.66666666666663,796.06,750.56833333333338,684.23,619.30499999999995]
[65,null,865.57833333333338,847.91166666666663,799.68166666666662,729.01499999999999,665.23833333333334]
[66,null,{"$f":"+C195*$M$2","v":927.76499999999999},909.21500000000003,856.92166666666662,781.57333333333338,718.76833333333332]
[67,null,1001.7,982.17833333333328,925.46833333333336,843.93666666666661,776.45]
[68,null,1087.03,1064.9466666666667,1003.7316666666667,915.13333333333333,842.08166666666671]
[69,null,1186.2283333333332,1162.7316666666666,1095.51,998.78499999999997,919.90333333333331]
[70,null,1301.3266666666666,1274.8266666666666,1191.6166666666666,1095.5983333333334,1023.2533333333333]
[71,null,1432.5016666666666,1403.97,1323.2333333333333,1206.3683333333333,1126.6916666666666]
[72,null,1585.23,1553.165,1464.125,1334.9816666666666,1247.2666666666667]
[73,null,1760.5716666666667,1724.9733333333334,1626.1283333333333,1482.5866666666666,1384.4483333333333]
[74,null,1963.0316666666668,1923.635,1812.6,1652.6283333333333,1543.89]
[75,null,2194.6416666666669,2150.3866666666668,2018.5050000000001,1847.7566666666667,1736.8983333333333]
[76,null,2461.3200000000002,2411.0583333333334,2271.0500000000002,2072.1233333333334,1947.8383333333334]
[77,null,2763.8616666666667,2708.1233333333334,2552.0383333333334,2327.3183333333332,2187.3983333333335]
[78,null,3105.7116666666666,3042.9066666666668,2868.0066666666667,2614.8433333333332,2457.5216666666665]
[79,null,3489.3433333333332,3419.2066666666665,3222.2233333333334,2937.8783333333331,2761.1233333333334]
[80,"o más",3948.5883333333331,3868.8233333333333,3646.3116666666665,3324.6016666666665,3124.35]
[1,"Hijo",117.21833333333333,114.56833333333333,107.855,98.756666666666661,58.123333333333335]
[2,"Hijos",{"$f":"+C211*$M$2","v":196.89500000000001},192.92,181.70166666666665,165.80166666666668,86.566666666666663]
[3,"Hijos o más",288.76166666666666,282.755,266.50166666666667,243.27,123.84333333333333]
[]
[]
["FLEX 50"]
["TARIFAS ANUALES"]
["EDAD"]
[" "," ","F50-1","F50-2","F50-3","F50-4","F50-5"]
[18,null,2054,2012,1897,1731,1336]
[19,null,2087,2046,1925,1757,1365]
[20,null,2125,2079,1960,1784,1394]
[21,null,2160,2112,1998,1817,1427]
[22,null,2194,2150,2027,1847,1455]
[23,null,2231,2188,2058,1879,1486]
[24,null,2266,2224,2095,1912,1517]
[25,null,2305,2258,2129,1940,1543]
[26,null,2338,2295,2162,1972,1575]
[27,null,2379,2331,2194,2002,1608]
[28,null,2420,2369,2232,2038,1646]
[29,null,2465,2414,2276,2075,1683]
[30,null,2506,2453,2316,2108,1723]
[31,null,2549,2495,2356,2146,1757]
[32,null,2588,2542,2393,2184,1801]
[33,null,2661,2609,2461,2243,1851]
[34,null,2735,2682,2525,2303,1906]
[35,null,2802,2746,2588,2362,1960]
[36,null,2875,2817,2657,2420,2017]
[37,null,2946,2887,2719,2477,2073]
[38,null,3017,2960,2788,2545,2129]
[39,null,3091,3028,2853,2603,2190]
[40,null,3164,3098,2919,2662,2250]
[41,null,3235,3169,2986,2720,2305]
[42,null,3308,3239,3056,2786,2364]
[43,null,3438,3369,3172,2895,2471]
[44,null,3571,3501,3297,3008,2573]
[45,null,3704,3623,3421,3119,2682]
[46,null,3834,3754,3539,3231,2782]
[47,null,3965,3883,3663,3338,2887]
[48,null,4104,4020,3790,3458,2994]
[49,null,4243,4160,3916,3575,3104]
[50,null,4380,4294,4047,3691,3212]
[51,null,4519,4430,4174,3808,3319]
[52,null,4658,4564,4304,3926,3430]
[53,null,4824,4726,4453,4061,3561]
[54,null,4991,4887,4606,4201,3695]
[55,null,5154,5049,4759,4338,3830]
[56,null,5317,5212,4911,4475,3960]
[57,null,5482,5371,5067,4616,4094]
[58,null,5676,5556,5226,4776,4269]
[59,null,5864,5745,5385,4935,4442]
[60,null,6055,5928,5541,5097,4615]
[61,null,6281,6159,5782,5290,4787]
[62,null,6564,6431,6063,5527,5002]
[63,null,6904,6764,6378,5812,5260]
[64,null,7300,7153,6742,6145,5561]
[65,null,7777,7620,7179,6549,5976]
[66,null,8337,8170,7701,7023,6457]
[67,null,9000,8819,8312,7579,6974]
[68,null,9766,9566,9016,8225,7566]
[69,null,10655,10444,9844,8973,8260]
[70,null,11687,11452,10702,9844,9190]
[71,null,12873,12611,11884,10837,10121]
[72,null,14240,13951,13150,11992,11204]
[73,null,15813,15491,14607,13316,12435]
[74,null,17630,17272,16283,14846,13869]
[75,null,19712,19316,18132,16599,15595]
[76,null,22103,21657,20396,18612,17494]
[77,null,24826,24326,22927,20907,19646]
[78,null,27895,27329,25761,23484,22074]
[79,null,31341,30710,28946,26391,24802]
[80,"o más",35466,34749,32749,29866,28064]
[1,"Hijo",1047,1029,966,883,525]
[2,"Hijos",1765,1732,1631,1488,775]
[3,"Hijos o más",2594,2542,2393,2184,1117]
[]
["TARIFAS MENSUALES"]
["EDAD"]
[" "," ","F50-1","F50-2","F50-3","F50-4","F50-5"]
[18,null,{"$f":"+C289*$M$2","v":181.43666666666667},177.72666666666666,167.56833333333333,152.905,118.01333333333334]
[19,null,184.35166666666666,180.73,170.04166666666666,155.20166666666665,120.575]
[20,null,187.70833333333334,183.64500000000001,173.13333333333333,157.58666666666667,123.13666666666667]
[21,null,190.8,186.56,176.49,160.50166666666667,126.05166666666666]
[22,null,193.80333333333334,189.91666666666666,179.05166666666668,163.15166666666667,128.52500000000001]
[23,null,197.07166666666666,193.27333333333334,181.79,165.97833333333332,131.26333333333332]
[24,null,200.16333333333333,196.45333333333332,185.05833333333334,168.89333333333335,134.00166666666667]
[25,null,203.60833333333332,199.45666666666668,188.06166666666667,171.36666666666667,136.29833333333335]
[26,null,206.52333333333334,202.72499999999999,190.97666666666666,174.19333333333333,139.125]
[27,null,210.14500000000001,205.905,193.80333333333334,176.84333333333333,142.04]
[28,null,213.76666666666668,209.26166666666666,197.16,180.02333333333334,145.39666666666668]
[29,null,217.74166666666667,213.23666666666668,201.04666666666665,183.29166666666666,148.66499999999999]
[30,null,221.36333333333334,216.68166666666667,204.58,186.20666666666668,152.19833333333332]
[31,null,225.16166666666666,220.39166666666668,208.11333333333334,189.56333333333333,155.20166666666665]
[32,null,228.60666666666665,224.54333333333332,211.38166666666666,192.92,159.08833333333334]
[33,null,235.05500000000001,230.46166666666667,217.38833333333332,198.13166666666666,163.505]
[34,null,{"$f":"+C305*$M$2","v":241.59166666666667},236.91,223.04166666666666,203.43166666666667,168.36333333333334]
[35,null,247.51,242.56333333333333,228.60666666666665,208.64333333333335,173.13333333333333]
[36,null,253.95833333333334,248.83500000000001,234.70166666666665,213.76666666666668,178.16833333333332]
[37,null,260.23,255.01833333333335,240.17833333333334,218.80166666666668,183.11500000000001]
[38,null,266.50166666666667,261.46666666666664,246.27333333333334,224.80833333333334,188.06166666666667]
[39,null,273.03833333333336,267.47333333333336,252.01499999999999,229.93166666666667,193.45]
[40,null,279.48666666666668,273.65666666666664,257.84500000000003,235.14333333333335,198.75]
[41,null,285.75833333333333,279.92833333333334,263.76333333333332,240.26666666666668,203.60833333333332]
[42,null,292.20666666666665,286.11166666666668,269.94666666666666,246.09666666666666,208.82]
[43,null,303.69,297.59500000000003,280.19333333333333,255.72499999999999,218.27166666666668]
[44,null,315.43833333333333,309.255,291.23500000000001,265.70666666666665,227.28166666666667]
[45,null,327.18666666666667,320.03166666666664,302.18833333333333,275.51166666666666,236.91]
[46,null,338.67,331.60333333333335,312.61166666666668,285.40499999999997,245.74333333333334]
[47,null,350.24166666666667,342.99833333333333,323.565,294.85666666666668,255.01833333333335]
[48,null,362.52,355.1,334.78333333333336,305.45666666666665,264.47000000000003]
[49,null,374.79833333333335,367.46666666666664,345.91333333333336,315.79166666666669,274.18666666666667]
[50,null,{"$f":"+C321*$M$2","v":386.9},379.30333333333334,357.48500000000001,326.03833333333336,283.72666666666669]
[51,null,399.17833333333334,391.31666666666666,368.70333333333332,336.37333333333333,293.17833333333334]
[52,null,411.45666666666665,403.15333333333331,380.18666666666667,346.79666666666668,302.98333333333335]
[53,null,426.12,417.46333333333331,393.34833333333336,358.72166666666669,314.55500000000001]
[54,null,440.87166666666667,431.685,406.86333333333334,371.08833333333331,326.39166666666665]
[55,null,455.27,445.995,420.37833333333333,383.19,338.31666666666666]
[56,null,469.66833333333335,460.39333333333332,433.80500000000001,395.29166666666669,349.8]
[57,null,484.24333333333334,474.43833333333333,447.58499999999998,407.74666666666667,361.63666666666666]
[58,null,501.38,490.78,461.63,421.88,377.09500000000003]
[59,null,517.98666666666668,507.47500000000002,475.67500000000001,435.92500000000001,392.37666666666667]
[60,null,534.85833333333335,523.64,489.45499999999998,450.23500000000001,407.65833333333336]
[61,null,554.82166666666672,544.04499999999996,510.74333333333334,467.28333333333336,422.85166666666669]
[62,null,579.82000000000005,568.07166666666672,535.56500000000005,488.21833333333331,441.84333333333331]
[63,null,609.85333333333335,597.48666666666668,563.39,513.39333333333332,464.63333333333333]
[64,null,644.83333333333337,631.84833333333336,595.54333333333329,542.80833333333328,491.22166666666669]
[65,null,686.96833333333336,673.1,634.14499999999998,578.495,527.88]
[66,null,{"$f":"+C337*$M$2","v":736.43499999999995},721.68333333333328,680.255,620.36500000000001,570.36833333333334]
[67,null,795,779.01166666666666,734.22666666666669,669.47833333333335,616.03666666666663]
[68,null,862.6633333333333,844.99666666666667,796.4133333333333,726.54166666666663,668.33]
[69,null,941.19166666666672,922.55333333333328,869.55333333333328,792.61500000000001,729.63333333333333]
[70,null,1032.3516666666667,1011.5933333333334,945.34333333333336,869.55333333333328,811.7833333333333]
[71,null,1137.115,1113.9716666666666,1049.7533333333333,957.26833333333332,894.02166666666665]
[72,null,1257.8666666666666,1232.3383333333334,1161.5833333333333,1059.2933333333333,989.68666666666661]
[73,null,1396.8150000000001,1368.3716666666667,1290.2850000000001,1176.2466666666667,1098.425]
[74,null,1557.3166666666666,1525.6933333333334,1438.3316666666667,1311.3966666666668,1225.095]
[75,null,1741.2266666666667,1706.2466666666667,1601.66,1466.2449999999999,1377.5583333333334]
[76,null,1952.4316666666666,1913.0350000000001,1801.6466666666668,1644.06,1545.3033333333333]
[77,null,2192.9633333333331,2148.7966666666666,2025.2183333333332,1846.7850000000001,1735.3966666666668]
[78,null,2464.0583333333334,2414.0616666666665,2275.5549999999998,2074.42,1949.87]
[79,null,2768.4549999999999,2712.7166666666667,2556.8966666666665,2331.2049999999999,2190.8433333333332]
[80,"o más",3132.83,3069.4949999999999,2892.8283333333334,2638.1633333333334,2478.9866666666667]
[1,"Hijo",92.484999999999999,90.894999999999996,85.33,77.998333333333335,46.375]
[2,"Hijos",{"$f":"+C353*$M$2","v":155.90833333333333},152.99333333333334,144.07166666666666,131.44,68.458333333333329]
[3,"Hijos o más",229.13666666666666,224.54333333333332,211.38166666666666,192.92,98.668333333333337]
[]
["ESSENTIAL"]
["TARIFAS ANUALES"]
["EDAD"]
[" "," ","ET1","ET2","ET3","ET4","ET5","ET6"]
[18,-24,{"$f":"L430*85%","v":3945.7},{"$f":"M430*85%","v":3334.5499999999997},2611.1999999999998,1902.3,1522.35,1150.8999999999999,null,null,null,4642,3923,3072,2238,1791,1354]
[25,-29,{"$f":"L431*85%","v":4376.6499999999996},3672,2950.35,2119.9,1704.25,1282.6499999999999,null,null,null,5149,4320,3471,2494,2005,1509]
[30,-34,5063.45,4213.45,3470.5499999999997,2460.75,1968.6,1485.8,null,null,null,5957,4957,4083,2895,2316,1748]
[35,-39,5598.95,4641.8499999999995,3879.4,2740.4,2189.6,1650.7,null,null,null,6587,5461,4564,3224,2576,1942]
[40,-44,6314.65,5211.3499999999995,4427.6499999999996,3097.4,2482.85,1862.35,null,null,null,7429,6131,5209,3644,2921,2191]
[45,-49,7320.2,6004.4,5194.3499999999995,3612.5,2885.75,2166.65,null,null,null,8612,7064,6111,4250,3395,2549]
[50,-54,8015.5,6545.8499999999995,5720.5,3957.6,3166.25,2369.7999999999997,null,null,null,9430,7701,6730,4656,3725,2788]
[55,-59,9473.25,7699.3,6832.3,4694.55,3761.25,2805.85,null,null,null,11145,9058,8038,5523,4425,3301]
[60,null,9988.35,8059.7,7303.2,4975.05,3976.2999999999997,2969.9,null,null,null,11751,9482,8592,5853,4678,3494]
[61,null,11242.1,9079.6999999999989,8216.1,5604.05,4482.8999999999996,3352.4,null,null,null,13226,10682,9666,6593,5274,3944]
[62,null,12506.05,10094.6,9137.5,6232.2,4985.25,3732.35,null,null,null,14713,11876,10750,7332,5865,4391]
[63,null,13756.4,11108.65,10053.799999999999,6863.75,5487.5999999999995,4105.5,null,null,null,16184,13069,11828,8075,6456,4830]
[64,null,15011,12128.65,10972.65,7487.65,5991.65,4482.8999999999996,null,null,null,17660,14269,12909,8809,7049,5274]
[65,null,15073.9,12138,11081.449999999999,7532.7,6026.5,4499.8999999999996,null,null,null,17734,14280,13037,8862,7090,5294]
[66,null,15133.4,12150.75,11178.35,7580.3,6054.55,4508.3999999999996,null,null,null,17804,14295,13151,8918,7123,5304]
[67,null,16823.2,13503.1,12429.55,8427.75,6737.95,5017.55,null,null,null,19792,15886,14623,9915,7927,5903]
[68,null,18514.7,14869.9,13677.35,9268.4,7413.7,5527.55,null,null,null,21782,17494,16091,10904,8722,6503]
[69,null,19357.05,15536.3,14302.949999999999,9696.7999999999993,7742.65,5784.25,null,null,null,22773,18278,16827,11408,9109,6805]
[70,null,19493.899999999998,15572,14547.75,9801.35,7827.65,5813.15,null,null,null,22934,18320,17115,11531,9209,6839]
[71,null,21938.5,17522.75,16365.9,11028.75,8807.6999999999989,6543.3,null,null,null,25810,20615,19254,12975,10362,7698]
[72,null,24380.55,19475.2,18199.349999999999,12259.55,9790.2999999999993,7278.55,null,null,null,28683,22912,21411,14423,11518,8563]
[73,null,26826.85,21442.1,20021.75,13490.35,10777.15,8007.8499999999995,null,null,null,31561,25226,23555,15871,12679,9421]
[74,null,29268.899999999998,23390.3,21850.95,14720.3,11760.6,8743.1,null,null,null,34434,27518,25707,17318,13836,10286]
[75,"o más",31972.75,25497.45,23962.35,16105.8,12868.15,9556.5499999999993,null,null,null,37615,29997,28191,18948,15139,11243]
[1,"Hijo",1798.6,1619.25,957.94999999999993,776.05,619.65,458.15,null,null,null,2116,1905,1127,913,729,539]
[2,"Hijos",2951.2,2731.0499999999997,1423.75,1215.5,971.55,719.1,null,null,null,3472,3213,1675,1430,1143,846]
[3,"Hijos o más",{"$f":"L456*85%","v":4319.7},{"$f":"M456*85%","v":4000.1},2042.55,1765.45,1410.1499999999999,1040.3999999999999,null,null,null,5082,4706,2403,2077,1659,1224]
[]
["TARIFAS MENSUALES"]
["EDAD"]
[" "," ","ET1","ET2","ET3","ET4","ET5","ET6"]
[18,-24,{"$f":"+C430*$M$2","v":348.53683333333333},294.55191666666661,230.65599999999998,168.03649999999999,134.47424999999998,101.66283333333332]
[25,-29,386.60408333333328,324.36,260.61424999999997,187.25783333333334,150.54208333333332,113.30074999999999]
[30,-34,447.27141666666665,372.18808333333334,306.56524999999999,217.36625000000001,173.893,131.24566666666666]
[35,-39,494.57391666666666,410.03008333333327,342.68033333333335,242.06866666666667,193.41466666666665,145.81183333333334]
[40,-44,557.79408333333333,460.33591666666661,391.10908333333327,273.6036666666667,219.31841666666665,164.50758333333332]
[45,-49,646.61766666666665,530.38866666666661,458.83424999999994,319.10416666666669,254.90791666666667,191.38741666666667]
[50,-54,708.03583333333336,578.21674999999993,505.31083333333333,349.58799999999997,279.68541666666664,209.33233333333331]
[55,-59,836.80375000000004,680.10483333333332,603.51983333333339,414.68525,332.24374999999998,247.85008333333332]
[60,null,882.30425000000002,711.94016666666664,645.11599999999999,439.46275000000003,351.23983333333331,262.34116666666665]
[61,null,993.05216666666672,802.04016666666655,725.75549999999998,495.0244166666667,395.98949999999996,296.12866666666667]
[62,null,1104.7010833333334,891.68966666666665,807.14583333333337,550.51099999999997,440.36374999999998,329.69091666666668]
[63,null,1215.1486666666667,981.26408333333325,888.08566666666661,606.29791666666665,484.73799999999994,362.65249999999997]
[64,null,1325.9716666666666,1071.3640833333334,969.25074999999993,661.40908333333334,529.26241666666658,395.98949999999996]
[65,null,1331.5278333333333,1072.19,978.86141666666651,665.38850000000002,532.34083333333331,397.49116666666663]
[66,null,1336.7836666666667,1073.3162500000001,987.4209166666667,669.59316666666666,534.81858333333332,398.24199999999996]
[67,null,1486.0493333333334,1192.7738333333334,1097.9435833333332,744.45124999999996,595.18558333333328,443.21691666666669]
[68,null,{"$f":"+C446*$M$2","v":1635.4651666666666},1313.5078333333333,1208.1659166666666,818.70866666666666,654.87683333333337,488.2669166666667]
[69,null,1709.87275,1372.3731666666665,1263.42725,856.55066666666664,683.93408333333332,510.94208333333336]
[70,null,1721.9611666666665,1375.5266666666666,1285.05125,865.78591666666671,691.44241666666665,513.49491666666665]
[71,null,1937.9008333333334,1547.8429166666667,1445.6544999999999,974.20624999999995,778.01349999999991,577.99149999999997]
[72,null,2153.6152499999998,1720.3093333333334,1607.60925,1082.9269166666666,864.80983333333324,642.93858333333333]
[73,null,2369.7050833333333,1894.0521666666666,1768.5879166666666,1191.6475833333334,951.98158333333333,707.36008333333325]
[74,null,2585.4195,2066.1431666666667,1930.16725,1300.2931666666666,1038.8530000000001,772.30716666666672]
[75,"o más",2824.2595833333335,2252.27475,2116.67425,1422.6789999999999,1136.6865833333334,844.16191666666657]
[1,"Hijo",158.87633333333332,143.03375,84.618916666666664,68.551083333333324,54.735749999999996,40.469916666666663]
[2,"Hijos",260.68933333333331,241.24274999999997,125.76458333333333,107.36916666666667,85.820250000000001,63.520499999999998]
[3,"Hijos o más",381.57349999999997,353.34216666666669,180.42525000000001,155.94808333333333,124.56324999999998,91.901999999999987]
[]
["ESSENTIAL 500"]
["TARIFAS SEMESTRALES"]
["EDAD"]
[" "," ","F500-1","F500-2","F500-3","F500-4","F500-5"]
[18,null,{"$f":"+C6*$M$3","v":1124.76},{"$f":"+D6*$M$3","v":962.02},704.52,485.64500000000004,264.70999999999998,156.56,90.125]
[19,null,{"$f":"+C7*$M$3","v":1143.3},962.02,704.52,486.16,267.28500000000003,159.13499999999999,92.185000000000002]
[20,null,1163.385,962.02,704.52,487.70500000000004,270.375,161.19499999999999,94.245000000000005]
[21,null,1185.53,962.02,705.55000000000007,490.79500000000002,273.46500000000003,164.8,96.820000000000007]
[22,null,1204.585,962.02,707.61,494.40000000000003,277.58499999999998,167.89000000000001,99.394999999999996]
[23,null,1224.67,964.59500000000003,712.245,499.55,282.22000000000003,172.01,101.97]
[24,null,1227.76,969.23,717.91,506.245,287.37,176.13,105.575]
[25,null,1233.425,975.92500000000007,725.63499999999999,513.97,293.55,180.76500000000001,109.18]
[26,null,1242.6949999999999,985.71,735.93500000000006,522.72500000000002,300.76,186.43,112.785]
[27,null,1255.0550000000001,998.07,747.78,533.02499999999998,308.48500000000001,192.095,116.905]
[28,null,1270.5050000000001,1013.005,761.17000000000007,544.87,317.24,198.79,121.54]
[29,null,1289.0450000000001,1030,776.62,558.26,327.02500000000003,206,127.205]
[30,null,1310.675,1050.6000000000001,794.64499999999998,573.19500000000005,337.84000000000003,213.21,132.35499999999999]
[31,null,1336.425,1073.7750000000001,814.73,589.67500000000007,349.17,221.965,139.05000000000001]
[32,null,1366.2950000000001,1100.5550000000001,836.875,607.70000000000005,362.56,231.23500000000001,145.22999999999999]
[33,null,1399.77,1129.9100000000001,862.11,628.30000000000007,375.95,241.535,152.44]
[34,null,1436.8500000000001,1162.8700000000001,889.92000000000007,650.96,391.40000000000003,251.83500000000001,160.68]
[35,null,{"$f":"+C23*$M$3","v":1478.05},1198.92,920.82,675.68000000000006,407.88,264.19499999999999,168.92000000000002]
[36,null,1523.885,1239.605,954.29500000000007,701.94500000000005,426.42,277.58499999999998,178.70500000000001]
[37,null,1574.355,1283.3800000000001,990.34500000000003,731.30000000000007,446.505,291.49,188.49]
[38,null,1628.9449999999999,1330.76,1030,763.23,468.13499999999999,306.94,199.82]
[39,null,1688.6849999999999,1382.7750000000001,1073.7750000000001,797.73500000000001,491.31,323.42,211.66499999999999]
[40,null,1736.5800000000002,1439.425,1121.155,835.33,517.06000000000006,341.96000000000004,225.05500000000001]
[41,null,1775.2050000000002,1500.71,1171.625,875.5,543.84,361.53000000000003,239.47499999999999]
[42,null,1816.92,1567.66,1227.2450000000001,920.30500000000006,574.22500000000002,382.64499999999998,254.92500000000001]
[43,null,1886.4449999999999,1639.2450000000001,1286.9850000000001,967.68500000000006,606.66999999999996,406.33500000000004,271.92]
[44,null,1959.06,1704.135,1351.3600000000001,1019.1850000000001,641.69000000000005,431.57,290.45999999999998]
[45,null,2031.675,1765.9349999999999,1420.885,1075.32,679.28499999999997,458.86500000000001,310.03000000000003]
[46,null,2103.2600000000002,1829.28,1496.075,1135.06,721,488.22,331.66]
[47,null,2176.9050000000002,1892.1100000000001,1576.93,1199.95,764.77499999999998,520.15,355.35]
[48,null,2254.1550000000002,1959.06,1664.48,1270.5050000000001,812.67000000000007,555.16999999999996,381.1]
[49,null,2329.3450000000003,2025.4950000000001,1758.21,1346.21,864.68500000000006,593.28,408.91]
[50,null,2405.0500000000002,2092.4450000000002,1866.3600000000001,1433.76,925.45500000000004,637.05500000000006,441.35500000000002]
[51,null,{"$f":"+C39*$M$3","v":2480.7550000000001},2157.85,1967.3,1539.335,999.1,690.61500000000001,481.01]
[52,null,2556.9749999999999,2224.2849999999999,2028.0700000000002,1652.635,1077.3800000000001,748.29500000000007,523.755]
[53,null,2648.13,2302.0500000000002,2100.6849999999999,1774.175,1161.8399999999999,810.09500000000003,570.10500000000002]
[54,null,2738.77,2381.36,2171.7550000000001,1905.5,1252.9950000000001,876.01499999999999,619.54500000000007]
[55,null,2830.9549999999999,2461.1849999999999,2242.8250000000003,1979.145,1350.33,947.08500000000004,672.59]
[56,null,2921.08,2538.9500000000003,2313.895,2047.125,1429.125,1023.82,729.24]
[57,null,3009.66,2618.2600000000002,2386.5100000000002,2116.1350000000002,1473.415,1106.22,791.04]
[58,null,3114.2049999999999,2707.355,2461.7000000000003,2206.7750000000001,1532.125,1194.2850000000001,856.44500000000005]
[59,null,3218.2350000000001,2798.51,2535.86,2295.87,1589.8050000000001,1289.0450000000001,927]
[60,null,3321.75,2888.12,2612.08,2385.9949999999999,1648.5150000000001,1391.53,1003.735]
[61,null,3449.9850000000001,2998.8450000000003,2724.35,2474.5750000000003,1709.8,1501.2250000000001,1085.105]
[62,null,3604.4850000000001,3133.7750000000001,2857.7350000000001,2586.33,1787.5650000000001,1620.19,1173.6849999999999]
[63,null,3789.8850000000002,3294.9700000000003,3006.0550000000003,2719.2000000000003,1880.78,1747.395,1268.4449999999999]
[64,null,4008.2449999999999,3486.0350000000003,3177.55,2875.76,2088.3250000000003,1885.415,1369.9]
[65,null,4270.8950000000004,3712.6350000000002,3385.0950000000003,3091.03,2235.6150000000002,2034.25,1480.1100000000001]
[66,null,4577.32,3980.4349999999999,3629.7200000000003,3338.23,2408.14,2194.415,1598.56]
[67,null,{"$f":"+C55*$M$3","v":4942.97},4298.7049999999999,3920.1800000000003,3607.5750000000003,2600.75,2367.4549999999999,1726.28]
[68,null,5363.7250000000004,4662.8100000000004,4252.87,3911.4250000000002,2820.14,2553.8850000000002,1863.27]
[69,null,5852.46,5089.2300000000005,4640.1500000000005,4271.41,2933.9549999999999,2755.25,2011.075]
[70,null,6418.96,5582.085,5045.4549999999999,4753.45,3243.9850000000001,2971.55,2169.1799999999998]
[71,null,7069.92,6148.07,5604.7449999999999,5234.46,3573.585,3204.33,2338.1]
[72,null,7820.2750000000005,6800.06,6201.63,5793.2350000000006,3955.2000000000003,3453.59,2518.35]
[73,null,8686.505000000001,7552.4750000000004,6885.55,6431.3200000000006,4389.3450000000003,3720.875,2710.4450000000002]
[74,null,9684.06,8419.7350000000006,7677.1050000000005,7171.375,4895.59,4005.67,2912.84]
[75,null,10827.36,9415.7450000000008,8550.0300000000007,8069.02,5492.99,4307.46,3125.5349999999999]
[76,null,12143.184999999999,10558.53,9619.6849999999995,9047.52,6159.4000000000005,4626.2449999999999,3346.9850000000001]
[77,null,13636.17,11858.905000000001,10811.91,10087.305,6918.51,4959.9650000000001,3575.13]
[78,null,15322.795,13324.08,12147.82,10820.15,7449.99,5306.0450000000001,3807.395]
[79,null,17215.935000000001,14969.505000000001,13649.56,11590.075000000001,7974.26,5661.91,4037.6]
[80,"o más",19348.55,16940.924999999999,15080.23,12393.475,8515.01,6021.8950000000004,4261.625]
[1,"Hijo",742.63,645.29500000000007,467.62,320.33,175.1,103.515,59.225000000000001]
[2,"Hijos",877.56000000000006,762.2,552.59500000000003,378.52500000000003,206.51500000000001,122.05500000000001,70.040000000000006]
[3,"Hijos o más",{"$f":"+C71*$M$3","v":1214.885},1055.75,764.77499999999998,524.27,286.34000000000003,168.92000000000002,97.335000000000008]
[]
["ESSENTIAL 100"]
["TARIFAS SEMESTRALES"]
["EDAD"]
[" "," ","F100-1","F100-2","F100-3","F100-4","F100-5"]
[18,null,{"$f":"+C147*$M$3","v":1330.2450000000001},{"$f":"+D147*$M$3","v":1302.95},1230.8500000000001,1122.7,{"$f":"+G147*$M$3","v":868.80500000000006}]
[19,null,{"$f":"+C148*$M$3","v":1354.9650000000001},1328.1849999999999,1252.48,1142.7850000000001,886.31500000000005]
[20,null,1377.625,1347.24,1272.5650000000001,1159.2650000000001,903.31000000000006]
[21,null,1400.8,1372.4750000000001,1292.6500000000001,1178.32,922.88]
[22,null,1422.43,1398.74,1314.7950000000001,1200.98,943.48]
[23,null,1449.21,1419.3400000000001,1337.97,1218.49,962.53499999999997]
[24,null,1473.415,1443.03,1360.63,1240.1200000000001,981.59]
[25,null,1495.56,1465.69,1378.655,1261.75,1004.765]
[26,null,1519.7650000000001,1489.895,1403.375,1279.26,1021.76]
[27,null,1541.395,1511.5250000000001,1422.43,1299.8600000000001,1041.845]
[28,null,1570.2350000000001,1539.8500000000001,1450.7550000000001,1323.0350000000001,1067.08]
[29,null,1598.56,1566.63,1476.5050000000001,1345.18,1094.375]
[30,null,1627.4,1593.41,1501.74,1370.415,1118.0650000000001]
[31,null,1653.15,1619.675,1525.43,1392.56,1142.7850000000001]
[32,null,1682.5050000000001,1646.97,1553.7550000000001,1416.25,1165.96]
[33,null,1727.31,1692.29,1595.47,1452.8150000000001,1202.5250000000001]
[34,null,1773.145,1738.125,1637.1849999999999,1492.9850000000001,1237.5450000000001]
[35,null,{"$f":"+C164*$M$3","v":1818.98},1782.93,1681.4750000000001,1532.125,1272.5650000000001]
[36,null,1864.3,1828.25,1723.19,1570.2350000000001,1310.675]
[37,null,1909.6200000000001,1873.57,1765.42,1610.92,1344.15]
[38,null,1957.5150000000001,1919.405,1810.2250000000001,1649.03,1383.29]
[39,null,2005.41,1963.6950000000002,1851.425,1690.23,1419.855]
[40,null,2052.79,2011.075,1895.2,1727.31,1459.51]
[41,null,2100.6849999999999,2058.4549999999999,1938.9750000000001,1766.9650000000001,1496.075]
[42,null,2146.52,2103.2600000000002,1982.2350000000001,1805.5900000000001,1537.79]
[43,null,2230.98,2186.69,2060,1879.75,1601.135]
[44,null,2317.5,2270.6350000000002,2138.7950000000001,1951.8500000000001,1671.69]
[45,null,2404.5349999999999,2352.52,2217.59,2022.92,1738.64]
[46,null,2485.39,2438.5250000000001,2296.9,2095.5349999999999,1803.53]
[47,null,2572.94,2520.41,2376.7249999999999,2167.12,1873.57]
[48,null,2663.58,2608.4749999999999,2459.125,2243.34,1941.0350000000001]
[49,null,2752.6750000000002,2698.085,2542.5550000000003,2318.0149999999999,2013.65]
[50,null,2842.2849999999999,2787.6950000000002,2626.5,2394.2350000000001,2085.2350000000001]
[51,null,{"$f":"+C180*$M$3","v":2931.895},2876.2750000000001,2708.9,2470.9700000000003,2155.79]
[52,null,3023.05,2961.25,2792.8450000000003,2547.19,2226.3450000000003]
[53,null,3129.14,3068.8850000000002,2891.7249999999999,2636.2849999999999,2314.41]
[54,null,3236.7750000000001,3173.9450000000002,2990.605,2727.9549999999999,2398.355]
[55,null,3342.35,3278.4900000000002,3090.5149999999999,2817.5650000000001,2484.36]
[56,null,3451.0149999999999,3382.52,3188.88,2908.7200000000003,2571.395]
[57,null,3557.62,3487.58,3284.67,2994.7249999999999,2657.4]
[58,null,3680.19,3609.12,3388.1849999999999,3099.7849999999999,2769.67]
[59,null,3801.73,3727.0550000000003,3492.73,3203.3,2882.4549999999999]
[60,null,3927.3900000000003,3845.5050000000001,3595.73,3307.8450000000003,2994.7249999999999]
[61,null,4075.71,3993.8250000000003,3751.7750000000001,3431.96,3106.9949999999999]
[62,null,4258.0200000000004,4175.62,3934.6,3588.0050000000001,3248.105]
[63,null,4478.9549999999999,4388.3150000000005,4135.9650000000001,3769.8,3414.4500000000003]
[64,null,4738,4641.18,4375.9549999999999,3989.19,3610.665]
[65,null,5046.4850000000006,4943.4850000000006,4662.2950000000001,4250.2950000000001,3878.4650000000001]
[66,null,5409.0450000000001,5300.8950000000004,4996.0150000000003,4556.72,4190.5550000000003]
[67,null,{"$f":"+C196*$M$3","v":5840.1},5726.2849999999999,5395.6549999999997,4920.3100000000004,4526.8500000000004]
[68,null,6337.59,6208.84,5851.9449999999997,5335.4000000000005,4909.4949999999999]
[69,null,6915.9350000000004,6778.9450000000006,6387.03,5823.1050000000005,5363.21]
[70,null,7586.9800000000005,7432.4800000000005,6947.35,6387.5450000000001,5965.76]
[71,null,8351.755000000001,8185.41,7714.7,7033.3550000000005,6568.8249999999998]
[72,null,9242.19,9055.2450000000008,8536.125,7783.1950000000006,7271.8]
[73,null,10264.465,10056.92,9480.6350000000002,8643.76,8071.5950000000003]
[74,null,11444.845000000001,11215.155000000001,10567.800000000001,9635.1350000000002,9001.17]
[75,null,12795.175000000001,12537.16,11768.264999999999,10772.77,10126.445]
[76,null,14349.960000000001,14056.925000000001,13240.65,12080.87,11356.264999999999]
[77,null,16113.835000000001,15788.87,14878.865,13568.705,12752.945]
[78,null,18106.885000000002,17740.72,16721.02,15245.03,14327.815000000001]
[79,null,20343.53,19934.62,18786.170000000002,17128.385000000002,16097.87]
[80,"o más",23021.014999999999,22555.97,21258.685000000001,19383.055,18215.55]
[1,"Hijo",683.40499999999997,667.95500000000004,628.81500000000005,575.77,338.87]
[2,"Hijos",1147.9349999999999,1124.76,1059.355,966.65499999999997,504.7]
[3,"Hijos o más",{"$f":"+C212*$M$3","v":1683.5350000000001},1648.5150000000001,1553.7550000000001,1418.31,722.03]
[]
["ESSENTIAL 50"]
["TARIFAS SEMESTRALES"]
["EDAD"]
[" "," ","F50-1","F50-2","F50-3","F50-4","F50-5"]
[18,null,{"$f":"+C289*$M$3","v":1057.81},{"$f":"+D289*$M$3","v":1036.18},976.95500000000004,891.46500000000003,688.04]
[19,null,{"$f":"+C290*$M$3","v":1074.8050000000001},1053.69,991.375,904.85500000000002,702.97500000000002]
[20,null,1094.375,1070.6849999999999,1009.4,918.76,717.91]
[21,null,1112.4000000000001,1087.68,1028.97,935.755,734.90499999999997]
[22,null,1129.9100000000001,1107.25,1043.905,951.20500000000004,749.32500000000005]
[23,null,1148.9649999999999,1126.82,1059.8700000000001,967.68500000000006,765.29]
[24,null,1166.99,1145.3600000000001,1078.925,984.68000000000006,781.255]
[25,null,1187.075,1162.8700000000001,1096.4349999999999,999.1,794.64499999999998]
[26,null,1204.07,1181.925,1113.43,1015.58,811.125]
[27,null,1225.1849999999999,1200.4649999999999,1129.9100000000001,1031.03,828.12]
[28,null,1246.3,1220.0350000000001,1149.48,1049.57,847.69]
[29,null,1269.4750000000001,1243.21,1172.1400000000001,1068.625,866.745]
[30,null,1290.5900000000001,1263.2950000000001,1192.74,1085.6200000000001,887.34500000000003]
[31,null,1312.7350000000001,1284.925,1213.3399999999999,1105.19,904.85500000000002]
[32,null,1332.82,1309.1300000000001,1232.395,1124.76,927.51499999999999]
[33,null,1370.415,1343.635,1267.415,1155.145,953.26499999999999]
[34,null,1408.5250000000001,1381.23,1300.375,1186.0450000000001,981.59]
[35,null,{"$f":"+C306*$M$3","v":1443.03},1414.19,1332.82,1216.43,1009.4]
[36,null,1480.625,1450.7550000000001,1368.355,1246.3,1038.7550000000001]
[37,null,1517.19,1486.8050000000001,1400.2850000000001,1275.655,1067.595]
[38,null,1553.7550000000001,1524.4,1435.82,1310.675,1096.4349999999999]
[39,null,1591.865,1559.42,1469.2950000000001,1340.5450000000001,1127.8500000000001]
[40,null,1629.46,1595.47,1503.2850000000001,1370.93,1158.75]
[41,null,1666.0250000000001,1632.0350000000001,1537.79,1400.8,1187.075]
[42,null,1703.6200000000001,1668.085,1573.8400000000001,1434.79,1217.46]
[43,null,1770.57,1735.0350000000001,1633.5800000000002,1490.925,1272.5650000000001]
[44,null,1839.0650000000001,1803.0150000000001,1697.9550000000002,1549.1200000000001,1325.095]
[45,null,1907.56,1865.845,1761.8150000000001,1606.2850000000001,1381.23]
[46,null,1974.51,1933.31,1822.585,1663.9650000000001,1432.73]
[47,null,2041.9750000000001,1999.7450000000001,1886.4449999999999,1719.07,1486.8050000000001]
[48,null,2113.56,2070.3000000000002,1951.8500000000001,1780.8700000000001,1541.91]
[49,null,2185.145,2142.4,2016.74,1841.125,1598.56]
[50,null,2255.7000000000003,2211.41,2084.2049999999999,1900.865,1654.18]
[51,null,{"$f":"+C322*$M$3","v":2327.2849999999999},2281.4500000000003,2149.61,1961.1200000000001,1709.2850000000001]
[52,null,2398.87,2350.46,2216.56,2021.89,1766.45]
[53,null,2484.36,2433.89,2293.2950000000001,2091.415,1833.915]
[54,null,2570.3650000000002,2516.8050000000003,2372.09,2163.5149999999999,1902.925]
[55,null,2654.31,2600.2350000000001,2450.8850000000002,2234.0700000000002,1972.45]
[56,null,2738.2550000000001,2684.1800000000003,2529.165,2304.625,2039.4]
[57,null,2823.23,2766.0650000000001,2609.5050000000001,2377.2400000000002,2108.41]
[58,null,2923.14,2861.34,2691.39,2459.64,2198.5349999999999]
[59,null,3019.96,2958.6750000000002,2773.2750000000001,2541.5250000000001,2287.63]
[60,null,3118.3250000000003,3052.92,2853.6150000000002,2624.9549999999999,2376.7249999999999]
[61,null,3234.7150000000001,3171.8850000000002,2977.73,2724.35,2465.3050000000003]
[62,null,3380.46,3311.9650000000001,3122.4450000000002,2846.4050000000002,2576.0300000000002]
[63,null,3555.56,3483.46,3284.67,2993.1800000000003,2708.9]
[64,null,3759.5,3683.7950000000001,3472.13,3164.6750000000002,2863.915]
[65,null,4005.1550000000002,3924.3,3697.1849999999999,3372.7350000000001,3077.64]
[66,null,4293.5550000000003,4207.55,3966.0150000000003,3616.8450000000003,3325.355]
[67,null,{"$f":"+C338*$M$3","v":4635},4541.7849999999999,4280.68,3903.1849999999999,3591.61]
[68,null,5029.49,4926.49,4643.24,4235.875,3896.4900000000002]
[69,null,5487.3249999999998,5378.66,5069.66,4621.0950000000003,4253.9000000000005]
[70,null,6018.8050000000003,5897.78,5511.53,5069.66,4732.8500000000004]
[71,null,6629.5950000000003,6494.665,6120.26,5581.0550000000003,5212.3150000000005]
[72,null,7333.6,7184.7650000000003,6772.25,6175.88,5770.06]
[73,null,8143.6950000000006,7977.8649999999998,7522.6050000000005,6857.74,6404.0250000000005]
[74,null,9079.4500000000007,8895.08,8385.7450000000008,7645.6900000000005,7142.5349999999999]
[75,null,10151.68,9947.74,9337.98,8548.4850000000006,8031.4250000000002]
[76,null,11383.045,11153.355,10503.94,9585.18,9009.41]
[77,null,12785.390000000001,12527.89,11807.405000000001,10767.105,10117.69]
[78,null,14365.925000000001,14074.434999999999,13266.915000000001,12094.26,11368.11]
[79,null,16140.615,15815.65,14907.19,13591.365,12773.03]
[80,"o más",18264.990000000002,17895.735000000001,16865.735000000001,15380.99,14452.960000000001]
[1,"Hijo",539.20500000000004,529.93500000000006,497.49,454.745,270.375]
[2,"Hijos",908.97500000000002,891.98,839.96500000000003,766.32,399.125]
[3,"Hijos o más",{"$f":"+C354*$M$3","v":1335.91},1309.1300000000001,1232.395,1124.76,575.255]
[]
["ESSENTIAL 500"]
["TARIFAS TRIMESTRALES"]
["EDAD"]
[" "," ","F500-1","F500-2","F500-3","F500-4","F500-5"]
[18,null,{"$f":"+C6*$M$4","v":570.56999999999994},{"$f":"+D6*$M$4","v":488.01499999999999},357.39,246.35874999999999,134.2825,79.419999999999987,45.71875]
[19,null,{"$f":"+C7*$M$4","v":579.97499999999991},488.01499999999999,357.39,246.61999999999998,135.58875,80.726249999999993,46.763749999999995]
[20,null,590.16374999999994,488.01499999999999,357.39,247.40374999999997,137.15625,81.771249999999995,47.808749999999996]
[21,null,601.39749999999992,488.01499999999999,357.91249999999997,248.97124999999997,138.72375,83.6,49.114999999999995]
[22,null,611.06374999999991,488.01499999999999,358.95749999999998,250.79999999999998,140.81375,85.16749999999999,50.421249999999993]
[23,null,621.25249999999994,489.32124999999996,361.30874999999997,253.41249999999999,143.16499999999999,87.257499999999993,51.727499999999999]
[24,null,622.81999999999994,491.67249999999996,364.18249999999995,256.80874999999997,145.7775,89.347499999999997,53.556249999999999]
[25,null,625.69374999999991,495.06874999999997,368.10124999999999,260.72749999999996,148.91249999999999,91.69874999999999,55.384999999999998]
[26,null,630.39625000000001,500.03249999999997,373.32624999999996,265.16874999999999,152.57,94.572499999999991,57.213749999999997]
[27,null,636.66624999999999,506.30249999999995,379.33499999999998,270.39374999999995,156.48874999999998,97.446249999999992,59.303749999999994]
[28,null,644.50374999999997,513.87874999999997,386.1275,276.40249999999997,160.92999999999998,100.84249999999999,61.654999999999994]
[29,null,653.90874999999994,522.5,393.96499999999997,283.19499999999999,165.89374999999998,104.5,64.528750000000002]
[30,null,664.88124999999991,532.94999999999993,403.10874999999999,290.77124999999995,171.38,108.1575,67.141249999999999]
[31,null,677.94374999999991,544.70624999999995,413.29749999999996,299.13124999999997,177.1275,112.59875,70.537499999999994]
[32,null,693.09624999999994,558.29124999999999,424.53124999999994,308.27499999999998,183.92,117.30125,73.672499999999999]
[33,null,710.07749999999999,573.1825,437.33249999999998,318.72499999999997,190.71249999999998,122.52624999999999,77.33]
[34,null,728.88749999999993,589.90249999999992,451.43999999999994,330.21999999999997,198.54999999999998,127.75124999999998,81.509999999999991]
[35,null,{"$f":"+C23*$M$4","v":749.78749999999991},608.18999999999994,467.11499999999995,342.76,206.91,134.02124999999998,85.69]
[36,null,773.03874999999994,628.82875000000001,484.09624999999994,356.08374999999995,216.315,140.81375,90.653749999999988]
[37,null,798.6412499999999,651.03499999999997,502.38374999999996,370.97499999999997,226.50375,147.86749999999998,95.617499999999993]
[38,null,826.3337499999999,675.06999999999994,522.5,387.17249999999996,237.47624999999999,155.70499999999998,101.36499999999999]
[39,null,856.63874999999996,701.45624999999995,544.70624999999995,404.67624999999998,249.23249999999999,164.065,107.37374999999999]
[40,null,880.93499999999995,730.19374999999991,568.74124999999992,423.74749999999995,262.29499999999996,173.47,114.16624999999999]
[41,null,900.52874999999995,761.28249999999991,594.34375,444.12499999999994,275.88,183.39749999999998,121.48124999999999]
[42,null,921.68999999999994,795.24499999999989,622.55874999999992,466.85374999999999,291.29374999999999,194.10874999999999,129.31874999999999]
[43,null,956.9587499999999,831.55874999999992,652.86374999999998,490.88874999999996,307.7525,206.12625,137.94]
[44,null,993.79499999999996,864.47624999999994,685.52,517.01374999999996,325.51749999999998,218.92749999999998,147.345]
[45,null,1030.6312499999999,895.82624999999996,720.78874999999994,545.49,344.58875,232.77374999999998,157.27249999999998]
[46,null,1066.9449999999999,927.95999999999992,758.93124999999998,575.79499999999996,365.75,247.66499999999999,168.24499999999998]
[47,null,1104.30375,959.83249999999998,799.94749999999999,608.71249999999998,387.95624999999995,263.86249999999995,180.26249999999999]
[48,null,1143.4912499999998,993.79499999999996,844.3599999999999,644.50374999999997,412.2525,281.6275,193.32499999999999]
[49,null,1181.63375,1027.4962499999999,891.90749999999991,682.90749999999991,438.63874999999996,300.95999999999998,207.43249999999998]
[50,null,1220.0374999999999,1061.45875,946.77,727.31999999999994,469.46624999999995,323.16624999999999,223.89124999999999]
[51,null,{"$f":"+C39*$M$4","v":1258.4412499999999},1094.6374999999998,997.97499999999991,780.87624999999991,506.82499999999999,350.33624999999995,244.00749999999999]
[52,null,1297.1062499999998,1128.3387499999999,1028.8025,838.35124999999994,546.53499999999997,379.59625,265.69124999999997]
[53,null,1343.3474999999999,1167.7874999999999,1065.6387499999998,900.00624999999991,589.38,410.94624999999996,289.20374999999996]
[54,null,1389.3274999999999,1208.02,1101.6912499999999,966.62499999999989,635.62124999999992,444.38624999999996,314.28375]
[55,null,1436.0912499999999,1248.5137499999998,1137.7437499999999,1003.98375,684.99749999999995,480.43874999999997,341.1925]
[56,null,1481.81,1287.9624999999999,1173.7962499999999,1038.46875,724.96875,519.36500000000001,369.92999999999995]
[57,null,1526.7449999999999,1328.1949999999999,1210.6324999999999,1073.4762499999999,747.43624999999997,561.16499999999996,401.28]
[58,null,1579.7787499999999,1373.3912499999999,1248.7749999999999,1119.45625,777.21875,605.83875,434.45874999999995]
[59,null,1632.55125,1419.6324999999999,1286.395,1164.6524999999999,806.47874999999999,653.90874999999994,470.24999999999994]
[60,null,1685.0624999999998,1465.09,1325.06,1210.3712499999999,836.2612499999999,705.89749999999992,509.17624999999998]
[61,null,1750.11375,1521.25875,1382.0124999999998,1255.3062499999999,867.34999999999991,761.54374999999993,550.45375000000001]
[62,null,1828.48875,1589.70625,1449.67625,1311.9974999999999,906.79874999999993,821.89249999999993,595.38874999999996]
[63,null,1922.5387499999999,1671.4775,1524.91625,1379.3999999999999,954.08499999999992,886.42124999999999,643.45875000000001]
[64,null,2033.3087499999999,1768.4012499999999,1611.9124999999999,1458.82,1059.3687499999999,956.43624999999997,694.92499999999995]
[65,null,2166.5462499999999,1883.3512499999999,1717.19625,1568.0224999999998,1134.0862499999998,1031.9375,750.83249999999998]
[66,null,2321.9899999999998,2019.2012499999998,1841.29,1693.4224999999999,1221.605,1113.18625,810.92]
[67,null,{"$f":"+C55*$M$4","v":2507.4775},2180.6537499999999,1988.6349999999998,1830.0562499999999,1319.3125,1200.9662499999999,875.70999999999992]
[68,null,2720.9187499999998,2365.3574999999996,2157.4024999999997,1984.1937499999999,1430.6049999999998,1295.5387499999999,945.20249999999999]
[69,null,2968.8449999999998,2581.6724999999997,2353.8624999999997,2166.8074999999999,1488.3412499999999,1397.6875,1020.18125]
[70,null,3256.22,2831.6887499999998,2559.4662499999999,2411.3374999999996,1645.61375,1507.4124999999999,1100.385]
[71,null,3586.4399999999996,3118.8024999999998,2843.1837499999997,2655.3449999999998,1812.8137499999998,1625.4974999999999,1186.0749999999998]
[72,null,3967.0812499999997,3449.5449999999996,3145.9724999999999,2938.80125,2006.3999999999999,1751.9424999999999,1277.5124999999998]
[73,null,4406.5037499999999,3831.2312499999998,3492.9124999999999,3262.49,2226.63375,1887.5312499999998,1374.95875]
[74,null,4912.5450000000001,4271.1762499999995,3894.4537499999997,3637.9062499999995,2483.4424999999997,2032.0024999999998,1477.6299999999999]
[75,null,5492.5199999999995,4776.4337499999992,4337.2725,4093.2649999999999,2786.4924999999998,2185.0949999999998,1585.5262499999999]
[76,null,6160.0137499999992,5356.1475,4879.8887500000001,4589.6399999999994,3124.5499999999997,2346.8087499999997,1697.86375]
[77,null,6917.3774999999996,6015.80375,5484.6824999999999,5117.1037499999993,3509.6324999999997,2516.0987499999997,1813.5974999999999]
[78,null,7772.9712499999996,6759.0599999999995,6162.3649999999998,5488.8624999999993,3779.2424999999998,2691.6587499999996,1931.4212499999999]
[79,null,8733.3262500000001,7593.7537499999999,6924.1699999999992,5879.4312499999996,4045.1949999999997,2872.1824999999999,2048.1999999999998]
[80,"o más",9815.1624999999985,8593.8187499999985,7649.9224999999997,6286.9812499999998,4319.5074999999997,3054.7962499999999,2161.84375]
[1,"Hijo",376.72249999999997,327.34625,237.21499999999997,162.4975,88.824999999999989,52.511249999999997,30.043749999999999]
[2,"Hijos",445.16999999999996,386.65,280.32124999999996,192.01874999999998,104.76124999999999,61.916249999999998,35.53]
[3,"Hijos o más",{"$f":"+C71*$M$4","v":616.28874999999994},535.5625,387.95624999999995,265.95249999999999,145.255,85.69,49.376249999999999]
[]
["ESSENTIAL 100"]
["TARIFAS TRIMESTRALES"]
["EDAD"]
[" "," ","F100-1","F100-2","F100-3","F100-4","F100-5"]
[18,null,{"$f":"+C147*$M$4","v":674.80874999999992},{"$f":"+D147*$M$4","v":660.96249999999998},624.38749999999993,569.52499999999998,440.72874999999999]
[19,null,{"$f":"+C148*$M$4","v":687.34875},673.76374999999996,635.3599999999999,579.71375,449.61124999999998]
[20,null,698.84375,683.43,645.54874999999993,588.0737499999999,458.23249999999996]
[21,null,710.59999999999991,696.23124999999993,655.73749999999995,597.74,468.15999999999997]
[22,null,721.57249999999999,709.55499999999995,666.97124999999994,609.23500000000001,478.60999999999996]
[23,null,735.15749999999991,720.005,678.72749999999996,618.11749999999995,488.27624999999995]
[24,null,747.43624999999997,732.02249999999992,690.22249999999997,629.08999999999992,497.94249999999994]
[25,null,758.67,743.51749999999993,699.36624999999992,640.0625,509.69874999999996]
[26,null,770.9487499999999,755.79624999999999,711.90625,648.94499999999994,518.31999999999994]
[27,null,781.92124999999999,766.76874999999995,721.57249999999999,659.39499999999998,528.50874999999996]
[28,null,796.55124999999998,781.13749999999993,735.94124999999997,671.15125,541.30999999999995]
[29,null,810.92,794.72249999999997,749.00374999999997,682.38499999999999,555.15625]
[30,null,825.55,808.30749999999989,761.80499999999995,695.18624999999997,567.17374999999993]
[31,null,838.61249999999995,821.63124999999991,773.82249999999999,706.42,579.71375]
[32,null,853.50374999999997,835.47749999999996,788.19124999999997,718.4375,591.46999999999991]
[33,null,876.23249999999996,858.46749999999997,809.35249999999996,736.98624999999993,610.01874999999995]
[34,null,899.48374999999999,881.71874999999989,830.51374999999996,757.36374999999998,627.78374999999994]
[35,null,{"$f":"+C164*$M$4","v":922.7349999999999},904.44749999999999,852.98124999999993,777.21875,645.54874999999993]
[36,null,945.72499999999991,927.43749999999989,874.14249999999993,796.55124999999998,664.88124999999991]
[37,null,968.71499999999992,950.4274999999999,895.56499999999994,817.18999999999994,681.86249999999995]
[38,null,993.0112499999999,973.67874999999992,918.29374999999993,836.52249999999992,701.71749999999997]
[39,null,1017.3074999999999,996.1462499999999,939.19374999999991,857.4224999999999,720.2662499999999]
[40,null,1041.3425,1020.18125,961.4,876.23249999999996,740.38249999999994]
[41,null,1065.6387499999998,1044.2162499999999,983.60624999999993,896.34875,758.93124999999998]
[42,null,1088.8899999999999,1066.9449999999999,1005.55125,915.94249999999988,780.09249999999997]
[43,null,1131.7349999999999,1109.2674999999999,1045,953.56249999999989,812.22624999999994]
[44,null,1175.625,1151.8512499999999,1084.9712499999998,990.13749999999993,848.01749999999993]
[45,null,1219.7762499999999,1193.3899999999999,1124.9424999999999,1026.1899999999998,881.9799999999999]
[46,null,1260.7925,1237.01875,1165.175,1063.0262499999999,914.89749999999992]
[47,null,1305.2049999999999,1278.5574999999999,1205.6687499999998,1099.3399999999999,950.4274999999999]
[48,null,1351.1849999999999,1323.2312499999998,1247.46875,1138.0049999999999,984.65124999999989]
[49,null,1396.3812499999999,1368.6887499999998,1289.79125,1175.88625,1021.4875]
[50,null,1441.8387499999999,1414.14625,1332.375,1214.55125,1057.80125]
[51,null,{"$f":"+C180*$M$4","v":1487.2962499999999},1459.08125,1374.175,1253.4775,1093.5925]
[52,null,1533.5374999999999,1502.1875,1416.75875,1292.1424999999999,1129.38375]
[53,null,1587.3549999999998,1556.7887499999999,1466.9187499999998,1337.3387499999999,1174.0574999999999]
[54,null,1641.95625,1610.0837499999998,1517.0787499999999,1383.8412499999999,1216.6412499999999]
[55,null,1695.5124999999998,1663.1174999999998,1567.7612499999998,1429.2987499999999,1260.27]
[56,null,1750.6362499999998,1715.8899999999999,1617.6599999999999,1475.54,1304.4212499999999]
[57,null,1804.7149999999999,1769.1849999999999,1666.2524999999998,1519.1687499999998,1348.05]
[58,null,1866.8924999999999,1830.84,1718.7637499999998,1572.4637499999999,1405.0024999999998]
[59,null,1928.5474999999999,1890.6662499999998,1771.7974999999999,1624.9749999999999,1462.2162499999999]
[60,null,1992.2924999999998,1950.7537499999999,1824.0474999999999,1678.00875,1519.1687499999998]
[61,null,2067.5324999999998,2025.9937499999999,1903.20625,1740.9699999999998,1576.1212499999999]
[62,null,2160.0149999999999,2118.2149999999997,1995.9499999999998,1820.1287499999999,1647.7037499999999]
[63,null,2272.0912499999999,2226.1112499999999,2098.0987499999997,1912.35,1732.0874999999999]
[64,null,2403.5,2354.3849999999998,2219.8412499999999,2023.6424999999999,1831.62375]
[65,null,2559.98875,2507.73875,2365.0962500000001,2156.0962500000001,1967.4737499999999]
[66,null,2743.9087499999996,2689.0462499999999,2534.38625,2311.54,2125.7912499999998]
[67,null,{"$f":"+C196*$M$4","v":2962.5749999999998},2904.8387499999999,2737.11625,2495.9824999999996,2296.3874999999998]
[68,null,3214.9424999999997,3149.6299999999997,2968.5837499999998,2706.5499999999997,2490.4962499999997]
[69,null,3508.3262499999996,3438.8337499999998,3240.0224999999996,2953.9537499999997,2720.6574999999998]
[70,null,3848.7349999999997,3770.3599999999997,3524.2624999999998,3240.2837499999996,3026.3199999999997]
[71,null,4236.6912499999999,4152.3074999999999,3913.5249999999996,3567.8912499999997,3332.2437499999996]
[72,null,4688.3924999999999,4593.5587499999992,4330.21875,3948.2712499999998,3688.85]
[73,null,5206.9737499999992,5101.6899999999996,4809.3512499999997,4384.82,4094.5712499999995]
[74,null,5805.75875,5689.24125,5360.8499999999995,4887.7262499999997,4566.1274999999996]
[75,null,6490.7562499999995,6359.87,5969.8237499999996,5464.8274999999994,5136.9587499999998]
[76,null,7279.4699999999993,7130.8187499999995,6716.7374999999993,6128.4024999999992,5760.8237499999996]
[77,null,8174.2512499999993,8009.4024999999992,7547.7737499999994,6883.1537499999995,6469.3337499999998]
[78,null,9185.2887499999997,8999.5399999999991,8482.2649999999994,7733.5224999999991,7268.2362499999999]
[79,null,10319.897499999999,10112.465,9529.8774999999987,8688.9137499999997,8166.1524999999992]
[80,"o más",11678.13625,11442.227499999999,10784.13875,9832.6662500000002,9240.4124999999985]
[1,"Hijo",346.67874999999998,338.84125,318.98624999999998,292.07749999999999,171.90249999999997]
[2,"Hijos",582.32624999999996,570.56999999999994,537.39125000000001,490.36624999999998,256.02499999999998]
[3,"Hijos o más",{"$f":"+C212*$M$4","v":854.02624999999989},836.2612499999999,788.19124999999997,719.48249999999996,366.27249999999998]
[]
["ESSENTIAL 50"]
["TARIFAS TRIMESTRALES"]
["EDAD"]
[" "," ","F50-1","F50-2","F50-3","F50-4","F50-5"]
[18,null,{"$f":"+C289*$M$4","v":536.60749999999996},{"$f":"+D289*$M$4","v":525.63499999999999},495.59124999999995,452.22375,349.03]
[19,null,{"$f":"+C290*$M$4","v":545.22874999999999},534.51749999999993,502.90624999999994,459.01624999999996,356.60624999999999]
[20,null,555.15625,543.13874999999996,512.04999999999995,466.07,364.18249999999995]
[21,null,564.29999999999995,551.76,521.97749999999996,474.69124999999997,372.80374999999998]
[22,null,573.1825,561.6875,529.55374999999992,482.52874999999995,380.11874999999998]
[23,null,582.84875,571.61500000000001,537.65249999999992,490.88874999999996,388.21749999999997]
[24,null,591.99249999999995,581.02,547.31874999999991,499.51,396.31624999999997]
[25,null,602.18124999999998,589.90249999999992,556.20124999999996,506.82499999999999,403.10874999999999]
[26,null,610.80250000000001,599.56874999999991,564.82249999999999,515.18499999999995,411.46875]
[27,null,621.51374999999996,608.97375,573.1825,523.02249999999992,420.09]
[28,null,632.22499999999991,618.90125,583.11,532.42750000000001,430.01749999999998]
[29,null,643.98124999999993,630.65749999999991,594.6049999999999,542.09375,439.68374999999997]
[30,null,654.6925,640.84624999999994,605.05499999999995,550.71499999999992,450.13374999999996]
[31,null,665.92624999999998,651.81874999999991,615.505,560.64249999999993,459.01624999999996]
[32,null,676.11500000000001,664.09749999999997,625.17124999999999,570.56999999999994,470.51124999999996]
[33,null,695.18624999999997,681.60124999999994,642.93624999999997,585.98374999999999,483.57374999999996]
[34,null,714.51874999999995,700.6724999999999,659.65625,601.65874999999994,497.94249999999994]
[35,null,{"$f":"+C306*$M$4","v":732.02249999999992},717.39249999999993,676.11500000000001,617.07249999999999,512.04999999999995]
[36,null,751.09375,735.94124999999997,694.1412499999999,632.22499999999991,526.94124999999997]
[37,null,769.64249999999993,754.22874999999999,710.33875,647.11624999999992,541.57124999999996]
[38,null,788.19124999999997,773.3,728.3649999999999,664.88124999999991,556.20124999999996]
[39,null,807.52374999999995,791.06499999999994,745.34624999999994,680.03374999999994,572.13749999999993]
[40,null,826.59499999999991,809.35249999999996,762.58875,695.44749999999999,587.8125]
[41,null,845.14374999999995,827.90124999999989,780.09249999999997,710.59999999999991,602.18124999999998]
[42,null,864.21499999999992,846.18874999999991,798.38,727.84249999999997,617.59499999999991]
[43,null,898.1774999999999,880.15124999999989,828.68499999999995,756.31874999999991,645.54874999999993]
[44,null,932.92374999999993,914.6362499999999,861.34124999999995,785.83999999999992,672.19624999999996]
[45,null,967.67,946.50874999999996,893.73624999999993,814.83874999999989,700.6724999999999]
[46,null,1001.6324999999999,980.73249999999996,924.56374999999991,844.09875,726.7974999999999]
[47,null,1035.8562499999998,1014.4337499999999,956.9587499999999,872.0524999999999,754.22874999999999]
[48,null,1072.1699999999998,1050.2249999999999,990.13749999999993,903.40249999999992,782.18249999999989]
[49,null,1108.4837499999999,1086.8,1023.0549999999999,933.96874999999989,810.92]
[50,null,1144.2749999999999,1121.8074999999999,1057.2787499999999,964.27374999999995,839.13499999999999]
[51,null,{"$f":"+C322*$M$4","v":1180.5887499999999},1157.3374999999999,1090.4575,994.83999999999992,867.08874999999989]
[52,null,1216.9024999999999,1192.345,1124.4199999999998,1025.6675,896.08749999999998]
[53,null,1260.27,1234.6675,1163.3462499999998,1060.93625,930.31124999999997]
[54,null,1303.8987499999998,1276.72875,1203.3174999999999,1097.51125,965.31874999999991]
[55,null,1346.4824999999998,1319.05125,1243.2887499999999,1133.3025,1000.5875]
[56,null,1389.0662499999999,1361.635,1282.99875,1169.09375,1034.55]
[57,null,1432.1724999999999,1403.1737499999999,1323.7537499999999,1205.9299999999998,1069.5574999999999]
[58,null,1482.8549999999998,1451.5049999999999,1365.2925,1247.73,1115.2762499999999]
[59,null,1531.9699999999998,1500.8812499999999,1406.83125,1289.26875,1160.4724999999999]
[60,null,1581.8687499999999,1548.6899999999998,1447.5862499999998,1331.5912499999999,1205.6687499999998]
[61,null,1640.9112499999999,1609.0387499999999,1510.5474999999999,1382.0124999999998,1250.60375]
[62,null,1714.8449999999998,1680.0987499999999,1583.9587499999998,1443.9287499999998,1306.7724999999998]
[63,null,1803.6699999999998,1767.0949999999998,1666.2524999999998,1518.385,1374.175]
[64,null,1907.1249999999998,1868.7212499999998,1761.3474999999999,1605.3812499999999,1452.81125]
[65,null,2031.7412499999998,1990.7249999999999,1875.5137499999998,1710.92625,1561.2299999999998]
[66,null,2178.0412499999998,2134.4124999999999,2011.8862499999998,1834.75875,1686.8912499999999]
[67,null,{"$f":"+C338*$M$4","v":2351.25},2303.9637499999999,2171.5099999999998,1980.0137499999998,1821.9575]
[68,null,2551.3674999999998,2499.1174999999998,2355.4299999999998,2148.78125,1976.6174999999998]
[69,null,2783.6187499999996,2728.4949999999999,2571.7449999999999,2344.19625,2157.9249999999997]
[70,null,3053.2287499999998,2991.8349999999996,2795.8975,2571.7449999999999,2400.8874999999998]
[71,null,3363.07125,3294.6237499999997,3104.6949999999997,2831.1662499999998,2644.1112499999999]
[72,null,3720.2,3644.6987499999996,3435.4374999999995,3132.91,2927.0449999999996]
[73,null,4131.1462499999998,4047.0237499999998,3816.0787499999997,3478.8049999999998,3248.6437499999997]
[74,null,4605.8374999999996,4512.3099999999995,4253.9337500000001,3878.5174999999999,3623.2762499999999]
[75,null,5149.7599999999993,5046.3049999999994,4736.9849999999997,4336.4887499999995,4074.1937499999999]
[76,null,5774.4087499999996,5657.8912499999997,5328.4549999999999,4862.3849999999993,4570.3074999999999]
[77,null,6485.7924999999996,6355.1674999999996,5989.67875,5461.9537499999997,5132.5174999999999]
[78,null,7287.5687499999995,7139.7012499999992,6730.0612499999997,6135.1949999999997,5766.8324999999995]
[79,null,8187.8362499999994,8022.9874999999993,7562.1424999999999,6894.6487499999994,6479.5224999999991]
[80,"o más",9265.4924999999985,9078.1762499999986,8555.6762499999986,7802.4924999999994,7331.7199999999993]
[1,"Hijo",273.52875,268.82624999999996,252.36749999999998,230.68374999999997,137.15625]
[2,"Hijos",461.10624999999999,452.48499999999996,426.09875,388.73999999999995,202.46875]
[3,"Hijos o más",{"$f":"+C354*$M$4","v":677.6825},664.09749999999997,625.17124999999999,570.56999999999994,291.81624999999997]
[]
[]
["ESSENTIAL 1000"]
["TARIFAS ANUALES"]
["EDAD"]
[" "," ","F50-1","F50-2","F50-3","F50-4","F50-5","F50-4","F50-5"]
[18,null,2570,2238,1919,1338,738,442,259]
[19,null,2613,2277,1919,1338,744,448,264]
[20,null,2658,2313,1919,1342,752,455,270]
[21,null,2708,2355,1919,1348,760,463,276]
[22,null,2753,2393,1924,1358,771,472,283]
[23,null,2798,2432,1934,1370,783,482,291]
[24,null,2844,2472,1949,1387,797,494,301]
[25,null,2888,2514,1968,1405,813,506,310]
[26,null,2934,2552,1993,1429,832,520,320]
[27,null,2979,2590,2023,1457,852,536,333]
[28,null,3035,2635,2058,1488,875,554,345]
[29,null,3088,2688,2099,1523,902,572,359]
[30,null,3142,2734,2147,1562,929,594,374]
[31,null,3194,2780,2199,1607,960,617,391]
[32,null,3250,2823,2258,1655,995,641,410]
[33,null,3338,2904,2324,1709,1032,669,429]
[34,null,3427,2979,2398,1769,1074,699,451]
[35,null,3515,3057,2478,1834,1119,731,474]
[36,null,3603,3134,2567,1905,1168,766,501]
[37,null,3694,3213,2663,1983,1222,805,528]
[38,null,3785,3293,2769,2068,1280,847,559]
[39,null,3877,3369,2884,2160,1343,893,593]
[40,null,3967,3448,3008,2260,1412,942,628]
[41,null,4055,3529,3144,2369,1486,995,667]
[42,null,4150,3605,3290,2488,1566,1054,710]
[43,null,4310,3750,3422,2614,1653,1117,757]
[44,null,4477,3894,3552,2753,1748,1185,807]
[45,null,4642,4035,3679,2902,1850,1259,862]
[46,null,4805,4179,3813,3062,1960,1339,922]
[47,null,4973,4323,3942,3235,2080,1426,986]
[48,null,5149,4475,4079,3422,2210,1521,1056]
[49,null,5322,4628,4220,3624,2350,1623,1133]
[50,null,5495,4780,4357,3794,2512,1654,1222]
[51,null,5668,4930,4495,3923,2710,1793,1331]
[52,null,5843,5082,4634,4052,2841,1941,1448]
[53,null,6049,5260,4799,4210,2944,2023,1575]
[54,null,6257,5440,4962,4365,3048,2187,1711]
[55,null,6467,5623,5124,4522,3159,2364,1857]
[56,null,6673,5802,5287,4678,3264,2457,2013]
[57,null,6875,5982,5453,4835,3366,2654,2182]
[58,null,7114,6185,5624,5042,3501,2865,2364]
[59,null,7353,6394,5794,5245,3633,2970,2559]
[60,null,7589,6598,5967,5450,3766,3207,2770]
[61,null,7882,6852,6224,5654,3906,3461,2996]
[62,null,8380,7195,6529,5909,4084,3580,3240]
[63,null,8962,7715,6868,6213,4296,3863,3503]
[64,null,9585,8275,7260,6570,4544,4170,3789]
[65,null,10257,8878,7734,7062,4864,4306,4096]
[66,null,10978,9528,8292,7627,5238,4649,4427]
[67,null,11753,10227,8955,8242,5660,5018,4784]
[68,null,12584,10979,9715,8937,6136,5662,5170]
[69,null,13478,11788,10600,9759,6702,6114,5586]
[70,null,14664,12753,11527,10860,7412,6601,6035]
[71,null,16150,14045,12804,11959,8164,7434,6516]
[72,null,17865,15535,14167,13235,9036,8024,7034]
[73,null,19844,17254,15730,14693,10028,8659,7587]
[74,null,22123,19235,17538,16383,11183,9725,8177]
[75,null,24735,21510,19532,18434,12549,10480,8803]
[76,null,27740,24120,21975,20669,14070,11285,9463]
[77,null,31152,27090,24699,23213,15806,12618,10153]
[78,null,35004,30438,27752,26080,17758,13549,10869]
[79,null,39329,34197,31182,29307,19954,14517,11603]
[80,"o más",44504,38702,35283,33162,22578,16111,12341]
[1,"Hijo",1695,1477,1275,883,488,291,171]
[2,"Hijos",2004,1745,1507,1044,576,345,202]
[3,"Hijos o más",2775,2417,2087,1445,798,478,280]
[]
["ESSENTIAL 1000"]
["TARIFAS MENSUALES"]
["EDAD"]
[" "," ","F50-1","F50-2","F50-3","F50-4","F50-5"]
[18,null,{"$f":"C920*$M$2","v":227.01666666666668},{"$f":"D920*$M$2","v":197.69},169.51166666666666,118.19,65.19,39.043333333333337,22.878333333333334]
[19,null,{"$f":"C921*$M$2","v":230.815},201.13499999999999,169.51166666666666,118.19,65.72,39.573333333333331,23.32]
[20,null,234.79,204.315,169.51166666666666,118.54333333333334,66.426666666666662,40.19166666666667,23.85]
[21,null,239.20666666666668,208.02500000000001,169.51166666666666,119.07333333333334,67.13333333333334,40.898333333333333,24.38]
[22,null,243.18166666666667,211.38166666666666,169.95333333333332,119.95666666666666,68.105000000000004,41.693333333333335,24.998333333333335]
[23,null,247.15666666666667,214.82666666666665,170.83666666666667,121.01666666666667,69.165000000000006,42.576666666666668,25.704999999999998]
[24,null,251.22,218.36,172.16166666666666,122.51833333333333,70.401666666666671,43.636666666666663,26.588333333333335]
[25,null,255.10666666666665,222.07,173.84,124.10833333333333,71.814999999999998,44.696666666666665,27.383333333333333]
[26,null,259.17,225.42666666666668,176.04833333333335,126.22833333333334,73.493333333333339,45.93333333333333,28.266666666666666]
[27,null,263.14499999999998,228.78333333333333,178.69833333333332,128.70166666666665,75.260000000000005,47.346666666666664,29.414999999999999]
[28,null,268.09166666666664,232.75833333333333,181.79,131.44,77.291666666666671,48.936666666666667,30.475000000000001]
[29,null,272.77333333333331,237.44,185.41166666666666,134.53166666666667,79.676666666666662,50.526666666666664,31.711666666666666]
[30,null,277.54333333333335,241.50333333333333,189.65166666666667,137.97666666666666,82.061666666666667,52.47,33.036666666666669]
[31,null,282.13666666666666,245.56666666666666,194.245,141.95166666666665,84.8,54.501666666666665,34.538333333333334]
[32,null,287.08333333333331,249.36500000000001,199.45666666666668,146.19166666666666,87.891666666666666,56.62166666666667,36.216666666666669]
[33,null,294.85666666666668,256.52,205.28666666666666,150.96166666666667,91.16,59.094999999999999,37.895000000000003]
[34,null,302.71833333333331,263.14499999999998,211.82333333333332,156.26166666666666,94.87,61.744999999999997,39.838333333333331]
[35,null,{"$f":"C937*$M$2","v":310.49166666666667},270.03500000000003,218.89,162.00333333333333,98.844999999999999,64.571666666666673,41.87]
[36,null,318.26499999999999,276.83666666666664,226.75166666666667,168.27500000000001,103.17333333333333,67.663333333333327,44.255000000000003]
[37,null,326.30333333333334,283.815,235.23166666666665,175.16499999999999,107.94333333333333,71.108333333333334,46.64]
[38,null,334.34166666666664,290.88166666666666,244.595,182.67333333333335,113.06666666666666,74.818333333333328,49.37833333333333]
[39,null,342.46833333333331,297.59500000000003,254.75333333333333,190.8,118.63166666666666,78.881666666666661,52.381666666666668]
[40,null,350.41833333333335,304.57333333333332,265.70666666666665,199.63333333333333,124.72666666666666,83.21,55.473333333333336]
[41,null,358.19166666666666,311.72833333333335,277.72000000000003,209.26166666666666,131.26333333333332,87.891666666666666,58.918333333333337]
[42,null,366.58333333333331,318.44166666666666,290.61666666666667,219.77333333333334,138.33000000000001,93.103333333333339,62.716666666666669]
[43,null,380.71666666666664,331.25,302.27666666666664,230.90333333333334,146.01499999999999,98.668333333333337,66.868333333333339]
[44,null,395.46833333333331,343.97,313.76,243.18166666666667,154.40666666666667,104.675,71.284999999999997]
[45,null,410.04333333333335,356.42500000000001,324.97833333333335,256.34333333333331,163.41666666666666,111.21166666666667,76.143333333333331]
[46,null,424.44166666666666,369.14499999999998,336.815,270.47666666666669,173.13333333333333,118.27833333333334,81.443333333333328]
[47,null,439.28166666666664,381.86500000000001,348.21,285.75833333333333,183.73333333333332,125.96333333333334,87.096666666666664]
[48,null,454.82833333333332,395.29166666666669,360.31166666666667,302.27666666666664,195.21666666666667,134.35499999999999,93.28]
[49,null,470.11,408.80666666666667,372.76666666666665,320.12,207.58333333333334,143.36500000000001,100.08166666666666]
[50,null,485.39166666666665,422.23333333333335,384.86833333333334,335.13666666666666,221.89333333333335,146.10333333333332,107.94333333333333]
[51,null,{"$f":"C953*$M$2","v":500.67333333333335},435.48333333333335,397.05833333333334,346.53166666666664,239.38333333333333,158.38166666666666,117.57166666666667]
[52,null,516.13166666666666,448.91,409.33666666666664,357.92666666666668,250.95500000000001,171.45500000000001,127.90666666666667]
[53,null,534.32833333333338,464.63333333333333,423.91166666666669,371.88333333333333,260.05333333333334,178.69833333333332,139.125]
[54,null,552.70166666666671,480.53333333333336,438.31,385.57499999999999,269.24,193.185,151.13833333333332]
[55,null,571.25166666666667,496.69833333333332,452.62,399.44333333333333,279.04500000000002,208.82,164.035]
[56,null,589.44833333333338,512.51,467.01833333333332,413.22333333333336,288.32,217.035,177.815]
[57,null,607.29166666666663,528.41,481.68166666666667,427.09166666666664,297.33,234.43666666666667,192.74333333333334]
[58,null,628.40333333333331,546.3416666666667,496.78666666666669,445.37666666666667,309.255,253.07499999999999,208.82]
[59,null,649.51499999999999,564.80333333333328,511.80333333333334,463.30833333333334,320.91500000000002,262.35000000000002,226.04499999999999]
[60,null,670.36166666666668,582.82333333333338,527.08500000000004,481.41666666666669,332.66333333333336,283.28500000000003,244.68333333333334]
[61,null,696.24333333333334,605.26,549.78666666666663,499.43666666666667,345.03,305.72166666666669,264.64666666666665]
[62,null,740.23333333333335,635.55833333333328,576.72833333333335,521.9616666666667,360.75333333333333,316.23333333333335,286.2]
[63,null,791.64333333333332,681.49166666666667,606.67333333333329,548.81500000000005,379.48,341.23166666666668,309.43166666666667]
[64,null,846.67499999999995,730.95833333333337,641.29999999999995,580.35,401.38666666666666,368.35,334.69499999999999]
[65,null,906.03499999999997,784.22333333333336,683.17,623.80999999999995,429.65333333333331,380.36333333333334,361.81333333333333]
[66,null,969.72333333333336,841.64,732.46,673.71833333333336,462.69,410.66166666666669,391.05166666666668]
[67,null,{"$f":"C969*$M$2","v":1038.1816666666666},903.38499999999999,791.02499999999998,728.04333333333329,499.96666666666664,443.25666666666666,422.58666666666664]
[68,null,1111.5866666666666,969.81166666666661,858.1583333333333,789.43499999999995,542.01333333333332,500.14333333333332,456.68333333333334]
[69,null,1190.5566666666666,1041.2733333333333,936.33333333333337,862.04499999999996,592.01,540.07000000000005,493.43]
[70,null,1295.32,1126.5150000000001,1018.2183333333334,959.3,654.72666666666669,583.08833333333337,533.0916666666667]
[71,null,1426.5833333333333,1240.6416666666667,1131.02,1056.3783333333333,721.15333333333331,656.67,575.58000000000004]
[72,null,1578.075,1372.2583333333334,1251.4183333333333,1169.0916666666667,798.18,708.78666666666663,621.3366666666667]
[73,null,1752.8866666666668,1524.1033333333332,1389.4833333333333,1297.8816666666667,885.80666666666662,764.87833333333333,670.18499999999995]
[74,null,1954.1983333333333,1699.0916666666667,1549.19,1447.165,987.83166666666671,859.04166666666663,722.30166666666662]
[75,null,2184.9250000000002,1900.05,1725.3266666666666,1628.3366666666666,1108.4949999999999,925.73333333333335,777.59833333333336]
[76,null,2450.3666666666668,2130.6,1941.125,1825.7616666666668,1242.8499999999999,996.8416666666667,835.89833333333331]
[77,null,2751.76,2392.9499999999998,2181.7449999999999,2050.4816666666666,1396.1966666666667,1114.5899999999999,896.84833333333336]
[78,null,3092.02,2688.69,2451.4266666666667,2303.7333333333331,1568.6233333333332,1196.8283333333334,960.09500000000003]
[79,null,3474.0616666666665,3020.7350000000001,2754.41,2588.7849999999999,1762.6033333333332,1282.335,1024.9316666666666]
[80,"o más",3931.1866666666665,3418.6766666666667,3116.665,2929.31,1994.39,1423.1383333333333,1090.1216666666667]
[1,"Hijo",149.72499999999999,130.46833333333333,112.625,77.998333333333335,43.106666666666669,25.704999999999998,15.105]
[2,"Hijos",177.02,154.14166666666668,133.11833333333334,92.22,50.88,30.475000000000001,17.843333333333334]
[3,"Hijos o más",{"$f":"C985*$M$2","v":245.125},213.50166666666667,184.35166666666666,127.64166666666667,70.489999999999995,42.223333333333336,24.733333333333334]
[]
["ESSENTIAL 1000"]
["TARIFAS TRIMESTRAL"]
["EDAD"]
[" "," ","F50-1","F50-2","F50-3","F50-4","F50-5"]
[18,null,{"$f":"C920*$M$4","v":671.41249999999991},{"$f":"D920*$M$4","v":584.67750000000001},501.33874999999995,349.55249999999995,192.80249999999998,115.4725,67.663749999999993]
[19,null,{"$f":"C921*$M$4","v":682.64625000000001},594.86624999999992,501.33874999999995,349.55249999999995,194.36999999999998,117.03999999999999,68.97]
[20,null,694.40249999999992,604.27125000000001,501.33874999999995,350.59749999999997,196.45999999999998,118.86874999999999,70.537499999999994]
[21,null,707.46499999999992,615.24374999999998,501.33874999999995,352.16499999999996,198.54999999999998,120.95874999999999,72.10499999999999]
[22,null,719.22124999999994,625.17124999999999,502.64499999999998,354.77749999999997,201.42374999999998,123.30999999999999,73.933749999999989]
[23,null,730.97749999999996,635.3599999999999,505.25749999999999,357.91249999999997,204.55874999999997,125.92249999999999,76.023749999999993]
[24,null,742.995,645.80999999999995,509.17624999999998,362.35374999999999,208.21624999999997,129.0575,78.63624999999999]
[25,null,754.4899999999999,656.78249999999991,514.14,367.05624999999998,212.39624999999998,132.1925,80.987499999999997]
[26,null,766.50749999999994,666.70999999999992,520.67124999999999,373.32624999999996,217.35999999999999,135.85,83.6]
[27,null,778.26374999999996,676.63749999999993,528.50874999999996,380.64124999999996,222.58499999999998,140.03,86.996249999999989]
[28,null,792.89374999999995,688.39374999999995,537.65249999999992,388.73999999999995,228.59374999999997,144.73249999999999,90.131249999999994]
[29,null,806.7399999999999,702.24,548.36374999999998,397.88374999999996,235.64749999999998,149.435,93.788749999999993]
[30,null,820.84749999999997,714.25749999999994,560.90374999999995,408.07249999999999,242.70124999999999,155.18249999999998,97.707499999999996]
[31,null,834.43249999999989,726.27499999999998,574.48874999999998,419.82874999999996,250.79999999999998,161.19125,102.14874999999999]
[32,null,849.06249999999989,737.50874999999996,589.90249999999992,432.36874999999998,259.94374999999997,167.46124999999998,107.1125]
[33,null,872.0524999999999,758.67,607.14499999999998,446.47624999999999,269.60999999999996,174.77624999999998,112.07624999999999]
[34,null,895.30374999999992,778.26374999999996,626.47749999999996,462.15124999999995,280.58249999999998,182.61374999999998,117.82374999999999]
[35,null,{"$f":"C937*$M$4","v":918.29374999999993},798.6412499999999,647.37749999999994,479.13249999999999,292.33875,190.97375,123.8325]
[36,null,941.28374999999994,818.75749999999994,670.62874999999997,497.68124999999998,305.14,200.11749999999998,130.88624999999999]
[37,null,965.05749999999989,839.3962499999999,695.70875000000001,518.05874999999992,319.2475,210.30624999999998,137.94]
[38,null,988.83124999999995,860.29624999999999,723.40125,540.26499999999999,334.4,221.27874999999997,146.03874999999999]
[39,null,1012.8662499999999,880.15124999999989,753.44499999999994,564.29999999999995,350.85874999999999,233.29624999999999,154.92124999999999]
[40,null,1036.3787499999999,900.79,785.83999999999992,590.42499999999995,368.88499999999999,246.0975,164.065]
[41,null,1059.3687499999999,921.95124999999996,821.36999999999989,618.90125,388.21749999999997,259.94374999999997,174.25375]
[42,null,1084.1875,941.80624999999998,859.51249999999993,649.99,409.11749999999995,275.35749999999996,185.48749999999998]
[43,null,1125.9875,979.68749999999989,893.99749999999995,682.90749999999991,431.84625,291.81624999999997,197.76624999999999]
[44,null,1169.6162499999998,1017.3074999999999,927.95999999999992,719.22124999999994,456.66499999999996,309.58124999999995,210.82874999999999]
[45,null,1212.7224999999999,1054.14375,961.13874999999996,758.14749999999992,483.31249999999994,328.91374999999999,225.19749999999999]
[46,null,1255.3062499999999,1091.7637499999998,996.1462499999999,799.94749999999999,512.04999999999995,349.81374999999997,240.87249999999997]
[47,null,1299.19625,1129.38375,1029.8474999999999,845.14374999999995,543.4,372.54249999999996,257.59249999999997]
[48,null,1345.17625,1169.09375,1065.6387499999998,893.99749999999995,577.36249999999995,397.36124999999998,275.88]
[49,null,1390.3724999999999,1209.0649999999998,1102.4749999999999,946.77,613.9375,424.00874999999996,295.99624999999997]
[50,null,1435.5687499999999,1248.7749999999999,1138.2662499999999,991.18249999999989,656.26,432.10749999999996,319.2475]
[51,null,{"$f":"C953*$M$4","v":1480.7649999999999},1287.9624999999999,1174.3187499999999,1024.88375,707.98749999999995,468.42124999999999,347.72375]
[52,null,1526.4837499999999,1327.6724999999999,1210.6324999999999,1058.585,742.21124999999995,507.08624999999995,378.28999999999996]
[53,null,1580.30125,1374.175,1253.73875,1099.8625,769.11999999999989,528.50874999999996,411.46875]
[54,null,1634.6412499999999,1421.1999999999998,1296.3225,1140.3562499999998,796.29,571.35374999999999,446.99874999999997]
[55,null,1689.5037499999999,1469.00875,1338.645,1181.3724999999999,825.28874999999994,617.59499999999991,485.14124999999996]
[56,null,1743.32125,1515.7724999999998,1381.22875,1222.1274999999998,852.71999999999991,641.8912499999999,525.89625000000001]
[57,null,1796.0937499999998,1562.7974999999999,1424.5962499999998,1263.14375,879.36749999999995,693.35749999999996,570.04750000000001]
[58,null,1858.5324999999998,1615.83125,1469.27,1317.2224999999999,914.6362499999999,748.48124999999993,617.59499999999991]
[59,null,1920.9712499999998,1670.4324999999999,1513.6824999999999,1370.2562499999999,949.12124999999992,775.91249999999991,668.53874999999994]
[60,null,1982.6262499999998,1723.7275,1558.8787499999999,1423.8125,983.86749999999995,837.8287499999999,723.66249999999991]
[61,null,2059.1724999999997,1790.0849999999998,1626.02,1477.1074999999998,1020.4424999999999,904.18624999999997,782.70499999999993]
[62,null,2189.2749999999996,1879.6937499999999,1705.7012499999998,1543.7262499999999,1066.9449999999999,935.27499999999998,846.44999999999993]
[63,null,2341.3224999999998,2015.5437499999998,1794.2649999999999,1623.1462499999998,1122.33,1009.2087499999999,915.15874999999994]
[64,null,2504.0812499999997,2161.84375,1896.675,1716.4124999999999,1187.1199999999999,1089.4124999999999,989.87624999999991]
[65,null,2679.6412499999997,2319.3775000000001,2020.5074999999999,1844.9474999999998,1270.7199999999998,1124.9424999999999,1070.08]
[66,null,2868.0024999999996,2489.19,2166.2849999999999,1992.5537499999998,1368.4275,1214.55125,1156.5537499999998]
[67,null,{"$f":"C969*$M$4","v":3070.4712499999996},2671.80375,2339.4937499999996,2153.2224999999999,1478.675,1310.9524999999999,1249.82]
[68,null,3287.5699999999997,2868.2637499999996,2538.0437499999998,2334.7912499999998,1603.03,1479.1975,1350.6624999999999]
[69,null,3521.1274999999996,3079.6149999999998,2769.25,2549.5387499999997,1750.8974999999998,1597.2824999999998,1459.3425]
[70,null,3830.97,3331.7212499999996,3011.4287499999996,2837.1749999999997,1936.3849999999998,1724.5112499999998,1576.64375]
[71,null,4219.1875,3669.2562499999999,3345.0449999999996,3124.2887499999997,2132.8449999999998,1942.1324999999999,1702.3049999999998]
[72,null,4667.2312499999998,4058.5187499999997,3701.1287499999999,3457.6437499999997,2360.6549999999997,2096.27,1837.6324999999999]
[73,null,5184.2449999999999,4507.6075000000001,4109.4624999999996,3838.5462499999999,2619.8149999999996,2262.1637499999997,1982.1037499999998]
[74,null,5779.63375,5025.1437499999993,4581.8024999999998,4280.0587500000001,2921.5587499999997,2540.65625,2136.24125]
[75,null,6462.0187499999993,5619.4874999999993,5102.7349999999997,4815.8824999999997,3278.42625,2737.8999999999996,2299.7837500000001]
[76,null,7247.0749999999998,6301.3499999999995,5740.96875,5399.7762499999999,3675.7874999999999,2948.2062499999997,2472.2087499999998]
[77,null,8138.4599999999991,7077.2624999999998,6452.6137499999995,6064.3962499999998,4129.3175000000001,3296.4524999999999,2652.4712499999996]
[78,null,9144.7950000000001,7951.9274999999998,7250.2099999999991,6813.4,4639.2774999999992,3539.67625,2839.5262499999999]
[79,null,10274.70125,8933.9662499999995,8146.2974999999997,7656.4537499999997,5212.9825000000001,3792.5662499999999,3031.2837499999996]
[80,"o más",11626.67,10110.897499999999,9217.6837500000001,8663.5725000000002,5898.5024999999996,4208.9987499999997,3224.0862499999998]
[1,"Hijo",442.81874999999997,385.86624999999998,333.09375,230.68374999999997,127.49,76.023749999999993,44.673749999999998]
[2,"Hijos",523.54499999999996,455.88124999999997,393.70374999999996,272.745,150.47999999999999,90.131249999999994,52.772499999999994]
[3,"Hijos o más",{"$f":"C985*$M$4","v":724.96875},631.44124999999997,545.22874999999999,377.50624999999997,208.47749999999999,124.8775,73.149999999999991]
[]
["ESSENTIAL 1000"]
["TARIFAS SEMESTRAL"]
["EDAD"]
[" "," ","F50-1","F50-2","F50-3","F50-4","F50-5"]
[18,null,{"$f":"C920*$M$3","v":1323.55},{"$f":"D920*$M$3","v":1152.57},988.28500000000008,689.07,380.07,227.63,133.38499999999999]
[19,null,{"$f":"C921*$M$3","v":1345.6949999999999},1172.655,988.28500000000008,689.07,383.16,230.72,135.96]
[20,null,1368.8700000000001,1191.1949999999999,988.28500000000008,691.13,387.28000000000003,234.32500000000002,139.05000000000001]
[21,null,1394.6200000000001,1212.825,988.28500000000008,694.22,391.40000000000003,238.44499999999999,142.14000000000001]
[22,null,1417.7950000000001,1232.395,990.86,699.37,397.065,243.08,145.745]
[23,null,1440.97,1252.48,996.01,705.55000000000007,403.245,248.23000000000002,149.86500000000001]
[24,null,1464.66,1273.08,1003.735,714.30500000000006,410.45499999999998,254.41,155.01500000000001]
[25,null,1487.32,1294.71,1013.52,723.57500000000005,418.69499999999999,260.59000000000003,159.65]
[26,null,1511.01,1314.28,1026.395,735.93500000000006,428.48,267.8,164.8]
[27,null,1534.1849999999999,1333.8500000000001,1041.845,750.35500000000002,438.78000000000003,276.04000000000002,171.495]
[28,null,1563.0250000000001,1357.0250000000001,1059.8700000000001,766.32,450.625,285.31,177.67500000000001]
[29,null,1590.32,1384.32,1080.9850000000001,784.34500000000003,464.53000000000003,294.58,184.88499999999999]
[30,null,1618.13,1408.01,1105.7049999999999,804.43000000000006,478.435,305.91000000000003,192.61]
[31,null,1644.91,1431.7,1132.4850000000001,827.60500000000002,494.40000000000003,317.755,201.36500000000001]
[32,null,1673.75,1453.845,1162.8700000000001,852.32500000000005,512.42500000000007,330.11500000000001,211.15]
[33,null,1719.07,1495.56,1196.8600000000001,880.13499999999999,531.48,344.53500000000003,220.935]
[34,null,1764.905,1534.1849999999999,1234.97,911.03499999999997,553.11,359.98500000000001,232.26500000000001]
[35,null,{"$f":"C937*$M$3","v":1810.2250000000001},1574.355,1276.17,944.51,576.28499999999997,376.46500000000003,244.11]
[36,null,1855.5450000000001,1614.01,1322.0050000000001,981.07500000000005,601.52,394.49,258.01499999999999]
[37,null,1902.41,1654.6949999999999,1371.4449999999999,1021.245,629.33000000000004,414.57499999999999,271.92]
[38,null,1949.2750000000001,1695.895,1426.0350000000001,1065.02,659.2,436.20499999999998,287.88499999999999]
[39,null,1996.655,1735.0350000000001,1485.26,1112.4000000000001,691.64499999999998,459.89500000000004,305.39499999999998]
[40,null,2043.0050000000001,1775.72,1549.1200000000001,1163.9000000000001,727.18000000000006,485.13,323.42]
[41,null,2088.3250000000003,1817.4349999999999,1619.16,1220.0350000000001,765.29,512.42500000000007,343.505]
[42,null,2137.25,1856.575,1694.3500000000001,1281.32,806.49,542.81000000000006,365.65000000000003]
[43,null,2219.65,1931.25,1762.3300000000002,1346.21,851.29500000000007,575.255,389.85500000000002]
[44,null,2305.6550000000002,2005.41,1829.28,1417.7950000000001,900.22,610.27499999999998,415.60500000000002]
[45,null,2390.63,2078.0250000000001,1894.6849999999999,1494.53,952.75,648.38499999999999,443.93]
[46,null,2474.5750000000003,2152.1849999999999,1963.6950000000002,1576.93,1009.4,689.58500000000004,474.83]
[47,null,2561.0950000000003,2226.3450000000003,2030.13,1666.0250000000001,1071.2,734.39,507.79]
[48,null,2651.7350000000001,2304.625,2100.6849999999999,1762.3300000000002,1138.1500000000001,783.31500000000005,543.84]
[49,null,2740.83,2383.42,2173.3000000000002,1866.3600000000001,1210.25,835.84500000000003,583.495]
[50,null,2829.9250000000002,2461.7000000000003,2243.855,1953.91,1293.68,851.81000000000006,629.33000000000004]
[51,null,{"$f":"C953*$M$3","v":2919.02},2538.9500000000003,2314.9250000000002,2020.345,1395.65,923.39499999999998,685.46500000000003]
[52,null,3009.145,2617.23,2386.5100000000002,2086.7800000000002,1463.115,999.61500000000001,745.72]
[53,null,3115.2350000000001,2708.9,2471.4850000000001,2168.15,1516.16,1041.845,811.125]
[54,null,3222.355,2801.6,2555.4300000000003,2247.9749999999999,1569.72,1126.3050000000001,881.16500000000008]
[55,null,3330.5050000000001,2895.8450000000003,2638.86,2328.83,1626.885,1217.46,956.35500000000002]
[56,null,3436.5950000000003,2988.03,2722.8050000000003,2409.17,1680.96,1265.355,1036.6949999999999]
[57,null,3540.625,3080.73,2808.2950000000001,2490.0250000000001,1733.49,1366.81,1123.73]
[58,null,3663.71,3185.2750000000001,2896.36,2596.63,1803.0150000000001,1475.4750000000001,1217.46]
[59,null,3786.7950000000001,3292.9100000000003,2983.91,2701.1750000000002,1870.9950000000001,1529.55,1317.885]
[60,null,3908.335,3397.9700000000003,3073.0050000000001,2806.75,1939.49,1651.605,1426.55]
[61,null,4059.23,3528.78,3205.36,2911.81,2011.5900000000001,1782.415,1542.94]
[62,null,4315.7,3705.4250000000002,3362.4349999999999,3043.1350000000002,2103.2600000000002,1843.7,1668.6000000000001]
[63,null,4615.43,3973.2249999999999,3537.02,3199.6950000000002,2212.44,1989.4450000000002,1804.0450000000001]
[64,null,4936.2750000000005,4261.625,3738.9,3383.55,2340.16,2147.5500000000002,1951.335]
[65,null,5282.3550000000005,4572.17,3983.01,3636.9300000000003,2504.96,2217.59,2109.44]
[66,null,5653.67,4906.92,4270.38,3927.9050000000002,2697.57,2394.2350000000001,2279.9050000000002]
[67,null,{"$f":"C969*$M$3","v":6052.7950000000001},5266.9049999999997,4611.8249999999998,4244.63,2914.9,2584.27,2463.7600000000002]
[68,null,6480.76,5654.1850000000004,5003.2250000000004,4602.5550000000003,3160.04,2915.9300000000003,2662.55]
[69,null,6941.17,6070.82,5459,5025.8850000000002,3451.53,3148.71,2876.79]
[70,null,7551.96,6567.7950000000001,5936.4049999999997,5592.9000000000005,3817.1800000000003,3399.5149999999999,3108.0250000000001]
[71,null,8317.25,7233.1750000000002,6594.06,6158.8850000000002,4204.46,3828.51,3355.7400000000002]
[72,null,9200.4750000000004,8000.5250000000005,7296.0050000000001,6816.0250000000005,4653.54,4132.3599999999997,3622.51]
[73,null,10219.66,8885.81,8100.95,7566.8950000000004,5164.42,4459.3850000000002,3907.3050000000003]
[74,null,11393.345000000001,9906.0249999999996,9032.07,8437.2450000000008,5759.2449999999999,5008.375,4211.1549999999997]
[75,null,12738.525,11077.65,10058.98,9493.51,6462.7350000000006,5397.2,4533.5450000000001]
[76,null,14286.1,12421.800000000001,11317.125,10644.535,7246.05,5811.7750000000005,4873.4449999999997]
[77,null,16043.28,13951.35,12719.985000000001,11954.695,8140.09,6498.27,5228.7950000000001]
[78,null,18027.060000000001,15675.57,14292.28,13431.2,9145.3700000000008,6977.7350000000006,5597.5349999999999]
[79,null,20254.435000000001,17611.455000000002,16058.73,15093.105,10276.31,7476.2550000000001,5975.5450000000001]
[80,"o más",22919.56,19931.53,18170.744999999999,17078.43,11627.67,8297.1650000000009,6355.6149999999998]
[1,"Hijo",872.92500000000007,760.65499999999997,656.625,454.745,251.32,149.86500000000001,88.064999999999998]
[2,"Hijos",1032.06,898.67500000000007,776.10500000000002,537.66,296.64,177.67500000000001,104.03]
[3,"Hijos o más",{"$f":"C985*$M$3","v":1429.125},1244.7550000000001,1074.8050000000001,744.17500000000007,410.97,246.17000000000002,144.20000000000002]

{"sheet":"Tablas Resto de Ecuador","index":9,"n_rows":1198,"n_cols":17,"rows_kept":1198,"cut":false,"hidden":true,"merged":[[73,0,73,1],[73,2,73,6],[1,0,1,6],[2,0,2,6],[3,0,3,1],[3,2,3,6],[72,0,72,6],[356,0,356,1],[356,2,356,6],[142,0,142,6],[143,0,143,6],[144,0,144,1],[144,2,144,6],[213,0,213,6],[214,0,214,1],[214,2,214,6],[284,0,284,6],[285,0,285,6],[286,0,286,1],[286,2,286,6],[355,0,355,6],[560,0,560,6],[425,0,425,6],[426,0,426,6],[427,0,427,1],[427,2,427,6],[457,0,457,6],[458,0,458,1],[458,2,458,6],[488,0,488,6],[489,0,489,6],[490,0,490,1],[490,2,490,6],[559,0,559,6],[773,0,773,6],[561,0,561,1],[561,2,561,6],[630,0,630,6],[631,0,631,6],[632,0,632,1],[632,2,632,6],[701,0,701,6],[702,0,702,6],[703,0,703,1],[703,2,703,6],[772,0,772,6],[987,0,987,6],[774,0,774,1],[774,2,774,6],[843,0,843,6],[844,0,844,6],[845,0,845,1],[845,2,845,6],[915,0,915,6],[916,0,916,6],[917,0,917,1],[917,2,917,6],[986,0,986,6],[1128,0,1128,6],[1129,0,1129,6],[1130,0,1130,1],[1130,2,1130,6],[988,0,988,1],[988,2,988,6],[1057,0,1057,6],[1058,0,1058,6],[1059,0,1059,1],[1059,2,1059,6]]}
[]
["FLEX 500",null,null,null,null,null,null,null,null,null,"FACTOR MENSUAL:",null,{"$f":"1.06/12","v":8.8333333333333333E-2}]
["TARIFAS ANUALES",null,null,null,null,null,null,null,null,null,"FACTOR SEMESTRAL:",null,{"$f":"1.03/2","v":0.51500000000000001}]
["EDAD",null,null,null,null,null,null,null,null,null,"FACTOR TRIMESTRAL:",null,{"$f":"1.045/4","v":0.26124999999999998}]
[" "," ","F500-1","F500-2","F500-3","F500-4","F500-5","F500-6","F500-7"]
[18,null,2010,1719,1259,868,471,278,160]
[19,null,2043,1719,1259,869,476,282,163]
[20,null,2079,1719,1259,871,481,286,167]
[21,null,2118,1719,1261,877,487,292,172]
[22,null,2152,1719,1264,884,494,298,176]
[23,null,2188,1723,1272,893,502,305,181]
[24,null,2194,1731,1283,904,512,312,187]
[25,null,2204,1744,1297,918,523,321,194]
[26,null,2220,1761,1315,934,535,330,200]
[27,null,2242,1783,1336,953,549,341,207]
[28,null,2269,1809,1360,973,565,352,216]
[29,null,2303,1840,1387,998,582,365,225]
[30,null,2342,1877,1420,1024,601,378,235]
[31,null,2388,1919,1455,1054,622,393,246]
[32,null,2441,1966,1495,1086,645,410,258]
[33,null,2501,2019,1540,1123,669,428,270]
[34,null,2567,2077,1590,1163,697,447,285]
[35,null,2641,2142,1645,1207,726,469,300]
[36,null,2723,2214,1705,1254,759,492,317]
[37,null,2812,2292,1769,1307,795,517,334]
[38,null,2910,2378,1840,1363,833,544,354]
[39,null,3017,2471,1919,1425,875,574,375]
[40,null,3102,2572,2003,1492,920,606,399]
[41,null,3171,2681,2093,1564,968,641,425]
[42,null,3246,2801,2192,1644,1022,679,452]
[43,null,3370,2928,2299,1729,1080,721,482]
[44,null,3500,3045,2414,1821,1142,765,515]
[45,null,3630,3155,2539,1921,1209,813,550]
[46,null,3758,3268,2673,2028,1283,866,588]
[47,null,3889,3380,2817,2144,1361,922,630]
[48,null,4027,3500,2973,2269,1447,984,676]
[49,null,4161,3618,3141,2405,1539,1052,725]
[50,null,4297,3738,3334,2562,1647,1129,783]
[51,null,4431,3855,3515,2750,1778,1225,853]
[52,null,4568,3974,3623,2953,1918,1327,929]
[53,null,4730,4113,3753,3170,2068,1436,1011]
[54,null,4893,4254,3879,3404,2230,1553,1099]
[55,null,5057,4397,4007,3536,2404,1679,1192]
[56,null,5218,4536,4134,3657,2544,1815,1293]
[57,null,5377,4678,4264,3781,2623,1961,1402]
[58,null,5563,4836,4398,3943,2727,2117,1519]
[59,null,5749,5000,4530,4101,2830,2285,1644]
[60,null,5934,5159,4666,4262,2934,2467,1779]
[61,null,6163,5357,4867,4421,3043,2661,1924]
[62,null,6439,5599,5105,4620,3182,2872,2081]
[63,null,6771,5886,5370,4858,3348,3098,2249]
[64,null,7160,6228,5677,5138,3717,3343,2429]
[65,null,7630,6633,6047,5522,3979,3606,2624]
[66,null,8177,7111,6484,5963,4286,3891,2834]
[67,null,8830,7679,7003,6445,4629,4197,3060]
[68,null,9582,8330,7597,6988,5020,4528,3304]
[69,null,10455,9091,8290,7631,5222,4885,3565]
[70,null,11467,9972,9013,8492,5774,5268,3846]
[71,null,12630,10983,10012,9351,6361,5681,4145]
[72,null,13971,12148,11078,10349,7040,6123,4465]
[73,null,15517,13492,12301,11489,7813,6597,4805]
[74,null,17300,15041,13714,12811,8714,7102,5164]
[75,null,19342,16820,15274,14415,9777,7637,5541]
[76,null,21693,18862,17185,16163,10963,8202,5934]
[77,null,24360,21185,19315,18020,12315,8793,6338]
[78,null,27373,23802,21701,19330,13261,9407,6750]
[79,null,30755,26741,24384,20705,14194,10038,7158]
[80,"o más",34565,30264,26939,22140,15156,10676,7555]
[1,"Hijo",1326,1153,835,572,312,183,105]
[2,"Hijos",1568,1362,987,677,368,217,124]
[3,"Hijos o más",2171,1886,1367,937,510,300,173]
[]
["TARIFAS MENSUALES"]
["EDAD"]
[" "," ","F500-1","F500-2","F500-3","F500-4","F500-5"]
[18,null,{"$f":"+C6*$M$2","v":177.55},{"$f":"+D6*$M$2","v":151.845},111.21166666666667,76.673333333333332,41.604999999999997,24.556666666666665,14.133333333333333]
[19,null,{"$f":"+C7*$M$2","v":180.465},151.845,111.21166666666667,76.76166666666667,42.046666666666667,24.91,14.398333333333333]
[20,null,183.64500000000001,151.845,111.21166666666667,76.938333333333333,42.48833333333333,25.263333333333332,14.751666666666667]
[21,null,187.09,151.845,111.38833333333334,77.468333333333334,43.018333333333331,25.793333333333333,15.193333333333333]
[22,null,190.09333333333333,151.845,111.65333333333334,78.086666666666673,43.636666666666663,26.323333333333334,15.546666666666667]
[23,null,193.27333333333334,152.19833333333332,112.36,78.881666666666661,44.343333333333334,26.941666666666666,15.988333333333333]
[24,null,193.80333333333334,152.905,113.33166666666666,79.853333333333339,45.226666666666667,27.56,16.518333333333334]
[25,null,194.68666666666667,154.05333333333334,114.56833333333333,81.09,46.198333333333331,28.355,17.136666666666667]
[26,null,196.1,155.55500000000001,116.15833333333333,82.50333333333333,47.258333333333333,29.15,17.666666666666668]
[27,null,198.04333333333332,157.49833333333333,118.01333333333334,84.181666666666672,48.494999999999997,30.121666666666666,18.285]
[28,null,200.42833333333334,159.79499999999999,120.13333333333334,85.948333333333338,49.908333333333331,31.093333333333334,19.079999999999998]
[29,null,203.43166666666667,162.53333333333333,122.51833333333333,88.156666666666666,51.41,32.241666666666667,19.875]
[30,null,206.87666666666667,165.80166666666668,125.43333333333334,90.453333333333333,53.088333333333331,33.39,20.758333333333333]
[31,null,210.94,169.51166666666666,128.52500000000001,93.103333333333339,54.943333333333335,34.715000000000003,21.73]
[32,null,215.62166666666667,173.66333333333333,132.05833333333334,95.93,56.975000000000001,36.216666666666669,22.79]
[33,null,220.92166666666665,178.345,136.03333333333333,99.198333333333338,59.094999999999999,37.806666666666665,23.85]
[34,null,226.75166666666667,183.46833333333333,140.44999999999999,102.73166666666667,61.568333333333335,39.484999999999999,25.175000000000001]
[35,null,{"$f":"+C23*$M$2","v":233.28833333333333},189.21,145.30833333333334,106.61833333333334,64.13,41.428333333333335,26.5]
[36,null,240.53166666666667,195.57,150.60833333333332,110.77,67.045000000000002,43.46,28.001666666666665]
[37,null,248.39333333333335,202.46,156.26166666666666,115.45166666666667,70.224999999999994,45.668333333333337,29.503333333333334]
[38,null,257.05,210.05666666666667,162.53333333333333,120.39833333333333,73.581666666666663,48.053333333333335,31.27]
[39,null,266.50166666666667,218.27166666666668,169.51166666666666,125.875,77.291666666666671,50.703333333333333,33.125]
[40,null,274.01,227.19333333333333,176.93166666666667,131.79333333333332,81.266666666666666,53.53,35.244999999999997]
[41,null,280.10500000000002,236.82166666666666,184.88166666666666,138.15333333333334,85.506666666666661,56.62166666666667,37.541666666666664]
[42,null,286.73,247.42166666666665,193.62666666666667,145.22,90.276666666666671,59.978333333333332,39.926666666666669]
[43,null,297.68333333333334,258.64,203.07833333333332,152.72833333333332,95.4,63.688333333333333,42.576666666666668]
[44,null,309.16666666666669,268.97500000000002,213.23666666666668,160.85499999999999,100.87666666666667,67.575000000000003,45.491666666666667]
[45,null,320.64999999999998,278.69166666666666,224.27833333333334,169.68833333333333,106.795,71.814999999999998,48.583333333333336]
[46,null,331.95666666666665,288.67333333333335,236.11500000000001,179.14,113.33166666666666,76.49666666666667,51.94]
[47,null,343.52833333333331,298.56666666666666,248.83500000000001,189.38666666666666,120.22166666666666,81.443333333333328,55.65]
[48,null,355.71833333333331,309.16666666666669,262.61500000000001,200.42833333333334,127.81833333333333,86.92,59.713333333333331]
[49,null,367.55500000000001,319.58999999999997,277.45499999999998,212.44166666666666,135.94499999999999,92.926666666666662,64.041666666666671]
[50,null,379.56833333333333,330.19,294.50333333333333,226.31,145.48500000000001,99.728333333333339,69.165000000000006]
[51,null,{"$f":"+C39*$M$2","v":391.40499999999997},340.52499999999998,310.49166666666667,242.91666666666666,157.05666666666667,108.20833333333333,75.348333333333329]
[52,null,403.50666666666666,351.03666666666669,320.03166666666664,260.84833333333336,169.42333333333335,117.21833333333333,82.061666666666667]
[53,null,417.81666666666666,363.315,331.51499999999999,280.01666666666665,182.67333333333335,126.84666666666666,89.305000000000007]
[54,null,432.21499999999997,375.77,342.64499999999998,300.68666666666667,196.98333333333332,137.18166666666667,97.078333333333333]
[55,null,446.70166666666665,388.40166666666664,353.95166666666665,312.34666666666669,212.35333333333332,148.31166666666667,105.29333333333334]
[56,null,460.92333333333335,400.68,365.17,323.03500000000003,224.72,160.32499999999999,114.215]
[57,null,474.96833333333331,413.22333333333336,376.65333333333331,333.98833333333334,231.69833333333332,173.22166666666666,123.84333333333333]
[58,null,491.39833333333331,427.18,388.49,348.29833333333335,240.88499999999999,187.00166666666667,134.17833333333334]
[59,null,507.82833333333332,441.66666666666669,400.15,362.255,249.98333333333332,201.84166666666667,145.22]
[60,null,524.16999999999996,455.71166666666664,412.16333333333336,376.47666666666669,259.17,217.91833333333332,157.14500000000001]
[61,null,544.39833333333331,473.20166666666665,429.91833333333335,390.52166666666665,268.79833333333335,235.05500000000001,169.95333333333332]
[62,null,568.77833333333331,494.57833333333332,450.94166666666666,408.1,281.07666666666665,253.69333333333333,183.82166666666666]
[63,null,598.10500000000002,519.92999999999995,474.35,429.12333333333333,295.74,273.65666666666664,198.66166666666666]
[64,null,632.4666666666667,550.14,501.46833333333331,453.85666666666668,328.33499999999998,295.29833333333335,214.56166666666667]
[65,null,673.98333333333335,585.91499999999996,534.15166666666664,487.77666666666664,351.47833333333335,318.52999999999997,231.78666666666666]
[66,null,722.30166666666662,628.13833333333332,572.75333333333333,526.73166666666668,378.59666666666669,343.70499999999998,250.33666666666667]
[67,null,{"$f":"+C55*$M$2","v":779.98333333333335},678.31166666666661,618.59833333333336,569.30833333333328,408.89499999999998,370.73500000000001,270.3]
[68,null,846.41,735.81666666666672,671.06833333333338,617.27333333333331,443.43333333333334,399.97333333333336,291.85333333333335]
[69,null,923.52499999999998,803.0383333333333,732.2833333333333,674.07166666666672,461.27666666666664,431.50833333333333,314.90833333333336]
[70,null,1012.9183333333333,880.86,796.14833333333331,750.12666666666667,510.03666666666669,465.34,339.73]
[71,null,1115.6500000000001,970.16499999999996,884.39333333333332,826.005,561.88833333333332,501.82166666666666,366.14166666666665]
[72,null,1234.105,1073.0733333333333,978.55666666666662,914.16166666666663,621.86666666666667,540.86500000000001,394.40833333333336]
[73,null,1370.6683333333333,1191.7933333333333,1086.5883333333334,1014.8616666666667,690.14833333333331,582.73500000000001,424.44166666666666]
[74,null,1528.1666666666667,1328.6216666666667,1211.4033333333334,1131.6383333333333,769.73666666666668,627.34333333333336,456.15333333333331]
[75,null,1708.5433333333333,1485.7666666666667,1349.2033333333334,1273.325,863.63499999999999,674.60166666666669,489.45499999999998]
[76,null,1916.2149999999999,1666.1433333333334,1518.0083333333334,1427.7316666666666,968.39833333333331,724.51,524.16999999999996]
[77,null,2151.8000000000002,1871.3416666666667,1706.1583333333333,1591.7666666666667,1087.825,776.71500000000003,559.85666666666668]
[78,null,2417.9483333333333,2102.5100000000002,1916.9216666666666,1707.4833333333333,1171.3883333333333,830.95166666666671,596.25]
[79,null,2716.6916666666666,2362.1216666666664,2153.92,1828.9416666666666,1253.8033333333333,886.69,632.29]
[80,"o más",3053.2416666666668,2673.32,2379.6116666666667,1955.7,1338.78,943.04666666666662,667.35833333333335]
[1,"Hijo",117.13,101.84833333333333,73.75833333333334,50.526666666666664,27.56,16.164999999999999,9.2750000000000004]
[2,"Hijos",138.50666666666666,120.31,87.185000000000002,59.801666666666669,32.506666666666668,19.168333333333333,10.953333333333333]
[3,"Hijos o más",{"$f":"+C71*$M$2","v":191.77166666666668},166.59666666666666,120.75166666666667,82.768333333333331,45.05,26.5,15.281666666666666]
[]
["FLEX 100"]
["TARIFAS ANUALES"]
["EDAD"]
[" "," ","F100-1","F100-2","F100-3","F100-4","F100-5"]
[18,null,2394,2345,2215,2021,1564]
[19,null,2439,2391,2255,2057,1596]
[20,null,2480,2425,2290,2087,1626]
[21,null,2521,2471,2327,2121,1662]
[22,null,2561,2518,2367,2162,1698]
[23,null,2609,2554,2408,2194,1733]
[24,null,2652,2598,2449,2232,1767]
[25,null,2692,2638,2482,2271,1809]
[26,null,2736,2681,2527,2303,1839]
[27,null,2774,2721,2561,2340,1875]
[28,null,2826,2772,2612,2382,1921]
[29,null,2877,2820,2657,2421,1970]
[30,null,2929,2868,2703,2467,2012]
[31,null,2976,2915,2746,2506,2057]
[32,null,3028,2965,2797,2549,2099]
[33,null,3109,3046,2872,2615,2165]
[34,null,3192,3129,2947,2688,2228]
[35,null,3275,3210,3027,2758,2290]
[36,null,3356,3291,3102,2826,2359]
[37,null,3437,3372,3178,2900,2420]
[38,null,3523,3455,3258,2968,2490]
[39,null,3610,3535,3333,3042,2556]
[40,null,3695,3620,3412,3109,2627]
[41,null,3781,3705,3490,3181,2693]
[42,null,3864,3786,3568,3250,2768]
[43,null,4016,3936,3708,3384,2882]
[44,null,4171,4087,3850,3513,3009]
[45,null,4329,4235,3992,3642,3130]
[46,null,4473,4390,4134,3772,3247]
[47,null,4631,4537,4278,3901,3372]
[48,null,4795,4696,4426,4038,3494]
[49,null,4955,4857,4576,4172,3625]
[50,null,5116,5018,4727,4310,3753]
[51,null,5277,5177,4876,4448,3880]
[52,null,5441,5331,5027,4585,4007]
[53,null,5633,5524,5205,4745,4166]
[54,null,5826,5713,5383,4910,4317]
[55,null,6016,5901,5563,5072,4472]
[56,null,6212,6089,5740,5235,4628]
[57,null,6404,6278,5912,5390,4783]
[58,null,6625,6497,6099,5580,4985]
[59,null,6843,6709,6287,5766,5188]
[60,null,7069,6922,6472,5954,5390]
[61,null,7336,7189,6753,6178,5592]
[62,null,7665,7516,7082,6458,5846]
[63,null,8062,7899,7445,6786,6146]
[64,null,8529,8355,7877,7181,6499]
[65,null,9084,8898,8393,7651,6982]
[66,null,9736,9542,8993,8202,7543]
[67,null,10512,10308,9712,8856,8149]
[68,null,11408,11176,10534,9604,8837]
[69,null,12449,12203,11497,10482,9654]
[70,null,13657,13379,12505,11498,10738]
[71,null,15033,14734,13887,12660,11824]
[72,null,16636,16300,15365,14010,13089]
[73,null,18476,18103,17065,15559,14529]
[74,null,20601,20187,19023,17344,16202]
[75,null,23032,22567,21183,19391,18228]
[76,null,25830,25303,23833,21745,20441]
[77,null,29005,28421,26782,24424,22956]
[78,null,32593,31933,30098,27441,25790]
[79,null,36618,35883,33816,30831,28977]
[80,"o más",41438,40601,38266,34890,32788]
[1,"Hijo",1230,1202,1132,1037,610]
[2,"Hijos",2067,2025,1907,1740,909]
[3,"Hijos o más",3031,2967,2797,2553,1300]
[]
["TARIFAS MENSUALES"]
["EDAD"]
[" "," ","F100-1","F100-2","F100-3","F100-4","F100-5"]
[18,null,{"$f":"+C147*$M$2","v":211.47},207.14166666666668,195.65833333333333,178.52166666666668,138.15333333333334]
[19,null,215.44499999999999,211.20500000000001,199.19166666666666,181.70166666666665,140.97999999999999]
[20,null,219.06666666666666,214.20833333333334,202.28333333333333,184.35166666666666,143.63]
[21,null,222.68833333333333,218.27166666666668,205.55166666666668,187.35499999999999,146.81]
[22,null,226.22166666666666,222.42333333333335,209.08500000000001,190.97666666666666,149.99]
[23,null,230.46166666666667,225.60333333333332,212.70666666666668,193.80333333333334,153.08166666666668]
[24,null,234.26,229.49,216.32833333333332,197.16,156.08500000000001]
[25,null,237.79333333333332,233.02333333333334,219.24333333333334,200.60499999999999,159.79499999999999]
[26,null,241.68,236.82166666666666,223.21833333333333,203.43166666666667,162.44499999999999]
[27,null,245.03666666666666,240.35499999999999,226.22166666666666,206.7,165.625]
[28,null,249.63,244.86,230.72666666666666,210.41,169.68833333333333]
[29,null,254.13499999999999,249.1,234.70166666666665,213.85499999999999,174.01666666666668]
[30,null,258.72833333333335,253.34,238.76499999999999,217.91833333333332,177.72666666666666]
[31,null,262.88,257.49166666666667,242.56333333333333,221.36333333333334,181.70166666666665]
[32,null,267.47333333333336,261.90833333333336,247.06833333333333,225.16166666666666,185.41166666666666]
[33,null,274.62833333333333,269.06333333333333,253.69333333333333,230.99166666666667,191.24166666666667]
[34,null,{"$f":"+C163*$M$2","v":281.95999999999998},276.39499999999998,260.31833333333333,237.44,196.80666666666667]
[35,null,289.29166666666669,283.55,267.38499999999999,243.62333333333333,202.28333333333333]
[36,null,296.44666666666666,290.70499999999998,274.01,249.63,208.37833333333333]
[37,null,303.60166666666669,297.86,280.72333333333336,256.16666666666669,213.76666666666668]
[38,null,311.19833333333332,305.19166666666666,287.79000000000002,262.17333333333335,219.95]
[39,null,318.88333333333333,312.25833333333333,294.41500000000002,268.70999999999998,225.78]
[40,null,326.39166666666665,319.76666666666665,301.39333333333332,274.62833333333333,232.05166666666668]
[41,null,333.98833333333334,327.27499999999998,308.28333333333336,280.98833333333334,237.88166666666666]
[42,null,341.32,334.43,315.17333333333335,287.08333333333331,244.50666666666666]
[43,null,354.74666666666667,347.68,327.54000000000002,298.92,254.57666666666665]
[44,null,368.43833333333333,361.01833333333332,340.08333333333331,310.315,265.79500000000002]
[45,null,382.39499999999998,374.09166666666664,352.62666666666667,321.70999999999998,276.48333333333335]
[46,null,395.11500000000001,387.78333333333336,365.17,333.19333333333333,286.81833333333333]
[47,null,409.07166666666666,400.76833333333332,377.89,344.58833333333331,297.86]
[48,null,423.55833333333334,414.81333333333333,390.96333333333331,356.69,308.63666666666666]
[49,null,437.69166666666666,429.03500000000003,404.21333333333331,368.52666666666664,320.20833333333331]
[50,null,{"$f":"+C179*$M$2","v":451.91333333333336},443.25666666666666,417.55166666666668,380.71666666666664,331.51499999999999]
[51,null,466.13499999999999,457.30166666666668,430.71333333333331,392.90666666666664,342.73333333333335]
[52,null,480.62166666666667,470.90499999999997,444.05166666666668,405.00833333333333,353.95166666666665]
[53,null,497.58166666666665,487.95333333333332,459.77499999999998,419.14166666666665,367.99666666666667]
[54,null,514.63,504.64833333333331,475.49833333333333,433.71666666666664,381.33499999999998]
[55,null,531.4133333333333,521.255,491.39833333333331,448.02666666666664,395.02666666666664]
[56,null,548.72666666666669,537.86166666666668,507.03333333333336,462.42500000000001,408.80666666666667]
[57,null,565.68666666666661,554.55666666666662,522.22666666666669,476.11666666666667,422.49833333333333]
[58,null,585.20833333333337,573.90166666666664,538.745,492.9,440.34166666666664]
[59,null,604.46500000000003,592.62833333333333,555.35166666666669,509.33,458.27333333333331]
[60,null,624.42833333333328,611.44333333333338,571.69333333333338,525.93666666666661,476.11666666666667]
[61,null,648.01333333333332,635.02833333333331,596.51499999999999,545.72333333333336,493.96]
[62,null,677.07500000000005,663.9133333333333,625.57666666666671,570.45666666666671,516.39666666666665]
[63,null,712.14333333333332,697.745,657.64166666666665,599.42999999999995,542.89666666666665]
[64,null,753.39499999999998,738.02499999999998,695.80166666666662,634.32166666666672,574.07833333333338]
[65,null,802.42,785.99,741.38166666666666,675.83833333333337,616.74333333333334]
[66,null,{"$f":"+C195*$M$2","v":860.01333333333332},842.87666666666667,794.38166666666666,724.51,666.29833333333329]
[67,null,928.56,910.54,857.89333333333332,782.28,719.82833333333338]
[68,null,1007.7066666666667,987.21333333333337,930.50333333333333,848.35333333333335,780.60166666666669]
[69,null,1099.6616666666666,1077.9316666666666,1015.5683333333334,925.91,852.77]
[70,null,1206.3683333333333,1181.8116666666667,1104.6083333333333,1015.6566666666666,948.52333333333331]
[71,null,1327.915,1301.5033333333333,1226.6849999999999,1118.3,1044.4533333333334]
[72,null,1469.5133333333333,1439.8333333333333,1357.2416666666666,1237.55,1156.1949999999999]
[73,null,1632.0466666666666,1599.0983333333334,1507.4083333333333,1374.3783333333333,1283.395]
[74,null,1819.7550000000001,1783.1849999999999,1680.365,1532.0533333333333,1431.1766666666667]
[75,null,2034.4933333333333,1993.4183333333333,1871.165,1712.8716666666667,1610.14]
[76,null,2281.65,2235.0983333333334,2105.2483333333334,1920.8083333333334,1805.6216666666667]
[77,null,2562.1083333333331,2510.5216666666665,2365.7433333333333,2157.4533333333334,2027.78]
[78,null,2879.0483333333332,2820.7483333333334,2658.6566666666668,2423.9549999999999,2278.1166666666668]
[79,null,3234.59,3169.665,2987.08,2723.4050000000002,2559.6350000000002]
[80,"o más",3660.3566666666666,3586.4216666666666,3380.1633333333334,3081.95,2896.2733333333335]
[1,"Hijo",108.65,106.17666666666666,99.993333333333339,91.601666666666659,53.883333333333333]
[2,"Hijos",{"$f":"+C211*$M$2","v":182.58500000000001},178.875,168.45166666666665,153.69999999999999,80.295000000000002]
[3,"Hijos o más",267.73833333333334,262.08499999999998,247.06833333333333,225.51499999999999,114.83333333333333]
[]
[]
["FLEX 50"]
["TARIFAS ANUALES"]
["EDAD"]
[" "," ","F50-1","F50-2","F50-3","F50-4","F50-5"]
[18,null,1904,1865,1758,1605,1239]
[19,null,1935,1897,1785,1629,1265]
[20,null,1970,1927,1817,1654,1292]
[21,null,2002,1958,1852,1685,1323]
[22,null,2034,1993,1879,1712,1349]
[23,null,2068,2029,1908,1742,1377]
[24,null,2101,2062,1942,1772,1406]
[25,null,2137,2093,1974,1799,1431]
[26,null,2167,2128,2005,1828,1460]
[27,null,2205,2161,2034,1856,1490]
[28,null,2243,2196,2069,1889,1526]
[29,null,2285,2238,2110,1923,1560]
[30,null,2323,2274,2147,1954,1597]
[31,null,2363,2313,2184,1989,1629]
[32,null,2400,2356,2218,2025,1669]
[33,null,2467,2419,2281,2079,1716]
[34,null,2535,2486,2341,2135,1767]
[35,null,2598,2546,2400,2190,1817]
[36,null,2665,2612,2463,2243,1870]
[37,null,2731,2676,2520,2297,1922]
[38,null,2797,2744,2585,2359,1974]
[39,null,2866,2807,2645,2413,2030]
[40,null,2933,2872,2706,2468,2086]
[41,null,2999,2938,2768,2521,2137]
[42,null,3066,3003,2833,2582,2191]
[43,null,3187,3123,2941,2684,2290]
[44,null,3310,3245,3056,2788,2386]
[45,null,3433,3358,3172,2891,2486]
[46,null,3554,3480,3281,2995,2579]
[47,null,3676,3600,3395,3094,2676]
[48,null,3804,3727,3513,3206,2775]
[49,null,3934,3856,3630,3314,2877]
[50,null,4061,3981,3752,3422,2977]
[51,null,4189,4106,3869,3530,3076]
[52,null,4318,4231,3990,3639,3179]
[53,null,4472,4381,4128,3765,3301]
[54,null,4627,4531,4270,3894,3426]
[55,null,4778,4680,4411,4021,3550]
[56,null,4929,4832,4552,4148,3671]
[57,null,5082,4979,4697,4279,3795]
[58,null,5262,5150,4844,4428,3958]
[59,null,5436,5326,4992,4575,4118]
[60,null,5613,5496,5136,4725,4278]
[61,null,5822,5709,5360,4904,4438]
[62,null,6085,5962,5620,5124,4637]
[63,null,6400,6270,5912,5388,4876]
[64,null,6767,6631,6250,5696,5155]
[65,null,7209,7064,6655,6071,5540]
[66,null,7728,7574,7139,6511,5986]
[67,null,8343,8175,7706,7026,6465]
[68,null,9053,8868,8358,7624,7013]
[69,null,9877,9682,9125,8318,7657]
[70,null,10834,10616,9920,9125,8520]
[71,null,11933,11691,11016,10046,9382]
[72,null,13201,12933,12190,11117,10387]
[73,null,14659,14360,13541,12344,11527]
[74,null,16343,16011,15094,13762,12857]
[75,null,18273,17906,16809,15388,14457]
[76,null,20489,20077,18907,17253,16217]
[77,null,23014,22551,21254,19381,18212]
[78,null,25859,25334,23880,21770,20463]
[79,null,29053,28469,26833,24465,22991]
[80,"o más",32877,32213,30359,27686,26015]
[1,"Hijo",971,954,896,818,487]
[2,"Hijos",1636,1606,1512,1380,718]
[3,"Hijos o más",2405,2356,2218,2025,1036]
[]
["TARIFAS MENSUALES"]
["EDAD"]
[" "," ","F50-1","F50-2","F50-3","F50-4","F50-5"]
[18,null,{"$f":"+C289*$M$2","v":168.18666666666667},164.74166666666667,155.29,141.77500000000001,109.44499999999999]
[19,null,170.92500000000001,167.56833333333333,157.67500000000001,143.89500000000001,111.74166666666666]
[20,null,174.01666666666668,170.21833333333333,160.50166666666667,146.10333333333332,114.12666666666667]
[21,null,176.84333333333333,172.95666666666668,163.59333333333333,148.84166666666667,116.86499999999999]
[22,null,179.67,176.04833333333335,165.97833333333332,151.22666666666666,119.16166666666666]
[23,null,182.67333333333335,179.22833333333332,168.54,153.87666666666667,121.63500000000001]
[24,null,185.58833333333334,182.14333333333335,171.54333333333332,156.52666666666667,124.19666666666667]
[25,null,188.76833333333335,184.88166666666666,174.37,158.91166666666666,126.405]
[26,null,191.41833333333332,187.97333333333333,177.10833333333332,161.47333333333333,128.96666666666667]
[27,null,194.77500000000001,190.88833333333332,179.67,163.94666666666666,131.61666666666667]
[28,null,198.13166666666666,193.98,182.76166666666666,166.86166666666668,134.79666666666665]
[29,null,201.84166666666667,197.69,186.38333333333333,169.86500000000001,137.80000000000001]
[30,null,205.19833333333332,200.87,189.65166666666667,172.60333333333332,141.06833333333333]
[31,null,208.73166666666665,204.315,192.92,175.69499999999999,143.89500000000001]
[32,null,212,208.11333333333334,195.92333333333335,178.875,147.42833333333334]
[33,null,217.91833333333332,213.67833333333334,201.48833333333334,183.64500000000001,151.58000000000001]
[34,null,{"$f":"+C305*$M$2","v":223.92500000000001},219.59666666666666,206.78833333333333,188.59166666666667,156.08500000000001]
[35,null,229.49,224.89666666666668,212,193.45,160.50166666666667]
[36,null,235.40833333333333,230.72666666666666,217.565,198.13166666666666,165.18333333333334]
[37,null,241.23833333333334,236.38,222.6,202.90166666666667,169.77666666666667]
[38,null,247.06833333333333,242.38666666666666,228.34166666666667,208.37833333333333,174.37]
[39,null,253.16333333333333,247.95166666666665,233.64166666666668,213.14833333333334,179.31666666666666]
[40,null,259.08166666666665,253.69333333333333,239.03,218.00666666666666,184.26333333333332]
[41,null,264.91166666666669,259.52333333333331,244.50666666666666,222.68833333333333,188.76833333333335]
[42,null,270.83,265.26499999999999,250.24833333333333,228.07666666666665,193.53833333333333]
[43,null,281.51833333333332,275.86500000000001,259.78833333333336,237.08666666666667,202.28333333333333]
[44,null,292.38333333333333,286.64166666666665,269.94666666666666,246.27333333333334,210.76333333333332]
[45,null,303.24833333333333,296.62333333333333,280.19333333333333,255.37166666666667,219.59666666666666]
[46,null,313.93666666666667,307.39999999999998,289.82166666666666,264.55833333333334,227.81166666666667]
[47,null,324.71333333333331,318,299.89166666666665,273.30333333333334,236.38]
[48,null,336.02,329.21833333333331,310.315,283.19666666666666,245.125]
[49,null,347.50333333333333,340.61333333333334,320.64999999999998,292.73666666666668,254.13499999999999]
[50,null,{"$f":"+C321*$M$2","v":358.72166666666669},351.65499999999997,331.42666666666668,302.27666666666664,262.96833333333331]
[51,null,370.02833333333331,362.69666666666666,341.76166666666666,311.81666666666666,271.71333333333331]
[52,null,381.42333333333335,373.73833333333334,352.45,321.44499999999999,280.81166666666667]
[53,null,395.02666666666664,386.98833333333334,364.64,332.57499999999999,291.58833333333331]
[54,null,408.71833333333331,400.23833333333334,377.18333333333334,343.97,302.63]
[55,null,422.05666666666667,413.4,389.63833333333332,355.18833333333333,313.58333333333331]
[56,null,435.39499999999998,426.82666666666665,402.09333333333331,366.40666666666664,324.27166666666665]
[57,null,448.91,439.81166666666667,414.90166666666664,377.97833333333335,335.22500000000002]
[58,null,464.81,454.91666666666669,427.88666666666666,391.14,349.62333333333333]
[59,null,480.18,470.46333333333331,440.96,404.125,363.75666666666666]
[60,null,495.815,485.48,453.68,417.375,377.89]
[61,null,514.27666666666664,504.29500000000002,473.46666666666664,433.18666666666667,392.02333333333331]
[62,null,537.50833333333333,526.64333333333332,496.43333333333334,452.62,409.60166666666669]
[63,null,565.33333333333337,553.85,522.22666666666669,475.94,430.71333333333331]
[64,null,597.75166666666667,585.73833333333334,552.08333333333337,503.14666666666665,455.35833333333335]
[65,null,636.79499999999996,623.98666666666668,587.85833333333335,536.27166666666665,489.36666666666667]
[66,null,{"$f":"+C337*$M$2","v":682.64},669.03666666666663,630.61166666666668,575.13833333333332,528.76333333333332]
[67,null,736.96500000000003,722.125,680.69666666666672,620.63,571.07500000000005]
[68,null,799.68166666666662,783.34,738.29,673.45333333333338,619.48166666666668]
[69,null,872.46833333333336,855.24333333333334,806.04166666666663,734.75666666666666,676.36833333333334]
[70,null,957.00333333333333,937.74666666666667,876.26666666666665,806.04166666666663,752.6]
[71,null,1054.0816666666667,1032.7049999999999,973.08,887.39666666666665,828.74333333333334]
[72,null,1166.0883333333334,1142.415,1076.7833333333333,982.00166666666667,917.51833333333332]
[73,null,1294.8783333333333,1268.4666666666667,1196.1216666666667,1090.3866666666668,1018.2183333333334]
[74,null,1443.6316666666667,1414.3050000000001,1333.3033333333333,1215.6433333333334,1135.7016666666666]
[75,null,1614.115,1581.6966666666667,1484.7950000000001,1359.2733333333333,1277.0350000000001]
[76,null,1809.8616666666667,1773.4683333333332,1670.1183333333333,1524.0150000000001,1432.5016666666666]
[77,null,2032.9033333333334,1992.0050000000001,1877.4366666666667,1711.9883333333332,1608.7266666666667]
[78,null,2284.2116666666666,2237.8366666666666,2109.4,1923.0166666666667,1807.5650000000001]
[79,null,2566.3483333333334,2514.7616666666668,2370.2483333333334,2161.0749999999998,2030.8716666666667]
[80,"o más",2904.1350000000002,2845.4816666666666,2681.7116666666666,2445.5966666666668,2297.9916666666668]
[1,"Hijo",85.771666666666661,84.27,79.146666666666661,72.256666666666661,43.018333333333331]
[2,"Hijos",{"$f":"+C353*$M$2","v":144.51333333333332},141.86333333333334,133.56,121.9,63.423333333333332]
[3,"Hijos o más",212.44166666666666,208.11333333333334,195.92333333333335,178.875,91.513333333333335]
[]
["ESSENTIAL"]
["TARIFAS ANUALES"]
["EDAD"]
[" "," ","ET1","ET2","ET3","ET4","ET5","ET6"]
[18,-24,{"$f":"L430*85%","v":3657.5499999999997},{"$f":"M430*85%","v":3091.45},2420.7999999999997,1757.8,1402.5,1060.8,null,null,null,4303,3637,2848,2068,1650,1248]
[25,-29,{"$f":"L431*85%","v":4057.0499999999997},3404.25,2734.45,1959.25,1569.95,1181.5,null,null,null,4773,4005,3217,2305,1847,1390]
[30,-34,4693.7,3905.75,3217.25,2274.6,1813.05,1368.5,null,null,null,5522,4595,3785,2676,2133,1610]
[35,-39,5190.95,4303.55,3596.35,2533,2017.05,1520.6499999999999,null,null,null,6107,5063,4231,2980,2373,1789]
[40,-44,5853.0999999999995,4831.3999999999996,4104.6499999999996,2862.7999999999997,2287.35,1716.1499999999999,null,null,null,6886,5684,4829,3368,2691,2019]
[45,-49,6786.4,5566.65,4815.25,3338.7999999999997,2658.7999999999997,1996.6499999999999,null,null,null,7984,6549,5665,3928,3128,2349]
[50,-54,7430.7,6068.15,5303.15,3657.5499999999997,2917.2,2183.65,null,null,null,8742,7139,6239,4303,3432,2569]
[55,-59,8782.1999999999989,7136.5999999999995,6334.2,4339.25,3465.45,2584.85,null,null,null,10332,8396,7452,5105,4077,3041]
[60,null,9259.0499999999993,7471.5,6770.25,4598.5,3663.5,2736.15,null,null,null,10893,8790,7965,5410,4310,3219]
[61,null,10421.85,8417.5499999999993,7616,5179.05,4129.3,3088.0499999999997,null,null,null,12261,9903,8960,6093,4858,3633]
[62,null,11593.15,9357.65,8470.25,5759.5999999999995,4593.3999999999996,3438.25,null,null,null,13639,11009,9965,6776,5404,4045]
[63,null,12752.55,10297.75,9319.4,6343.55,5055.8,3782.5,null,null,null,15003,12115,10964,7463,5948,4450]
[64,null,13915.35,11243.8,10171.1,6920.7,5519.9,4129.3,null,null,null,16371,13228,11966,8142,6494,4858]
[65,null,13973.15,11252.3,10273.1,6961.5,5551.3499999999995,4145.45,null,null,null,16439,13238,12086,8190,6531,4877]
[66,null,14028.4,11264.199999999999,10362.35,7006.55,5577.7,4153.0999999999995,null,null,null,16504,13252,12191,8243,6562,4886]
[67,null,15594.949999999999,12517.1,11521.75,7789.4,6206.7,4623.1499999999996,null,null,null,18347,14726,13555,9164,7302,5439]
[68,null,17163.2,13784.449999999999,12679.449999999999,8566.2999999999993,6829.75,5092.3499999999995,null,null,null,20192,16217,14917,10078,8035,5991]
[69,null,17943.5,14402.4,13259.15,8962.4,7133.2,5328.65,null,null,null,21110,16944,15599,10544,8392,6269]
[70,null,18071,14435.55,13485.25,9058.4499999999989,7211.4,5355.8499999999995,null,null,null,21260,16983,15865,10657,8484,6301]
[71,null,20337.099999999999,16243.5,15171.65,10193.199999999999,8114.95,6028.2,null,null,null,23926,19110,17849,11992,9547,7092]
[72,null,22600.649999999998,18054,16870.8,11330.5,9019.35,6705.65,null,null,null,26589,21240,19848,13330,10611,7889]
[73,null,24868.45,19877.25,18560.599999999999,12468.65,9928.85,7378,null,null,null,29257,23385,21836,14669,11681,8680]
[74,null,27132.85,21683.5,20256.349999999999,13605.1,10834.1,8054.5999999999995,null,null,null,31921,25510,23831,16006,12746,9476]
[75,"o más",29639.5,23635.95,22213.05,14885.199999999999,11854.949999999999,8803.4499999999989,null,null,null,34870,27807,26133,17512,13947,10357]
[1,"Hijo",1666.85,1501.1,887.4,717.4,571.19999999999993,422.45,null,null,null,1961,1766,1044,844,672,497]
[2,"Hijos",2736.15,2532.15,1319.2,1123.7,895.05,663,null,null,null,3219,2979,1552,1322,1053,780]
[3,"Hijos o más",{"$f":"L456*85%","v":4004.35},{"$f":"M456*85%","v":3708.5499999999997},1893.8,1632,1299.6499999999999,957.94999999999993,null,null,null,4711,4363,2228,1920,1529,1127]
[]
["TARIFAS MENSUALES"]
["EDAD"]
[" "," ","ET1","ET2","ET3","ET4","ET5","ET6"]
[18,-24,{"$f":"+C430*$M$2","v":323.08358333333331},273.07808333333332,213.83733333333331,155.27233333333334,123.8875,93.703999999999994]
[25,-29,358.37275,300.70875000000001,241.54308333333333,173.06708333333333,138.67891666666668,104.36583333333333]
[30,-34,414.61016666666666,345.00791666666669,284.19041666666669,200.923,160.15275,120.88416666666667]
[35,-39,458.53391666666664,380.1469166666667,317.6775833333333,223.74833333333333,178.17275000000001,134.32408333333333]
[40,-44,517.0238333333333,426.77366666666666,362.57741666666664,252.88066666666666,202.04925,151.59324999999998]
[45,-49,599.46533333333332,491.72074999999995,425.34708333333333,294.92733333333331,234.86066666666665,176.37074999999999]
[50,-54,656.37850000000003,536.01991666666663,468.44491666666664,323.08358333333331,257.68599999999998,192.88908333333333]
[55,-59,775.76099999999985,630.39966666666658,559.52099999999996,383.30041666666665,306.11474999999996,228.32841666666667]
[60,null,817.88274999999999,659.98249999999996,598.03875000000005,406.20083333333332,323.60916666666668,241.69325000000001]
[61,null,920.59675000000004,743.55024999999989,672.74666666666667,457.48275000000001,364.75483333333335,272.77774999999997]
[62,null,1024.0615833333334,826.59241666666662,748.20541666666668,508.76466666666664,405.75033333333329,303.71208333333334]
[63,null,1126.47525,909.63458333333335,823.21366666666665,560.34691666666663,446.59566666666666,334.12083333333334]
[64,null,1229.1892500000001,993.20233333333329,898.4471666666667,611.32849999999996,487.59116666666665,364.75483333333335]
[65,null,1234.2949166666667,993.95316666666656,907.45716666666669,614.9325,490.36924999999997,366.18141666666668]
[66,null,1239.1753333333334,995.00433333333319,915.34091666666666,618.91191666666668,492.6968333333333,366.85716666666661]
[67,null,1377.5539166666665,1105.6771666666666,1017.7545833333334,688.06366666666668,548.25850000000003,408.37824999999998]
[68,null,{"$f":"+C446*$M$2","v":1516.0826666666667},1217.6264166666665,1120.0180833333332,756.68983333333324,603.29458333333332,449.82424999999995]
[69,null,1585.0091666666667,1272.212,1171.2249166666666,791.67866666666669,630.09933333333333,470.69741666666664]
[70,null,1596.2716666666668,1275.1402499999999,1191.1970833333332,800.16308333333325,637.00699999999995,473.10008333333326]
[71,null,1796.4438333333333,1434.8425,1340.1624166666666,900.39933333333329,716.82058333333327,532.49099999999999]
[72,null,1996.3907499999998,1594.77,1490.2539999999999,1000.8608333333333,796.70925,592.33241666666663]
[73,null,2196.7130833333335,1755.82375,1639.5196666666666,1101.3974166666667,877.04841666666675,651.72333333333336]
[74,null,2396.735083333333,1915.3758333333333,1789.3109166666666,1201.7838333333334,957.01216666666664,711.48966666666661]
[75,"o más",2618.1558333333332,2087.8422500000001,1962.15275,1314.8593333333333,1047.1872499999999,777.63808333333327]
[1,"Hijo",147.23841666666667,132.59716666666665,78.387,63.370333333333335,50.455999999999996,37.316416666666669]
[2,"Hijos",241.69325000000001,223.67325,116.52933333333334,99.260166666666677,79.062749999999994,58.564999999999998]
[3,"Hijos o más",353.71758333333332,327.5885833333333,167.28566666666666,144.16,114.80241666666666,84.618916666666664]
[]
["ESSENTIAL 500"]
["TARIFAS SEMESTRALES"]
["EDAD"]
[" "," ","F500-1","F500-2","F500-3","F500-4","F500-5"]
[18,null,{"$f":"+C6*$M$3","v":1035.1500000000001},{"$f":"+D6*$M$3","v":885.28499999999997},648.38499999999999,447.02000000000004,242.565,143.17000000000002,82.4]
[19,null,{"$f":"+C7*$M$3","v":1052.145},885.28499999999997,648.38499999999999,447.53500000000003,245.14000000000001,145.22999999999999,83.945000000000007]
[20,null,1070.6849999999999,885.28499999999997,648.38499999999999,448.565,247.715,147.29,86.004999999999995]
[21,null,1090.77,885.28499999999997,649.41499999999996,451.65500000000003,250.80500000000001,150.38,88.58]
[22,null,1108.28,885.28499999999997,650.96,455.26,254.41,153.47,90.64]
[23,null,1126.82,887.34500000000003,655.08000000000004,459.89500000000004,258.53000000000003,157.07500000000002,93.215000000000003]
[24,null,1129.9100000000001,891.46500000000003,660.745,465.56,263.68,160.68,96.305000000000007]
[25,null,1135.06,898.16,667.95500000000004,472.77000000000004,269.34500000000003,165.315,99.91]
[26,null,1143.3,906.91500000000008,677.22500000000002,481.01,275.52500000000003,169.95000000000002,103]
[27,null,1154.6300000000001,918.245,688.04,490.79500000000002,282.73500000000001,175.61500000000001,106.605]
[28,null,1168.5350000000001,931.63499999999999,700.4,501.09500000000003,290.97500000000002,181.28,111.24000000000001]
[29,null,1186.0450000000001,947.6,714.30500000000006,513.97,299.73,187.97499999999999,115.875]
[30,null,1206.1300000000001,966.65499999999997,731.30000000000007,527.36,309.51499999999999,194.67000000000002,121.02500000000001]
[31,null,1229.82,988.28500000000008,749.32500000000005,542.81000000000006,320.33,202.39500000000001,126.69]
[32,null,1257.115,1012.49,769.92500000000007,559.29,332.17500000000001,211.15,132.87]
[33,null,1288.0150000000001,1039.7850000000001,793.1,578.34500000000003,344.53500000000003,220.42000000000002,139.05000000000001]
[34,null,1322.0050000000001,1069.655,818.85,598.94500000000005,358.95499999999998,230.20500000000001,146.77500000000001]
[35,null,{"$f":"+C23*$M$3","v":1360.115},1103.1300000000001,847.17500000000007,621.60500000000002,373.89,241.535,154.5]
[36,null,1402.345,1140.21,878.07500000000005,645.81000000000006,390.88499999999999,253.38,163.255]
[37,null,1448.18,1180.3800000000001,911.03499999999997,673.10500000000002,409.42500000000001,266.255,172.01]
[38,null,1498.65,1224.67,947.6,701.94500000000005,428.995,280.16000000000003,182.31]
[39,null,1553.7550000000001,1272.5650000000001,988.28500000000008,733.875,450.625,295.61,193.125]
[40,null,1597.53,1324.58,1031.5450000000001,768.38,473.8,312.09000000000003,205.48500000000001]
[41,null,1633.0650000000001,1380.7150000000001,1077.895,805.46,498.52000000000004,330.11500000000001,218.875]
[42,null,1671.69,1442.5150000000001,1128.8800000000001,846.66,526.33000000000004,349.685,232.78]
[43,null,1735.55,1507.92,1183.9850000000001,890.43500000000006,556.20000000000005,371.315,248.23000000000002]
[44,null,1802.5,1568.175,1243.21,937.81500000000005,588.13,393.97500000000002,265.22500000000002]
[45,null,1869.45,1624.825,1307.585,989.31500000000005,622.63499999999999,418.69499999999999,283.25]
[46,null,1935.3700000000001,1683.02,1376.595,1044.42,660.745,445.99,302.82]
[47,null,2002.835,1740.7,1450.7550000000001,1104.1600000000001,700.91499999999996,474.83,324.45]
[48,null,2073.9050000000002,1802.5,1531.095,1168.5350000000001,745.20500000000004,506.76,348.14]
[49,null,2142.915,1863.27,1617.615,1238.575,792.58500000000004,541.78,373.375]
[50,null,2212.9549999999999,1925.07,1717.01,1319.43,848.20500000000004,581.43500000000006,403.245]
[51,null,{"$f":"+C39*$M$3","v":2281.9650000000001},1985.325,1810.2250000000001,1416.25,915.67000000000007,630.875,439.29500000000002]
[52,null,2352.52,2046.6100000000001,1865.845,1520.7950000000001,987.77,683.40499999999997,478.435]
[53,null,2435.9500000000003,2118.1950000000002,1932.7950000000001,1632.55,1065.02,739.54,520.66499999999996]
[54,null,2519.895,2190.81,1997.6849999999999,1753.06,1148.45,799.79500000000007,565.98500000000001]
[55,null,2604.355,2264.4549999999999,2063.605,1821.04,1238.06,864.68500000000006,613.88]
[56,null,2687.27,2336.04,2129.0100000000002,1883.355,1310.1600000000001,934.72500000000002,665.89499999999998]
[57,null,2769.1550000000002,2409.17,2195.96,1947.2150000000001,1350.845,1009.9150000000001,722.03]
[58,null,2864.9450000000002,2490.54,2264.9700000000003,2030.645,1404.405,1090.2550000000001,782.28499999999997]
[59,null,2960.7350000000001,2575,2332.9500000000003,2112.0149999999999,1457.45,1176.7750000000001,846.66]
[60,null,3056.01,2656.8850000000002,2402.9900000000002,2194.9299999999998,1511.01,1270.5050000000001,916.18500000000006]
[61,null,3173.9450000000002,2758.855,2506.5050000000001,2276.8150000000001,1567.145,1370.415,990.86]
[62,null,3316.085,2883.4850000000001,2629.0750000000003,2379.3000000000002,1638.73,1479.08,1071.7149999999999]
[63,null,3487.0650000000001,3031.29,2765.55,2501.87,1724.22,1595.47,1158.2350000000001]
[64,null,3687.4,3207.42,2923.6550000000002,2646.07,1914.2550000000001,1721.645,1250.9349999999999]
[65,null,3929.4500000000003,3415.9949999999999,3114.2049999999999,2843.83,2049.1849999999999,1857.0900000000001,1351.3600000000001]
[66,null,4211.1549999999997,3662.165,3339.26,3070.9450000000002,2207.29,2003.865,1459.51]
[67,null,{"$f":"+C55*$M$3","v":4547.45},3954.6849999999999,3606.5450000000001,3319.1750000000002,2383.9349999999999,2161.4549999999999,1575.9]
[68,null,4934.7300000000005,4289.95,3912.4549999999999,3598.82,2585.3000000000002,2331.92,1701.56]
[69,null,5384.3249999999998,4681.8649999999998,4269.3500000000004,3929.9650000000001,2689.33,2515.7750000000001,1835.9750000000001]
[70,null,5905.5050000000001,5135.58,4641.6949999999997,4373.38,2973.61,2713.02,1980.69]
[71,null,6504.45,5656.2449999999999,5156.18,4815.7650000000003,3275.915,2925.7150000000001,2134.6750000000002]
[72,null,7195.0650000000005,6256.22,5705.17,5329.7350000000006,3625.6,3153.3450000000003,2299.4749999999999]
[73,null,7991.2550000000001,6948.38,6335.0150000000003,5916.835,4023.6950000000002,3397.4549999999999,2474.5750000000003]
[74,null,8909.5,7746.1149999999998,7062.71,6597.665,4487.71,3657.53,2659.46]
[75,null,9961.130000000001,8662.3000000000011,7866.1100000000006,7423.7250000000004,5035.1549999999997,3933.0550000000003,2853.6150000000002]
[76,null,11171.895,9713.93,8850.2749999999996,8323.9449999999997,5645.9449999999997,4224.03,3056.01]
[77,null,12545.4,10910.275,9947.2250000000004,9280.3000000000011,6342.2250000000004,4528.3950000000004,3264.07]
[78,null,14097.095000000001,12258.03,11176.014999999999,9954.9500000000007,6829.415,4844.6050000000005,3476.25]
[79,null,15838.825000000001,13771.615,12557.76,10663.075000000001,7309.91,5169.57,3686.37]
[80,"o más",17800.975000000002,15585.960000000001,13873.585000000001,11402.1,7805.34,5498.14,3890.8250000000003]
[1,"Hijo",682.89,593.79499999999996,430.02500000000003,294.58,160.68,94.245000000000005,54.075000000000003]
[2,"Hijos",807.52,701.43000000000006,508.30500000000001,348.65500000000003,189.52,111.75500000000001,63.86]
[3,"Hijos o más",{"$f":"+C71*$M$3","v":1118.0650000000001},971.29000000000008,704.005,482.55500000000001,262.65000000000003,154.5,89.094999999999999]
[]
["ESSENTIAL 100"]
["TARIFAS SEMESTRALES"]
["EDAD"]
[" "," ","F100-1","F100-2","F100-3","F100-4","F100-5"]
[18,null,{"$f":"+C147*$M$3","v":1232.9100000000001},{"$f":"+D147*$M$3","v":1207.675},1140.7250000000001,1040.8150000000001,{"$f":"+G147*$M$3","v":805.46}]
[19,null,{"$f":"+C148*$M$3","v":1256.085},1231.365,1161.325,1059.355,821.94]
[20,null,1277.2,1248.875,1179.3500000000001,1074.8050000000001,837.39]
[21,null,1298.3150000000001,1272.5650000000001,1198.405,1092.3150000000001,855.93000000000006]
[22,null,1318.915,1296.77,1219.0050000000001,1113.43,874.47]
[23,null,1343.635,1315.31,1240.1200000000001,1129.9100000000001,892.495]
[24,null,1365.78,1337.97,1261.2350000000001,1149.48,910.005]
[25,null,1386.38,1358.57,1278.23,1169.5650000000001,931.63499999999999]
[26,null,1409.04,1380.7150000000001,1301.405,1186.0450000000001,947.08500000000004]
[27,null,1428.6100000000001,1401.3150000000001,1318.915,1205.1000000000001,965.625]
[28,null,1455.39,1427.58,1345.18,1226.73,989.31500000000005]
[29,null,1481.655,1452.3,1368.355,1246.8150000000001,1014.5500000000001]
[30,null,1508.4349999999999,1477.02,1392.0450000000001,1270.5050000000001,1036.18]
[31,null,1532.64,1501.2250000000001,1414.19,1290.5900000000001,1059.355]
[32,null,1559.42,1526.9750000000001,1440.4549999999999,1312.7350000000001,1080.9850000000001]
[33,null,1601.135,1568.69,1479.08,1346.7250000000001,1114.9750000000001]
[34,null,1643.88,1611.4349999999999,1517.7049999999999,1384.32,1147.42]
[35,null,{"$f":"+C164*$M$3","v":1686.625},1653.15,1558.905,1420.3700000000001,1179.3500000000001]
[36,null,1728.3400000000001,1694.865,1597.53,1455.39,1214.885]
[37,null,1770.0550000000001,1736.5800000000002,1636.67,1493.5,1246.3]
[38,null,1814.345,1779.325,1677.8700000000001,1528.52,1282.3500000000001]
[39,null,1859.15,1820.5250000000001,1716.4950000000001,1566.63,1316.3400000000001]
[40,null,1902.925,1864.3,1757.18,1601.135,1352.905]
[41,null,1947.2150000000001,1908.075,1797.3500000000001,1638.2150000000001,1386.895]
[42,null,1989.96,1949.79,1837.52,1673.75,1425.52]
[43,null,2068.2400000000002,2027.04,1909.6200000000001,1742.76,1484.23]
[44,null,2148.0650000000001,2104.8049999999998,1982.75,1809.1949999999999,1549.635]
[45,null,2229.4349999999999,2181.0250000000001,2055.88,1875.63,1611.95]
[46,null,2303.5950000000003,2260.85,2129.0100000000002,1942.5800000000002,1672.2050000000002]
[47,null,2384.9650000000001,2336.5549999999998,2203.17,2009.0150000000001,1736.5800000000002]
[48,null,2469.4250000000002,2418.44,2279.39,2079.5700000000002,1799.41]
[49,null,2551.8250000000003,2501.355,2356.64,2148.58,1866.875]
[50,null,2634.7400000000002,2584.27,2434.4050000000002,2219.65,1932.7950000000001]
[51,null,{"$f":"+C180*$M$3","v":2717.6550000000002},2666.1550000000002,2511.14,2290.7200000000003,1998.2]
[52,null,2802.1150000000002,2745.4650000000001,2588.9050000000002,2361.2750000000001,2063.605]
[53,null,2900.9949999999999,2844.86,2680.5750000000003,2443.6750000000002,2145.4900000000002]
[54,null,3000.39,2942.1950000000002,2772.2449999999999,2528.65,2223.2550000000001]
[55,null,3098.2400000000002,3039.0149999999999,2864.9450000000002,2612.08,2303.08]
[56,null,3199.1800000000003,3135.835,2956.1,2696.0250000000001,2383.42]
[57,null,3298.06,3233.17,3044.6800000000003,2775.85,2463.2449999999999]
[58,null,3411.875,3345.9549999999999,3140.9850000000001,2873.7000000000003,2567.2750000000001]
[59,null,3524.145,3455.1350000000002,3237.8050000000003,2969.4900000000002,2671.82]
[60,null,3640.5350000000003,3564.83,3333.08,3066.31,2775.85]
[61,null,3778.04,3702.335,3477.7950000000001,3181.67,2879.88]
[62,null,3947.4749999999999,3870.7400000000002,3647.23,3325.87,3010.69]
[63,null,4151.93,4067.9850000000001,3834.1750000000002,3494.79,3165.19]
[64,null,4392.4350000000004,4302.8249999999998,4056.6550000000002,3698.2150000000001,3346.9850000000001]
[65,null,4678.26,4582.47,4322.3950000000004,3940.2650000000003,3595.73]
[66,null,5014.04,4914.13,4631.3950000000004,4224.03,3884.645]
[67,null,{"$f":"+C196*$M$3","v":5413.68},5308.62,5001.68,4560.84,4196.7349999999997]
[68,null,5875.12,5755.64,5425.01,4946.0600000000004,4551.0550000000003]
[69,null,6411.2350000000006,6284.5450000000001,5920.9549999999999,5398.2300000000005,4971.8100000000004]
[70,null,7033.3550000000005,6890.1850000000004,6440.0749999999998,5921.47,5530.07]
[71,null,7741.9949999999999,7588.01,7151.8050000000003,6519.9000000000005,6089.3600000000006]
[72,null,8567.5400000000009,8394.5,7912.9750000000004,7215.1500000000005,6740.835]
[73,null,9515.14,9323.0450000000001,8788.4750000000004,8012.8850000000002,7482.4350000000004]
[74,null,10609.514999999999,10396.305,9796.8449999999993,8932.16,8344.0300000000007]
[75,null,11861.48,11622.005000000001,10909.245000000001,9986.3649999999998,9387.42]
[76,null,13302.45,13031.045,12273.995000000001,11198.675000000001,10527.115]
[77,null,14937.575000000001,14636.815000000001,13792.73,12578.36,11822.34]
[78,null,16785.395,16445.494999999999,15500.470000000001,14132.115,13281.85]
[79,null,18858.27,18479.744999999999,17415.240000000002,15877.965,14923.155000000001]
[80,"o más",21340.57,20909.514999999999,19706.990000000002,17968.350000000002,16885.82]
[1,"Hijo",633.45000000000005,619.03,582.98,534.05500000000006,314.15000000000003]
[2,"Hijos",1064.5050000000001,1042.875,982.10500000000002,896.1,468.13499999999999]
[3,"Hijos o más",{"$f":"+C212*$M$3","v":1560.9650000000001},1528.0050000000001,1440.4549999999999,1314.7950000000001,669.5]
[]
["ESSENTIAL 50"]
["TARIFAS SEMESTRALES"]
["EDAD"]
[" "," ","F50-1","F50-2","F50-3","F50-4","F50-5"]
[18,null,{"$f":"+C289*$M$3","v":980.56000000000006},{"$f":"+D289*$M$3","v":960.47500000000002},905.37,826.57500000000005,638.08500000000004]
[19,null,{"$f":"+C290*$M$3","v":996.52499999999998},976.95500000000004,919.27499999999998,838.93500000000006,651.47500000000002]
[20,null,1014.5500000000001,992.40499999999997,935.755,851.81000000000006,665.38]
[21,null,1031.03,1008.37,953.78,867.77499999999998,681.34500000000003]
[22,null,1047.51,1026.395,967.68500000000006,881.68000000000006,694.73500000000001]
[23,null,1065.02,1044.9349999999999,982.62,897.13,709.15499999999997]
[24,null,1082.0150000000001,1061.93,1000.13,912.58,724.09]
[25,null,1100.5550000000001,1077.895,1016.61,926.48500000000001,736.96500000000003]
[26,null,1116.0050000000001,1095.92,1032.575,941.42000000000007,751.9]
[27,null,1135.575,1112.915,1047.51,955.84,767.35]
[28,null,1155.145,1130.94,1065.5350000000001,972.83500000000004,785.89]
[29,null,1176.7750000000001,1152.57,1086.6500000000001,990.34500000000003,803.4]
[30,null,1196.345,1171.1100000000001,1105.7049999999999,1006.3100000000001,822.45500000000004]
[31,null,1216.9449999999999,1191.1949999999999,1124.76,1024.335,838.93500000000006]
[32,null,1236,1213.3399999999999,1142.27,1042.875,859.53499999999997]
[33,null,1270.5050000000001,1245.7850000000001,1174.7149999999999,1070.6849999999999,883.74]
[34,null,1305.5250000000001,1280.29,1205.615,1099.5250000000001,910.005]
[35,null,{"$f":"+C306*$M$3","v":1337.97},1311.19,1236,1127.8500000000001,935.755]
[36,null,1372.4750000000001,1345.18,1268.4449999999999,1155.145,963.05000000000007]
[37,null,1406.4650000000001,1378.14,1297.8,1182.9549999999999,989.83]
[38,null,1440.4549999999999,1413.16,1331.2750000000001,1214.885,1016.61]
[39,null,1475.99,1445.605,1362.175,1242.6949999999999,1045.45]
[40,null,1510.4950000000001,1479.08,1393.5900000000001,1271.02,1074.29]
[41,null,1544.4850000000001,1513.07,1425.52,1298.3150000000001,1100.5550000000001]
[42,null,1578.99,1546.5450000000001,1458.9950000000001,1329.73,1128.365]
[43,null,1641.3050000000001,1608.345,1514.615,1382.26,1179.3500000000001]
[44,null,1704.65,1671.175,1573.8400000000001,1435.82,1228.79]
[45,null,1767.9950000000001,1729.3700000000001,1633.5800000000002,1488.865,1280.29]
[46,null,1830.31,1792.2,1689.7150000000001,1542.425,1328.1849999999999]
[47,null,1893.14,1854,1748.425,1593.41,1378.14]
[48,null,1959.06,1919.405,1809.1949999999999,1651.0900000000001,1429.125]
[49,null,2026.01,1985.8400000000001,1869.45,1706.71,1481.655]
[50,null,2091.415,2050.2150000000001,1932.28,1762.3300000000002,1533.155]
[51,null,{"$f":"+C322*$M$3","v":2157.335},2114.59,1992.5350000000001,1817.95,1584.14]
[52,null,2223.77,2178.9650000000001,2054.85,1874.085,1637.1849999999999]
[53,null,2303.08,2256.2150000000001,2125.92,1938.9750000000001,1700.0150000000001]
[54,null,2382.9050000000002,2333.4650000000001,2199.0500000000002,2005.41,1764.39]
[55,null,2460.67,2410.2000000000003,2271.665,2070.8150000000001,1828.25]
[56,null,2538.4349999999999,2488.48,2344.2800000000002,2136.2200000000003,1890.5650000000001]
[57,null,2617.23,2564.1849999999999,2418.9549999999999,2203.6849999999999,1954.425]
[58,null,2709.9300000000003,2652.25,2494.66,2280.42,2038.3700000000001]
[59,null,2799.54,2742.89,2570.88,2356.125,2120.77]
[60,null,2890.6950000000002,2830.44,2645.04,2433.375,2203.17]
[61,null,2998.33,2940.1350000000002,2760.4,2525.56,2285.5700000000002]
[62,null,3133.7750000000001,3070.4300000000003,2894.3,2638.86,2388.0549999999998]
[63,null,3296,3229.05,3044.6800000000003,2774.82,2511.14]
[64,null,3485.0050000000001,3414.9650000000001,3218.75,2933.44,2654.8250000000003]
[65,null,3712.6350000000002,3637.96,3427.3250000000003,3126.5650000000001,2853.1]
[66,null,3979.92,3900.61,3676.585,3353.165,3082.79]
[67,null,{"$f":"+C338*$M$3","v":4296.6450000000004},4210.125,3968.59,3618.39,3329.4749999999999]
[68,null,4662.2950000000001,4567.0200000000004,4304.37,3926.36,3611.6950000000002]
[69,null,5086.6549999999997,4986.2300000000005,4699.375,4283.7700000000004,3943.355]
[70,null,5579.51,5467.24,5108.8,4699.375,4387.8]
[71,null,6145.4949999999999,6020.8649999999998,5673.24,5173.6900000000005,4831.7300000000005]
[72,null,6798.5150000000003,6660.4949999999999,6277.85,5725.2550000000001,5349.3050000000003]
[73,null,7549.3850000000002,7395.4000000000005,6973.6149999999998,6357.16,5936.4049999999997]
[74,null,8416.6450000000004,8245.6650000000009,7773.41,7087.43,6621.3550000000005]
[75,null,9410.5949999999993,9221.59,8656.6350000000002,7924.8200000000006,7445.3550000000005]
[76,null,10551.835000000001,10339.655000000001,9737.1049999999996,8885.2950000000001,8351.755000000001]
[77,null,11852.210000000001,11613.764999999999,10945.81,9981.2150000000001,9379.18]
[78,null,13317.385,13047.01,12298.2,11211.550000000001,10538.445]
[79,null,14962.295,14661.535,13818.995000000001,12599.475,11840.365]
[80,"o más",16931.654999999999,16589.695,15634.885,14258.29,13397.725]
[1,"Hijo",500.065,491.31,461.44,421.27000000000004,250.80500000000001]
[2,"Hijos",842.54000000000008,827.09,778.68000000000006,710.7,369.77]
[3,"Hijos o más",{"$f":"+C354*$M$3","v":1238.575},1213.3399999999999,1142.27,1042.875,533.54]
[]
["ESSENTIAL 500"]
["TARIFAS TRIMESTRALES"]
["EDAD"]
[" "," ","F500-1","F500-2","F500-3","F500-4","F500-5"]
[18,null,{"$f":"+C6*$M$4","v":525.11249999999995},{"$f":"+D6*$M$4","v":449.08874999999995},328.91374999999999,226.76499999999999,123.04875,72.627499999999998,41.8]
[19,null,{"$f":"+C7*$M$4","v":533.73374999999999},449.08874999999995,328.91374999999999,227.02624999999998,124.35499999999999,73.672499999999999,42.583749999999995]
[20,null,543.13874999999996,449.08874999999995,328.91374999999999,227.54874999999998,125.66125,74.717500000000001,43.628749999999997]
[21,null,553.32749999999999,449.08874999999995,329.43624999999997,229.11624999999998,127.22874999999999,76.284999999999997,44.934999999999995]
[22,null,562.20999999999992,449.08874999999995,330.21999999999997,230.94499999999999,129.0575,77.852499999999992,45.98]
[23,null,571.61500000000001,450.13374999999996,332.31,233.29624999999999,131.14749999999998,79.681249999999991,47.286249999999995]
[24,null,573.1825,452.22375,335.18374999999997,236.17,133.76,81.509999999999991,48.853749999999998]
[25,null,575.79499999999996,455.61999999999995,338.84125,239.82749999999999,136.63374999999999,83.861249999999998,50.682499999999997]
[26,null,579.97499999999991,460.06124999999997,343.54374999999999,244.00749999999999,139.76874999999998,86.212499999999991,52.25]
[27,null,585.72249999999997,465.80874999999997,349.03,248.97124999999997,143.42624999999998,89.086249999999993,54.078749999999999]
[28,null,592.77625,472.60124999999999,355.29999999999995,254.19624999999999,147.60624999999999,91.96,56.429999999999993]
[29,null,601.65874999999994,480.7,362.35374999999999,260.72749999999996,152.04749999999999,95.356249999999989,58.781249999999993]
[30,null,611.84749999999997,490.36624999999998,370.97499999999997,267.52,157.01124999999999,98.752499999999998,61.393749999999997]
[31,null,623.86500000000001,501.33874999999995,380.11874999999998,275.35749999999996,162.4975,102.67124999999999,64.267499999999998]
[32,null,637.71124999999995,513.61749999999995,390.56874999999997,283.71749999999997,168.50624999999999,107.1125,67.402499999999989]
[33,null,653.3862499999999,527.46375,402.32499999999999,293.38374999999996,174.77624999999998,111.815,70.537499999999994]
[34,null,670.62874999999997,542.61624999999992,415.38749999999999,303.83374999999995,182.09124999999997,116.77874999999999,74.456249999999997]
[35,null,{"$f":"+C23*$M$4","v":689.96124999999995},559.59749999999997,429.75624999999997,315.32874999999996,189.66749999999999,122.52624999999999,78.375]
[36,null,711.38374999999996,578.40749999999991,445.43124999999998,327.60749999999996,198.28874999999999,128.535,82.816249999999997]
[37,null,734.63499999999999,598.78499999999997,462.15124999999995,341.45374999999996,207.69374999999999,135.06625,87.257499999999993]
[38,null,760.23749999999995,621.25249999999994,480.7,356.08374999999995,217.62124999999997,142.12,92.482499999999987]
[39,null,788.19124999999997,645.54874999999993,501.33874999999995,372.28125,228.59374999999997,149.95749999999998,97.96875]
[40,null,810.39749999999992,671.93499999999995,523.28374999999994,389.78499999999997,240.35,158.3175,104.23875]
[41,null,828.42374999999993,700.41125,546.79624999999999,408.59499999999997,252.89,167.46124999999998,111.03124999999999]
[42,null,848.01749999999993,731.7612499999999,572.66,429.49499999999995,266.9975,177.38874999999999,118.08499999999999]
[43,null,880.41249999999991,764.93999999999994,600.61374999999998,451.70124999999996,282.14999999999998,188.36124999999998,125.92249999999999]
[44,null,914.37499999999989,795.50624999999991,630.65749999999991,475.73624999999998,298.34749999999997,199.85624999999999,134.54374999999999]
[45,null,948.33749999999998,824.24374999999998,663.31374999999991,501.86124999999998,315.85124999999999,212.39624999999998,143.6875]
[46,null,981.77749999999992,853.76499999999999,698.32124999999996,529.81499999999994,335.18374999999997,226.24249999999998,153.61499999999998]
[47,null,1016.0012499999999,883.02499999999998,735.94124999999997,560.12,355.56124999999997,240.87249999999997,164.58749999999998]
[48,null,1052.05375,914.37499999999989,776.69624999999996,592.77625,378.02875,257.07,176.60499999999999]
[49,null,1087.06125,945.20249999999999,820.58624999999995,628.30624999999998,402.06374999999997,274.83499999999998,189.40625]
[50,null,1122.5912499999999,976.5524999999999,871.00749999999994,669.32249999999999,430.27874999999995,294.95124999999996,204.55874999999997]
[51,null,{"$f":"+C39*$M$4","v":1157.5987499999999},1007.11875,918.29374999999993,718.4375,464.50249999999994,320.03125,222.84625]
[52,null,1193.3899999999999,1038.2075,946.50874999999996,771.47124999999994,501.07749999999999,346.67874999999998,242.70124999999999]
[53,null,1235.7124999999999,1074.52125,980.47124999999994,828.16249999999991,540.26499999999999,375.15499999999997,264.12374999999997]
[54,null,1278.2962499999999,1111.3574999999998,1013.38875,889.29499999999996,582.58749999999998,405.72125,287.11374999999998]
[55,null,1321.1412499999999,1148.7162499999999,1046.8287499999999,923.78,628.04499999999996,438.63874999999996,311.40999999999997]
[56,null,1363.2024999999999,1185.03,1080.0074999999999,955.3912499999999,664.62,474.16874999999999,337.79624999999999]
[57,null,1404.7412499999998,1222.1274999999998,1113.97,987.78624999999988,685.25874999999996,512.31124999999997,366.27249999999998]
[58,null,1453.33375,1263.405,1148.9775,1030.1087499999999,712.42874999999992,553.06624999999997,396.83874999999995]
[59,null,1501.92625,1306.25,1183.4624999999999,1071.38625,739.33749999999998,596.95624999999995,429.49499999999995]
[60,null,1550.2574999999999,1347.7887499999999,1218.9924999999998,1113.4475,766.50749999999994,644.50374999999997,464.76374999999996]
[61,null,1610.0837499999998,1399.5162499999999,1271.5037499999999,1154.9862499999999,794.98374999999999,695.18624999999997,502.64499999999998]
[62,null,1682.1887499999998,1462.73875,1333.6812499999999,1206.9749999999999,831.2974999999999,750.31,543.66125]
[63,null,1768.9237499999999,1537.7175,1402.9124999999999,1269.1524999999999,874.66499999999996,809.35249999999996,587.55124999999998]
[64,null,1870.55,1627.0649999999998,1483.1162499999998,1342.3025,971.06624999999997,873.35874999999999,634.57624999999996]
[65,null,1993.3374999999999,1732.8712499999999,1579.7787499999999,1442.6224999999999,1039.5137499999998,942.06749999999988,685.52]
[66,null,2136.24125,1857.74875,1693.9449999999999,1557.8337499999998,1119.7175,1016.5237499999999,740.38249999999994]
[67,null,{"$f":"+C55*$M$4","v":2306.8374999999996},2006.1387499999998,1829.5337499999998,1683.7562499999999,1209.3262499999998,1096.4662499999999,799.42499999999995]
[68,null,2503.2974999999997,2176.2124999999996,1984.7162499999999,1825.6149999999998,1311.4749999999999,1182.9399999999998,863.17]
[69,null,2731.3687499999996,2375.0237499999998,2165.7624999999998,1993.5987499999999,1364.2474999999999,1276.20625,931.35624999999993]
[70,null,2995.7537499999999,2605.1849999999999,2354.6462499999998,2218.5349999999999,1508.4575,1376.2649999999999,1004.7674999999999]
[71,null,3299.5874999999996,2869.3087499999997,2615.6349999999998,2442.94875,1661.81125,1484.1612499999999,1082.8812499999999]
[72,null,3649.9237499999999,3173.665,2894.1274999999996,2703.67625,1839.1999999999998,1599.63375,1166.4812499999998]
[73,null,4053.8162499999999,3524.7849999999999,3213.6362499999996,3001.5012499999998,2041.1462499999998,1723.4662499999999,1255.3062499999999]
[74,null,4519.625,3929.4612499999998,3582.7824999999998,3346.8737499999997,2276.5324999999998,1855.3974999999998,1349.0949999999998]
[75,null,5053.0974999999999,4394.2249999999995,3990.3324999999995,3765.9187499999998,2554.24125,1995.1662499999998,1447.5862499999998]
[76,null,5667.2962499999994,4927.6974999999993,4489.5812499999993,4222.5837499999998,2864.0837499999998,2142.7725,1550.2574999999999]
[77,null,6364.0499999999993,5534.5812499999993,5046.0437499999998,4707.7249999999995,3217.2937499999998,2297.1712499999999,1655.8024999999998]
[78,null,7151.19625,6218.2724999999991,5669.3862499999996,5049.9624999999996,3464.4362499999997,2457.5787499999997,1763.4374999999998]
[79,null,8034.7437499999996,6986.0862499999994,6370.32,5409.1812499999996,3708.1824999999999,2622.4274999999998,1870.0274999999999]
[80,"o más",9030.1062499999989,7906.4699999999993,7037.8137499999993,5784.0749999999998,3959.5049999999997,2789.105,1973.7437499999999]
[1,"Hijo",346.41749999999996,301.22125,218.14374999999998,149.435,81.509999999999991,47.808749999999996,27.431249999999999]
[2,"Hijos",409.64,355.82249999999999,257.85374999999999,176.86624999999998,96.139999999999986,56.691249999999997,32.394999999999996]
[3,"Hijos o más",{"$f":"+C71*$M$4","v":567.17374999999993},492.71749999999997,357.12874999999997,244.79124999999999,133.23749999999998,78.375,45.196249999999999]
[]
["ESSENTIAL 100"]
["TARIFAS TRIMESTRALES"]
["EDAD"]
[" "," ","F100-1","F100-2","F100-3","F100-4","F100-5"]
[18,null,{"$f":"+C147*$M$4","v":625.4325},{"$f":"+D147*$M$4","v":612.63124999999991},578.66874999999993,527.98624999999993,408.59499999999997]
[19,null,{"$f":"+C148*$M$4","v":637.18874999999991},624.64874999999995,589.11874999999998,537.39125000000001,416.95499999999998]
[20,null,647.9,633.53125,598.26249999999993,545.22874999999999,424.79249999999996]
[21,null,658.61124999999993,645.54874999999993,607.92874999999992,554.11124999999993,434.19749999999999]
[22,null,669.06124999999997,657.82749999999999,618.37874999999997,564.82249999999999,443.60249999999996]
[23,null,681.60124999999994,667.23249999999996,629.08999999999992,573.1825,452.74624999999997]
[24,null,692.83499999999992,678.72749999999996,639.80124999999998,583.11,461.62874999999997]
[25,null,703.28499999999997,689.17750000000001,648.4224999999999,593.29874999999993,472.60124999999999]
[26,null,714.78,700.41125,660.17874999999992,601.65874999999994,480.43874999999997]
[27,null,724.70749999999998,710.86124999999993,669.06124999999997,611.32499999999993,489.84374999999994]
[28,null,738.2924999999999,724.18499999999995,682.38499999999999,622.29750000000001,501.86124999999998]
[29,null,751.61624999999992,736.72499999999991,694.1412499999999,632.48624999999993,514.66249999999991]
[30,null,765.20124999999996,749.26499999999999,706.15874999999994,644.50374999999997,525.63499999999999]
[31,null,777.4799999999999,761.54374999999993,717.39249999999993,654.6925,537.39125000000001]
[32,null,791.06499999999994,774.60624999999993,730.71624999999995,665.92624999999998,548.36374999999998]
[33,null,812.22624999999994,795.76749999999993,750.31,683.16874999999993,565.60624999999993]
[34,null,833.91,817.45124999999996,769.90374999999995,702.24,582.06499999999994]
[35,null,{"$f":"+C164*$M$4","v":855.59374999999989},838.61249999999995,790.80374999999992,720.52749999999992,598.26249999999993]
[36,null,876.755,859.77374999999995,810.39749999999992,738.2924999999999,616.28874999999994]
[37,null,897.91624999999999,880.93499999999995,830.25249999999994,757.625,632.22499999999991]
[38,null,920.38374999999996,902.61874999999998,851.15249999999992,775.39,650.51249999999993]
[39,null,943.11249999999995,923.51874999999995,870.74624999999992,794.72249999999997,667.755]
[40,null,965.31874999999991,945.72499999999991,891.38499999999999,812.22624999999994,686.30374999999992]
[41,null,987.78624999999988,967.93124999999998,911.76249999999993,831.03625,703.54624999999999]
[42,null,1009.4699999999999,989.09249999999997,932.14,849.06249999999989,723.14]
[43,null,1049.1799999999998,1028.28,968.71499999999992,884.06999999999994,752.9224999999999]
[44,null,1089.6737499999999,1067.72875,1005.8124999999999,917.7712499999999,786.10124999999994]
[45,null,1130.9512499999998,1106.39375,1042.9099999999999,951.47249999999997,817.71249999999998]
[46,null,1168.57125,1146.8874999999998,1080.0074999999999,985.43499999999995,848.27874999999995]
[47,null,1209.8487499999999,1185.29125,1117.6274999999998,1019.1362499999999,880.93499999999995]
[48,null,1252.6937499999999,1226.83,1156.2925,1054.9275,912.80749999999989]
[49,null,1294.4937499999999,1268.8912499999999,1195.48,1089.9349999999999,947.03124999999989]
[50,null,1336.5549999999998,1310.9524999999999,1234.9287499999998,1125.9875,980.47124999999994]
[51,null,{"$f":"+C180*$M$4","v":1378.6162499999998},1352.4912499999998,1273.855,1162.04,1013.65]
[52,null,1421.4612499999998,1392.7237499999999,1313.3037499999998,1197.83125,1046.8287499999999]
[53,null,1471.6212499999999,1443.145,1359.8062499999999,1239.6312499999999,1088.3674999999998]
[54,null,1522.0424999999998,1492.52125,1406.3087499999999,1282.7375,1127.8162499999999]
[55,null,1571.6799999999998,1541.6362499999998,1453.33375,1325.06,1168.31]
[56,null,1622.885,1590.7512499999998,1499.5749999999998,1367.64375,1209.0649999999998]
[57,null,1673.0449999999998,1640.1274999999998,1544.51,1408.1374999999998,1249.5587499999999]
[58,null,1730.7812499999998,1697.3412499999999,1593.36375,1457.7749999999999,1302.33125]
[59,null,1787.7337499999999,1752.7262499999999,1642.47875,1506.3674999999998,1355.365]
[60,null,1846.7762499999999,1808.3724999999999,1690.81,1555.4824999999998,1408.1374999999998]
[61,null,1916.53,1878.1262499999998,1764.2212499999998,1614.0024999999998,1460.9099999999999]
[62,null,2002.4812499999998,1963.5549999999998,1850.1724999999999,1687.1524999999999,1527.2674999999999]
[63,null,2106.1974999999998,2063.61375,1945.0062499999999,1772.8425,1605.6424999999999]
[64,null,2228.2012500000001,2182.7437499999996,2057.86625,1876.0362499999999,1697.86375]
[65,null,2373.1949999999997,2324.6025,2192.6712499999999,1998.8237499999998,1824.0474999999999]
[66,null,2543.5299999999997,2492.8474999999999,2349.4212499999999,2142.7725,1970.6087499999999]
[67,null,{"$f":"+C196*$M$4","v":2746.2599999999998},2692.9649999999997,2537.2599999999998,2313.6299999999997,2128.92625]
[68,null,2980.3399999999997,2919.73,2752.0074999999997,2509.0449999999996,2308.6662499999998]
[69,null,3252.30125,3188.0337499999996,3003.5912499999999,2738.4224999999997,2522.1074999999996]
[70,null,3567.8912499999997,3495.2637499999996,3266.9312499999996,3003.8525,2805.3024999999998]
[71,null,3927.3712499999997,3849.2574999999997,3627.9787499999998,3307.4249999999997,3089.02]
[72,null,4346.1549999999997,4258.375,4014.1062499999998,3660.1124999999997,3419.5012499999998]
[73,null,4826.8549999999996,4729.4087499999996,4458.2312499999998,4064.7887499999997,3795.7012499999996]
[74,null,5382.0112499999996,5273.8537499999993,4969.75875,4531.12,4232.7725]
[75,null,6017.11,5895.6287499999999,5534.0587499999992,5065.8987499999994,4762.0649999999996]
[76,null,6748.0874999999996,6610.4087499999996,6226.3712499999992,5680.8812499999995,5340.2112499999994]
[77,null,7577.5562499999996,7424.9862499999999,6996.7974999999997,6380.7699999999995,5997.2549999999992]
[78,null,8514.9212499999994,8342.4962500000001,7863.1024999999991,7168.9612499999994,6737.6374999999998]
[79,null,9566.4524999999994,9374.4337500000001,8834.43,8054.5987499999992,7570.2412499999991]
[80,"o más",10825.6775,10607.01125,9996.9924999999985,9115.0124999999989,8565.8649999999998]
[1,"Hijo",321.33749999999998,314.02249999999998,295.73499999999996,270.91624999999999,159.36249999999998]
[2,"Hijos",540.00374999999997,529.03125,498.20374999999996,454.57499999999999,237.47624999999999]
[3,"Hijos o más",{"$f":"+C212*$M$4","v":791.84875},775.12874999999997,730.71624999999995,666.97124999999994,339.625]
[]
["ESSENTIAL 50"]
["TARIFAS TRIMESTRALES"]
["EDAD"]
[" "," ","F50-1","F50-2","F50-3","F50-4","F50-5"]
[18,null,{"$f":"+C289*$M$4","v":497.41999999999996},{"$f":"+D289*$M$4","v":487.23124999999999},459.27749999999997,419.30624999999998,323.68874999999997]
[19,null,{"$f":"+C290*$M$4","v":505.51874999999995},495.59124999999995,466.33124999999995,425.57624999999996,330.48124999999999]
[20,null,514.66249999999991,503.42874999999998,474.69124999999997,432.10749999999996,337.53499999999997]
[21,null,523.02249999999992,511.52749999999997,483.83499999999998,440.20624999999995,345.63374999999996]
[22,null,531.38249999999994,520.67124999999999,490.88874999999996,447.26,352.42624999999998]
[23,null,540.26499999999999,530.07624999999996,498.46499999999997,455.09749999999997,359.74124999999998]
[24,null,548.88625000000002,538.69749999999999,507.34749999999997,462.93499999999995,367.3175]
[25,null,558.29124999999999,546.79624999999999,515.70749999999998,469.98874999999998,373.84875]
[26,null,566.12874999999997,555.93999999999994,523.80624999999998,477.56499999999994,381.42499999999995]
[27,null,576.05624999999998,564.56124999999997,531.38249999999994,484.88,389.26249999999999]
[28,null,585.98374999999999,573.70499999999993,540.52625,493.50124999999997,398.66749999999996]
[29,null,596.95624999999995,584.67750000000001,551.23749999999995,502.38374999999996,407.54999999999995]
[30,null,606.88374999999996,594.08249999999998,560.90374999999995,510.48249999999996,417.21624999999995]
[31,null,617.33375000000001,604.27125000000001,570.56999999999994,519.62624999999991,425.57624999999996]
[32,null,627,615.505,579.45249999999999,529.03125,436.02624999999995]
[33,null,644.50374999999997,631.96375,595.91125,543.13874999999996,448.30499999999995]
[34,null,662.26874999999995,649.46749999999997,611.58624999999995,557.76874999999995,461.62874999999997]
[35,null,{"$f":"+C306*$M$4","v":678.72749999999996},665.14249999999993,627,572.13749999999993,474.69124999999997]
[36,null,696.23124999999993,682.38499999999999,643.45875000000001,585.98374999999999,488.53749999999997]
[37,null,713.47375,699.1049999999999,658.34999999999991,600.09124999999995,502.12249999999995]
[38,null,730.71624999999995,716.87,675.33124999999995,616.28874999999994,515.70749999999998]
[39,null,748.74249999999995,733.3287499999999,691.00624999999991,630.39625000000001,530.33749999999998]
[40,null,766.24624999999992,750.31,706.9425,644.76499999999999,544.96749999999997]
[41,null,783.48874999999998,767.5524999999999,723.14,658.61124999999993,558.29124999999999]
[42,null,800.99249999999995,784.53374999999994,740.12124999999992,674.5474999999999,572.39874999999995]
[43,null,832.60374999999999,815.88374999999996,768.33624999999995,701.19499999999994,598.26249999999993]
[44,null,864.73749999999995,847.75624999999991,798.38,728.3649999999999,623.34249999999997]
[45,null,896.87124999999992,877.27749999999992,828.68499999999995,755.27374999999995,649.46749999999997]
[46,null,928.48249999999996,909.15,857.16125,782.44374999999991,673.76374999999996]
[47,null,960.3549999999999,940.49999999999989,886.94374999999991,808.30749999999989,699.1049999999999]
[48,null,993.79499999999996,973.67874999999992,917.7712499999999,837.5675,724.96875]
[49,null,1027.7574999999999,1007.3799999999999,948.33749999999998,865.78249999999991,751.61624999999992]
[50,null,1060.93625,1040.0362499999999,980.20999999999992,893.99749999999995,777.74124999999992]
[51,null,{"$f":"+C322*$M$4","v":1094.37625},1072.6924999999999,1010.7762499999999,922.21249999999998,803.6049999999999]
[52,null,1128.0774999999999,1105.3487499999999,1042.3874999999998,950.68874999999991,830.51374999999996]
[53,null,1168.31,1144.5362499999999,1078.4399999999998,983.60624999999993,862.3862499999999]
[54,null,1208.8037499999998,1183.7237499999999,1115.5374999999999,1017.3074999999999,895.0424999999999]
[55,null,1248.2524999999998,1222.6499999999999,1152.37375,1050.4862499999999,927.43749999999989]
[56,null,1287.7012499999998,1262.3599999999999,1189.2099999999998,1083.665,959.04874999999993]
[57,null,1327.6724999999999,1300.7637499999998,1227.0912499999999,1117.8887499999998,991.44374999999991]
[58,null,1374.6975,1345.4375,1265.4949999999999,1156.8149999999998,1034.0274999999999]
[59,null,1420.155,1391.4175,1304.1599999999999,1195.21875,1075.8274999999999]
[60,null,1466.39625,1435.83,1341.78,1234.40625,1117.6274999999998]
[61,null,1520.9974999999999,1491.4762499999999,1400.3,1281.1699999999998,1159.4275]
[62,null,1589.70625,1557.5725,1468.2249999999999,1338.645,1211.41625]
[63,null,1672,1638.0374999999999,1544.51,1407.615,1273.855]
[64,null,1767.8787499999999,1732.3487499999999,1632.8125,1488.08,1346.7437499999999]
[65,null,1883.3512499999999,1845.4699999999998,1738.6187499999999,1586.0487499999999,1447.3249999999998]
[66,null,2018.9399999999998,1978.7074999999998,1865.0637499999998,1700.99875,1563.8425]
[67,null,{"$f":"+C338*$M$4","v":2179.6087499999999},2135.71875,2013.1924999999999,1835.5424999999998,1688.9812499999998]
[68,null,2365.0962500000001,2316.7649999999999,2183.5274999999997,1991.7699999999998,1832.1462499999998]
[69,null,2580.36625,2529.4224999999997,2383.90625,2173.0774999999999,2000.3912499999999]
[70,null,2830.3824999999997,2773.43,2591.6,2383.90625,2225.85]
[71,null,3117.4962499999997,3054.2737499999998,2877.93,2624.5174999999999,2451.0474999999997]
[72,null,3448.7612499999996,3378.7462499999997,3184.6374999999998,2904.3162499999999,2713.6037499999998]
[73,null,3829.6637499999997,3751.5499999999997,3537.5862499999998,3224.87,3011.4287499999996]
[74,null,4269.6087499999994,4182.8737499999997,3943.3074999999999,3595.3224999999998,3358.8912499999997]
[75,null,4773.82125,4677.9425000000001,4391.3512499999997,4020.1149999999998,3776.8912499999997]
[76,null,5352.7512499999993,5245.11625,4939.4537499999997,4507.3462499999996,4236.6912499999999]
[77,null,6012.4074999999993,5891.4487499999996,5552.6075000000001,5063.2862500000001,4757.8849999999993]
[78,null,6755.6637499999997,6618.5074999999997,6238.65,5687.4124999999995,5345.9587499999998]
[79,null,7590.0962499999996,7437.5262499999999,7010.1212499999992,6391.4812499999998,6006.3987499999994]
[80,"o más",8589.1162499999991,8415.6462499999998,7931.2887499999997,7232.9674999999997,6796.4187499999998]
[1,"Hijo",253.67374999999998,249.23249999999999,234.07999999999998,213.70249999999999,127.22874999999999]
[2,"Hijos",427.40499999999997,419.5675,395.01,360.52499999999998,187.57749999999999]
[3,"Hijos o más",{"$f":"+C354*$M$4","v":628.30624999999998},615.505,579.45249999999999,529.03125,270.65499999999997]
[]
[]
["ESSENTIAL 1000"]
["TARIFAS ANUALES"]
["EDAD"]
[" "," ","F50-1","F50-2","F50-3","F50-4","F50-5","F50-4","F50-5"]
[18,null,2365,2059,1766,1231,677,404,237]
[19,null,2404,2095,1766,1231,682,409,241]
[20,null,2445,2128,1766,1234,689,415,246]
[21,null,2491,2167,1766,1240,697,423,252]
[22,null,2533,2202,1770,1249,707,431,259]
[23,null,2574,2237,1780,1261,718,440,266]
[24,null,2617,2274,1793,1276,731,451,275]
[25,null,2657,2313,1811,1293,745,462,283]
[26,null,2700,2348,1834,1315,763,475,292]
[27,null,2741,2383,1861,1340,781,490,304]
[28,null,2793,2425,1893,1369,802,506,315]
[29,null,2841,2473,1931,1401,827,522,328]
[30,null,2890,2516,1975,1437,852,542,342]
[31,null,2939,2558,2023,1478,880,563,357]
[32,null,2990,2597,2077,1523,912,585,374]
[33,null,3071,2672,2138,1573,946,611,392]
[34,null,3153,2741,2206,1628,985,638,412]
[35,null,3234,2812,2280,1688,1026,667,433]
[36,null,3315,2884,2361,1753,1071,700,457]
[37,null,3399,2956,2450,1824,1120,735,482]
[38,null,3483,3030,2548,1903,1173,773,511]
[39,null,3567,3100,2654,1988,1231,815,541]
[40,null,3649,3172,2767,2080,1294,860,574]
[41,null,3731,3247,2893,2180,1362,909,609]
[42,null,3818,3317,3027,2289,1436,962,648]
[43,null,3966,3450,3148,2405,1515,1020,691]
[44,null,4119,3583,3268,2533,1602,1082,737]
[45,null,4270,3713,3385,2670,1696,1149,787]
[46,null,4421,3845,3508,2817,1797,1223,842]
[47,null,4575,3977,3626,2977,1907,1302,900]
[48,null,4737,4117,3753,3148,2026,1389,964]
[49,null,4896,4258,3883,3334,2154,1482,1035]
[50,null,5056,4398,4008,3491,2303,1510,1116]
[51,null,5215,4536,4136,3609,2484,1637,1215]
[52,null,5376,4675,4264,3728,2604,1772,1322]
[53,null,5565,4840,4415,3874,2699,1847,1438]
[54,null,5756,5005,4565,4016,2794,1997,1562]
[55,null,5949,5173,4714,4160,2896,2158,1695]
[56,null,6139,5338,4864,4304,2992,2243,1838]
[57,null,6325,5503,5017,4449,3086,2423,1992]
[58,null,6545,5691,5174,4638,3209,2616,2158]
[59,null,6765,5883,5331,4826,3330,2712,2337]
[60,null,6982,6070,5489,5014,3452,2928,2529]
[61,null,7251,6304,5726,5202,3581,3160,2736]
[62,null,7710,6620,6007,5437,3744,3269,2958]
[63,null,8245,7098,6319,5716,3938,3527,3199]
[64,null,8819,7613,6680,6045,4165,3808,3459]
[65,null,9436,8168,7116,6497,4459,3932,3740]
[66,null,10100,8766,7628,7017,4802,4245,4042]
[67,null,10813,9409,8239,7582,5188,4582,4368]
[68,null,11578,10101,8938,8222,5625,5170,4720]
[69,null,12400,10845,9752,8979,6144,5582,5100]
[70,null,13491,11733,10605,9992,6794,6027,5510]
[71,null,14858,12922,11780,11003,7484,6788,5950]
[72,null,16436,14293,13033,12177,8283,7326,6422]
[73,null,18257,15874,14472,13518,9192,7906,6927]
[74,null,20353,17697,16135,15072,10251,8879,7466]
[75,null,22757,19790,17969,16960,11503,9569,8037]
[76,null,25521,22191,20217,19016,12898,10304,8640]
[77,null,28660,24923,22723,21356,14489,11521,9270]
[78,null,32204,28003,25532,23994,16278,12371,9924]
[79,null,36183,31461,28687,26962,18291,13255,10594]
[80,"o más",40944,35606,32460,30509,20697,14710,11268]
[1,"Hijo",1560,1359,1173,812,447,266,156]
[2,"Hijos",1844,1606,1386,961,528,315,184]
[3,"Hijos o más",2553,2223,1920,1330,732,436,256]
[]
["ESSENTIAL 1000"]
["TARIFAS MENSUALES"]
["EDAD"]
[" "," ","F50-1","F50-2","F50-3","F50-4","F50-5"]
[18,null,{"$f":"C920*$M$2","v":208.90833333333333},{"$f":"D920*$M$2","v":181.87833333333333},155.99666666666667,108.73833333333333,59.801666666666669,35.686666666666667,20.934999999999999]
[19,null,{"$f":"C921*$M$2","v":212.35333333333332},185.05833333333334,155.99666666666667,108.73833333333333,60.243333333333332,36.12833333333333,21.288333333333334]
[20,null,215.97499999999999,187.97333333333333,155.99666666666667,109.00333333333333,60.861666666666665,36.658333333333331,21.73]
[21,null,220.03833333333333,191.41833333333332,155.99666666666667,109.53333333333333,61.568333333333335,37.365000000000002,22.26]
[22,null,223.74833333333333,194.51,156.35,110.32833333333333,62.451666666666668,38.071666666666665,22.878333333333334]
[23,null,227.37,197.60166666666666,157.23333333333332,111.38833333333334,63.423333333333332,38.866666666666667,23.496666666666666]
[24,null,231.16833333333332,200.87,158.38166666666666,112.71333333333334,64.571666666666673,39.838333333333331,24.291666666666668]
[25,null,234.70166666666665,204.315,159.97166666666666,114.215,65.808333333333337,40.81,24.998333333333335]
[26,null,238.5,207.40666666666667,162.00333333333333,116.15833333333333,67.398333333333326,41.958333333333336,25.793333333333333]
[27,null,242.12166666666667,210.49833333333333,164.38833333333332,118.36666666666666,68.98833333333333,43.283333333333331,26.853333333333332]
[28,null,246.715,214.20833333333334,167.215,120.92833333333333,70.843333333333334,44.696666666666665,27.824999999999999]
[29,null,250.95500000000001,218.44833333333332,170.57166666666666,123.755,73.051666666666662,46.11,28.973333333333333]
[30,null,255.28333333333333,222.24666666666667,174.45833333333334,126.935,75.260000000000005,47.876666666666665,30.21]
[31,null,259.61166666666668,225.95666666666668,178.69833333333332,130.55666666666667,77.733333333333334,49.731666666666669,31.535]
[32,null,264.11666666666667,229.40166666666667,183.46833333333333,134.53166666666667,80.56,51.674999999999997,33.036666666666669]
[33,null,271.27166666666665,236.02666666666667,188.85666666666665,138.94833333333332,83.563333333333333,53.971666666666664,34.626666666666665]
[34,null,278.51499999999999,242.12166666666667,194.86333333333334,143.80666666666667,87.00833333333334,56.356666666666669,36.393333333333331]
[35,null,{"$f":"C937*$M$2","v":285.67},248.39333333333335,201.4,149.10666666666665,90.63,58.918333333333337,38.248333333333335]
[36,null,292.82499999999999,254.75333333333333,208.55500000000001,154.84833333333333,94.605000000000004,61.833333333333336,40.368333333333332]
[37,null,300.245,261.11333333333334,216.41666666666666,161.12,98.933333333333337,64.924999999999997,42.576666666666668]
[38,null,307.66500000000002,267.64999999999998,225.07333333333332,168.09833333333333,103.61499999999999,68.281666666666666,45.138333333333335]
[39,null,315.08499999999998,273.83333333333331,234.43666666666667,175.60666666666665,108.73833333333333,71.99166666666666,47.788333333333334]
[40,null,322.32833333333332,280.19333333333333,244.41833333333332,183.73333333333332,114.30333333333333,75.966666666666669,50.703333333333333]
[41,null,329.57166666666666,286.81833333333333,255.54833333333335,192.56666666666666,120.31,80.295000000000002,53.795000000000002]
[42,null,337.25666666666666,293.00166666666667,267.38499999999999,202.19499999999999,126.84666666666666,84.976666666666659,57.24]
[43,null,350.33,304.75,278.07333333333332,212.44166666666666,133.82499999999999,90.1,61.038333333333334]
[44,null,363.84500000000003,316.49833333333333,288.67333333333335,223.74833333333333,141.51,95.576666666666668,65.101666666666659]
[45,null,377.18333333333334,327.98166666666668,299.00833333333333,235.85,149.81333333333333,101.495,69.518333333333331]
[46,null,390.52166666666665,339.64166666666665,309.87333333333333,248.83500000000001,158.73500000000001,108.03166666666667,74.376666666666665]
[47,null,404.125,351.30166666666668,320.29666666666668,262.96833333333331,168.45166666666665,115.01,79.5]
[48,null,418.435,363.66833333333335,331.51499999999999,278.07333333333332,178.96333333333334,122.69499999999999,85.153333333333336]
[49,null,432.48,376.12333333333333,342.99833333333333,294.50333333333333,190.27,130.91,91.424999999999997]
[50,null,446.61333333333334,388.49,354.04,308.37166666666667,203.43166666666667,133.38333333333333,98.58]
[51,null,{"$f":"C953*$M$2","v":460.65833333333336},400.68,365.34666666666669,318.79500000000002,219.42,144.60166666666666,107.325]
[52,null,474.88,412.95833333333331,376.65333333333331,329.30666666666667,230.02,156.52666666666667,116.77666666666667]
[53,null,491.57499999999999,427.53333333333336,389.99166666666667,342.20333333333332,238.41166666666666,163.15166666666667,127.02333333333333]
[54,null,508.44666666666666,442.10833333333335,403.24166666666667,354.74666666666667,246.80333333333334,176.40166666666667,137.97666666666666]
[55,null,525.495,456.94833333333332,416.40333333333331,367.46666666666664,255.81333333333333,190.62333333333333,149.72499999999999]
[56,null,542.27833333333331,471.52333333333331,429.65333333333331,380.18666666666667,264.29333333333335,198.13166666666666,162.35666666666665]
[57,null,558.70833333333337,486.09833333333336,443.16833333333335,392.995,272.59666666666669,214.03166666666667,175.96]
[58,null,578.14166666666665,502.70499999999998,457.03666666666669,409.69,283.46166666666664,231.08,190.62333333333333]
[59,null,597.57500000000005,519.66499999999996,470.90499999999997,426.29666666666668,294.14999999999998,239.56,206.435]
[60,null,616.74333333333334,536.18333333333328,484.86166666666668,442.90333333333331,304.92666666666668,258.64,223.39500000000001]
[61,null,640.505,556.85333333333335,505.79666666666668,459.51,316.32166666666666,279.13333333333333,241.68]
[62,null,681.05,584.76666666666665,530.61833333333334,480.26833333333332,330.72,288.76166666666666,261.29000000000002]
[63,null,728.30833333333328,626.99,558.17833333333328,504.91333333333336,347.85666666666668,311.55166666666668,282.57833333333332]
[64,null,779.01166666666666,672.48166666666668,590.06666666666672,533.97500000000002,367.90833333333336,336.37333333333333,305.54500000000002]
[65,null,833.51333333333332,721.50666666666666,628.58000000000004,573.90166666666664,393.87833333333333,347.32666666666665,330.36666666666667]
[66,null,892.16666666666663,774.33,673.80666666666662,619.83500000000004,424.17666666666668,374.97500000000002,357.04333333333335]
[67,null,{"$f":"C969*$M$2","v":955.14833333333331},831.12833333333333,727.77833333333331,669.74333333333334,458.27333333333331,404.74333333333334,385.84]
[68,null,1022.7233333333334,892.255,789.52333333333331,726.27666666666664,496.875,456.68333333333334,416.93333333333334]
[69,null,1095.3333333333333,957.97500000000002,861.42666666666662,793.14499999999998,542.72,493.07666666666665,450.5]
[70,null,1191.7049999999999,1036.415,936.77499999999998,882.62666666666667,600.13666666666666,532.38499999999999,486.71666666666664]
[71,null,1312.4566666666667,1141.4433333333334,1040.5666666666666,971.93166666666662,661.0866666666667,599.60666666666668,525.58333333333337]
[72,null,1451.8466666666666,1262.5483333333334,1151.2483333333332,1075.635,731.66499999999996,647.13,567.27666666666664]
[73,null,1612.7016666666666,1402.2033333333334,1278.3599999999999,1194.0899999999999,811.96,698.36333333333334,611.88499999999999]
[74,null,1797.8483333333334,1563.2349999999999,1425.2583333333334,1331.36,905.505,784.31166666666661,659.49666666666667]
[75,null,2010.2016666666666,1748.1166666666666,1587.2616666666668,1498.1333333333334,1016.0983333333334,845.26166666666666,709.93499999999995]
[76,null,2254.355,1960.2049999999999,1785.835,1679.7466666666667,1139.3233333333333,910.18666666666661,763.2]
[77,null,2531.6333333333332,2201.5316666666668,2007.1983333333333,1886.4466666666667,1279.8616666666667,1017.6883333333333,818.85]
[78,null,2844.6866666666665,2473.5983333333334,2255.3266666666668,2119.4699999999998,1437.89,1092.7716666666668,876.62]
[79,null,3196.165,2779.0549999999998,2534.0183333333334,2381.6433333333334,1615.7049999999999,1170.8583333333333,935.80333333333328]
[80,"o más",3616.72,3145.1966666666667,2867.3,2694.9616666666666,1828.2349999999999,1299.3833333333334,995.34]
[1,"Hijo",137.80000000000001,120.045,103.61499999999999,71.726666666666659,39.484999999999999,23.496666666666666,13.78]
[2,"Hijos",162.88666666666666,141.86333333333334,122.43,84.888333333333335,46.64,27.824999999999999,16.253333333333334]
[3,"Hijos o más",{"$f":"C985*$M$2","v":225.51499999999999},196.36500000000001,169.6,117.48333333333333,64.66,38.513333333333335,22.613333333333333]
[]
["ESSENTIAL 1000"]
["TARIFAS TRIMESTRAL"]
["EDAD"]
[" "," ","F50-1","F50-2","F50-3","F50-4","F50-5"]
[18,null,{"$f":"C920*$M$4","v":617.85624999999993},{"$f":"D920*$M$4","v":537.91374999999994},461.36749999999995,321.59875,176.86624999999998,105.54499999999999,61.916249999999998]
[19,null,{"$f":"C921*$M$4","v":628.04499999999996},547.31874999999991,461.36749999999995,321.59875,178.17249999999999,106.85124999999999,62.961249999999993]
[20,null,638.75624999999991,555.93999999999994,461.36749999999995,322.38249999999999,180.00125,108.41874999999999,64.267499999999998]
[21,null,650.77374999999995,566.12874999999997,461.36749999999995,323.95,182.09124999999997,110.50874999999999,65.834999999999994]
[22,null,661.74624999999992,575.27249999999992,462.41249999999997,326.30124999999998,184.70374999999999,112.59875,67.663749999999993]
[23,null,672.45749999999998,584.41624999999999,465.02499999999998,329.43624999999997,187.57749999999999,114.94999999999999,69.492499999999993]
[24,null,683.69124999999997,594.08249999999998,468.42124999999999,333.35499999999996,190.97375,117.82374999999999,71.84375]
[25,null,694.1412499999999,604.27125000000001,473.12374999999997,337.79624999999999,194.63124999999999,120.69749999999999,73.933749999999989]
[26,null,705.375,613.41499999999996,479.13249999999999,343.54374999999999,199.33374999999998,124.09374999999999,76.284999999999997]
[27,null,716.08624999999995,622.55874999999992,486.18624999999997,350.07499999999999,204.03625,128.01249999999999,79.419999999999987]
[28,null,729.67124999999999,633.53125,494.54624999999999,357.65124999999995,209.52249999999998,132.1925,82.293749999999989]
[29,null,742.21124999999995,646.07124999999996,504.47374999999994,366.01124999999996,216.05374999999998,136.3725,85.69]
[30,null,755.01249999999993,657.30499999999995,515.96875,375.41624999999999,222.58499999999998,141.5975,89.347499999999997]
[31,null,767.81374999999991,668.27749999999992,528.50874999999996,386.1275,229.89999999999998,147.08374999999998,93.266249999999999]
[32,null,781.13749999999993,678.46624999999995,542.61624999999992,397.88374999999996,238.26,152.83124999999998,97.707499999999996]
[33,null,802.29874999999993,698.06,558.55250000000001,410.94624999999996,247.14249999999998,159.62375,102.41]
[34,null,823.72124999999994,716.08624999999995,576.3175,425.315,257.33124999999995,166.67749999999998,107.63499999999999]
[35,null,{"$f":"C937*$M$4","v":844.88249999999994},734.63499999999999,595.65,440.98999999999995,268.04249999999996,174.25375,113.12124999999999]
[36,null,866.04374999999993,753.44499999999994,616.81124999999997,457.97124999999994,279.79874999999998,182.875,119.39124999999999]
[37,null,887.98874999999998,772.255,640.0625,476.52,292.59999999999997,192.01874999999998,125.92249999999999]
[38,null,909.93374999999992,791.58749999999998,665.66499999999996,497.15874999999994,306.44624999999996,201.94624999999999,133.49875]
[39,null,931.87874999999997,809.875,693.35749999999996,519.36500000000001,321.59875,212.91874999999999,141.33624999999998]
[40,null,953.30124999999998,828.68499999999995,722.87874999999997,543.4,338.0575,224.67499999999998,149.95749999999998]
[41,null,974.72374999999988,848.27874999999995,755.79624999999999,569.52499999999998,355.82249999999999,237.47624999999999,159.10124999999999]
[42,null,997.45249999999999,866.56624999999997,790.80374999999992,598.00124999999991,375.15499999999997,251.32249999999999,169.29]
[43,null,1036.1174999999998,901.31249999999989,822.41499999999996,628.30624999999998,395.79374999999999,266.47499999999997,180.52374999999998]
[44,null,1076.0887499999999,936.05874999999992,853.76499999999999,661.74624999999992,418.52249999999998,282.67249999999996,192.54124999999999]
[45,null,1115.5374999999999,970.0212499999999,884.33124999999995,697.53749999999991,443.08,300.17624999999998,205.60374999999999]
[46,null,1154.9862499999999,1004.5062499999999,916.46499999999992,735.94124999999997,469.46624999999995,319.50874999999996,219.9725]
[47,null,1195.21875,1038.99125,947.2924999999999,777.74124999999992,498.20374999999996,340.14749999999998,235.12499999999997]
[48,null,1237.54125,1075.5662499999999,980.47124999999994,822.41499999999996,529.29250000000002,362.87624999999997,251.84499999999997]
[49,null,1279.08,1112.4024999999999,1014.4337499999999,871.00749999999994,562.73249999999996,387.17249999999996,270.39374999999995]
[50,null,1320.8799999999999,1148.9775,1047.0899999999999,912.02374999999995,601.65874999999994,394.48749999999995,291.55500000000001]
[51,null,{"$f":"C953*$M$4","v":1362.4187499999998},1185.03,1080.53,942.85124999999994,648.94499999999994,427.66624999999999,317.41874999999999]
[52,null,1404.48,1221.34375,1113.97,973.93999999999994,680.29499999999996,462.93499999999995,345.3725]
[53,null,1453.8562499999998,1264.4499999999998,1153.4187499999998,1012.0825,705.11374999999998,482.52874999999995,375.67749999999995]
[54,null,1503.7549999999999,1307.5562499999999,1192.6062499999998,1049.1799999999998,729.9325,521.71624999999995,408.07249999999999]
[55,null,1554.17625,1351.44625,1231.5325,1086.8,756.57999999999993,563.77749999999992,442.81874999999997]
[56,null,1603.8137499999998,1394.5525,1270.7199999999998,1124.4199999999998,781.66,585.98374999999999,480.17749999999995]
[57,null,1652.40625,1437.6587499999998,1310.6912499999999,1162.30125,806.21749999999997,633.00874999999996,520.41]
[58,null,1709.8812499999999,1486.7737499999998,1351.7075,1211.6775,838.35124999999994,683.43,563.77749999999992]
[59,null,1767.3562499999998,1536.9337499999999,1392.7237499999999,1260.7925,869.96249999999998,708.51,610.54124999999999]
[60,null,1824.0474999999999,1585.7874999999999,1434.0012499999998,1309.9074999999998,901.83499999999992,764.93999999999994,660.70124999999996]
[61,null,1894.3237499999998,1646.9199999999998,1495.9174999999998,1359.0224999999998,935.53624999999988,825.55,714.78]
[62,null,2014.2375,1729.4749999999999,1569.3287499999999,1420.41625,978.11999999999989,854.02624999999989,772.77749999999992]
[63,null,2154.0062499999999,1854.3525,1650.8387499999999,1493.3049999999998,1028.8025,921.42874999999992,835.73874999999998]
[64,null,2303.9637499999999,1988.8962499999998,1745.1499999999999,1579.2562499999999,1088.1062499999998,994.83999999999992,903.66374999999994]
[65,null,2465.1549999999997,2133.89,1859.0549999999998,1697.3412499999999,1164.9137499999999,1027.2349999999999,977.07499999999993]
[66,null,2638.625,2290.1174999999998,1992.8149999999998,1833.1912499999999,1254.5224999999998,1109.0062499999999,1055.9724999999999]
[67,null,{"$f":"C969*$M$4","v":2824.8962499999998},2458.1012499999997,2152.4387499999998,1980.7974999999999,1355.365,1197.0474999999999,1141.1399999999999]
[68,null,3024.7524999999996,2638.88625,2335.0524999999998,2147.9974999999999,1469.53125,1350.6624999999999,1233.0999999999999]
[69,null,3239.5,2833.2562499999999,2547.71,2345.7637499999996,1605.12,1458.2974999999999,1332.375]
[70,null,3524.5237499999998,3065.2462499999997,2770.5562499999996,2610.41,1774.9324999999999,1574.5537499999998,1439.4875]
[71,null,3881.6524999999997,3375.8724999999999,3077.5249999999996,2874.5337499999996,1955.1949999999999,1773.3649999999998,1554.4375]
[72,null,4293.9049999999997,3734.0462499999999,3404.8712499999997,3181.2412499999996,2163.9337499999997,1913.9174999999998,1677.7474999999999]
[73,null,4769.6412499999997,4147.0824999999995,3780.81,3531.5774999999999,2401.41,2065.4424999999997,1809.6787499999998]
[74,null,5317.2212499999996,4623.3412499999995,4215.2687499999993,3937.56,2678.07375,2319.6387499999996,1950.4924999999998]
[75,null,5945.2662499999997,5170.1374999999998,4694.4012499999999,4430.7999999999993,3005.1587499999996,2499.9012499999999,2099.6662499999998]
[76,null,6667.3612499999999,5797.3987499999994,5281.6912499999999,4967.9299999999994,3369.6025,2691.9199999999996,2257.1999999999998]
[77,null,7487.4249999999993,6511.13375,5936.38375,5579.2549999999992,3785.2512499999998,3009.8612499999999,2421.7874999999999]
[78,null,8413.2950000000001,7315.7837499999996,6670.2349999999997,6268.4324999999999,4252.6274999999996,3231.9237499999999,2592.645]
[79,null,9452.8087500000001,8219.1862499999988,7494.4787499999993,7043.8224999999993,4778.5237499999994,3462.8687499999996,2767.6824999999999]
[80,"o más",10696.619999999999,9302.0674999999992,8480.1749999999993,7970.4762499999997,5407.0912499999995,3842.9874999999997,2943.7649999999999]
[1,"Hijo",407.54999999999995,355.03874999999999,306.44624999999996,212.13499999999999,116.77874999999999,69.492499999999993,40.754999999999995]
[2,"Hijos",481.74499999999995,419.5675,362.09249999999997,251.06124999999997,137.94,82.293749999999989,48.069999999999993]
[3,"Hijos o más",{"$f":"C985*$M$4","v":666.97124999999994},580.75874999999996,501.59999999999997,347.46249999999998,191.23499999999999,113.90499999999999,66.88]
[]
["ESSENTIAL 1000"]
["TARIFAS SEMESTRAL"]
["EDAD"]
[" "," ","F50-1","F50-2","F50-3","F50-4","F50-5"]
[18,null,{"$f":"C920*$M$3","v":1217.9750000000001},{"$f":"D920*$M$3","v":1060.385},909.49,633.96500000000003,348.65500000000003,208.06,122.05500000000001]
[19,null,{"$f":"C921*$M$3","v":1238.06},1078.925,909.49,633.96500000000003,351.23,210.63500000000002,124.11500000000001]
[20,null,1259.175,1095.92,909.49,635.51,354.83500000000004,213.72499999999999,126.69]
[21,null,1282.865,1116.0050000000001,909.49,638.6,358.95499999999998,217.845,129.78]
[22,null,1304.4950000000001,1134.03,911.55000000000007,643.23500000000001,364.10500000000002,221.965,133.38499999999999]
[23,null,1325.6100000000001,1152.0550000000001,916.7,649.41499999999996,369.77,226.6,136.99]
[24,null,1347.7550000000001,1171.1100000000001,923.39499999999998,657.14,376.46500000000003,232.26500000000001,141.625]
[25,null,1368.355,1191.1949999999999,932.66500000000008,665.89499999999998,383.67500000000001,237.93,145.745]
[26,null,1390.5,1209.22,944.51,677.22500000000002,392.94499999999999,244.625,150.38]
[27,null,1411.615,1227.2450000000001,958.41500000000008,690.1,402.21500000000003,252.35,156.56]
[28,null,1438.395,1248.875,974.89499999999998,705.03499999999997,413.03000000000003,260.59000000000003,162.22499999999999]
[29,null,1463.115,1273.595,994.46500000000003,721.51499999999999,425.90500000000003,268.83,168.92000000000002]
[30,null,1488.3500000000001,1295.74,1017.125,740.05500000000006,438.78000000000003,279.13,176.13]
[31,null,1513.585,1317.3700000000001,1041.845,761.17000000000007,453.2,289.94499999999999,183.85500000000002]
[32,null,1539.8500000000001,1337.4549999999999,1069.655,784.34500000000003,469.68,301.27500000000003,192.61]
[33,null,1581.5650000000001,1376.08,1101.07,810.09500000000003,487.19,314.66500000000002,201.88]
[34,null,1623.7950000000001,1411.615,1136.0899999999999,838.42000000000007,507.27500000000003,328.57,212.18]
[35,null,{"$f":"C937*$M$3","v":1665.51},1448.18,1174.2,869.32,528.39,343.505,222.995]
[36,null,1707.2250000000001,1485.26,1215.915,902.79500000000007,551.56500000000005,360.5,235.35500000000002]
[37,null,1750.4850000000001,1522.3400000000001,1261.75,939.36,576.80000000000007,378.52500000000003,248.23000000000002]
[38,null,1793.7450000000001,1560.45,1312.22,980.04500000000007,604.09500000000003,398.09500000000003,263.16500000000002]
[39,null,1837.0050000000001,1596.5,1366.81,1023.82,633.96500000000003,419.72500000000002,278.61500000000001]
[40,null,1879.2350000000001,1633.5800000000002,1425.0050000000001,1071.2,666.41,442.90000000000003,295.61]
[41,null,1921.4650000000001,1672.2050000000002,1489.895,1122.7,701.43000000000006,468.13499999999999,313.63499999999999]
[42,null,1966.27,1708.2550000000001,1558.905,1178.835,739.54,495.43,333.72]
[43,null,2042.49,1776.75,1621.22,1238.575,780.22500000000002,525.30000000000007,355.86500000000001]
[44,null,2121.2849999999999,1845.2450000000001,1683.02,1304.4950000000001,825.03,557.23,379.55500000000001]
[45,null,2199.0500000000002,1912.1949999999999,1743.2750000000001,1375.05,873.44,591.73500000000001,405.30500000000001]
[46,null,2276.8150000000001,1980.175,1806.6200000000001,1450.7550000000001,925.45500000000004,629.84500000000003,433.63]
[47,null,2356.125,2048.1550000000002,1867.39,1533.155,982.10500000000002,670.53,463.5]
[48,null,2439.5549999999998,2120.2550000000001,1932.7950000000001,1621.22,1043.3900000000001,715.33500000000004,496.46000000000004]
[49,null,2521.44,2192.87,1999.7450000000001,1717.01,1109.31,763.23,533.02499999999998]
[50,null,2603.84,2264.9700000000003,2064.12,1797.865,1186.0450000000001,777.65,574.74]
[51,null,{"$f":"C953*$M$3","v":2685.7249999999999},2336.04,2130.04,1858.635,1279.26,843.05500000000006,625.72500000000002]
[52,null,2768.64,2407.625,2195.96,1919.92,1341.06,912.58,680.83]
[53,null,2865.9749999999999,2492.6,2273.7249999999999,1995.1100000000001,1389.9850000000001,951.20500000000004,740.57]
[54,null,2964.34,2577.5750000000003,2350.9749999999999,2068.2400000000002,1438.91,1028.4549999999999,804.43000000000006]
[55,null,3063.7350000000001,2664.0950000000003,2427.71,2142.4,1491.44,1111.3700000000001,872.92500000000007]
[56,null,3161.585,2749.07,2504.96,2216.56,1540.88,1155.145,946.57]
[57,null,3257.375,2834.0450000000001,2583.7550000000001,2291.2350000000001,1589.29,1247.845,1025.8800000000001]
[58,null,3370.6750000000002,2930.8650000000002,2664.61,2388.5700000000002,1652.635,1347.24,1111.3700000000001]
[59,null,3483.9749999999999,3029.7449999999999,2745.4650000000001,2485.39,1714.95,1396.68,1203.5550000000001]
[60,null,3595.73,3126.05,2826.835,2582.21,1777.78,1507.92,1302.4349999999999]
[61,null,3734.2649999999999,3246.56,2948.89,2679.03,1844.2150000000001,1627.4,1409.04]
[62,null,3970.65,3409.3,3093.605,2800.0550000000003,1928.16,1683.5350000000001,1523.3700000000001]
[63,null,4246.1750000000002,3655.4700000000003,3254.2850000000003,2943.7400000000002,2028.0700000000002,1816.405,1647.4850000000001]
[64,null,4541.7849999999999,3920.6950000000002,3440.2000000000003,3113.1750000000002,2144.9749999999999,1961.1200000000001,1781.385]
[65,null,4859.54,4206.5200000000004,3664.7400000000002,3345.9549999999999,2296.3850000000002,2024.98,1926.1000000000001]
[66,null,5201.5,4514.49,3928.42,3613.7550000000001,2473.0300000000002,2186.1750000000002,2081.63]
[67,null,{"$f":"C969*$M$3","v":5568.6949999999997},4845.6350000000002,4243.085,3904.73,2671.82,2359.73,2249.52]
[68,null,5962.67,5202.0150000000003,4603.07,4234.33,2896.875,2662.55,2430.8000000000002]
[69,null,6386,5585.1750000000002,5022.28,4624.1850000000004,3164.16,2874.73,2626.5]
[70,null,6947.8649999999998,6042.4949999999999,5461.5749999999998,5145.88,3498.9100000000003,3103.9050000000002,2837.65]
[71,null,7651.87,6654.83,6066.7,5666.5450000000001,3854.26,3495.82,3064.25]
[72,null,8464.5400000000009,7360.8950000000004,6711.9949999999999,6271.1549999999997,4265.7449999999999,3772.89,3307.33]
[73,null,9402.3549999999996,8175.1100000000006,7453.08,6961.77,4733.88,4071.59,3567.4050000000002]
[74,null,10481.795,9113.9549999999999,8309.5249999999996,7762.08,5279.2650000000003,4572.6850000000004,3844.9900000000002]
[75,null,11719.855,10191.85,9254.0349999999999,8734.4,5924.0450000000001,4928.0349999999999,4139.0550000000003]
[76,null,13143.315000000001,11428.365,10411.755000000001,9793.24,6642.47,5306.56,4449.6000000000004]
[77,null,14759.9,12835.345000000001,11702.345000000001,10998.34,7461.835,5933.3150000000005,4774.05]
[78,null,16585.060000000001,14421.545,13148.98,12356.91,8383.17,6371.0650000000005,5110.8600000000006]
[79,null,18634.244999999999,16202.415000000001,14773.805,13885.43,9419.8649999999998,6826.3249999999998,5455.91]
[80,"o más",21086.16,18337.09,16716.900000000001,15712.135,10658.955,7575.6500000000005,5803.02]
[1,"Hijo",803.4,699.88499999999999,604.09500000000003,418.18,230.20500000000001,136.99,80.34]
[2,"Hijos",949.66,827.09,713.79,494.91500000000002,271.92,162.22499999999999,94.76]
[3,"Hijos o más",{"$f":"C985*$M$3","v":1314.7950000000001},1144.845,988.80000000000007,684.95,376.98,224.54,131.84]

{"sheet":"Tablas-Care","index":10,"n_rows":622,"n_cols":20,"rows_kept":622,"cut":false,"hidden":true,"merged":[[103,0,103,1],[103,2,103,6],[1,0,1,7],[2,0,2,7],[3,0,3,1],[3,2,3,6],[35,0,35,7],[36,0,36,1],[36,2,36,6],[68,0,68,7],[69,0,69,7],[70,0,70,1],[70,2,70,6],[102,0,102,7],[237,0,237,1],[237,2,237,6],[135,0,135,7],[136,0,136,7],[137,0,137,1],[137,2,137,6],[169,0,169,7],[170,0,170,1],[170,2,170,6],[202,0,202,7],[203,0,203,7],[204,0,204,1],[204,2,204,6],[236,0,236,7],[371,0,371,1],[371,2,371,6],[269,0,269,7],[270,0,270,7],[271,0,271,1],[271,2,271,6],[303,0,303,7],[304,0,304,1],[304,2,304,6],[336,0,336,7],[337,0,337,7],[338,0,338,1],[338,2,338,6],[370,0,370,7],[505,0,505,1],[505,2,505,6],[403,0,403,7],[404,0,404,7],[405,0,405,1],[405,2,405,6],[437,0,437,7],[438,0,438,1],[438,2,438,6],[470,0,470,7],[471,0,471,7],[472,0,472,1],[472,2,472,6],[504,0,504,7],[537,0,537,19],[538,0,538,19],[539,0,539,1],[539,2,539,6],[540,2,540,4],[540,5,540,7],[540,8,540,10],[540,11,540,13],[540,14,540,16],[540,17,540,19],[545,0,545,19],[546,0,546,1],[546,2,546,6],[547,2,547,4],[547,5,547,7],[547,8,547,10],[547,11,547,13],[547,14,547,16],[547,17,547,19],[591,0,591,1],[591,2,591,6],[554,0,554,7],[555,0,555,7],[556,0,556,1],[556,2,556,6],[589,0,589,7],[590,0,590,7]]}
[]
["DIAMOND (WORLDWIDE)",null,null,null,null,null,null,null,null,"FACTOR SEMESTRAL :",null,0.53]
["TARIFAS ANUALES",null,null,null,null,null,null,null,null,"FACTOR TRIMESTRAL:",null,0.27500000000000002]
["EDAD",null,null,null,null,null,null,null,null,"FACTOR MENSUAL:",null,9.3333330000000006E-2]
[" "," ","DW1","DW2","DW3","DW4","DW5","DW6"]
[18,"-  24"]
[25,"-  29"]
[30,"-  34"]
[35,"-  39"]
[40,"-  44"]
[45,"-  49"]
[50,"-  54"]
[55,"-  59"]
[60]
[61]
[62]
[63]
[64]
[65]
[66]
[67]
[68]
[69]
[70]
[71]
[72]
[73]
[74]
[75,"o más"]
[1,"Hijo"]
[2,"Hijos"]
[3,"Hijos o más"]
[1,"Rider Comp. Maternidad",0,0,0]
[1,"Transplante de organos",0,0,0,0,0,0]
[]
["TARIFAS SEMESTRALES "]
["EDAD"]
[" "," ","DW1","DW2","DW3","DW4","DW5","DW6"]
[18,"-  24",{"$f":"+C6*$L$2","v":0},0,0,0,0,0]
[25,"-  29",0,0,0,0,0,0]
[30,"-  34",0,0,0,0,0,0]
[35,"-  39",0,0,0,0,0,0]
[40,"-  44",0,0,0,0,0,0]
[45,"-  49",0,0,0,0,0,0]
[50,"-  54",0,0,0,0,0,0]
[55,"-  59",0,0,0,0,0,0]
[60,null,0,0,0,0,0,0]
[61,null,0,0,0,0,0,0]
[62,null,0,0,0,0,0,0]
[63,null,0,0,0,0,0,0]
[64,null,0,0,0,0,0,0]
[65,null,0,0,0,0,0,0]
[66,null,0,0,0,0,0,0]
[67,null,0,0,0,0,0,0]
[68,null,{"$f":"+C22*$L$2","v":0},0,0,0,0,0]
[69,null,0,0,0,0,0,0]
[70,null,0,0,0,0,0,0]
[71,null,0,0,0,0,0,0]
[72,null,0,0,0,0,0,0]
[73,null,0,0,0,0,0,0]
[74,null,0,0,0,0,0,0]
[75,"o más",0,0,0,0,0,0]
[1,"Hijo",0,0,0,0,0,0]
[2,"Hijos",0,0,0,0,0,0]
[3,"Hijos o más",0,0,0,0,0,0]
[1,"Rider Comp. Maternidad",0,0,0,0,0,0]
[1,"Transplante de organos",0,0,0,0,0,0]
[]
["DIAMOND (LATINAMERICA ONLY)"]
["TARIFAS ANUALES"]
["EDAD"]
[" "," ","DL1","DL2","DL3","DL4","DL5","DL6"]
[18,"-  24"]
[25,"-  29"]
[30,"-  34"]
[35,"-  39"]
[40,"-  44"]
[45,"-  49"]
[50,"-  54"]
[55,"-  59"]
[60]
[61]
[62]
[63]
[64]
[65]
[66]
[67]
[68]
[69]
[70]
[71]
[72]
[73]
[74]
[75,"o más"]
[1,"Hijo"]
[2,"Hijos"]
[3,"Hijos o más"]
[1,"Rider Comp. Maternidad"]
[1,"Transplante de organos",0,0,0,0,0,0]
[]
["TARIFAS SEMESTRALES "]
["EDAD"]
[" "," ","DL1","DL2","DL3","DL4","DL5","DL6"]
[18,"-  24",{"$f":"+C73*$L$2","v":0},0,0,0,0,0]
[25,"-  29",0,0,0,0,0,0]
[30,"-  34",0,0,0,0,0,0]
[35,"-  39",0,0,0,0,0,0]
[40,"-  44",0,0,0,0,0,0]
[45,"-  49",0,0,0,0,0,0]
[50,"-  54",0,0,0,0,0,0]
[55,"-  59",0,0,0,0,0,0]
[60,null,0,0,0,0,0,0]
[61,null,0,0,0,0,0,0]
[62,null,0,0,0,0,0,0]
[63,null,0,0,0,0,0,0]
[64,null,0,0,0,0,0,0]
[65,null,0,0,0,0,0,0]
[66,null,0,0,0,0,0,0]
[67,null,0,0,0,0,0,0]
[68,null,{"$f":"+C89*$L$2","v":0},0,0,0,0,0]
[69,null,0,0,0,0,0,0]
[70,null,0,0,0,0,0,0]
[71,null,0,0,0,0,0,0]
[72,null,0,0,0,0,0,0]
[73,null,0,0,0,0,0,0]
[74,null,0,0,0,0,0,0]
[75,"o más",0,0,0,0,0,0]
[1,"Hijo",0,0,0,0,0,0]
[2,"Hijos",0,0,0,0,0,0]
[3,"Hijos o más",0,0,0,0,0,0]
[1,"Rider Comp. Maternidad",0,0,0,0,0,0]
[1,"Transplante de organos",0,0,0,0,0,0]
[]
["COMPLETE (WORLDWIDE)"]
["TARIFAS ANUALES"]
["EDAD"]
[" "," ","CW1","CW2","CW3","CW4","CW5","CW6"]
[18,"-  24"]
[25,"-  29"]
[30,"-  34"]
[35,"-  39"]
[40,"-  44"]
[45,"-  49"]
[50,"-  54"]
[55,"-  59"]
[60]
[61]
[62]
[63]
[64]
[65]
[66]
[67]
[68]
[69]
[70]
[71]
[72]
[73]
[74]
[75,"o más"]
[1,"Hijo"]
[2,"Hijos"]
[3,"Hijos o más"]
[1,"Rider Comp. Maternidad"]
[1,"Transplante de organos",0,0,0,0,0,0]
[]
["TARIFAS SEMESTRALES "]
["EDAD"]
[" "," ","CW1","CW2","CW3","CW4","CW5","CW6"]
[18,"-  24",{"$f":"+C140*$L$2","v":0},0,0,0,0,0]
[25,"-  29",0,0,0,0,0,0]
[30,"-  34",0,0,0,0,0,0]
[35,"-  39",0,0,0,0,0,0]
[40,"-  44",0,0,0,0,0,0]
[45,"-  49",0,0,0,0,0,0]
[50,"-  54",0,0,0,0,0,0]
[55,"-  59",0,0,0,0,0,0]
[60,null,0,0,0,0,0,0]
[61,null,0,0,0,0,0,0]
[62,null,0,0,0,0,0,0]
[63,null,0,0,0,0,0,0]
[64,null,0,0,0,0,0,0]
[65,null,0,0,0,0,0,0]
[66,null,0,0,0,0,0,0]
[67,null,0,0,0,0,0,0]
[68,null,{"$f":"+C156*$L$2","v":0},0,0,0,0,0]
[69,null,0,0,0,0,0,0]
[70,null,0,0,0,0,0,0]
[71,null,0,0,0,0,0,0]
[72,null,0,0,0,0,0,0]
[73,null,0,0,0,0,0,0]
[74,null,0,0,0,0,0,0]
[75,"o más",0,0,0,0,0,0]
[1,"Hijo",0,0,0,0,0,0]
[2,"Hijos",0,0,0,0,0,0]
[3,"Hijos o más",0,0,0,0,0,0]
[1,"Rider Comp. Maternidad",0,0,0,0,0,0]
[1,"Transplante de organos",0,0,0,0,0,0]
[]
["COMPLETE (LATINAMERICA ONLY)"]
["TARIFAS ANUALES"]
["EDAD"]
[" "," ","CL1","CL2","CL3","CL4","CL5","CL6"]
[18,"-  24"]
[25,"-  29"]
[30,"-  34"]
[35,"-  39"]
[40,"-  44"]
[45,"-  49"]
[50,"-  54"]
[55,"-  59"]
[60]
[61]
[62]
[63]
[64]
[65]
[66]
[67]
[68]
[69]
[70]
[71]
[72]
[73]
[74]
[75,"o más"]
[1,"Hijo"]
[2,"Hijos"]
[3,"Hijos o más"]
[1,"Rider Comp. Maternidad"]
[1,"Transplante de organos",0,0,0,0,0,0]
[]
["TARIFAS SEMESTRALES "]
["EDAD"]
[" "," ","CL1","CL2","CL3","CL4","CL5","CL6"]
[18,"-  24",{"$f":"+C207*$L$2","v":0},0,0,0,0,0]
[25,"-  29",0,0,0,0,0,0]
[30,"-  34",0,0,0,0,0,0]
[35,"-  39",0,0,0,0,0,0]
[40,"-  44",0,0,0,0,0,0]
[45,"-  49",0,0,0,0,0,0]
[50,"-  54",0,0,0,0,0,0]
[55,"-  59",0,0,0,0,0,0]
[60,null,0,0,0,0,0,0]
[61,null,0,0,0,0,0,0]
[62,null,0,0,0,0,0,0]
[63,null,0,0,0,0,0,0]
[64,null,0,0,0,0,0,0]
[65,null,0,0,0,0,0,0]
[66,null,0,0,0,0,0,0]
[67,null,0,0,0,0,0,0]
[68,null,{"$f":"+C223*$L$2","v":0},0,0,0,0,0]
[69,null,0,0,0,0,0,0]
[70,null,0,0,0,0,0,0]
[71,null,0,0,0,0,0,0]
[72,null,0,0,0,0,0,0]
[73,null,0,0,0,0,0,0]
[74,null,0,0,0,0,0,0]
[75,"o más",0,0,0,0,0,0]
[1,"Hijo",0,0,0,0,0,0]
[2,"Hijos",0,0,0,0,0,0]
[3,"Hijos o más",0,0,0,0,0,0]
[1,"Rider Comp. Maternidad",0,0,0,0,0,0]
[1,"Transplante de organos",0,0,0,0,0,0]
[]
["ADVANTAGE (WORLDWIDE)"]
["TARIFAS ANUALES"]
["EDAD"]
[" "," ","AW1","AW2","AW3","AW4","AW5","AW6"]
[18,"-  24"]
[25,"-  29"]
[30,"-  34"]
[35,"-  39"]
[40,"-  44"]
[45,"-  49"]
[50,"-  54"]
[55,"-  59"]
[60]
[61]
[62]
[63]
[64]
[65]
[66]
[67]
[68]
[69]
[70]
[71]
[72]
[73]
[74]
[75,"o más"]
[1,"Hijo"]
[2,"Hijos"]
[3,"Hijos o más"]
[1,"Rider Comp. Maternidad"]
[1,"Transplante de organos"]
[]
["TARIFAS SEMESTRALES "]
["EDAD"]
[" "," ","AW1","AW2","AW3","AW4","AW5","AW6"]
[18,"-  24",{"$f":"+C274*$L$2","v":0},0,0,0,0,0]
[25,"-  29",0,0,0,0,0,0]
[30,"-  34",0,0,0,0,0,0]
[35,"-  39",0,0,0,0,0,0]
[40,"-  44",0,0,0,0,0,0]
[45,"-  49",0,0,0,0,0,0]
[50,"-  54",0,0,0,0,0,0]
[55,"-  59",0,0,0,0,0,0]
[60,null,0,0,0,0,0,0]
[61,null,0,0,0,0,0,0]
[62,null,0,0,0,0,0,0]
[63,null,0,0,0,0,0,0]
[64,null,0,0,0,0,0,0]
[65,null,0,0,0,0,0,0]
[66,null,0,0,0,0,0,0]
[67,null,0,0,0,0,0,0]
[68,null,{"$f":"+C290*$L$2","v":0},0,0,0,0,0]
[69,null,0,0,0,0,0,0]
[70,null,0,0,0,0,0,0]
[71,null,0,0,0,0,0,0]
[72,null,0,0,0,0,0,0]
[73,null,0,0,0,0,0,0]
[74,null,0,0,0,0,0,0]
[75,"o más",0,0,0,0,0,0]
[1,"Hijo",0,0,0,0,0,0]
[2,"Hijos",0,0,0,0,0,0]
[3,"Hijos o más",0,0,0,0,0,0]
[1,"Rider Comp. Maternidad",0,0,0,0,0,0]
[1,"Transplante de organos",0,0,0,0,0,0]
[]
["ADVANTAGE (LATINAMERICA ONLY)"]
["TARIFAS ANUALES"]
["EDAD"]
[" "," ","AL1","AL2","AL3","AL4","AL5","AL6"]
[18,"-  24"]
[25,"-  29"]
[30,"-  34"]
[35,"-  39"]
[40,"-  44"]
[45,"-  49"]
[50,"-  54"]
[55,"-  59"]
[60]
[61]
[62]
[63]
[64]
[65]
[66]
[67]
[68]
[69]
[70]
[71]
[72]
[73]
[74]
[75,"o más"]
[1,"Hijo"]
[2,"Hijos"]
[3,"Hijos o más"]
[1,"Rider Comp. Maternidad"]
[1,"Transplante de organos"]
[]
["TARIFAS SEMESTRALES "]
["EDAD"]
[" "," ","AL1","AL2","AL3","AL4","AL5","AL6"]
[18,"-  24",{"$f":"+C341*$L$2","v":0},0,0,0,0,0]
[25,"-  29",0,0,0,0,0,0]
[30,"-  34",0,0,0,0,0,0]
[35,"-  39",0,0,0,0,0,0]
[40,"-  44",0,0,0,0,0,0]
[45,"-  49",0,0,0,0,0,0]
[50,"-  54",0,0,0,0,0,0]
[55,"-  59",0,0,0,0,0,0]
[60,null,0,0,0,0,0,0]
[61,null,0,0,0,0,0,0]
[62,null,0,0,0,0,0,0]
[63,null,0,0,0,0,0,0]
[64,null,0,0,0,0,0,0]
[65,null,0,0,0,0,0,0]
[66,null,0,0,0,0,0,0]
[67,null,0,0,0,0,0,0]
[68,null,{"$f":"+C357*$L$2","v":0},0,0,0,0,0]
[69,null,0,0,0,0,0,0]
[70,null,0,0,0,0,0,0]
[71,null,0,0,0,0,0,0]
[72,null,0,0,0,0,0,0]
[73,null,0,0,0,0,0,0]
[74,null,0,0,0,0,0,0]
[75,"o más",0,0,0,0,0,0]
[1,"Hijo",0,0,0,0,0,0]
[2,"Hijos",0,0,0,0,0,0]
[3,"Hijos o más",0,0,0,0,0,0]
[1,"Rider Comp. Maternidad",0,0,0,0,0,0]
[1,"Transplante de organos",0,0,0,0,0,0]
[]
["SECURE"]
["TARIFAS ANUALES"]
["EDAD"]
[" "," ","SE1","SE2","SE3","SE4","SE5","SE6"]
[18,"-  24"]
[25,"-  29"]
[30,"-  34"]
[35,"-  39"]
[40,"-  44"]
[45,"-  49"]
[50,"-  54"]
[55,"-  59"]
[60]
[61]
[62]
[63]
[64]
[65]
[66]
[67]
[68]
[69]
[70]
[71]
[72]
[73]
[74]
[75,"o más"]
[1,"Hijo"]
[2,"Hijos"]
[3,"Hijos o más"]
[1,"Rider Comp. Maternidad"]
[1,"Transplante de organos"]
[]
["TARIFAS SEMESTRALES "]
["EDAD"]
[" "," ","SE1","SE2","SE3","SE4","SE5","SE6"]
[18,"-  24",{"$f":"+C408*$L$2","v":0},0,0,0,0,0]
[25,"-  29",0,0,0,0,0,0]
[30,"-  34",0,0,0,0,0,0]
[35,"-  39",0,0,0,0,0,0]
[40,"-  44",0,0,0,0,0,0]
[45,"-  49",0,0,0,0,0,0]
[50,"-  54",0,0,0,0,0,0]
[55,"-  59",0,0,0,0,0,0]
[60,null,0,0,0,0,0,0]
[61,null,0,0,0,0,0,0]
[62,null,0,0,0,0,0,0]
[63,null,0,0,0,0,0,0]
[64,null,0,0,0,0,0,0]
[65,null,0,0,0,0,0,0]
[66,null,0,0,0,0,0,0]
[67,null,0,0,0,0,0,0]
[68,null,{"$f":"+C424*$L$2","v":0},0,0,0,0,0]
[69,null,0,0,0,0,0,0]
[70,null,0,0,0,0,0,0]
[71,null,0,0,0,0,0,0]
[72,null,0,0,0,0,0,0]
[73,null,0,0,0,0,0,0]
[74,null,0,0,0,0,0,0]
[75,"o más",0,0,0,0,0,0]
[1,"Hijo",0,0,0,0,0,0]
[2,"Hijos",0,0,0,0,0,0]
[3,"Hijos o más",0,0,0,0,0,0]
[1,"Rider Comp. Maternidad",0,0,0,0,0,0]
[1,"Transplante de organos",0,0,0,0,0,0]
[]
["ESSENTIAL"]
["TARIFAS ANUALES"]
["EDAD"]
[" "," ","ET1","ET2","ET3","ET4","ET5","ET6"]
[18,"-  24",{"$f":"IF('INGRESO DE DATOS'!$G$21=\"Guayaquil/Santa Elena\",'Tablas Guayaquil'!L430,'Tablas Resto de Ecuador'!L430)","v":4642},{"$f":"IF('INGRESO DE DATOS'!$G$21=\"Guayaquil/Santa Elena\",'Tablas Guayaquil'!M430,'Tablas Resto de Ecuador'!M430)","v":3923},{"$f":"IF('INGRESO DE DATOS'!$G$21=\"Guayaquil/Santa Elena\",'Tablas Guayaquil'!N430,'Tablas Resto de Ecuador'!N430)","v":3072},{"$f":"IF('INGRESO DE DATOS'!$G$21=\"Guayaquil/Santa Elena\",'Tablas Guayaquil'!O430,'Tablas Resto de Ecuador'!O430)","v":2238},{"$f":"IF('INGRESO DE DATOS'!$G$21=\"Guayaquil/Santa Elena\",'Tablas Guayaquil'!P430,'Tablas Resto de Ecuador'!P430)","v":1791},{"$f":"IF('INGRESO DE DATOS'!$G$21=\"Guayaquil/Santa Elena\",'Tablas Guayaquil'!Q430,'Tablas Resto de Ecuador'!Q430)","v":1354}]
[25,"-  29",{"$f":"IF('INGRESO DE DATOS'!$G$21=\"Guayaquil/Santa Elena\",'Tablas Guayaquil'!L431,'Tablas Resto de Ecuador'!L431)","v":5149},{"$f":"IF('INGRESO DE DATOS'!$G$21=\"Guayaquil/Santa Elena\",'Tablas Guayaquil'!M431,'Tablas Resto de Ecuador'!M431)","v":4320},{"$f":"IF('INGRESO DE DATOS'!$G$21=\"Guayaquil/Santa Elena\",'Tablas Guayaquil'!N431,'Tablas Resto de Ecuador'!N431)","v":3471},{"$f":"IF('INGRESO DE DATOS'!$G$21=\"Guayaquil/Santa Elena\",'Tablas Guayaquil'!O431,'Tablas Resto de Ecuador'!O431)","v":2494},{"$f":"IF('INGRESO DE DATOS'!$G$21=\"Guayaquil/Santa Elena\",'Tablas Guayaquil'!P431,'Tablas Resto de Ecuador'!P431)","v":2005},{"$f":"IF('INGRESO DE DATOS'!$G$21=\"Guayaquil/Santa Elena\",'Tablas Guayaquil'!Q431,'Tablas Resto de Ecuador'!Q431)","v":1509}]
[30,"-  34",{"$f":"IF('INGRESO DE DATOS'!$G$21=\"Guayaquil/Santa Elena\",'Tablas Guayaquil'!L432,'Tablas Resto de Ecuador'!L432)","v":5957},{"$f":"IF('INGRESO DE DATOS'!$G$21=\"Guayaquil/Santa Elena\",'Tablas Guayaquil'!M432,'Tablas Resto de Ecuador'!M432)","v":4957},{"$f":"IF('INGRESO DE DATOS'!$G$21=\"Guayaquil/Santa Elena\",'Tablas Guayaquil'!N432,'Tablas Resto de Ecuador'!N432)","v":4083},{"$f":"IF('INGRESO DE DATOS'!$G$21=\"Guayaquil/Santa Elena\",'Tablas Guayaquil'!O432,'Tablas Resto de Ecuador'!O432)","v":2895},{"$f":"IF('INGRESO DE DATOS'!$G$21=\"Guayaquil/Santa Elena\",'Tablas Guayaquil'!P432,'Tablas Resto de Ecuador'!P432)","v":2316},{"$f":"IF('INGRESO DE DATOS'!$G$21=\"Guayaquil/Santa Elena\",'Tablas Guayaquil'!Q432,'Tablas Resto de Ecuador'!Q432)","v":1748}]
[35,"-  39",{"$f":"IF('INGRESO DE DATOS'!$G$21=\"Guayaquil/Santa Elena\",'Tablas Guayaquil'!L433,'Tablas Resto de Ecuador'!L433)","v":6587},{"$f":"IF('INGRESO DE DATOS'!$G$21=\"Guayaquil/Santa Elena\",'Tablas Guayaquil'!M433,'Tablas Resto de Ecuador'!M433)","v":5461},{"$f":"IF('INGRESO DE DATOS'!$G$21=\"Guayaquil/Santa Elena\",'Tablas Guayaquil'!N433,'Tablas Resto de Ecuador'!N433)","v":4564},{"$f":"IF('INGRESO DE DATOS'!$G$21=\"Guayaquil/Santa Elena\",'Tablas Guayaquil'!O433,'Tablas Resto de Ecuador'!O433)","v":3224},{"$f":"IF('INGRESO DE DATOS'!$G$21=\"Guayaquil/Santa Elena\",'Tablas Guayaquil'!P433,'Tablas Resto de Ecuador'!P433)","v":2576},{"$f":"IF('INGRESO DE DATOS'!$G$21=\"Guayaquil/Santa Elena\",'Tablas Guayaquil'!Q433,'Tablas Resto de Ecuador'!Q433)","v":1942}]
[40,"-  44",{"$f":"IF('INGRESO DE DATOS'!$G$21=\"Guayaquil/Santa Elena\",'Tablas Guayaquil'!L434,'Tablas Resto de Ecuador'!L434)","v":7429},{"$f":"IF('INGRESO DE DATOS'!$G$21=\"Guayaquil/Santa Elena\",'Tablas Guayaquil'!M434,'Tablas Resto de Ecuador'!M434)","v":6131},{"$f":"IF('INGRESO DE DATOS'!$G$21=\"Guayaquil/Santa Elena\",'Tablas Guayaquil'!N434,'Tablas Resto de Ecuador'!N434)","v":5209},{"$f":"IF('INGRESO DE DATOS'!$G$21=\"Guayaquil/Santa Elena\",'Tablas Guayaquil'!O434,'Tablas Resto de Ecuador'!O434)","v":3644},{"$f":"IF('INGRESO DE DATOS'!$G$21=\"Guayaquil/Santa Elena\",'Tablas Guayaquil'!P434,'Tablas Resto de Ecuador'!P434)","v":2921},{"$f":"IF('INGRESO DE DATOS'!$G$21=\"Guayaquil/Santa Elena\",'Tablas Guayaquil'!Q434,'Tablas Resto de Ecuador'!Q434)","v":2191}]
[45,"-  49",{"$f":"IF('INGRESO DE DATOS'!$G$21=\"Guayaquil/Santa Elena\",'Tablas Guayaquil'!L435,'Tablas Resto de Ecuador'!L435)","v":8612},{"$f":"IF('INGRESO DE DATOS'!$G$21=\"Guayaquil/Santa Elena\",'Tablas Guayaquil'!M435,'Tablas Resto de Ecuador'!M435)","v":7064},{"$f":"IF('INGRESO DE DATOS'!$G$21=\"Guayaquil/Santa Elena\",'Tablas Guayaquil'!N435,'Tablas Resto de Ecuador'!N435)","v":6111},{"$f":"IF('INGRESO DE DATOS'!$G$21=\"Guayaquil/Santa Elena\",'Tablas Guayaquil'!O435,'Tablas Resto de Ecuador'!O435)","v":4250},{"$f":"IF('INGRESO DE DATOS'!$G$21=\"Guayaquil/Santa Elena\",'Tablas Guayaquil'!P435,'Tablas Resto de Ecuador'!P435)","v":3395},{"$f":"IF('INGRESO DE DATOS'!$G$21=\"Guayaquil/Santa Elena\",'Tablas Guayaquil'!Q435,'Tablas Resto de Ecuador'!Q435)","v":2549}]
[50,"-  54",{"$f":"IF('INGRESO DE DATOS'!$G$21=\"Guayaquil/Santa Elena\",'Tablas Guayaquil'!L436,'Tablas Resto de Ecuador'!L436)","v":9430},{"$f":"IF('INGRESO DE DATOS'!$G$21=\"Guayaquil/Santa Elena\",'Tablas Guayaquil'!M436,'Tablas Resto de Ecuador'!M436)","v":7701},{"$f":"IF('INGRESO DE DATOS'!$G$21=\"Guayaquil/Santa Elena\",'Tablas Guayaquil'!N436,'Tablas Resto de Ecuador'!N436)","v":6730},{"$f":"IF('INGRESO DE DATOS'!$G$21=\"Guayaquil/Santa Elena\",'Tablas Guayaquil'!O436,'Tablas Resto de Ecuador'!O436)","v":4656},{"$f":"IF('INGRESO DE DATOS'!$G$21=\"Guayaquil/Santa Elena\",'Tablas Guayaquil'!P436,'Tablas Resto de Ecuador'!P436)","v":3725},{"$f":"IF('INGRESO DE DATOS'!$G$21=\"Guayaquil/Santa Elena\",'Tablas Guayaquil'!Q436,'Tablas Resto de Ecuador'!Q436)","v":2788}]
[55,"-  59",{"$f":"IF('INGRESO DE DATOS'!$G$21=\"Guayaquil/Santa Elena\",'Tablas Guayaquil'!L437,'Tablas Resto de Ecuador'!L437)","v":11145},{"$f":"IF('INGRESO DE DATOS'!$G$21=\"Guayaquil/Santa Elena\",'Tablas Guayaquil'!M437,'Tablas Resto de Ecuador'!M437)","v":9058},{"$f":"IF('INGRESO DE DATOS'!$G$21=\"Guayaquil/Santa Elena\",'Tablas Guayaquil'!N437,'Tablas Resto de Ecuador'!N437)","v":8038},{"$f":"IF('INGRESO DE DATOS'!$G$21=\"Guayaquil/Santa Elena\",'Tablas Guayaquil'!O437,'Tablas Resto de Ecuador'!O437)","v":5523},{"$f":"IF('INGRESO DE DATOS'!$G$21=\"Guayaquil/Santa Elena\",'Tablas Guayaquil'!P437,'Tablas Resto de Ecuador'!P437)","v":4425},{"$f":"IF('INGRESO DE DATOS'!$G$21=\"Guayaquil/Santa Elena\",'Tablas Guayaquil'!Q437,'Tablas Resto de Ecuador'!Q437)","v":3301}]
[60,null,{"$f":"IF('INGRESO DE DATOS'!$G$21=\"Guayaquil/Santa Elena\",'Tablas Guayaquil'!L438,'Tablas Resto de Ecuador'!L438)","v":11751},{"$f":"IF('INGRESO DE DATOS'!$G$21=\"Guayaquil/Santa Elena\",'Tablas Guayaquil'!M438,'Tablas Resto de Ecuador'!M438)","v":9482},{"$f":"IF('INGRESO DE DATOS'!$G$21=\"Guayaquil/Santa Elena\",'Tablas Guayaquil'!N438,'Tablas Resto de Ecuador'!N438)","v":8592},{"$f":"IF('INGRESO DE DATOS'!$G$21=\"Guayaquil/Santa Elena\",'Tablas Guayaquil'!O438,'Tablas Resto de Ecuador'!O438)","v":5853},{"$f":"IF('INGRESO DE DATOS'!$G$21=\"Guayaquil/Santa Elena\",'Tablas Guayaquil'!P438,'Tablas Resto de Ecuador'!P438)","v":4678},{"$f":"IF('INGRESO DE DATOS'!$G$21=\"Guayaquil/Santa Elena\",'Tablas Guayaquil'!Q438,'Tablas Resto de Ecuador'!Q438)","v":3494}]
[61,null,{"$f":"IF('INGRESO DE DATOS'!$G$21=\"Guayaquil/Santa Elena\",'Tablas Guayaquil'!L439,'Tablas Resto de Ecuador'!L439)","v":13226},{"$f":"IF('INGRESO DE DATOS'!$G$21=\"Guayaquil/Santa Elena\",'Tablas Guayaquil'!M439,'Tablas Resto de Ecuador'!M439)","v":10682},{"$f":"IF('INGRESO DE DATOS'!$G$21=\"Guayaquil/Santa Elena\",'Tablas Guayaquil'!N439,'Tablas Resto de Ecuador'!N439)","v":9666},{"$f":"IF('INGRESO DE DATOS'!$G$21=\"Guayaquil/Santa Elena\",'Tablas Guayaquil'!O439,'Tablas Resto de Ecuador'!O439)","v":6593},{"$f":"IF('INGRESO DE DATOS'!$G$21=\"Guayaquil/Santa Elena\",'Tablas Guayaquil'!P439,'Tablas Resto de Ecuador'!P439)","v":5274},{"$f":"IF('INGRESO DE DATOS'!$G$21=\"Guayaquil/Santa Elena\",'Tablas Guayaquil'!Q439,'Tablas Resto de Ecuador'!Q439)","v":3944}]
[62,null,{"$f":"IF('INGRESO DE DATOS'!$G$21=\"Guayaquil/Santa Elena\",'Tablas Guayaquil'!L440,'Tablas Resto de Ecuador'!L440)","v":14713},{"$f":"IF('INGRESO DE DATOS'!$G$21=\"Guayaquil/Santa Elena\",'Tablas Guayaquil'!M440,'Tablas Resto de Ecuador'!M440)","v":11876},{"$f":"IF('INGRESO DE DATOS'!$G$21=\"Guayaquil/Santa Elena\",'Tablas Guayaquil'!N440,'Tablas Resto de Ecuador'!N440)","v":10750},{"$f":"IF('INGRESO DE DATOS'!$G$21=\"Guayaquil/Santa Elena\",'Tablas Guayaquil'!O440,'Tablas Resto de Ecuador'!O440)","v":7332},{"$f":"IF('INGRESO DE DATOS'!$G$21=\"Guayaquil/Santa Elena\",'Tablas Guayaquil'!P440,'Tablas Resto de Ecuador'!P440)","v":5865},{"$f":"IF('INGRESO DE DATOS'!$G$21=\"Guayaquil/Santa Elena\",'Tablas Guayaquil'!Q440,'Tablas Resto de Ecuador'!Q440)","v":4391}]
[63,null,{"$f":"IF('INGRESO DE DATOS'!$G$21=\"Guayaquil/Santa Elena\",'Tablas Guayaquil'!L441,'Tablas Resto de Ecuador'!L441)","v":16184},{"$f":"IF('INGRESO DE DATOS'!$G$21=\"Guayaquil/Santa Elena\",'Tablas Guayaquil'!M441,'Tablas Resto de Ecuador'!M441)","v":13069},{"$f":"IF('INGRESO DE DATOS'!$G$21=\"Guayaquil/Santa Elena\",'Tablas Guayaquil'!N441,'Tablas Resto de Ecuador'!N441)","v":11828},{"$f":"IF('INGRESO DE DATOS'!$G$21=\"Guayaquil/Santa Elena\",'Tablas Guayaquil'!O441,'Tablas Resto de Ecuador'!O441)","v":8075},{"$f":"IF('INGRESO DE DATOS'!$G$21=\"Guayaquil/Santa Elena\",'Tablas Guayaquil'!P441,'Tablas Resto de Ecuador'!P441)","v":6456},{"$f":"IF('INGRESO DE DATOS'!$G$21=\"Guayaquil/Santa Elena\",'Tablas Guayaquil'!Q441,'Tablas Resto de Ecuador'!Q441)","v":4830}]
[64,null,{"$f":"IF('INGRESO DE DATOS'!$G$21=\"Guayaquil/Santa Elena\",'Tablas Guayaquil'!L442,'Tablas Resto de Ecuador'!L442)","v":17660},{"$f":"IF('INGRESO DE DATOS'!$G$21=\"Guayaquil/Santa Elena\",'Tablas Guayaquil'!M442,'Tablas Resto de Ecuador'!M442)","v":14269},{"$f":"IF('INGRESO DE DATOS'!$G$21=\"Guayaquil/Santa Elena\",'Tablas Guayaquil'!N442,'Tablas Resto de Ecuador'!N442)","v":12909},{"$f":"IF('INGRESO DE DATOS'!$G$21=\"Guayaquil/Santa Elena\",'Tablas Guayaquil'!O442,'Tablas Resto de Ecuador'!O442)","v":8809},{"$f":"IF('INGRESO DE DATOS'!$G$21=\"Guayaquil/Santa Elena\",'Tablas Guayaquil'!P442,'Tablas Resto de Ecuador'!P442)","v":7049},{"$f":"IF('INGRESO DE DATOS'!$G$21=\"Guayaquil/Santa Elena\",'Tablas Guayaquil'!Q442,'Tablas Resto de Ecuador'!Q442)","v":5274}]
[65,null,{"$f":"IF('INGRESO DE DATOS'!$G$21=\"Guayaquil/Santa Elena\",'Tablas Guayaquil'!L443,'Tablas Resto de Ecuador'!L443)","v":17734},{"$f":"IF('INGRESO DE DATOS'!$G$21=\"Guayaquil/Santa Elena\",'Tablas Guayaquil'!M443,'Tablas Resto de Ecuador'!M443)","v":14280},{"$f":"IF('INGRESO DE DATOS'!$G$21=\"Guayaquil/Santa Elena\",'Tablas Guayaquil'!N443,'Tablas Resto de Ecuador'!N443)","v":13037},{"$f":"IF('INGRESO DE DATOS'!$G$21=\"Guayaquil/Santa Elena\",'Tablas Guayaquil'!O443,'Tablas Resto de Ecuador'!O443)","v":8862},{"$f":"IF('INGRESO DE DATOS'!$G$21=\"Guayaquil/Santa Elena\",'Tablas Guayaquil'!P443,'Tablas Resto de Ecuador'!P443)","v":7090},{"$f":"IF('INGRESO DE DATOS'!$G$21=\"Guayaquil/Santa Elena\",'Tablas Guayaquil'!Q443,'Tablas Resto de Ecuador'!Q443)","v":5294}]
[66,null,{"$f":"IF('INGRESO DE DATOS'!$G$21=\"Guayaquil/Santa Elena\",'Tablas Guayaquil'!L444,'Tablas Resto de Ecuador'!L444)","v":17804},{"$f":"IF('INGRESO DE DATOS'!$G$21=\"Guayaquil/Santa Elena\",'Tablas Guayaquil'!M444,'Tablas Resto de Ecuador'!M444)","v":14295},{"$f":"IF('INGRESO DE DATOS'!$G$21=\"Guayaquil/Santa Elena\",'Tablas Guayaquil'!N444,'Tablas Resto de Ecuador'!N444)","v":13151},{"$f":"IF('INGRESO DE DATOS'!$G$21=\"Guayaquil/Santa Elena\",'Tablas Guayaquil'!O444,'Tablas Resto de Ecuador'!O444)","v":8918},{"$f":"IF('INGRESO DE DATOS'!$G$21=\"Guayaquil/Santa Elena\",'Tablas Guayaquil'!P444,'Tablas Resto de Ecuador'!P444)","v":7123},{"$f":"IF('INGRESO DE DATOS'!$G$21=\"Guayaquil/Santa Elena\",'Tablas Guayaquil'!Q444,'Tablas Resto de Ecuador'!Q444)","v":5304}]
[67,null,{"$f":"IF('INGRESO DE DATOS'!$G$21=\"Guayaquil/Santa Elena\",'Tablas Guayaquil'!L445,'Tablas Resto de Ecuador'!L445)","v":19792},{"$f":"IF('INGRESO DE DATOS'!$G$21=\"Guayaquil/Santa Elena\",'Tablas Guayaquil'!M445,'Tablas Resto de Ecuador'!M445)","v":15886},{"$f":"IF('INGRESO DE DATOS'!$G$21=\"Guayaquil/Santa Elena\",'Tablas Guayaquil'!N445,'Tablas Resto de Ecuador'!N445)","v":14623},{"$f":"IF('INGRESO DE DATOS'!$G$21=\"Guayaquil/Santa Elena\",'Tablas Guayaquil'!O445,'Tablas Resto de Ecuador'!O445)","v":9915},{"$f":"IF('INGRESO DE DATOS'!$G$21=\"Guayaquil/Santa Elena\",'Tablas Guayaquil'!P445,'Tablas Resto de Ecuador'!P445)","v":7927},{"$f":"IF('INGRESO DE DATOS'!$G$21=\"Guayaquil/Santa Elena\",'Tablas Guayaquil'!Q445,'Tablas Resto de Ecuador'!Q445)","v":5903}]
[68,null,{"$f":"IF('INGRESO DE DATOS'!$G$21=\"Guayaquil/Santa Elena\",'Tablas Guayaquil'!L446,'Tablas Resto de Ecuador'!L446)","v":21782},{"$f":"IF('INGRESO DE DATOS'!$G$21=\"Guayaquil/Santa Elena\",'Tablas Guayaquil'!M446,'Tablas Resto de Ecuador'!M446)","v":17494},{"$f":"IF('INGRESO DE DATOS'!$G$21=\"Guayaquil/Santa Elena\",'Tablas Guayaquil'!N446,'Tablas Resto de Ecuador'!N446)","v":16091},{"$f":"IF('INGRESO DE DATOS'!$G$21=\"Guayaquil/Santa Elena\",'Tablas Guayaquil'!O446,'Tablas Resto de Ecuador'!O446)","v":10904},{"$f":"IF('INGRESO DE DATOS'!$G$21=\"Guayaquil/Santa Elena\",'Tablas Guayaquil'!P446,'Tablas Resto de Ecuador'!P446)","v":8722},{"$f":"IF('INGRESO DE DATOS'!$G$21=\"Guayaquil/Santa Elena\",'Tablas Guayaquil'!Q446,'Tablas Resto de Ecuador'!Q446)","v":6503}]
[69,null,{"$f":"IF('INGRESO DE DATOS'!$G$21=\"Guayaquil/Santa Elena\",'Tablas Guayaquil'!L447,'Tablas Resto de Ecuador'!L447)","v":22773},{"$f":"IF('INGRESO DE DATOS'!$G$21=\"Guayaquil/Santa Elena\",'Tablas Guayaquil'!M447,'Tablas Resto de Ecuador'!M447)","v":18278},{"$f":"IF('INGRESO DE DATOS'!$G$21=\"Guayaquil/Santa Elena\",'Tablas Guayaquil'!N447,'Tablas Resto de Ecuador'!N447)","v":16827},{"$f":"IF('INGRESO DE DATOS'!$G$21=\"Guayaquil/Santa Elena\",'Tablas Guayaquil'!O447,'Tablas Resto de Ecuador'!O447)","v":11408},{"$f":"IF('INGRESO DE DATOS'!$G$21=\"Guayaquil/Santa Elena\",'Tablas Guayaquil'!P447,'Tablas Resto de Ecuador'!P447)","v":9109},{"$f":"IF('INGRESO DE DATOS'!$G$21=\"Guayaquil/Santa Elena\",'Tablas Guayaquil'!Q447,'Tablas Resto de Ecuador'!Q447)","v":6805}]
[70,null,{"$f":"IF('INGRESO DE DATOS'!$G$21=\"Guayaquil/Santa Elena\",'Tablas Guayaquil'!L448,'Tablas Resto de Ecuador'!L448)","v":22934},{"$f":"IF('INGRESO DE DATOS'!$G$21=\"Guayaquil/Santa Elena\",'Tablas Guayaquil'!M448,'Tablas Resto de Ecuador'!M448)","v":18320},{"$f":"IF('INGRESO DE DATOS'!$G$21=\"Guayaquil/Santa Elena\",'Tablas Guayaquil'!N448,'Tablas Resto de Ecuador'!N448)","v":17115},{"$f":"IF('INGRESO DE DATOS'!$G$21=\"Guayaquil/Santa Elena\",'Tablas Guayaquil'!O448,'Tablas Resto de Ecuador'!O448)","v":11531},{"$f":"IF('INGRESO DE DATOS'!$G$21=\"Guayaquil/Santa Elena\",'Tablas Guayaquil'!P448,'Tablas Resto de Ecuador'!P448)","v":9209},{"$f":"IF('INGRESO DE DATOS'!$G$21=\"Guayaquil/Santa Elena\",'Tablas Guayaquil'!Q448,'Tablas Resto de Ecuador'!Q448)","v":6839}]
[71,null,{"$f":"IF('INGRESO DE DATOS'!$G$21=\"Guayaquil/Santa Elena\",'Tablas Guayaquil'!L449,'Tablas Resto de Ecuador'!L449)","v":25810},{"$f":"IF('INGRESO DE DATOS'!$G$21=\"Guayaquil/Santa Elena\",'Tablas Guayaquil'!M449,'Tablas Resto de Ecuador'!M449)","v":20615},{"$f":"IF('INGRESO DE DATOS'!$G$21=\"Guayaquil/Santa Elena\",'Tablas Guayaquil'!N449,'Tablas Resto de Ecuador'!N449)","v":19254},{"$f":"IF('INGRESO DE DATOS'!$G$21=\"Guayaquil/Santa Elena\",'Tablas Guayaquil'!O449,'Tablas Resto de Ecuador'!O449)","v":12975},{"$f":"IF('INGRESO DE DATOS'!$G$21=\"Guayaquil/Santa Elena\",'Tablas Guayaquil'!P449,'Tablas Resto de Ecuador'!P449)","v":10362},{"$f":"IF('INGRESO DE DATOS'!$G$21=\"Guayaquil/Santa Elena\",'Tablas Guayaquil'!Q449,'Tablas Resto de Ecuador'!Q449)","v":7698}]
[72,null,{"$f":"IF('INGRESO DE DATOS'!$G$21=\"Guayaquil/Santa Elena\",'Tablas Guayaquil'!L450,'Tablas Resto de Ecuador'!L450)","v":28683},{"$f":"IF('INGRESO DE DATOS'!$G$21=\"Guayaquil/Santa Elena\",'Tablas Guayaquil'!M450,'Tablas Resto de Ecuador'!M450)","v":22912},{"$f":"IF('INGRESO DE DATOS'!$G$21=\"Guayaquil/Santa Elena\",'Tablas Guayaquil'!N450,'Tablas Resto de Ecuador'!N450)","v":21411},{"$f":"IF('INGRESO DE DATOS'!$G$21=\"Guayaquil/Santa Elena\",'Tablas Guayaquil'!O450,'Tablas Resto de Ecuador'!O450)","v":14423},{"$f":"IF('INGRESO DE DATOS'!$G$21=\"Guayaquil/Santa Elena\",'Tablas Guayaquil'!P450,'Tablas Resto de Ecuador'!P450)","v":11518},{"$f":"IF('INGRESO DE DATOS'!$G$21=\"Guayaquil/Santa Elena\",'Tablas Guayaquil'!Q450,'Tablas Resto de Ecuador'!Q450)","v":8563}]
[73,null,{"$f":"IF('INGRESO DE DATOS'!$G$21=\"Guayaquil/Santa Elena\",'Tablas Guayaquil'!L451,'Tablas Resto de Ecuador'!L451)","v":31561},{"$f":"IF('INGRESO DE DATOS'!$G$21=\"Guayaquil/Santa Elena\",'Tablas Guayaquil'!M451,'Tablas Resto de Ecuador'!M451)","v":25226},{"$f":"IF('INGRESO DE DATOS'!$G$21=\"Guayaquil/Santa Elena\",'Tablas Guayaquil'!N451,'Tablas Resto de Ecuador'!N451)","v":23555},{"$f":"IF('INGRESO DE DATOS'!$G$21=\"Guayaquil/Santa Elena\",'Tablas Guayaquil'!O451,'Tablas Resto de Ecuador'!O451)","v":15871},{"$f":"IF('INGRESO DE DATOS'!$G$21=\"Guayaquil/Santa Elena\",'Tablas Guayaquil'!P451,'Tablas Resto de Ecuador'!P451)","v":12679},{"$f":"IF('INGRESO DE DATOS'!$G$21=\"Guayaquil/Santa Elena\",'Tablas Guayaquil'!Q451,'Tablas Resto de Ecuador'!Q451)","v":9421}]
[74,null,{"$f":"IF('INGRESO DE DATOS'!$G$21=\"Guayaquil/Santa Elena\",'Tablas Guayaquil'!L452,'Tablas Resto de Ecuador'!L452)","v":34434},{"$f":"IF('INGRESO DE DATOS'!$G$21=\"Guayaquil/Santa Elena\",'Tablas Guayaquil'!M452,'Tablas Resto de Ecuador'!M452)","v":27518},{"$f":"IF('INGRESO DE DATOS'!$G$21=\"Guayaquil/Santa Elena\",'Tablas Guayaquil'!N452,'Tablas Resto de Ecuador'!N452)","v":25707},{"$f":"IF('INGRESO DE DATOS'!$G$21=\"Guayaquil/Santa Elena\",'Tablas Guayaquil'!O452,'Tablas Resto de Ecuador'!O452)","v":17318},{"$f":"IF('INGRESO DE DATOS'!$G$21=\"Guayaquil/Santa Elena\",'Tablas Guayaquil'!P452,'Tablas Resto de Ecuador'!P452)","v":13836},{"$f":"IF('INGRESO DE DATOS'!$G$21=\"Guayaquil/Santa Elena\",'Tablas Guayaquil'!Q452,'Tablas Resto de Ecuador'!Q452)","v":10286}]
[75,"o más",{"$f":"IF('INGRESO DE DATOS'!$G$21=\"Guayaquil/Santa Elena\",'Tablas Guayaquil'!L453,'Tablas Resto de Ecuador'!L453)","v":37615},{"$f":"IF('INGRESO DE DATOS'!$G$21=\"Guayaquil/Santa Elena\",'Tablas Guayaquil'!M453,'Tablas Resto de Ecuador'!M453)","v":29997},{"$f":"IF('INGRESO DE DATOS'!$G$21=\"Guayaquil/Santa Elena\",'Tablas Guayaquil'!N453,'Tablas Resto de Ecuador'!N453)","v":28191},{"$f":"IF('INGRESO DE DATOS'!$G$21=\"Guayaquil/Santa Elena\",'Tablas Guayaquil'!O453,'Tablas Resto de Ecuador'!O453)","v":18948},{"$f":"IF('INGRESO DE DATOS'!$G$21=\"Guayaquil/Santa Elena\",'Tablas Guayaquil'!P453,'Tablas Resto de Ecuador'!P453)","v":15139},{"$f":"IF('INGRESO DE DATOS'!$G$21=\"Guayaquil/Santa Elena\",'Tablas Guayaquil'!Q453,'Tablas Resto de Ecuador'!Q453)","v":11243}]
[1,"Hijo",{"$f":"IF('INGRESO DE DATOS'!$G$21=\"Guayaquil/Santa Elena\",'Tablas Guayaquil'!L454,'Tablas Resto de Ecuador'!L454)","v":2116},{"$f":"IF('INGRESO DE DATOS'!$G$21=\"Guayaquil/Santa Elena\",'Tablas Guayaquil'!M454,'Tablas Resto de Ecuador'!M454)","v":1905},{"$f":"IF('INGRESO DE DATOS'!$G$21=\"Guayaquil/Santa Elena\",'Tablas Guayaquil'!N454,'Tablas Resto de Ecuador'!N454)","v":1127},{"$f":"IF('INGRESO DE DATOS'!$G$21=\"Guayaquil/Santa Elena\",'Tablas Guayaquil'!O454,'Tablas Resto de Ecuador'!O454)","v":913},{"$f":"IF('INGRESO DE DATOS'!$G$21=\"Guayaquil/Santa Elena\",'Tablas Guayaquil'!P454,'Tablas Resto de Ecuador'!P454)","v":729},{"$f":"IF('INGRESO DE DATOS'!$G$21=\"Guayaquil/Santa Elena\",'Tablas Guayaquil'!Q454,'Tablas Resto de Ecuador'!Q454)","v":539}]
[2,"Hijos",{"$f":"IF('INGRESO DE DATOS'!$G$21=\"Guayaquil/Santa Elena\",'Tablas Guayaquil'!L455,'Tablas Resto de Ecuador'!L455)","v":3472},{"$f":"IF('INGRESO DE DATOS'!$G$21=\"Guayaquil/Santa Elena\",'Tablas Guayaquil'!M455,'Tablas Resto de Ecuador'!M455)","v":3213},{"$f":"IF('INGRESO DE DATOS'!$G$21=\"Guayaquil/Santa Elena\",'Tablas Guayaquil'!N455,'Tablas Resto de Ecuador'!N455)","v":1675},{"$f":"IF('INGRESO DE DATOS'!$G$21=\"Guayaquil/Santa Elena\",'Tablas Guayaquil'!O455,'Tablas Resto de Ecuador'!O455)","v":1430},{"$f":"IF('INGRESO DE DATOS'!$G$21=\"Guayaquil/Santa Elena\",'Tablas Guayaquil'!P455,'Tablas Resto de Ecuador'!P455)","v":1143},{"$f":"IF('INGRESO DE DATOS'!$G$21=\"Guayaquil/Santa Elena\",'Tablas Guayaquil'!Q455,'Tablas Resto de Ecuador'!Q455)","v":846}]
[3,"Hijos o más",{"$f":"IF('INGRESO DE DATOS'!$G$21=\"Guayaquil/Santa Elena\",'Tablas Guayaquil'!L456,'Tablas Resto de Ecuador'!L456)","v":5082},{"$f":"IF('INGRESO DE DATOS'!$G$21=\"Guayaquil/Santa Elena\",'Tablas Guayaquil'!M456,'Tablas Resto de Ecuador'!M456)","v":4706},{"$f":"IF('INGRESO DE DATOS'!$G$21=\"Guayaquil/Santa Elena\",'Tablas Guayaquil'!N456,'Tablas Resto de Ecuador'!N456)","v":2403},{"$f":"IF('INGRESO DE DATOS'!$G$21=\"Guayaquil/Santa Elena\",'Tablas Guayaquil'!O456,'Tablas Resto de Ecuador'!O456)","v":2077},{"$f":"IF('INGRESO DE DATOS'!$G$21=\"Guayaquil/Santa Elena\",'Tablas Guayaquil'!P456,'Tablas Resto de Ecuador'!P456)","v":1659},{"$f":"IF('INGRESO DE DATOS'!$G$21=\"Guayaquil/Santa Elena\",'Tablas Guayaquil'!Q456,'Tablas Resto de Ecuador'!Q456)","v":1224}]
[1,"Rider Comp. Maternidad",225,225,225,225,225,225]
[1,"Transplante de organos",300,300,300,300,300,300]
[]
["TARIFAS SEMESTRALES "]
["EDAD"]
[" "," ","ET1","ET2","ET3","ET4","ET5","ET6"]
[18,"-  24",{"$f":"+C475*$L$2","v":2460.2600000000002},2079.19,1628.16,1186.1400000000001,949.23,717.62]
[25,"-  29",2728.9700000000003,2289.6,1839.63,1321.8200000000002,1062.6500000000001,799.7700000000001]
[30,"-  34",3157.21,2627.21,2163.9900000000002,1534.3500000000001,1227.48,926.44]
[35,"-  39",3491.11,2894.33,2418.92,1708.72,1365.28,1029.26]
[40,"-  44",3937.3700000000003,3249.4300000000003,2760.77,1931.3200000000002,1548.13,1161.23]
[45,"-  49",4564.3600000000006,3743.92,3238.8300000000004,2252.5,1799.3500000000001,1350.97]
[50,"-  54",4997.9000000000005,4081.53,3566.9,2467.6800000000003,1974.25,1477.64]
[55,"-  59",5906.85,4800.7400000000007,4260.1400000000003,2927.19,2345.25,1749.5300000000002]
[60,null,6228.0300000000007,5025.46,4553.76,3102.09,2479.34,1851.8200000000002]
[61,null,7009.7800000000007,5661.46,5122.9800000000005,3494.29,2795.2200000000003,2090.3200000000002]
[62,null,7797.89,6294.2800000000007,5697.5,3885.96,3108.4500000000003,2327.23]
[63,null,8577.52,6926.5700000000006,6268.84,4279.75,3421.6800000000003,2559.9]
[64,null,9359.8000000000011,7562.5700000000006,6841.77,4668.7700000000004,3735.9700000000003,2795.2200000000003]
[65,null,9399.02,7568.4000000000005,6909.6100000000006,4696.8600000000006,3757.7000000000003,2805.82]
[66,null,9436.1200000000008,7576.35,6970.0300000000007,4726.54,3775.19,2811.1200000000003]
[67,null,10489.76,8419.58,7750.1900000000005,5254.95,4201.3100000000004,3128.59]
[68,null,{"$f":"+C491*$L$2","v":11544.460000000001},9271.82,8528.23,5779.12,4622.66,3446.59]
[69,null,12069.69,9687.34,8918.3100000000013,6046.2400000000007,4827.7700000000004,3606.65]
[70,null,12155.02,9709.6,9070.9500000000007,6111.43,4880.7700000000004,3624.67]
[71,null,13679.300000000001,10925.95,10204.620000000001,6876.75,5491.8600000000006,4079.94]
[72,null,15201.990000000002,12143.36,11347.83,7644.1900000000005,6104.54,4538.3900000000003]
[73,null,16727.330000000002,13369.78,12484.150000000001,8411.630000000001,6719.87,4993.13]
[74,null,18250.02,14584.54,13624.710000000001,9178.5400000000009,7333.08,5451.58]
[75,"o más",19935.95,15898.410000000002,14941.230000000001,10042.44,8023.67,5958.79]
[1,"Hijo",1121.48,1009.6500000000001,597.31000000000006,483.89000000000004,386.37,285.67]
[2,"Hijos",1840.16,1702.89,887.75,757.90000000000009,605.79000000000008,448.38]
[3,"Hijos o más",2693.46,2494.1800000000003,1273.5900000000001,1100.81,879.2700000000001,648.72]
[1,"Rider Comp. Maternidad",119.25,119.25,119.25,119.25,119.25,119.25]
[1,"Transplante de organos",159,159,159,159,159,159]
[]
["CRITICAL"]
["TARIFAS ANUALES"]
["EDAD"]
[" "," ","CR1",null,null,"CR2",null,null,"CR3",null,null,"CR4",null,null,"CR5",null,null,"CR6"]
[null,null,"INDIVIDUAL","2 PERSONAS","FAMILIAR","INDIVIDUAL","2 PERSONAS","FAMILIAR","INDIVIDUAL","2 PERSONAS","FAMILIAR","INDIVIDUAL","2 PERSONAS","FAMILIAR","INDIVIDUAL","2 PERSONAS","FAMILIAR","INDIVIDUAL","2 PERSONAS","FAMILIAR"]
[18,"-  49"]
[50,"o más"]
[]
["TARIFAS SEMESTRALES "]
["EDAD"]
[" "," ","CR1",null,null,"CR2",null,null,"CR3",null,null,"CR4",null,null,"CR5",null,null,"CR6"]
[null,null,"INDIVIDUAL","2 PERSONAS","FAMILIAR","INDIVIDUAL","2 PERSONAS","FAMILIAR","INDIVIDUAL","2 PERSONAS","FAMILIAR","INDIVIDUAL","2 PERSONAS","FAMILIAR","INDIVIDUAL","2 PERSONAS","FAMILIAR","INDIVIDUAL","2 PERSONAS","FAMILIAR"]
[18,"-  25",{"$f":"+C543*$L$2","v":0},0,0,0,0,0,0,0,0,0,0,0,0,0,0,0,0,0]
[75,"o más",0,0,0,0,0,0,0,0,0,0,0,0,0,0,0,0,0,0]
[]
[]
[]
["ESSENTIAL"]
["TARIFAS TRIMESTRALES"]
["EDAD"]
[" "," ","ET1","ET2","ET3","ET4","ET5","ET6"]
[18,"-  24",{"$f":"C475*$L$3","v":1276.5500000000002},{"$f":"D475*$L$3","v":1078.825},844.80000000000007,615.45000000000005,492.52500000000003,372.35]
[25,"-  29",{"$f":"C476*$L$3","v":1415.9750000000001},1188,954.52500000000009,685.85,551.375,414.97500000000002]
[30,"-  34",{"$f":"C477*$L$3","v":1638.1750000000002},1363.1750000000002,1122.825,796.12500000000011,636.90000000000009,480.70000000000005]
[35,"-  39",{"$f":"C478*$L$3","v":1811.4250000000002},1501.7750000000001,1255.1000000000001,886.6,708.40000000000009,534.05000000000007]
[40,"-  44",{"$f":"C479*$L$3","v":2042.9750000000001},1686.0250000000001,1432.4750000000001,1002.1000000000001,803.27500000000009,602.52500000000009]
[45,"-  49",{"$f":"C480*$L$3","v":2368.3000000000002},1942.6000000000001,1680.5250000000001,1168.75,933.62500000000011,700.97500000000002]
[50,"-  54",{"$f":"C481*$L$3","v":2593.25},2117.7750000000001,1850.7500000000002,1280.4000000000001,1024.375,766.7]
[55,"-  59",{"$f":"C482*$L$3","v":3064.8750000000005},2490.9500000000003,2210.4500000000003,1518.825,1216.875,907.77500000000009]
[60,null,{"$f":"C483*$L$3","v":3231.5250000000001},2607.5500000000002,2362.8000000000002,1609.575,1286.45,960.85]
[61,null,{"$f":"C484*$L$3","v":3637.15},2937.55,2658.15,1813.075,1450.3500000000001,1084.6000000000001]
[62,null,{"$f":"C485*$L$3","v":4046.0750000000003},3265.9,2956.2500000000005,2016.3000000000002,1612.8750000000002,1207.5250000000001]
[63,null,{"$f":"C486*$L$3","v":4450.6000000000004},3593.9750000000004,3252.7000000000003,2220.625,1775.4,1328.25]
[64,null,{"$f":"C487*$L$3","v":4856.5},3923.9750000000004,3549.9750000000004,2422.4750000000004,1938.4750000000001,1450.3500000000001]
[65,null,{"$f":"C488*$L$3","v":4876.8500000000004},3927.0000000000005,3585.1750000000002,2437.0500000000002,1949.7500000000002,1455.8500000000001]
[66,null,{"$f":"C489*$L$3","v":4896.1000000000004},3931.1250000000005,3616.5250000000001,2452.4500000000003,1958.825,1458.6000000000001]
[67,null,{"$f":"C490*$L$3","v":5442.8},4368.6500000000005,4021.3250000000003,2726.625,2179.9250000000002,1623.325]
[68,null,{"$f":"C491*$L$3","v":5990.05},4810.8500000000004,4425.0250000000005,2998.6000000000004,2398.5500000000002,1788.325]
[69,null,{"$f":"C492*$L$3","v":6262.5750000000007},5026.4500000000007,4627.4250000000002,3137.2000000000003,2504.9750000000004,1871.3750000000002]
[70,null,{"$f":"C493*$L$3","v":6306.85},5038,4706.625,3171.0250000000001,2532.4750000000004,1880.7250000000001]
[71,null,{"$f":"C494*$L$3","v":7097.7500000000009},5669.1250000000009,5294.85,3568.1250000000005,2849.55,2116.9500000000003]
[72,null,{"$f":"C495*$L$3","v":7887.8250000000007},6300.8,5888.0250000000005,3966.3250000000003,3167.4500000000003,2354.8250000000003]
[73,null,{"$f":"C496*$L$3","v":8679.2750000000015},6937.1500000000005,6477.6250000000009,4364.5250000000005,3486.7250000000004,2590.7750000000001]
[74,null,{"$f":"C497*$L$3","v":9469.35},7567.4500000000007,7069.4250000000002,4762.4500000000007,3804.9,2828.65]
[75,"o más",{"$f":"C498*$L$3","v":10344.125},8249.1750000000011,7752.5250000000005,5210.7000000000007,4163.2250000000004,3091.8250000000003]
[1,"Hijo",{"$f":"C499*$L$3","v":581.90000000000009},523.875,309.92500000000001,251.07500000000002,200.47500000000002,148.22500000000002]
[2,"Hijos",{"$f":"C500*$L$3","v":954.80000000000007},883.57500000000005,460.62500000000006,393.25000000000006,314.32500000000005,232.65]
[3,"Hijos o más",{"$f":"C501*$L$3","v":1397.5500000000002},1294.1500000000001,660.82500000000005,571.17500000000007,456.22500000000002,336.6]
[1,"Rider Comp. Maternidad",61.875,61.875,61.875,61.875,61.875,61.875]
[1,"Transplante de organos",82.5,82.5,82.5,82.5,82.5,82.5]
[]
[]
["ESSENTIAL"]
["TARIFAS MENSUALES"]
["EDAD"]
[" "," ","ET1","ET2","ET3","ET4","ET5","ET6"]
[18,"-  24",{"$f":"C475*$L$4","v":433.25331786000004},{"$f":"D475*$L$4","v":366.14665359000003},286.71998976000003,208.87999254000002,167.15999403000001,126.37332882000001]
[25,"-  29",{"$f":"C476*$L$4","v":480.57331617000006},403.19998560000005,323.95998843000001,232.77332502000002,187.13332665000001,140.83999497000002]
[30,"-  34",{"$f":"C477*$L$4","v":555.98664681000002},462.65331681000004,381.07998639000004,270.19999035000001,216.15999228000001,163.14666084000001]
[35,"-  39",{"$f":"C478*$L$4","v":614.78664471000002},509.69331513000003,425.97331812000004,300.90665591999999,240.42665808000001,181.25332686000002]
[40,"-  44",{"$f":"C479*$L$4","v":693.37330857000006},572.22664623000003,486.17331597000003,340.10665452000001,272.62665693000002,204.49332603000002]
[45,"-  49",{"$f":"C480*$L$4","v":803.78663796000001},659.30664311999999,570.35997963,396.6666525,316.86665535000003,237.90665817000001]
[50,"-  54",{"$f":"C481*$L$4","v":880.13330190000011},718.75997433000009,628.13331090000008,434.55998448000003,347.66665425000002,260.21332404000003]
[55,"-  59",{"$f":"C482*$L$4","v":1040.19996285},845.41330314000004,750.21330654000008,515.47998159000008,412.99998525000001,308.09332233000003]
[60,null,{"$f":"C483*$L$4","v":1096.7599608300002},884.98663506000003,801.91997136000009,546.27998049000007,436.61331774000001,326.10665502000001]
[61,null,{"$f":"C484*$L$4","v":1234.4266225800002},996.98663106000004,902.1599677800001,615.34664469000006,492.23998242000005,368.10665352000001]
[62,null,{"$f":"C485*$L$4","v":1373.21328429},1108.4266270800001,1003.3332975000001,684.31997555999999,547.39998045000004,409.82665203000005]
[63,null,{"$f":"C486*$L$4","v":1510.50661272},1219.77328977,1103.94662724,753.66663975000006,602.55997848000004,450.79998390000003]
[64,null,{"$f":"C487*$L$4","v":1648.2666078000002},1331.77328577,1204.83995697,822.17330397000001,657.90664317000005,492.23998242000005]
[65,null,{"$f":"C488*$L$4","v":1655.1732742200002},1332.7999524000002,1216.78662321,827.1199704600001,661.73330970000006,494.10664902000002]
[66,null,{"$f":"C489*$L$4","v":1661.7066073200001},1334.1999523500001,1227.42662283,832.34663694000005,664.81330959000002,495.03998232000004]
[67,null,{"$f":"C490*$L$4","v":1847.2532673600001},1482.69328038,1364.8132845900002,925.39996695000002,739.85330691000001,550.94664699000009]
[68,null,{"$f":"C491*$L$4","v":2032.9865940600002},1632.77327502,1501.8266130300001,1017.70663032,814.05330426,606.9466449900001]
[69,null,{"$f":"C492*$L$4","v":2125.4799240900002},1705.9466057400002,1570.5199439100002,1064.7466286400002,850.17330297000001,635.13331065]
[70,null,{"$f":"C493*$L$4","v":2140.5065902200004},1709.8666056000002,1597.3999429500002,1076.22662823,859.50663597000005,638.30664387000002]
[71,null,{"$f":"C494*$L$4","v":2408.9332472999999},1924.0665979500002,1797.0399358200002,1210.9999567500001,967.11996546000012,718.47997434000001]
[72,null,{"$f":"C495*$L$4","v":2677.0799043900001},2138.4532569600001,1998.3599286300002,1346.1466185900001,1075.0132949400002,799.21330479000005]
[73,null,{"$f":"C496*$L$4","v":2945.6932281300001},2354.4265825800003,2198.46658815,1481.2932804300001,1183.3732910700001,879.2933019300001]
[74,null,{"$f":"C497*$L$4","v":3213.8398852200003},2568.3465749400002,2399.3199143100001,1616.3466089400001,1291.3599538800001,960.02663238000002]
[75,"o más",{"$f":"C498*$L$4","v":3510.7332079500002},2799.7199000100004,2631.15990603,1768.4799368400002,1412.97328287,1049.3466291900002]
[1,"Hijo",{"$f":"C499*$L$4","v":197.49332628000002},177.79999365,105.18666291000001,85.213330290000002,68.039997570000011,50.306664870000006]
[2,"Hijos",{"$f":"C500*$L$4","v":324.05332176000002},299.87998929000003,156.33332775000002,133.46666190000002,106.67999619000001,78.959997180000002]
[3,"Hijos o más",{"$f":"C501*$L$4","v":474.31998306000003},439.22665098000004,224.27999199000001,193.85332641000002,154.83999447000002,114.23999592000001]
[1,"Rider Comp. Maternidad",20.99,20.99,20.99,20.99,20.99,20.99]
[1,"Transplante de organos",27.99,27.99,27.99,27.99,27.99,27.99]